Workbook

Sheet Feuil1
A1: Cavalier | B1: Chevaux | C1: heure
B2: Bonifly
B3: Incor
A4: Mathieu | B4: Camirado
A10: Phil
A16: Chris
A22: Marianne
A28: Luana

Sheet Feuil2
A1: chevaux | B1: affectés | C1: disponibles
A2: Biranka | B2: =COUNTIF(Feuil1!$B$2:$B$32,A2) -> 0 | C2: =IF(B2=0,A2,"") -> Biranka | D2: {=INDEX(C$2:C$21,MATCH(MIN(IF(COUNTIF(D$1:D1,C$2:C$21)=0,COUNTIF(C$2:C$21,"<"&C$2:C$21))),COUNTIF(C$2:C$21,"<"&C$2:C$21),0))} -> Biranka
A3: Bonifly | B3: =COUNTIF(Feuil1!$B$2:$B$32,A3) -> 1 | C3: =IF(B3=0,A3,"") | D3: {=INDEX(C$2:C$21,MATCH(MIN(IF(COUNTIF(D$1:D2,C$2:C$21)=0,COUNTIF(C$2:C$21,"<"&C$2:C$21))),COUNTIF(C$2:C$21,"<"&C$2:C$21),0))} -> Bonnie
A4: Bonnie | B4: =COUNTIF(Feuil1!$B$2:$B$32,A4) -> 0 | C4: =IF(B4=0,A4,"") -> Bonnie | D4: {=INDEX(C$2:C$21,MATCH(MIN(IF(COUNTIF(D$1:D3,C$2:C$21)=0,COUNTIF(C$2:C$21,"<"&C$2:C$21))),COUNTIF(C$2:C$21,"<"&C$2:C$21),0))} -> Cooper
A5: Camirado | B5: =COUNTIF(Feuil1!$B$2:$B$32,A5) -> 1 | C5: =IF(B5=0,A5,"") | D5: {=INDEX(C$2:C$21,MATCH(MIN(IF(COUNTIF(D$1:D4,C$2:C$21)=0,COUNTIF(C$2:C$21,"<"&C$2:C$21))),COUNTIF(C$2:C$21,"<"&C$2:C$21),0))} -> Grenoble
A6: Cooper | B6: =COUNTIF(Feuil1!$B$2:$B$32,A6) -> 0 | C6: =IF(B6=0,A6,"") -> Cooper | D6: {=INDEX(C$2:C$21,MATCH(MIN(IF(COUNTIF(D$1:D5,C$2:C$21)=0,COUNTIF(C$2:C$21,"<"&C$2:C$21))),COUNTIF(C$2:C$21,"<"&C$2:C$21),0))} -> Quechua
A7: Grenoble | B7: =COUNTIF(Feuil1!$B$2:$B$32,A7) -> 0 | C7: =IF(B7=0,A7,"") -> Grenoble | D7: {=INDEX(C$2:C$21,MATCH(MIN(IF(COUNTIF(D$1:D6,C$2:C$21)=0,COUNTIF(C$2:C$21,"<"&C$2:C$21))),COUNTIF(C$2:C$21,"<"&C$2:C$21),0))} -> Quigina
A8: Incor | B8: =COUNTIF(Feuil1!$B$2:$B$32,A8) -> 1 | C8: =IF(B8=0,A8,"") | D8: {=INDEX(C$2:C$21,MATCH(MIN(IF(COUNTIF(D$1:D7,C$2:C$21)=0,COUNTIF(C$2:C$21,"<"&C$2:C$21))),COUNTIF(C$2:C$21,"<"&C$2:C$21),0))} -> Rewido
A9: Quechua | B9: =COUNTIF(Feuil1!$B$2:$B$32,A9) -> 0 | C9: =IF(B9=0,A9,"") -> Quechua | D9: {=INDEX(C$2:C$21,MATCH(MIN(IF(COUNTIF(D$1:D8,C$2:C$21)=0,COUNTIF(C$2:C$21,"<"&C$2:C$21))),COUNTIF(C$2:C$21,"<"&C$2:C$21),0))} -> Robins
A10: Quigina | B10: =COUNTIF(Feuil1!$B$2:$B$32,A10) -> 0 | C10: =IF(B10=0,A10,"") -> Quigina | D10: {=INDEX(C$2:C$21,MATCH(MIN(IF(COUNTIF(D$1:D9,C$2:C$21)=0,COUNTIF(C$2:C$21,"<"&C$2:C$21))),COUNTIF(C$2:C$21,"<"&C$2:C$21),0))} -> Sateen
A11: Rewido | B11: =COUNTIF(Feuil1!$B$2:$B$32,A11) -> 0 | C11: =IF(B11=0,A11,"") -> Rewido | D11: {=INDEX(C$2:C$21,MATCH(MIN(IF(COUNTIF(D$1:D10,C$2:C$21)=0,COUNTIF(C$2:C$21,"<"&C$2:C$21))),COUNTIF(C$2:C$21,"<"&C$2:C$21),0))} -> Scampano
A12: Robins | B12: =COUNTIF(Feuil1!$B$2:$B$32,A12) -> 0 | C12: =IF(B12=0,A12,"") -> Robins | D12: {=INDEX(C$2:C$21,MATCH(MIN(IF(COUNTIF(D$1:D11,C$2:C$21)=0,COUNTIF(C$2:C$21,"<"&C$2:C$21))),COUNTIF(C$2:C$21,"<"&C$2:C$21),0))} -> Songe
A13: Sateen | B13: =COUNTIF(Feuil1!$B$2:$B$32,A13) -> 0 | C13: =IF(B13=0,A13,"") -> Sateen | D13: {=INDEX(C$2:C$21,MATCH(MIN(IF(COUNTIF(D$1:D12,C$2:C$21)=0,COUNTIF(C$2:C$21,"<"&C$2:C$21))),COUNTIF(C$2:C$21,"<"&C$2:C$21),0))} -> Souviens toi
... A21: Wisconcin | B21: =COUNTIF(Feuil1!$B$2:$B$32,A21) -> 0 | C21: =IF(B21=0,A21,"") -> Wisconcin | D21: {=INDEX(C$2:C$21,MATCH(MIN(IF(COUNTIF(D$1:D20,C$2:C$21)=0,COUNTIF(C$2:C$21,"<"&C$2:C$21))),COUNTIF(C$2:C$21,"<"&C$2:C$21),0))}
