Workbook
Name autre_conso1: #REF!
Name autre_conso2: #REF!
Name Autres: #REF!
Name Buanderie: #REF!
Name Bureaux: #REF!
Name Campings: #REF!
Name Casernes_Internats: #REF!
Name cumul_conso: #REF!
Name estimation_ecs: #REF!
Name Etablissements_scolaires: #REF!
Name Etablissements_sportifs: #REF!
Name Foyers: #REF!
Name Habitation_collective: #REF!
Name Hôspitalier: #REF!
Name Hôtellerie: #REF!
Name Hôtellerie_sport: #REF!
Name max_conso_horaire: #REF!
Name Restaurant: #REF!
Name Restaurant_d_entreprise: #REF!
Name Restaurant_d_entreprise__cuisine_centrale_cantine: #REF!
Name Restaurant_d_entreprise_Cuisine_centrale: #REF!
Name Restaurant_et_Office_de_rechauffage: #REF!
Name Structure_d_accueil_pour_personnes_agées: #REF!
Name tab_conso: #REF!
Name type_usage: #REF!
Name Usines__vestiaires: #REF!

Sheet appareils sanitaires
A1: x0 | I1: Calculs des débits d'Eau Chaude Sanitaire par palier
A2: 55
A3: 45
A5: Qmini EFS (l/s) | B5: Coefficients | C5: Qmini EC 45°C | I5: * : présent dans le bloc C mais alimenté par production ECS bloc D
A6: 0.2 | B6: 2.5 | C6: =A6*($A$3-$A$1)/($A$2-$A$1) -> #VALUE!
A7: 0.2 | B7: 1.5 | C7: =A7*($A$3-$A$1)/($A$2-$A$1) -> #VALUE! | I7: (1) : Qfoisonné= Total débit brut*coefficient hotel *0.8/((nbre d'appareils-1)^(1/2))
A8: 0.33 | B8: 3 | C8: =A8*($A$3-$A$1)/($A$2-$A$1) -> #VALUE!
A9: 0.2 | B9: 2 | C9: =A9*($A$3-$A$1)/($A$2-$A$1) -> #VALUE! | E9: Nota: groupement éventuel d'appartements depuis un même palier pour 2*T3 ou T3+T2+c ou T3+T2, débit maxi 1.8l/s brut soit 0.6l/s probable (10 appareils) -> PEXØ32 à 1.4m/s maxi / piquage HTAØ32 sur colonne
A10: 0.12 | B10: 0.5
A11: 0.1 | B11: 0.5 | C11: =A11*($A$3-$A$1)/($A$2-$A$1) -> #VALUE! | E11: T3+c ou T4 ou T3+2c ou T5 ou T6 : alimentés directement en PEX Ø32 / piquage HTA Ø32 sur colonne
A12: 0.1 | B12: 1
A13: 0.2 | B13: 1
A14: 0.2 | B14: 1 | C14: =A14*($A$3-$A$1)/($A$2-$A$1) -> #VALUE!
A16: 1.25
D18: Typologie | N18: Type
A19: Numéro appart | B19: Bloc | C19: Niveau | D19: T1 | E19: T2 | F19: T2+c | G19: T3 | H19: T3+c | I19: T4 | J19: T3+2c | K19: T5 | L19: T5+c | M19: T6 | N19: n°1 | O19: n°1 PMR | P19: n°2 | Q19: n°2bis | R19: n°3 | S19: n°4 | T19: n°5 | U19: n°6 | V19: n°7 | W19: n°8 | X19: n°9 | Y19: n°10 | Z19: n°11 | AA19: n°12 | AB19: n°13 | AC19: Atypique
A20: A001 | B20: A | C20: =MID(A20,2,1) -> 0 | G20: x | T20: x
A21: A002 | B21: A | C21: =MID(A21,2,1) -> 0 | F21: x | S21: x
A22: A003 | B22: A | C22: =MID(A22,2,1) -> 0 | G22: x | S22: x
A23: A004 | B23: A | C23: =MID(A23,2,1) -> 0 | E23: x | N23: x
A24: sous total | B24: A | C24: 0 | D24: =SUBTOTAL(3,D20:D23) -> 0 | E24: =SUBTOTAL(3,E20:E23) -> 1 | F24: =SUBTOTAL(3,F20:F23) -> 1 | G24: =SUBTOTAL(3,G20:G23) -> 2 | H24: =SUBTOTAL(3,H20:H23) -> 0 | I24: =SUBTOTAL(3,I20:I23) -> 0 | J24: =SUBTOTAL(3,J20:J23) -> 0 | K24: =SUBTOTAL(3,K20:K23) -> 0 | ... AC24: =SUBTOTAL(3,AC20:AC23) -> 0
A25: A101 | B25: A | C25: =MID(A25,2,1) -> 1 | G25: x | U25: x
A26: A102 | B26: A | C26: =MID(A26,2,1) -> 1 | G26: x | T26: x
A27: A103 | B27: A | C27: =MID(A27,2,1) -> 1 | F27: x | S27: x
A28: A104 | B28: A | C28: =MID(A28,2,1) -> 1 | G28: x | S28: x
A29: A105 | B29: A | C29: =MID(A29,2,1) -> 1 | E29: x | N29: x
A30: A106 | B30: A | C30: =MID(A30,2,1) -> 1 | G30: x | R30: x
A31: sous total | B31: A | C31: 1 | D31: =SUBTOTAL(3,D25:D30) -> 0 | E31: =SUBTOTAL(3,E25:E30) -> 1 | F31: =SUBTOTAL(3,F25:F30) -> 1 | G31: =SUBTOTAL(3,G25:G30) -> 4 | H31: =SUBTOTAL(3,H25:H30) -> 0 | I31: =SUBTOTAL(3,I25:I30) -> 0 | J31: =SUBTOTAL(3,J25:J30) -> 0 | K31: =SUBTOTAL(3,K25:K30) -> 0 | ... AC31: =SUBTOTAL(3,AC25:AC30) -> 0
A32: A201 | B32: A | C32: =MID(A32,2,1) -> 2 | G32: x | U32: x
A33: A202 | B33: A | C33: =MID(A33,2,1) -> 2 | G33: x | T33: x
A34: A203 | B34: A | C34: =MID(A34,2,1) -> 2 | F34: x | S34: x
A35: A204 | B35: A | C35: =MID(A35,2,1) -> 2 | G35: x | S35: x
A36: A205 | B36: A | C36: =MID(A36,2,1) -> 2 | E36: x | N36: x
A37: A206 | B37: A | C37: =MID(A37,2,1) -> 2 | G37: x | R37: x
A38: sous total | B38: A | C38: 2 | D38: =SUBTOTAL(3,D32:D37) -> 0 | E38: =SUBTOTAL(3,E32:E37) -> 1 | F38: =SUBTOTAL(3,F32:F37) -> 1 | G38: =SUBTOTAL(3,G32:G37) -> 4 | H38: =SUBTOTAL(3,H32:H37) -> 0 | I38: =SUBTOTAL(3,I32:I37) -> 0 | J38: =SUBTOTAL(3,J32:J37) -> 0 | K38: =SUBTOTAL(3,K32:K37) -> 0 | ... AC38: =SUBTOTAL(3,AC32:AC37) -> 0
A39: A301 | B39: A | C39: =MID(A39,2,1) -> 3 | G39: x | U39: x
A40: A302 | B40: A | C40: =MID(A40,2,1) -> 3 | G40: x | T40: x
A41: A303 | B41: A | C41: =MID(A41,2,1) -> 3 | F41: x | S41: x
A42: A304 | B42: A | C42: =MID(A42,2,1) -> 3 | G42: x | S42: x
A43: A305 | B43: A | C43: =MID(A43,2,1) -> 3 | E43: x | N43: x
...

Sheet Liste Appart par type
A1: Type | B1: ='appareils sanitaires'!N19 -> n°1 | C1: ='appareils sanitaires'!O19 -> n°1 PMR | D1: ='appareils sanitaires'!P19 -> n°2 | E1: ='appareils sanitaires'!Q19 -> n°2bis | F1: ='appareils sanitaires'!R19 -> n°3 | G1: ='appareils sanitaires'!S19 -> n°4 | H1: ='appareils sanitaires'!T19 -> n°5 | I1: ='appareils sanitaires'!U19 -> n°6 | ... Q1: ='appareils sanitaires'!AC19 -> Atypique
A2: Critère | B2: x | C2: x | D2: x | E2: x | F2: x | G2: x | H2: x | I2: x | J2: x | K2: x | L2: x | M2: x | N2: x | O2: x | P2: x | Q2: x
A3: Appart | B3: {=IF(ROW($A1)>COUNTIF(INDIRECT("TabAppart["&B$1&"]"),B$2),"",INDEX(TabAppart[Numéro appart],-1+SMALL(IF(INDIRECT("TabAppart["&B$1&"]")=B$2,ROW(TabAppart[Numéro appart])+1-ROW(TabAppart[[#Headers],[Numéro appart]]),""),ROW($A1))))} -> A004 | C3: {=IF(ROW($A1)>COUNTIF(INDIRECT("TabAppart["&C$1&"]"),C$2),"",INDEX(TabAppart[Numéro appart],-1+SMALL(IF(INDIRECT("TabAppart["&C$1&"]")=C$2,ROW(TabAppart[Numéro appart])+1-ROW(TabAppart[[#Headers],[Numéro appart]]),""),ROW($A1))))} -> A504 PMR | D3: {=IF(ROW($A1)>COUNTIF(INDIRECT("TabAppart["&D$1&"]"),D$2),"",INDEX(TabAppart[Numéro appart],-1+SMALL(IF(INDIRECT("TabAppart["&D$1&"]")=D$2,ROW(TabAppart[Numéro appart])+1-ROW(TabAppart[[#Headers],[Numéro appart]]),""),ROW($A1))))} -> A107 | E3: {=IF(ROW($A1)>COUNTIF(INDIRECT("TabAppart["&E$1&"]"),E$2),"",INDEX(TabAppart[Numéro appart],-1+SMALL(IF(INDIRECT("TabAppart["&E$1&"]")=E$2,ROW(TabAppart[Numéro appart])+1-ROW(TabAppart[[#Headers],[Numéro appart]]),""),ROW($A1))))} -> A616 | F3: {=IF(ROW($A1)>COUNTIF(INDIRECT("TabAppart["&F$1&"]"),F$2),"",INDEX(TabAppart[Numéro appart],-1+SMALL(IF(INDIRECT("TabAppart["&F$1&"]")=F$2,ROW(TabAppart[Numéro appart])+1-ROW(TabAppart[[#Headers],[Numéro appart]]),""),ROW($A1))))} -> A106 | G3: {=IF(ROW($A1)>COUNTIF(INDIRECT("TabAppart["&G$1&"]"),G$2),"",INDEX(TabAppart[Numéro appart],-1+SMALL(IF(INDIRECT("TabAppart["&G$1&"]")=G$2,ROW(TabAppart[Numéro appart])+1-ROW(TabAppart[[#Headers],[Numéro appart]]),""),ROW($A1))))} -> A002 | H3: {=IF(ROW($A1)>COUNTIF(INDIRECT("TabAppart["&H$1&"]"),H$2),"",INDEX(TabAppart[Numéro appart],-1+SMALL(IF(INDIRECT("TabAppart["&H$1&"]")=H$2,ROW(TabAppart[Numéro appart])+1-ROW(TabAppart[[#Headers],[Numéro appart]]),""),ROW($A1))))} -> A001 | I3: {=IF(ROW($A1)>COUNTIF(INDIRECT("TabAppart["&I$1&"]"),I$2),"",INDEX(TabAppart[Numéro appart],-1+SMALL(IF(INDIRECT("TabAppart["&I$1&"]")=I$2,ROW(TabAppart[Numéro appart])+1-ROW(TabAppart[[#Headers],[Numéro appart]]),""),ROW($A1))))} -> A101 | ... Q3: {=IF(ROW($A1)>COUNTIF(INDIRECT("TabAppart["&Q$1&"]"),Q$2),"",INDEX(TabAppart[Numéro appart],-1+SMALL(IF(INDIRECT("TabAppart["&Q$1&"]")=Q$2,ROW(TabAppart[Numéro appart])+1-ROW(TabAppart[[#Headers],[Numéro appart]]),""),ROW($A1))))} -> A501
B4: {=IF(ROW($A2)>COUNTIF(INDIRECT("TabAppart["&B$1&"]"),B$2),"",INDEX(TabAppart[Numéro appart],-1+SMALL(IF(INDIRECT("TabAppart["&B$1&"]")=B$2,ROW(TabAppart[Numéro appart])+1-ROW(TabAppart[[#Headers],[Numéro appart]]),""),ROW($A2))))} -> A105 | C4: {=IF(ROW($A2)>COUNTIF(INDIRECT("TabAppart["&C$1&"]"),C$2),"",INDEX(TabAppart[Numéro appart],-1+SMALL(IF(INDIRECT("TabAppart["&C$1&"]")=C$2,ROW(TabAppart[Numéro appart])+1-ROW(TabAppart[[#Headers],[Numéro appart]]),""),ROW($A2))))} | D4: {=IF(ROW($A2)>COUNTIF(INDIRECT("TabAppart["&D$1&"]"),D$2),"",INDEX(TabAppart[Numéro appart],-1+SMALL(IF(INDIRECT("TabAppart["&D$1&"]")=D$2,ROW(TabAppart[Numéro appart])+1-ROW(TabAppart[[#Headers],[Numéro appart]]),""),ROW($A2))))} -> A207 | E4: {=IF(ROW($A2)>COUNTIF(INDIRECT("TabAppart["&E$1&"]"),E$2),"",INDEX(TabAppart[Numéro appart],-1+SMALL(IF(INDIRECT("TabAppart["&E$1&"]")=E$2,ROW(TabAppart[Numéro appart])+1-ROW(TabAppart[[#Headers],[Numéro appart]]),""),ROW($A2))))} -> A716 | F4: {=IF(ROW($A2)>COUNTIF(INDIRECT("TabAppart["&F$1&"]"),F$2),"",INDEX(TabAppart[Numéro appart],-1+SMALL(IF(INDIRECT("TabAppart["&F$1&"]")=F$2,ROW(TabAppart[Numéro appart])+1-ROW(TabAppart[[#Headers],[Numéro appart]]),""),ROW($A2))))} -> A206 | G4: {=IF(ROW($A2)>COUNTIF(INDIRECT("TabAppart["&G$1&"]"),G$2),"",INDEX(TabAppart[Numéro appart],-1+SMALL(IF(INDIRECT("TabAppart["&G$1&"]")=G$2,ROW(TabAppart[Numéro appart])+1-ROW(TabAppart[[#Headers],[Numéro appart]]),""),ROW($A2))))} -> A003 | H4: {=IF(ROW($A2)>COUNTIF(INDIRECT("TabAppart["&H$1&"]"),H$2),"",INDEX(TabAppart[Numéro appart],-1+SMALL(IF(INDIRECT("TabAppart["&H$1&"]")=H$2,ROW(TabAppart[Numéro appart])+1-ROW(TabAppart[[#Headers],[Numéro appart]]),""),ROW($A2))))} -> A102 | I4: {=IF(ROW($A2)>COUNTIF(INDIRECT("TabAppart["&I$1&"]"),I$2),"",INDEX(TabAppart[Numéro appart],-1+SMALL(IF(INDIRECT("TabAppart["&I$1&"]")=I$2,ROW(TabAppart[Numéro appart])+1-ROW(TabAppart[[#Headers],[Numéro appart]]),""),ROW($A2))))} -> A201 | ... Q4: {=IF(ROW($A2)>COUNTIF(INDIRECT("TabAppart["&Q$1&"]"),Q$2),"",INDEX(TabAppart[Numéro appart],-1+SMALL(IF(INDIRECT("TabAppart["&Q$1&"]")=Q$2,ROW(TabAppart[Numéro appart])+1-ROW(TabAppart[[#Headers],[Numéro appart]]),""),ROW($A2))))} -> A506-7
B5: {=IF(ROW($A3)>COUNTIF(INDIRECT("TabAppart["&B$1&"]"),B$2),"",INDEX(TabAppart[Numéro appart],-1+SMALL(IF(INDIRECT("TabAppart["&B$1&"]")=B$2,ROW(TabAppart[Numéro appart])+1-ROW(TabAppart[[#Headers],[Numéro appart]]),""),ROW($A3))))} -> A205 | C5: {=IF(ROW($A3)>COUNTIF(INDIRECT("TabAppart["&C$1&"]"),C$2),"",INDEX(TabAppart[Numéro appart],-1+SMALL(IF(INDIRECT("TabAppart["&C$1&"]")=C$2,ROW(TabAppart[Numéro appart])+1-ROW(TabAppart[[#Headers],[Numéro appart]]),""),ROW($A3))))} | D5: {=IF(ROW($A3)>COUNTIF(INDIRECT("TabAppart["&D$1&"]"),D$2),"",INDEX(TabAppart[Numéro appart],-1+SMALL(IF(INDIRECT("TabAppart["&D$1&"]")=D$2,ROW(TabAppart[Numéro appart])+1-ROW(TabAppart[[#Headers],[Numéro appart]]),""),ROW($A3))))} -> A307 | E5: {=IF(ROW($A3)>COUNTIF(INDIRECT("TabAppart["&E$1&"]"),E$2),"",INDEX(TabAppart[Numéro appart],-1+SMALL(IF(INDIRECT("TabAppart["&E$1&"]")=E$2,ROW(TabAppart[Numéro appart])+1-ROW(TabAppart[[#Headers],[Numéro appart]]),""),ROW($A3))))} -> A813 | F5: {=IF(ROW($A3)>COUNTIF(INDIRECT("TabAppart["&F$1&"]"),F$2),"",INDEX(TabAppart[Numéro appart],-1+SMALL(IF(INDIRECT("TabAppart["&F$1&"]")=F$2,ROW(TabAppart[Numéro appart])+1-ROW(TabAppart[[#Headers],[Numéro appart]]),""),ROW($A3))))} -> A306 | G5: {=IF(ROW($A3)>COUNTIF(INDIRECT("TabAppart["&G$1&"]"),G$2),"",INDEX(TabAppart[Numéro appart],-1+SMALL(IF(INDIRECT("TabAppart["&G$1&"]")=G$2,ROW(TabAppart[Numéro appart])+1-ROW(TabAppart[[#Headers],[Numéro appart]]),""),ROW($A3))))} -> A103 | H5: {=IF(ROW($A3)>COUNTIF(INDIRECT("TabAppart["&H$1&"]"),H$2),"",INDEX(TabAppart[Numéro appart],-1+SMALL(IF(INDIRECT("TabAppart["&H$1&"]")=H$2,ROW(TabAppart[Numéro appart])+1-ROW(TabAppart[[#Headers],[Numéro appart]]),""),ROW($A3))))} -> A202 | I5: {=IF(ROW($A3)>COUNTIF(INDIRECT("TabAppart["&I$1&"]"),I$2),"",INDEX(TabAppart[Numéro appart],-1+SMALL(IF(INDIRECT("TabAppart["&I$1&"]")=I$2,ROW(TabAppart[Numéro appart])+1-ROW(TabAppart[[#Headers],[Numéro appart]]),""),ROW($A3))))} -> A301 | ... Q5: {=IF(ROW($A3)>COUNTIF(INDIRECT("TabAppart["&Q$1&"]"),Q$2),"",INDEX(TabAppart[Numéro appart],-1+SMALL(IF(INDIRECT("TabAppart["&Q$1&"]")=Q$2,ROW(TabAppart[Numéro appart])+1-ROW(TabAppart[[#Headers],[Numéro appart]]),""),ROW($A3))))} -> A815 duplex
B6: {=IF(ROW($A4)>COUNTIF(INDIRECT("TabAppart["&B$1&"]"),B$2),"",INDEX(TabAppart[Numéro appart],-1+SMALL(IF(INDIRECT("TabAppart["&B$1&"]")=B$2,ROW(TabAppart[Numéro appart])+1-ROW(TabAppart[[#Headers],[Numéro appart]]),""),ROW($A4))))} -> A305 | C6: {=IF(ROW($A4)>COUNTIF(INDIRECT("TabAppart["&C$1&"]"),C$2),"",INDEX(TabAppart[Numéro appart],-1+SMALL(IF(INDIRECT("TabAppart["&C$1&"]")=C$2,ROW(TabAppart[Numéro appart])+1-ROW(TabAppart[[#Headers],[Numéro appart]]),""),ROW($A4))))} | D6: {=IF(ROW($A4)>COUNTIF(INDIRECT("TabAppart["&D$1&"]"),D$2),"",INDEX(TabAppart[Numéro appart],-1+SMALL(IF(INDIRECT("TabAppart["&D$1&"]")=D$2,ROW(TabAppart[Numéro appart])+1-ROW(TabAppart[[#Headers],[Numéro appart]]),""),ROW($A4))))} -> A407 | E6: {=IF(ROW($A4)>COUNTIF(INDIRECT("TabAppart["&E$1&"]"),E$2),"",INDEX(TabAppart[Numéro appart],-1+SMALL(IF(INDIRECT("TabAppart["&E$1&"]")=E$2,ROW(TabAppart[Numéro appart])+1-ROW(TabAppart[[#Headers],[Numéro appart]]),""),ROW($A4))))} | F6: {=IF(ROW($A4)>COUNTIF(INDIRECT("TabAppart["&F$1&"]"),F$2),"",INDEX(TabAppart[Numéro appart],-1+SMALL(IF(INDIRECT("TabAppart["&F$1&"]")=F$2,ROW(TabAppart[Numéro appart])+1-ROW(TabAppart[[#Headers],[Numéro appart]]),""),ROW($A4))))} -> A406 | G6: {=IF(ROW($A4)>COUNTIF(INDIRECT("TabAppart["&G$1&"]"),G$2),"",INDEX(TabAppart[Numéro appart],-1+SMALL(IF(INDIRECT("TabAppart["&G$1&"]")=G$2,ROW(TabAppart[Numéro appart])+1-ROW(TabAppart[[#Headers],[Numéro appart]]),""),ROW($A4))))} -> A104 | H6: {=IF(ROW($A4)>COUNTIF(INDIRECT("TabAppart["&H$1&"]"),H$2),"",INDEX(TabAppart[Numéro appart],-1+SMALL(IF(INDIRECT("TabAppart["&H$1&"]")=H$2,ROW(TabAppart[Numéro appart])+1-ROW(TabAppart[[#Headers],[Numéro appart]]),""),ROW($A4))))} -> A302 | I6: {=IF(ROW($A4)>COUNTIF(INDIRECT("TabAppart["&I$1&"]"),I$2),"",INDEX(TabAppart[Numéro appart],-1+SMALL(IF(INDIRECT("TabAppart["&I$1&"]")=I$2,ROW(TabAppart[Numéro appart])+1-ROW(TabAppart[[#Headers],[Numéro appart]]),""),ROW($A4))))} -> A401 | ... Q6: {=IF(ROW($A4)>COUNTIF(INDIRECT("TabAppart["&Q$1&"]"),Q$2),"",INDEX(TabAppart[Numéro appart],-1+SMALL(IF(INDIRECT("TabAppart["&Q$1&"]")=Q$2,ROW(TabAppart[Numéro appart])+1-ROW(TabAppart[[#Headers],[Numéro appart]]),""),ROW($A4))))} -> A816 duplex
B7: {=IF(ROW($A5)>COUNTIF(INDIRECT("TabAppart["&B$1&"]"),B$2),"",INDEX(TabAppart[Numéro appart],-1+SMALL(IF(INDIRECT("TabAppart["&B$1&"]")=B$2,ROW(TabAppart[Numéro appart])+1-ROW(TabAppart[[#Headers],[Numéro appart]]),""),ROW($A5))))} -> A405 | C7: {=IF(ROW($A5)>COUNTIF(INDIRECT("TabAppart["&C$1&"]"),C$2),"",INDEX(TabAppart[Numéro appart],-1+SMALL(IF(INDIRECT("TabAppart["&C$1&"]")=C$2,ROW(TabAppart[Numéro appart])+1-ROW(TabAppart[[#Headers],[Numéro appart]]),""),ROW($A5))))} | D7: {=IF(ROW($A5)>COUNTIF(INDIRECT("TabAppart["&D$1&"]"),D$2),"",INDEX(TabAppart[Numéro appart],-1+SMALL(IF(INDIRECT("TabAppart["&D$1&"]")=D$2,ROW(TabAppart[Numéro appart])+1-ROW(TabAppart[[#Headers],[Numéro appart]]),""),ROW($A5))))} -> A503 | E7: {=IF(ROW($A5)>COUNTIF(INDIRECT("TabAppart["&E$1&"]"),E$2),"",INDEX(TabAppart[Numéro appart],-1+SMALL(IF(INDIRECT("TabAppart["&E$1&"]")=E$2,ROW(TabAppart[Numéro appart])+1-ROW(TabAppart[[#Headers],[Numéro appart]]),""),ROW($A5))))} | F7: {=IF(ROW($A5)>COUNTIF(INDIRECT("TabAppart["&F$1&"]"),F$2),"",INDEX(TabAppart[Numéro appart],-1+SMALL(IF(INDIRECT("TabAppart["&F$1&"]")=F$2,ROW(TabAppart[Numéro appart])+1-ROW(TabAppart[[#Headers],[Numéro appart]]),""),ROW($A5))))} -> A109 | G7: {=IF(ROW($A5)>COUNTIF(INDIRECT("TabAppart["&G$1&"]"),G$2),"",INDEX(TabAppart[Numéro appart],-1+SMALL(IF(INDIRECT("TabAppart["&G$1&"]")=G$2,ROW(TabAppart[Numéro appart])+1-ROW(TabAppart[[#Headers],[Numéro appart]]),""),ROW($A5))))} -> A203 | H7: {=IF(ROW($A5)>COUNTIF(INDIRECT("TabAppart["&H$1&"]"),H$2),"",INDEX(TabAppart[Numéro appart],-1+SMALL(IF(INDIRECT("TabAppart["&H$1&"]")=H$2,ROW(TabAppart[Numéro appart])+1-ROW(TabAppart[[#Headers],[Numéro appart]]),""),ROW($A5))))} -> A402 | I7: {=IF(ROW($A5)>COUNTIF(INDIRECT("TabAppart["&I$1&"]"),I$2),"",INDEX(TabAppart[Numéro appart],-1+SMALL(IF(INDIRECT("TabAppart["&I$1&"]")=I$2,ROW(TabAppart[Numéro appart])+1-ROW(TabAppart[[#Headers],[Numéro appart]]),""),ROW($A5))))} -> A807 | ... Q7: {=IF(ROW($A5)>COUNTIF(INDIRECT("TabAppart["&Q$1&"]"),Q$2),"",INDEX(TabAppart[Numéro appart],-1+SMALL(IF(INDIRECT("TabAppart["&Q$1&"]")=Q$2,ROW(TabAppart[Numéro appart])+1-ROW(TabAppart[[#Headers],[Numéro appart]]),""),ROW($A5))))} -> A817
B8: {=IF(ROW($A6)>COUNTIF(INDIRECT("TabAppart["&B$1&"]"),B$2),"",INDEX(TabAppart[Numéro appart],-1+SMALL(IF(INDIRECT("TabAppart["&B$1&"]")=B$2,ROW(TabAppart[Numéro appart])+1-ROW(TabAppart[[#Headers],[Numéro appart]]),""),ROW($A6))))} -> A108 | C8: {=IF(ROW($A6)>COUNTIF(INDIRECT("TabAppart["&C$1&"]"),C$2),"",INDEX(TabAppart[Numéro appart],-1+SMALL(IF(INDIRECT("TabAppart["&C$1&"]")=C$2,ROW(TabAppart[Numéro appart])+1-ROW(TabAppart[[#Headers],[Numéro appart]]),""),ROW($A6))))} | D8: {=IF(ROW($A6)>COUNTIF(INDIRECT("TabAppart["&D$1&"]"),D$2),"",INDEX(TabAppart[Numéro appart],-1+SMALL(IF(INDIRECT("TabAppart["&D$1&"]")=D$2,ROW(TabAppart[Numéro appart])+1-ROW(TabAppart[[#Headers],[Numéro appart]]),""),ROW($A6))))} -> A601 | E8: {=IF(ROW($A6)>COUNTIF(INDIRECT("TabAppart["&E$1&"]"),E$2),"",INDEX(TabAppart[Numéro appart],-1+SMALL(IF(INDIRECT("TabAppart["&E$1&"]")=E$2,ROW(TabAppart[Numéro appart])+1-ROW(TabAppart[[#Headers],[Numéro appart]]),""),ROW($A6))))} | F8: {=IF(ROW($A6)>COUNTIF(INDIRECT("TabAppart["&F$1&"]"),F$2),"",INDEX(TabAppart[Numéro appart],-1+SMALL(IF(INDIRECT("TabAppart["&F$1&"]")=F$2,ROW(TabAppart[Numéro appart])+1-ROW(TabAppart[[#Headers],[Numéro appart]]),""),ROW($A6))))} -> A209 | G8: {=IF(ROW($A6)>COUNTIF(INDIRECT("TabAppart["&G$1&"]"),G$2),"",INDEX(TabAppart[Numéro appart],-1+SMALL(IF(INDIRECT("TabAppart["&G$1&"]")=G$2,ROW(TabAppart[Numéro appart])+1-ROW(TabAppart[[#Headers],[Numéro appart]]),""),ROW($A6))))} -> A204 | H8: {=IF(ROW($A6)>COUNTIF(INDIRECT("TabAppart["&H$1&"]"),H$2),"",INDEX(TabAppart[Numéro appart],-1+SMALL(IF(INDIRECT("TabAppart["&H$1&"]")=H$2,ROW(TabAppart[Numéro appart])+1-ROW(TabAppart[[#Headers],[Numéro appart]]),""),ROW($A6))))} -> A614 | I8: {=IF(ROW($A6)>COUNTIF(INDIRECT("TabAppart["&I$1&"]"),I$2),"",INDEX(TabAppart[Numéro appart],-1+SMALL(IF(INDIRECT("TabAppart["&I$1&"]")=I$2,ROW(TabAppart[Numéro appart])+1-ROW(TabAppart[[#Headers],[Numéro appart]]),""),ROW($A6))))} | ... Q8: {=IF(ROW($A6)>COUNTIF(INDIRECT("TabAppart["&Q$1&"]"),Q$2),"",INDEX(TabAppart[Numéro appart],-1+SMALL(IF(INDIRECT("TabAppart["&Q$1&"]")=Q$2,ROW(TabAppart[Numéro appart])+1-ROW(TabAppart[[#Headers],[Numéro appart]]),""),ROW($A6))))} -> A712
B9: {=IF(ROW($A7)>COUNTIF(INDIRECT("TabAppart["&B$1&"]"),B$2),"",INDEX(TabAppart[Numéro appart],-1+SMALL(IF(INDIRECT("TabAppart["&B$1&"]")=B$2,ROW(TabAppart[Numéro appart])+1-ROW(TabAppart[[#Headers],[Numéro appart]]),""),ROW($A7))))} -> A208 | C9: {=IF(ROW($A7)>COUNTIF(INDIRECT("TabAppart["&C$1&"]"),C$2),"",INDEX(TabAppart[Numéro appart],-1+SMALL(IF(INDIRECT("TabAppart["&C$1&"]")=C$2,ROW(TabAppart[Numéro appart])+1-ROW(TabAppart[[#Headers],[Numéro appart]]),""),ROW($A7))))} | D9: {=IF(ROW($A7)>COUNTIF(INDIRECT("TabAppart["&D$1&"]"),D$2),"",INDEX(TabAppart[Numéro appart],-1+SMALL(IF(INDIRECT("TabAppart["&D$1&"]")=D$2,ROW(TabAppart[Numéro appart])+1-ROW(TabAppart[[#Headers],[Numéro appart]]),""),ROW($A7))))} -> A701 | E9: {=IF(ROW($A7)>COUNTIF(INDIRECT("TabAppart["&E$1&"]"),E$2),"",INDEX(TabAppart[Numéro appart],-1+SMALL(IF(INDIRECT("TabAppart["&E$1&"]")=E$2,ROW(TabAppart[Numéro appart])+1-ROW(TabAppart[[#Headers],[Numéro appart]]),""),ROW($A7))))} | F9: {=IF(ROW($A7)>COUNTIF(INDIRECT("TabAppart["&F$1&"]"),F$2),"",INDEX(TabAppart[Numéro appart],-1+SMALL(IF(INDIRECT("TabAppart["&F$1&"]")=F$2,ROW(TabAppart[Numéro appart])+1-ROW(TabAppart[[#Headers],[Numéro appart]]),""),ROW($A7))))} -> A309 | G9: {=IF(ROW($A7)>COUNTIF(INDIRECT("TabAppart["&G$1&"]"),G$2),"",INDEX(TabAppart[Numéro appart],-1+SMALL(IF(INDIRECT("TabAppart["&G$1&"]")=G$2,ROW(TabAppart[Numéro appart])+1-ROW(TabAppart[[#Headers],[Numéro appart]]),""),ROW($A7))))} -> A303 | H9: {=IF(ROW($A7)>COUNTIF(INDIRECT("TabAppart["&H$1&"]"),H$2),"",INDEX(TabAppart[Numéro appart],-1+SMALL(IF(INDIRECT("TabAppart["&H$1&"]")=H$2,ROW(TabAppart[Numéro appart])+1-ROW(TabAppart[[#Headers],[Numéro appart]]),""),ROW($A7))))} -> A714 | I9: {=IF(ROW($A7)>COUNTIF(INDIRECT("TabAppart["&I$1&"]"),I$2),"",INDEX(TabAppart[Numéro appart],-1+SMALL(IF(INDIRECT("TabAppart["&I$1&"]")=I$2,ROW(TabAppart[Numéro appart])+1-ROW(TabAppart[[#Headers],[Numéro appart]]),""),ROW($A7))))} | ... Q9: {=IF(ROW($A7)>COUNTIF(INDIRECT("TabAppart["&Q$1&"]"),Q$2),"",INDEX(TabAppart[Numéro appart],-1+SMALL(IF(INDIRECT("TabAppart["&Q$1&"]")=Q$2,ROW(TabAppart[Numéro appart])+1-ROW(TabAppart[[#Headers],[Numéro appart]]),""),ROW($A7))))} -> A901
B10: {=IF(ROW($A8)>COUNTIF(INDIRECT("TabAppart["&B$1&"]"),B$2),"",INDEX(TabAppart[Numéro appart],-1+SMALL(IF(INDIRECT("TabAppart["&B$1&"]")=B$2,ROW(TabAppart[Numéro appart])+1-ROW(TabAppart[[#Headers],[Numéro appart]]),""),ROW($A8))))} -> A308 | C10: {=IF(ROW($A8)>COUNTIF(INDIRECT("TabAppart["&C$1&"]"),C$2),"",INDEX(TabAppart[Numéro appart],-1+SMALL(IF(INDIRECT("TabAppart["&C$1&"]")=C$2,ROW(TabAppart[Numéro appart])+1-ROW(TabAppart[[#Headers],[Numéro appart]]),""),ROW($A8))))} | D10: {=IF(ROW($A8)>COUNTIF(INDIRECT("TabAppart["&D$1&"]"),D$2),"",INDEX(TabAppart[Numéro appart],-1+SMALL(IF(INDIRECT("TabAppart["&D$1&"]")=D$2,ROW(TabAppart[Numéro appart])+1-ROW(TabAppart[[#Headers],[Numéro appart]]),""),ROW($A8))))} -> A801 | E10: {=IF(ROW($A8)>COUNTIF(INDIRECT("TabAppart["&E$1&"]"),E$2),"",INDEX(TabAppart[Numéro appart],-1+SMALL(IF(INDIRECT("TabAppart["&E$1&"]")=E$2,ROW(TabAppart[Numéro appart])+1-ROW(TabAppart[[#Headers],[Numéro appart]]),""),ROW($A8))))} | F10: {=IF(ROW($A8)>COUNTIF(INDIRECT("TabAppart["&F$1&"]"),F$2),"",INDEX(TabAppart[Numéro appart],-1+SMALL(IF(INDIRECT("TabAppart["&F$1&"]")=F$2,ROW(TabAppart[Numéro appart])+1-ROW(TabAppart[[#Headers],[Numéro appart]]),""),ROW($A8))))} -> A409 | G10: {=IF(ROW($A8)>COUNTIF(INDIRECT("TabAppart["&G$1&"]"),G$2),"",INDEX(TabAppart[Numéro appart],-1+SMALL(IF(INDIRECT("TabAppart["&G$1&"]")=G$2,ROW(TabAppart[Numéro appart])+1-ROW(TabAppart[[#Headers],[Numéro appart]]),""),ROW($A8))))} -> A304 | H10: {=IF(ROW($A8)>COUNTIF(INDIRECT("TabAppart["&H$1&"]"),H$2),"",INDEX(TabAppart[Numéro appart],-1+SMALL(IF(INDIRECT("TabAppart["&H$1&"]")=H$2,ROW(TabAppart[Numéro appart])+1-ROW(TabAppart[[#Headers],[Numéro appart]]),""),ROW($A8))))} -> A811 | I10: {=IF(ROW($A8)>COUNTIF(INDIRECT("TabAppart["&I$1&"]"),I$2),"",INDEX(TabAppart[Numéro appart],-1+SMALL(IF(INDIRECT("TabAppart["&I$1&"]")=I$2,ROW(TabAppart[Numéro appart])+1-ROW(TabAppart[[#Headers],[Numéro appart]]),""),ROW($A8))))} | ... Q10: {=IF(ROW($A8)>COUNTIF(INDIRECT("TabAppart["&Q$1&"]"),Q$2),"",INDEX(TabAppart[Numéro appart],-1+SMALL(IF(INDIRECT("TabAppart["&Q$1&"]")=Q$2,ROW(TabAppart[Numéro appart])+1-ROW(TabAppart[[#Headers],[Numéro appart]]),""),ROW($A8))))} -> A902 PMR
B11: {=IF(ROW($A9)>COUNTIF(INDIRECT("TabAppart["&B$1&"]"),B$2),"",INDEX(TabAppart[Numéro appart],-1+SMALL(IF(INDIRECT("TabAppart["&B$1&"]")=B$2,ROW(TabAppart[Numéro appart])+1-ROW(TabAppart[[#Headers],[Numéro appart]]),""),ROW($A9))))} -> A408 | C11: {=IF(ROW($A9)>COUNTIF(INDIRECT("TabAppart["&C$1&"]"),C$2),"",INDEX(TabAppart[Numéro appart],-1+SMALL(IF(INDIRECT("TabAppart["&C$1&"]")=C$2,ROW(TabAppart[Numéro appart])+1-ROW(TabAppart[[#Headers],[Numéro appart]]),""),ROW($A9))))} | D11: {=IF(ROW($A9)>COUNTIF(INDIRECT("TabAppart["&D$1&"]"),D$2),"",INDEX(TabAppart[Numéro appart],-1+SMALL(IF(INDIRECT("TabAppart["&D$1&"]")=D$2,ROW(TabAppart[Numéro appart])+1-ROW(TabAppart[[#Headers],[Numéro appart]]),""),ROW($A9))))} -> A611 | E11: {=IF(ROW($A9)>COUNTIF(INDIRECT("TabAppart["&E$1&"]"),E$2),"",INDEX(TabAppart[Numéro appart],-1+SMALL(IF(INDIRECT("TabAppart["&E$1&"]")=E$2,ROW(TabAppart[Numéro appart])+1-ROW(TabAppart[[#Headers],[Numéro appart]]),""),ROW($A9))))} | F11: {=IF(ROW($A9)>COUNTIF(INDIRECT("TabAppart["&F$1&"]"),F$2),"",INDEX(TabAppart[Numéro appart],-1+SMALL(IF(INDIRECT("TabAppart["&F$1&"]")=F$2,ROW(TabAppart[Numéro appart])+1-ROW(TabAppart[[#Headers],[Numéro appart]]),""),ROW($A9))))} -> A502 | G11: {=IF(ROW($A9)>COUNTIF(INDIRECT("TabAppart["&G$1&"]"),G$2),"",INDEX(TabAppart[Numéro appart],-1+SMALL(IF(INDIRECT("TabAppart["&G$1&"]")=G$2,ROW(TabAppart[Numéro appart])+1-ROW(TabAppart[[#Headers],[Numéro appart]]),""),ROW($A9))))} -> A403 | H11: {=IF(ROW($A9)>COUNTIF(INDIRECT("TabAppart["&H$1&"]"),H$2),"",INDEX(TabAppart[Numéro appart],-1+SMALL(IF(INDIRECT("TabAppart["&H$1&"]")=H$2,ROW(TabAppart[Numéro appart])+1-ROW(TabAppart[[#Headers],[Numéro appart]]),""),ROW($A9))))} | I11: {=IF(ROW($A9)>COUNTIF(INDIRECT("TabAppart["&I$1&"]"),I$2),"",INDEX(TabAppart[Numéro appart],-1+SMALL(IF(INDIRECT("TabAppart["&I$1&"]")=I$2,ROW(TabAppart[Numéro appart])+1-ROW(TabAppart[[#Headers],[Numéro appart]]),""),ROW($A9))))} | ... Q11: {=IF(ROW($A9)>COUNTIF(INDIRECT("TabAppart["&Q$1&"]"),Q$2),"",INDEX(TabAppart[Numéro appart],-1+SMALL(IF(INDIRECT("TabAppart["&Q$1&"]")=Q$2,ROW(TabAppart[Numéro appart])+1-ROW(TabAppart[[#Headers],[Numéro appart]]),""),ROW($A9))))} -> A903
B12: {=IF(ROW($A10)>COUNTIF(INDIRECT("TabAppart["&B$1&"]"),B$2),"",INDEX(TabAppart[Numéro appart],-1+SMALL(IF(INDIRECT("TabAppart["&B$1&"]")=B$2,ROW(TabAppart[Numéro appart])+1-ROW(TabAppart[[#Headers],[Numéro appart]]),""),ROW($A10))))} -> A602 | C12: {=IF(ROW($A10)>COUNTIF(INDIRECT("TabAppart["&C$1&"]"),C$2),"",INDEX(TabAppart[Numéro appart],-1+SMALL(IF(INDIRECT("TabAppart["&C$1&"]")=C$2,ROW(TabAppart[Numéro appart])+1-ROW(TabAppart[[#Headers],[Numéro appart]]),""),ROW($A10))))} | D12: {=IF(ROW($A10)>COUNTIF(INDIRECT("TabAppart["&D$1&"]"),D$2),"",INDEX(TabAppart[Numéro appart],-1+SMALL(IF(INDIRECT("TabAppart["&D$1&"]")=D$2,ROW(TabAppart[Numéro appart])+1-ROW(TabAppart[[#Headers],[Numéro appart]]),""),ROW($A10))))} -> A711 | E12: {=IF(ROW($A10)>COUNTIF(INDIRECT("TabAppart["&E$1&"]"),E$2),"",INDEX(TabAppart[Numéro appart],-1+SMALL(IF(INDIRECT("TabAppart["&E$1&"]")=E$2,ROW(TabAppart[Numéro appart])+1-ROW(TabAppart[[#Headers],[Numéro appart]]),""),ROW($A10))))} | F12: {=IF(ROW($A10)>COUNTIF(INDIRECT("TabAppart["&F$1&"]"),F$2),"",INDEX(TabAppart[Numéro appart],-1+SMALL(IF(INDIRECT("TabAppart["&F$1&"]")=F$2,ROW(TabAppart[Numéro appart])+1-ROW(TabAppart[[#Headers],[Numéro appart]]),""),ROW($A10))))} -> A505 | G12: {=IF(ROW($A10)>COUNTIF(INDIRECT("TabAppart["&G$1&"]"),G$2),"",INDEX(TabAppart[Numéro appart],-1+SMALL(IF(INDIRECT("TabAppart["&G$1&"]")=G$2,ROW(TabAppart[Numéro appart])+1-ROW(TabAppart[[#Headers],[Numéro appart]]),""),ROW($A10))))} -> A404 | H12: {=IF(ROW($A10)>COUNTIF(INDIRECT("TabAppart["&H$1&"]"),H$2),"",INDEX(TabAppart[Numéro appart],-1+SMALL(IF(INDIRECT("TabAppart["&H$1&"]")=H$2,ROW(TabAppart[Numéro appart])+1-ROW(TabAppart[[#Headers],[Numéro appart]]),""),ROW($A10))))} | I12: {=IF(ROW($A10)>COUNTIF(INDIRECT("TabAppart["&I$1&"]"),I$2),"",INDEX(TabAppart[Numéro appart],-1+SMALL(IF(INDIRECT("TabAppart["&I$1&"]")=I$2,ROW(TabAppart[Numéro appart])+1-ROW(TabAppart[[#Headers],[Numéro appart]]),""),ROW($A10))))} | ... Q12: {=IF(ROW($A10)>COUNTIF(INDIRECT("TabAppart["&Q$1&"]"),Q$2),"",INDEX(TabAppart[Numéro appart],-1+SMALL(IF(INDIRECT("TabAppart["&Q$1&"]")=Q$2,ROW(TabAppart[Numéro appart])+1-ROW(TabAppart[[#Headers],[Numéro appart]]),""),ROW($A10))))} -> A904
B13: {=IF(ROW($A11)>COUNTIF(INDIRECT("TabAppart["&B$1&"]"),B$2),"",INDEX(TabAppart[Numéro appart],-1+SMALL(IF(INDIRECT("TabAppart["&B$1&"]")=B$2,ROW(TabAppart[Numéro appart])+1-ROW(TabAppart[[#Headers],[Numéro appart]]),""),ROW($A11))))} -> A702 | C13: {=IF(ROW($A11)>COUNTIF(INDIRECT("TabAppart["&C$1&"]"),C$2),"",INDEX(TabAppart[Numéro appart],-1+SMALL(IF(INDIRECT("TabAppart["&C$1&"]")=C$2,ROW(TabAppart[Numéro appart])+1-ROW(TabAppart[[#Headers],[Numéro appart]]),""),ROW($A11))))} | D13: {=IF(ROW($A11)>COUNTIF(INDIRECT("TabAppart["&D$1&"]"),D$2),"",INDEX(TabAppart[Numéro appart],-1+SMALL(IF(INDIRECT("TabAppart["&D$1&"]")=D$2,ROW(TabAppart[Numéro appart])+1-ROW(TabAppart[[#Headers],[Numéro appart]]),""),ROW($A11))))} -> A808 | E13: {=IF(ROW($A11)>COUNTIF(INDIRECT("TabAppart["&E$1&"]"),E$2),"",INDEX(TabAppart[Numéro appart],-1+SMALL(IF(INDIRECT("TabAppart["&E$1&"]")=E$2,ROW(TabAppart[Numéro appart])+1-ROW(TabAppart[[#Headers],[Numéro appart]]),""),ROW($A11))))} | F13: {=IF(ROW($A11)>COUNTIF(INDIRECT("TabAppart["&F$1&"]"),F$2),"",INDEX(TabAppart[Numéro appart],-1+SMALL(IF(INDIRECT("TabAppart["&F$1&"]")=F$2,ROW(TabAppart[Numéro appart])+1-ROW(TabAppart[[#Headers],[Numéro appart]]),""),ROW($A11))))} -> A603 | G13: {=IF(ROW($A11)>COUNTIF(INDIRECT("TabAppart["&G$1&"]"),G$2),"",INDEX(TabAppart[Numéro appart],-1+SMALL(IF(INDIRECT("TabAppart["&G$1&"]")=G$2,ROW(TabAppart[Numéro appart])+1-ROW(TabAppart[[#Headers],[Numéro appart]]),""),ROW($A11))))} | H13: {=IF(ROW($A11)>COUNTIF(INDIRECT("TabAppart["&H$1&"]"),H$2),"",INDEX(TabAppart[Numéro appart],-1+SMALL(IF(INDIRECT("TabAppart["&H$1&"]")=H$2,ROW(TabAppart[Numéro appart])+1-ROW(TabAppart[[#Headers],[Numéro appart]]),""),ROW($A11))))} | I13: {=IF(ROW($A11)>COUNTIF(INDIRECT("TabAppart["&I$1&"]"),I$2),"",INDEX(TabAppart[Numéro appart],-1+SMALL(IF(INDIRECT("TabAppart["&I$1&"]")=I$2,ROW(TabAppart[Numéro appart])+1-ROW(TabAppart[[#Headers],[Numéro appart]]),""),ROW($A11))))} | ... Q13: {=IF(ROW($A11)>COUNTIF(INDIRECT("TabAppart["&Q$1&"]"),Q$2),"",INDEX(TabAppart[Numéro appart],-1+SMALL(IF(INDIRECT("TabAppart["&Q$1&"]")=Q$2,ROW(TabAppart[Numéro appart])+1-ROW(TabAppart[[#Headers],[Numéro appart]]),""),ROW($A11))))} -> A905
B14: {=IF(ROW($A12)>COUNTIF(INDIRECT("TabAppart["&B$1&"]"),B$2),"",INDEX(TabAppart[Numéro appart],-1+SMALL(IF(INDIRECT("TabAppart["&B$1&"]")=B$2,ROW(TabAppart[Numéro appart])+1-ROW(TabAppart[[#Headers],[Numéro appart]]),""),ROW($A12))))} -> A802 | C14: {=IF(ROW($A12)>COUNTIF(INDIRECT("TabAppart["&C$1&"]"),C$2),"",INDEX(TabAppart[Numéro appart],-1+SMALL(IF(INDIRECT("TabAppart["&C$1&"]")=C$2,ROW(TabAppart[Numéro appart])+1-ROW(TabAppart[[#Headers],[Numéro appart]]),""),ROW($A12))))} | D14: {=IF(ROW($A12)>COUNTIF(INDIRECT("TabAppart["&D$1&"]"),D$2),"",INDEX(TabAppart[Numéro appart],-1+SMALL(IF(INDIRECT("TabAppart["&D$1&"]")=D$2,ROW(TabAppart[Numéro appart])+1-ROW(TabAppart[[#Headers],[Numéro appart]]),""),ROW($A12))))} | E14: {=IF(ROW($A12)>COUNTIF(INDIRECT("TabAppart["&E$1&"]"),E$2),"",INDEX(TabAppart[Numéro appart],-1+SMALL(IF(INDIRECT("TabAppart["&E$1&"]")=E$2,ROW(TabAppart[Numéro appart])+1-ROW(TabAppart[[#Headers],[Numéro appart]]),""),ROW($A12))))} | F14: {=IF(ROW($A12)>COUNTIF(INDIRECT("TabAppart["&F$1&"]"),F$2),"",INDEX(TabAppart[Numéro appart],-1+SMALL(IF(INDIRECT("TabAppart["&F$1&"]")=F$2,ROW(TabAppart[Numéro appart])+1-ROW(TabAppart[[#Headers],[Numéro appart]]),""),ROW($A12))))} -> A617 | G14: {=IF(ROW($A12)>COUNTIF(INDIRECT("TabAppart["&G$1&"]"),G$2),"",INDEX(TabAppart[Numéro appart],-1+SMALL(IF(INDIRECT("TabAppart["&G$1&"]")=G$2,ROW(TabAppart[Numéro appart])+1-ROW(TabAppart[[#Headers],[Numéro appart]]),""),ROW($A12))))} | H14: {=IF(ROW($A12)>COUNTIF(INDIRECT("TabAppart["&H$1&"]"),H$2),"",INDEX(TabAppart[Numéro appart],-1+SMALL(IF(INDIRECT("TabAppart["&H$1&"]")=H$2,ROW(TabAppart[Numéro appart])+1-ROW(TabAppart[[#Headers],[Numéro appart]]),""),ROW($A12))))} | I14: {=IF(ROW($A12)>COUNTIF(INDIRECT("TabAppart["&I$1&"]"),I$2),"",INDEX(TabAppart[Numéro appart],-1+SMALL(IF(INDIRECT("TabAppart["&I$1&"]")=I$2,ROW(TabAppart[Numéro appart])+1-ROW(TabAppart[[#Headers],[Numéro appart]]),""),ROW($A12))))} | ... Q14: {=IF(ROW($A12)>COUNTIF(INDIRECT("TabAppart["&Q$1&"]"),Q$2),"",INDEX(TabAppart[Numéro appart],-1+SMALL(IF(INDIRECT("TabAppart["&Q$1&"]")=Q$2,ROW(TabAppart[Numéro appart])+1-ROW(TabAppart[[#Headers],[Numéro appart]]),""),ROW($A12))))} -> A606-7-8
B15: {=IF(ROW($A13)>COUNTIF(INDIRECT("TabAppart["&B$1&"]"),B$2),"",INDEX(TabAppart[Numéro appart],-1+SMALL(IF(INDIRECT("TabAppart["&B$1&"]")=B$2,ROW(TabAppart[Numéro appart])+1-ROW(TabAppart[[#Headers],[Numéro appart]]),""),ROW($A13))))} -> A615 | C15: {=IF(ROW($A13)>COUNTIF(INDIRECT("TabAppart["&C$1&"]"),C$2),"",INDEX(TabAppart[Numéro appart],-1+SMALL(IF(INDIRECT("TabAppart["&C$1&"]")=C$2,ROW(TabAppart[Numéro appart])+1-ROW(TabAppart[[#Headers],[Numéro appart]]),""),ROW($A13))))} | D15: {=IF(ROW($A13)>COUNTIF(INDIRECT("TabAppart["&D$1&"]"),D$2),"",INDEX(TabAppart[Numéro appart],-1+SMALL(IF(INDIRECT("TabAppart["&D$1&"]")=D$2,ROW(TabAppart[Numéro appart])+1-ROW(TabAppart[[#Headers],[Numéro appart]]),""),ROW($A13))))} | E15: {=IF(ROW($A13)>COUNTIF(INDIRECT("TabAppart["&E$1&"]"),E$2),"",INDEX(TabAppart[Numéro appart],-1+SMALL(IF(INDIRECT("TabAppart["&E$1&"]")=E$2,ROW(TabAppart[Numéro appart])+1-ROW(TabAppart[[#Headers],[Numéro appart]]),""),ROW($A13))))} | F15: {=IF(ROW($A13)>COUNTIF(INDIRECT("TabAppart["&F$1&"]"),F$2),"",INDEX(TabAppart[Numéro appart],-1+SMALL(IF(INDIRECT("TabAppart["&F$1&"]")=F$2,ROW(TabAppart[Numéro appart])+1-ROW(TabAppart[[#Headers],[Numéro appart]]),""),ROW($A13))))} -> A618 | G15: {=IF(ROW($A13)>COUNTIF(INDIRECT("TabAppart["&G$1&"]"),G$2),"",INDEX(TabAppart[Numéro appart],-1+SMALL(IF(INDIRECT("TabAppart["&G$1&"]")=G$2,ROW(TabAppart[Numéro appart])+1-ROW(TabAppart[[#Headers],[Numéro appart]]),""),ROW($A13))))} | H15: {=IF(ROW($A13)>COUNTIF(INDIRECT("TabAppart["&H$1&"]"),H$2),"",INDEX(TabAppart[Numéro appart],-1+SMALL(IF(INDIRECT("TabAppart["&H$1&"]")=H$2,ROW(TabAppart[Numéro appart])+1-ROW(TabAppart[[#Headers],[Numéro appart]]),""),ROW($A13))))} | I15: {=IF(ROW($A13)>COUNTIF(INDIRECT("TabAppart["&I$1&"]"),I$2),"",INDEX(TabAppart[Numéro appart],-1+SMALL(IF(INDIRECT("TabAppart["&I$1&"]")=I$2,ROW(TabAppart[Numéro appart])+1-ROW(TabAppart[[#Headers],[Numéro appart]]),""),ROW($A13))))} | ... Q15: {=IF(ROW($A13)>COUNTIF(INDIRECT("TabAppart["&Q$1&"]"),Q$2),"",INDEX(TabAppart[Numéro appart],-1+SMALL(IF(INDIRECT("TabAppart["&Q$1&"]")=Q$2,ROW(TabAppart[Numéro appart])+1-ROW(TabAppart[[#Headers],[Numéro appart]]),""),ROW($A13))))} -> A706-7-8
... B40: {=IF(ROW($A38)>COUNTIF(INDIRECT("TabAppart["&B$1&"]"),B$2),"",INDEX(TabAppart[Numéro appart],-1+SMALL(IF(INDIRECT("TabAppart["&B$1&"]")=B$2,ROW(TabAppart[Numéro appart])+1-ROW(TabAppart[[#Headers],[Numéro appart]]),""),ROW($A38))))} | C40: {=IF(ROW($A38)>COUNTIF(INDIRECT("TabAppart["&C$1&"]"),C$2),"",INDEX(TabAppart[Numéro appart],-1+SMALL(IF(INDIRECT("TabAppart["&C$1&"]")=C$2,ROW(TabAppart[Numéro appart])+1-ROW(TabAppart[[#Headers],[Numéro appart]]),""),ROW($A38))))} | D40: {=IF(ROW($A38)>COUNTIF(INDIRECT("TabAppart["&D$1&"]"),D$2),"",INDEX(TabAppart[Numéro appart],-1+SMALL(IF(INDIRECT("TabAppart["&D$1&"]")=D$2,ROW(TabAppart[Numéro appart])+1-ROW(TabAppart[[#Headers],[Numéro appart]]),""),ROW($A38))))} | E40: {=IF(ROW($A38)>COUNTIF(INDIRECT("TabAppart["&E$1&"]"),E$2),"",INDEX(TabAppart[Numéro appart],-1+SMALL(IF(INDIRECT("TabAppart["&E$1&"]")=E$2,ROW(TabAppart[Numéro appart])+1-ROW(TabAppart[[#Headers],[Numéro appart]]),""),ROW($A38))))} | F40: {=IF(ROW($A38)>COUNTIF(INDIRECT("TabAppart["&F$1&"]"),F$2),"",INDEX(TabAppart[Numéro appart],-1+SMALL(IF(INDIRECT("TabAppart["&F$1&"]")=F$2,ROW(TabAppart[Numéro appart])+1-ROW(TabAppart[[#Headers],[Numéro appart]]),""),ROW($A38))))} | G40: {=IF(ROW($A38)>COUNTIF(INDIRECT("TabAppart["&G$1&"]"),G$2),"",INDEX(TabAppart[Numéro appart],-1+SMALL(IF(INDIRECT("TabAppart["&G$1&"]")=G$2,ROW(TabAppart[Numéro appart])+1-ROW(TabAppart[[#Headers],[Numéro appart]]),""),ROW($A38))))} | H40: {=IF(ROW($A38)>COUNTIF(INDIRECT("TabAppart["&H$1&"]"),H$2),"",INDEX(TabAppart[Numéro appart],-1+SMALL(IF(INDIRECT("TabAppart["&H$1&"]")=H$2,ROW(TabAppart[Numéro appart])+1-ROW(TabAppart[[#Headers],[Numéro appart]]),""),ROW($A38))))} | I40: {=IF(ROW($A38)>COUNTIF(INDIRECT("TabAppart["&I$1&"]"),I$2),"",INDEX(TabAppart[Numéro appart],-1+SMALL(IF(INDIRECT("TabAppart["&I$1&"]")=I$2,ROW(TabAppart[Numéro appart])+1-ROW(TabAppart[[#Headers],[Numéro appart]]),""),ROW($A38))))} | ... Q40: {=IF(ROW($A38)>COUNTIF(INDIRECT("TabAppart["&Q$1&"]"),Q$2),"",INDEX(TabAppart[Numéro appart],-1+SMALL(IF(INDIRECT("TabAppart["&Q$1&"]")=Q$2,ROW(TabAppart[Numéro appart])+1-ROW(TabAppart[[#Headers],[Numéro appart]]),""),ROW($A38))))}
