Workbook
Name Année: Janvier!$A$4
Name Fériés: 'Jours fériés'!$D$5:$D$15
Name Mois: Janvier!$D$12

Sheet Janvier
A2: Présences | D2: Date
A4: 2019 | Z4: MAL | AA4: Maladie | AE4: TP | AF4: Temps partiel
Z5: HO | AA5: Hospitalisation | AE5: CON | AF5: Congé/Convenance personnelle
Z6: AT | AA6: Accident du Travail | AE6: RDV | AF6: RDV médical ou de suivi PP
Z7: BB | AA7: Maternité/Paternité | AE7: FER | AF7: Fermeture/Journée Institutionnelle
Z8: FOR | AA8: Formation | AE8: ANJ | AF8: Absence non justifiée
D12: JANVIER | AI12: =NETWORKDAYS($D$13,$AH$13,Fériés) -> 22 | AJ12: jours prévisionnels dans le mois
B13: NOM Prénom | D13: =DATE(Année,1,1) -> 43466 | E13: =D13+1 -> 43467 | F13: =E13+1 -> 43468 | G13: =F13+1 -> 43469 | H13: =G13+1 -> 43470 | I13: =H13+1 -> 43471 | J13: =I13+1 -> 43472 | K13: =J13+1 -> 43473 | L13: =K13+1 -> 43474 | ... AH13: =AG13+1 -> 43496 | AI13: Nb Présences | AJ13: Nb Absences | AK13: repas | AL13: Commentaires
C14: M | AI14: =$AI$12-AJ14 -> 22 | AJ14: =SUMPRODUCT((COUNTIF('Jours fériés'!$D$5:$D$15,D$13:AH$13)=0)*(D14:AH15<>"")*(WEEKDAY(D$13:AH$13,2)<5))/2 -> 0
C15: AM
C16: M | E16: CON | AI16: =$AI$12-AJ16 -> 21 | AJ16: =SUMPRODUCT((COUNTIF('Jours fériés'!$D$5:$D$15,D$13:AH$13)=0)*(D16:AH17<>"")*(WEEKDAY(D$13:AH$13,2)<5))/2 -> 1 | AL16: Formule fonctionne bien si il n'y a pas de jour sur le week-end
C17: AM | E17: CON
C18: M | AI18: =$AI$12-AJ18 -> 22 | AJ18: =SUMPRODUCT((COUNTIF('Jours fériés'!$D$5:$D$15,D$13:AH$13)=0)*(D18:AH19<>"")*(WEEKDAY(D$13:AH$13,2)<5))/2 -> 0
C19: AM
C20: M | G20: MAL | H20: MAL | I20: MAL | J20: MAL | K20: MAL | L20: MAL | AI20: =$AI$12-AJ20 -> 19 | AJ20: =SUMPRODUCT((COUNTIF('Jours fériés'!$D$5:$D$15,D$13:AH$13)=0)*(D20:AH21<>"")*(WEEKDAY(D$13:AH$13,2)<5))/2 -> 3 | AL20: la formule compte les absences des week-end, j'aimerai pouvoir les exclure, pour le avoir uniquement le nb d'abs sur jrs ouvrés
C21: AM | G21: MAL | H21: MAL | I21: MAL | J21: MAL | K21: MAL | L21: MAL
C22: M | D22: TP | E22: TP | F22: TP | G22: TP | H22: TP | I22: TP | J22: TP | K22: TP | L22: TP | M22: TP | N22: TP | O22: TP | P22: TP | Q22: TP | R22: TP | S22: TP | T22: TP | U22: TP | V22: TP | W22: TP | X22: TP | Y22: TP | Z22: TP | AA22: TP | AB22: TP | AC22: TP | AD22: TP | AE22: TP | AF22: TP | AG22: TP | AH22: TP | AI22: =$AI$12-AJ22 -> 13 | AJ22: =SUMPRODUCT((COUNTIF('Jours fériés'!$D$5:$D$15,D$13:AH$13)=0)*(D22:AH23<>"")*(WEEKDAY(D$13:AH$13,2)<5))/2 -> 9
C23: AM
C24: M | AI24: =$AI$12-AJ24 -> 22 | AJ24: =SUMPRODUCT((COUNTIF('Jours fériés'!$D$5:$D$15,D$13:AH$13)=0)*(D24:AH25<>"")*(WEEKDAY(D$13:AH$13,2)<5))/2 -> 0
C25: AM
C26: M | G26: MAL | H26: MAL | I26: MAL | J26: MAL | K26: MAL | L26: MAL | AI26: =$AI$12-AJ26 -> 19 | AJ26: =SUMPRODUCT((COUNTIF('Jours fériés'!$D$5:$D$15,D$13:AH$13)=0)*(D26:AH27<>"")*(WEEKDAY(D$13:AH$13,2)<5))/2 -> 3 | AL26: J'aimerai que ce soit les résultats en rouge qui soient calculés
C27: AM | G27: MAL | H27: MAL | I27: MAL | J27: MAL | K27: MAL | L27: MAL
C28: M | D28: TP | E28: TP | F28: TP | G28: TP | H28: TP | I28: TP | J28: TP | K28: TP | L28: TP | M28: TP | N28: TP | O28: TP | P28: TP | Q28: TP | R28: TP | S28: TP | T28: TP | U28: TP | V28: TP | W28: TP | X28: TP | Y28: TP | Z28: TP | AA28: TP | AB28: TP | AC28: TP | AD28: TP | AE28: TP | AF28: TP | AG28: TP | AH28: TP | AI28: =$AI$12-AJ28 -> 13 | AJ28: =SUMPRODUCT((COUNTIF('Jours fériés'!$D$5:$D$15,D$13:AH$13)=0)*(D28:AH29<>"")*(WEEKDAY(D$13:AH$13,2)<5))/2 -> 9
C29: AM
C30: M | AI30: =$AI$12-AJ30 -> 22 | AJ30: =SUMPRODUCT((COUNTIF('Jours fériés'!$D$5:$D$15,D$13:AH$13)=0)*(D30:AH31<>"")*(WEEKDAY(D$13:AH$13,2)<5))/2 -> 0
C31: AM
AE32: TOTAL | AI32: =SUM(AI14:AI31) -> 173 | AJ32: =SUM(AJ14:AJ31) -> 25

Sheet Jours fériés
C4: Jour Férié | D4: Date
C5: Jour de l'an | D5: =DATE(Année,1,1) -> 43466
C6: Lundi de Pâques | D6: =DATE(Année,3,29.56+0.979*MOD(204-11*MOD(Année,19),30)- WEEKDAY(DATE(Année,3,28.56+0.979*MOD(204-11*MOD(Année,19),30))))+1 -> 43577
C7: Fête du travail | D7: =DATE(Année,5,1) -> 43586
C8: Victoire | D8: =DATE(Année,5,8) -> 43593
C9: Ascension | D9: =DATE(Année,3,29.56+0.979*MOD(204-11*MOD(Année,19),30)- WEEKDAY(DATE(Année,3,28.56+0.979*MOD(204-11*MOD(Année,19),30))))+39 -> 43615
C10: Pentecôte | D10: =DATE(Année,3,29.56+0.979*MOD(204-11*MOD(Année,19),30)- WEEKDAY(DATE(Année,3,28.56+0.979*MOD(204-11*MOD(Année,19),30))))+50 -> 43626
C11: Fête nationale | D11: =DATE(Année,7,14) -> 43660
C12: Assomption | D12: =DATE(Année,8,15) -> 43692
C13: Toussaint | D13: =DATE(Année,11,1) -> 43770
C14: Armistice | D14: =DATE(Année,11,11) -> 43780
C15: Noël | D15: =DATE(Année,12,25) -> 43824
