Workbook
Name Client: OFFSET(Client!$A$2,,,COUNTA(Client!$A:$A)-1,10)
Name Numéro_Client: INDEX(Client,,1)
Name Numéro_Prospect: INDEX(Prospect,,1)
Name Offre: 'Offre commerciale'!$A:$A
Name Prospect: OFFSET(Prospect!$A$2,,,COUNTA(Prospect!$A:$A)-1,20)
Name Taux_tva: tva+TVA!$A$2:$A$91
Name tva: TVA!$A$2:$A$10

Sheet Devis
F2: DEVIS PREVISIONNEL
F4: Date : | G4: =TODAY() -> 43928 | H4: N° | I4: =CONCATENATE("D",YEAR(NOW()),"0",MONTH(NOW()),"0",DAY(NOW())," ",) -> D20200407
G7: Prospect | H7: PR629
G8: =VLOOKUP(H7,Prospect,2,0)&""
G9: =VLOOKUP(H7,Prospect,3,0)&" "&VLOOKUP(H7,Prospect,4,0)&" "&VLOOKUP(H7,Prospect,5,0)&"" -> Mr & Mme Philippe COULANGE
G10: =VLOOKUP(H7,Prospect,6,0)&"" -> 2 rue du champs au moine
A11: Propriétaire : | C11: =VLOOKUP(H7,Prospect,11,0)&" " -> Mr & Mme COULANGE | G11: =VLOOKUP(H7,Prospect,7,0)&" "&VLOOKUP(H7,Prospect,8,0)&"" -> 35630 ST GONDRAN
A12: Adresse : | C12: =VLOOKUP(H7,Prospect,12,0)&" " -> 2 rue du champs au moine | F12: Tél : | G12: =VLOOKUP(H7,Prospect,9,0)&"" -> 02.99.45.89.82-06.88.25.84.31
A13: Ville : | C13: =VLOOKUP(H7,Prospect,13,0)&" " -> 35630 ST GONDRAN | F13: Mail : | G13: =VLOOKUP(H7,Prospect,10,0)&"" -> kino35@orange.fr
A14: Tél : | C14: =VLOOKUP(H7,Prospect,14,0)&" " -> 02.99.45.89.82-06.88.25.84.31
C15: Adresse d'intervention : | F15: Mr et Mme : | G15: =VLOOKUP(H7,Prospect,16,0)&" " -> Mr & Mme COULANGE | H15: =VLOOKUP(M11,Prospect,11,0)&" " -> #N/A | I15: =VLOOKUP(N11,Prospect,11,0)&" " -> #N/A
F16: Rue : | G16: =VLOOKUP(H7,Prospect,17,0)&" " -> 2 rue du champs au moine | H16: =VLOOKUP(M12,Prospect,11,0)&" " -> #N/A | I16: =VLOOKUP(N12,Prospect,11,0)&" " -> #N/A
F17: N° Appt : | G17: =VLOOKUP(H7,Prospect,18,0)&" " -> Maison individuelle | H17: =VLOOKUP(M13,Prospect,11,0)&" " -> #N/A | I17: =VLOOKUP(N13,Prospect,11,0)&" " -> #N/A
A18: Devis valable 1 Mois soit jusqu'au | D18: =TODAY()+30 -> 43958 | F18: CP : | G18: =VLOOKUP(H7,Prospect,19,0)&" " -> 35630 ST GONDRAN | H18: =VLOOKUP(M14,Prospect,11,0)&" " -> #N/A | I18: =VLOOKUP(N14,Prospect,11,0)&" " -> #N/A
F19: Tél : | G19: =VLOOKUP(H7,Prospect,20,0)&" " -> 02.99.45.89.82-06.88.25.84.31 | H19: =VLOOKUP(M15,Prospect,11,0)&" " -> #N/A | I19: =VLOOKUP(N15,Prospect,11,0)&" " -> #N/A
A21: Réf | B21: Prestations | D21: M²/Ml/Rlx | E21: Prix Unit | F21: Taux TVA | G21: Total HT | H21: TVA | I21: Total TTC
B22: PRESTATIONS DE MENUISERIE
A23: 10 | B23: =IFERROR(VLOOKUP(A23,Offre,2,FALSE),"") | D23: 1 | E23: =IFERROR(VLOOKUP(A23,Offre,3,FALSE),"") | F23: 0.1 | G23: =IFERROR(D23*E23,"") | H23: =IFERROR(G23*F23,"") | I23: =IFERROR(G23+H23,"")
A24: 100 | B24: =IFERROR(VLOOKUP(A24,Offre,2,FALSE),"") | E24: =IFERROR(VLOOKUP(A24,Offre,3,FALSE),"") | F24: 0.1 | G24: =IFERROR(D24*E24,"") | H24: =IFERROR(G24*F24,"") | I24: =IFERROR(G24+H24,"")
A25: 200 | B25: =IFERROR(VLOOKUP(A25,Offre,2,FALSE),"") | E25: =IFERROR(VLOOKUP(A25,Offre,3,FALSE),"") | F25: 0.1 | G25: =IFERROR(D25*E25,"") | H25: =IFERROR(G25*F25,"") | I25: =IFERROR(G25+H25,"")
A26: 300 | B26: =IFERROR(VLOOKUP(A26,Offre,2,FALSE),"") | E26: =IFERROR(VLOOKUP(A26,Offre,3,FALSE),"") | F26: 0.1 | G26: =IFERROR(D26*E26,"") | H26: =IFERROR(G26*F26,"") | I26: =IFERROR(G26+H26,"")
A27: 400 | B27: =IFERROR(VLOOKUP(A27,Offre,2,FALSE),"") | E27: =IFERROR(VLOOKUP(A27,Offre,3,FALSE),"") | F27: 0.1 | G27: =IFERROR(D27*E27,"") | H27: =IFERROR(G27*F27,"") | I27: =IFERROR(G27+H27,"")
A28: 417 | B28: =IFERROR(VLOOKUP(A28,Offre,2,FALSE),"") | E28: =IFERROR(VLOOKUP(A28,Offre,3,FALSE),"") | F28: 0.1 | G28: =IFERROR(D28*E28,"") | H28: =IFERROR(G28*F28,"") | I28: =IFERROR(G28+H28,"")
A29: 418 | B29: =IFERROR(VLOOKUP(A29,Offre,2,FALSE),"") | E29: =IFERROR(VLOOKUP(A29,Offre,3,FALSE),"") | F29: 0.1 | G29: =IFERROR(D29*E29,"") | H29: =IFERROR(G29*F29,"") | I29: =IFERROR(G29+H29,"")
B30: =IFERROR(VLOOKUP(A30,Offre,2,FALSE),"") | E30: =IFERROR(VLOOKUP(A30,Offre,3,FALSE),"") | F30: 0.1 | G30: =IFERROR(D30*E30,"") | H30: =IFERROR(G30*F30,"") | I30: =IFERROR(G30+H30,"")
B31: =IFERROR(VLOOKUP(A31,Offre,2,FALSE),"") | E31: =IFERROR(VLOOKUP(A31,Offre,3,FALSE),"") | F31: 0.1 | G31: =IFERROR(D31*E31,"") | H31: =IFERROR(G31*F31,"") | I31: =IFERROR(G31+H31,"")
B32: =IFERROR(VLOOKUP(A32,Offre,2,FALSE),"") | E32: =IFERROR(VLOOKUP(A32,Offre,3,FALSE),"") | F32: 0.1 | G32: =IFERROR(D32*E32,"") | H32: =IFERROR(G32*F32,"") | I32: =IFERROR(G32+H32,"")
B33: =IFERROR(VLOOKUP(A33,Offre,2,FALSE),"") | E33: =IFERROR(VLOOKUP(A33,Offre,3,FALSE),"") | F33: 0.1 | G33: =IFERROR(D33*E33,"") | H33: =IFERROR(G33*F33,"") | I33: =IFERROR(G33+H33,"")
B34: Bon pour commande le : | D34: ___/____/_______ | G34: Total HT | I34: =SUM(G23:G33) -> 0
G35: Total TVA | I35: =SUM(H23:H33) -> 0
B36: Signature du client | G36: Total TTC | I36: 0
B37: Cachet de l'entreprise | G37: Demande d'acompte 30% | I37: =I36*0.3 -> 0
H39: Suite page | I39: 2/2
A41: Réf | B41: Prestations | D41: M²/Ml/Rlx | E41: Prix Unit | F41: Taux TVA | G41: Total HT | H41: TVA | I41: Total TTC
B42: =IFERROR(VLOOKUP(A42,Offre,2,FALSE),"") | E42: =IFERROR(VLOOKUP(A42,Offre,3,FALSE),"") | F42: 0.1 | G42: =IFERROR(D42*E42,"") | H42: =IFERROR(G42*F42,"") | I42: =IFERROR(G42+H42,"")
B43: =IFERROR(VLOOKUP(A43,Offre,2,FALSE),"") | E43: =IFERROR(VLOOKUP(A43,Offre,3,FALSE),"") | F43: 0.1 | G43: =IFERROR(D43*E43,"") | H43: =IFERROR(G43*F43,"") | I43: =IFERROR(G43+H43,"")
B44: =IFERROR(VLOOKUP(A44,Offre,2,FALSE),"") | E44: =IFERROR(VLOOKUP(A44,Offre,3,FALSE),"") | F44: 0.1 | G44: =IFERROR(D44*E44,"") | H44: =IFERROR(G44*F44,"") | I44: =IFERROR(G44+H44,"")
B45: =IFERROR(VLOOKUP(A45,Offre,2,FALSE),"") | E45: =IFERROR(VLOOKUP(A45,Offre,3,FALSE),"") | F45: 0.1 | G45: =IFERROR(D45*E45,"") | H45: =IFERROR(G45*F45,"") | I45: =IFERROR(G45+H45,"")
B46: =IFERROR(VLOOKUP(A46,Offre,2,FALSE),"") | E46: =IFERROR(VLOOKUP(A46,Offre,3,FALSE),"") | F46: 0.1 | G46: =IFERROR(D46*E46,"") | H46: =IFERROR(G46*F46,"") | I46: =IFERROR(G46+H46,"")
B47: =IFERROR(VLOOKUP(A47,Offre,2,FALSE),"") | E47: =IFERROR(VLOOKUP(A47,Offre,3,FALSE),"") | F47: 0.1 | G47: =IFERROR(D47*E47,"") | H47: =IFERROR(G47*F47,"") | I47: =IFERROR(G47+H47,"")
...

Sheet Facture
F2: FACTURE
H3: N° de facture | I3: F2020000
F4: Date : | G4: =TODAY() -> 43928 | H4: N° de devis | I4: =Devis!I4 -> D20200407
G7: Client | H7: PR629
G8: =VLOOKUP(H7,Client,2,0)&""
G9: =VLOOKUP(H7,Client,3,0)&" "&VLOOKUP(H7,Client,4,0)&" "&VLOOKUP(H7,Client,5,0)&"" -> Mr & Mme Philippe COULANGE
G10: =VLOOKUP(H7,Client,6,0)&"" -> 2 rue du champs au moine
A11: Propriétaire : | C11: =VLOOKUP(H7,Prospect,11,0)&" " -> Mr & Mme COULANGE | G11: =VLOOKUP(H7,Client,7,0)&" "&VLOOKUP(H7,Client,8,0)&"" -> 35630 ST GONDRAN
A12: Adresse : | C12: =VLOOKUP(H7,Prospect,12,0)&" " -> 2 rue du champs au moine | F12: Tél : | G12: =VLOOKUP(H7,Client,9,0)&"" -> 02.99.45.89.82-06.88.25.84.31
A13: Ville : | C13: =VLOOKUP(H7,Prospect,13,0)&" " -> 35630 ST GONDRAN | F13: Mail : | G13: =VLOOKUP(H7,Client,10,0)&"" -> kino35@orange.fr
A14: Tél : | C14: =VLOOKUP(H7,Prospect,14,0)&" " -> 02.99.45.89.82-06.88.25.84.31
C15: Adresse d'intervention : | F15: Mr et Mme : | G15: =Devis!G15 -> Mr & Mme COULANGE
F16: Rue : | G16: =Devis!G16 -> 2 rue du champs au moine
A17: Mode de paiement | F17: N° Appt : | G17: =Devis!G17 -> Maison individuelle
F18: CP : | G18: =Devis!G18 -> 35630 ST GONDRAN
A21: Réf | B21: Prestations | D21: M²/Ml/Rlx | E21: Prix Unit | F21: Taux TVA | G21: Total HT | H21: TVA | I21: Total TTC
B22: =Devis!B22 -> PRESTATIONS DE MENUISERIE
A23: =IF(Devis!A23="","",Devis!A23) -> 10 | B23: =IFERROR(VLOOKUP(A23,Offre,2,FALSE),"") | D23: =IF(Devis!D23="","",Devis!D23) -> 1 | E23: =IFERROR(VLOOKUP(A23,Offre,3,FALSE),"") | F23: =IF(Devis!F23="","",Devis!F23) -> 0.1 | G23: =IFERROR(D23*E23,"") | H23: =IFERROR(G23*F23,"") | I23: =IFERROR(G23+H23,"")
A24: =IF(Devis!A24="","",Devis!A24) -> 100 | B24: =IFERROR(VLOOKUP(A24,Offre,2,FALSE),"") | D24: =IF(Devis!D24="","",Devis!D24) | E24: =IFERROR(VLOOKUP(A24,Offre,3,FALSE),"") | G24: =IFERROR(D24*E24,"") | H24: =IFERROR(G24*F24,"") | I24: =IFERROR(G24+H24,"")
A25: =IF(Devis!A25="","",Devis!A25) -> 200 | B25: =IFERROR(VLOOKUP(A25,Offre,2,FALSE),"") | D25: =IF(Devis!D25="","",Devis!D25) | E25: =IFERROR(VLOOKUP(A25,Offre,3,FALSE),"") | G25: =IFERROR(D25*E25,"") | H25: =IFERROR(G25*F25,"") | I25: =IFERROR(G25+H25,"")
A26: =IF(Devis!A26="","",Devis!A26) -> 300 | B26: =IFERROR(VLOOKUP(A26,Offre,2,FALSE),"") | D26: =IF(Devis!D26="","",Devis!D26) | E26: =IFERROR(VLOOKUP(A26,Offre,3,FALSE),"") | G26: =IFERROR(D26*E26,"") | H26: =IFERROR(G26*F26,"") | I26: =IFERROR(G26+H26,"")
A27: =IF(Devis!A27="","",Devis!A27) -> 400 | B27: =IFERROR(VLOOKUP(A27,Offre,2,FALSE),"") | D27: =IF(Devis!D27="","",Devis!D27) | E27: =IFERROR(VLOOKUP(A27,Offre,3,FALSE),"") | G27: =IFERROR(D27*E27,"") | H27: =IFERROR(G27*F27,"") | I27: =IFERROR(G27+H27,"")
A28: =IF(Devis!A28="","",Devis!A28) -> 417 | B28: =IFERROR(VLOOKUP(A28,Offre,2,FALSE),"") | D28: =IF(Devis!D28="","",Devis!D28) | E28: =IFERROR(VLOOKUP(A28,Offre,3,FALSE),"") | G28: =IFERROR(D28*E28,"") | H28: =IFERROR(G28*F28,"") | I28: =IFERROR(G28+H28,"")
A29: =IF(Devis!A29="","",Devis!A29) -> 418 | B29: =IFERROR(VLOOKUP(A29,Offre,2,FALSE),"") | D29: =IF(Devis!D29="","",Devis!D29) | E29: =IFERROR(VLOOKUP(A29,Offre,3,FALSE),"") | G29: =IFERROR(D29*E29,"") | H29: =IFERROR(G29*F29,"") | I29: =IFERROR(G29+H29,"")
A30: =IF(Devis!A30="","",Devis!A30) | B30: =IFERROR(VLOOKUP(A30,Offre,2,FALSE),"") | D30: =IF(Devis!D30="","",Devis!D30) | E30: =IFERROR(VLOOKUP(A30,Offre,3,FALSE),"") | G30: =IFERROR(D30*E30,"") | H30: =IFERROR(G30*F30,"") | I30: =IFERROR(G30+H30,"")
A31: =IF(Devis!A31="","",Devis!A31) | B31: =IFERROR(VLOOKUP(A31,Offre,2,FALSE),"") | D31: =IF(Devis!D31="","",Devis!D31) | E31: =IFERROR(VLOOKUP(A31,Offre,3,FALSE),"") | G31: =IFERROR(D31*E31,"") | H31: =IFERROR(G31*F31,"") | I31: =IFERROR(G31+H31,"")
A32: =IF(Devis!A32="","",Devis!A32) | B32: =IFERROR(VLOOKUP(A32,Offre,2,FALSE),"") | D32: =IF(Devis!D32="","",Devis!D32) | E32: =IFERROR(VLOOKUP(A32,Offre,3,FALSE),"") | G32: =IFERROR(D32*E32,"") | H32: =IFERROR(G32*F32,"") | I32: =IFERROR(G32+H32,"")
A33: =IF(Devis!A33="","",Devis!A33) | B33: =IFERROR(VLOOKUP(A33,Offre,2,FALSE),"") | D33: =IF(Devis!D33="","",Devis!D33) | E33: =IFERROR(VLOOKUP(A33,Offre,3,FALSE),"") | G33: =IFERROR(D33*E33,"") | H33: =IFERROR(G33*F33,"") | I33: =IFERROR(G33+H33,"")
D34: =IF(Devis!D34="","",Devis!D34) -> ___/____/_______
B35: Toute somme non payée à sa date d'exigibilité produira de plein droit des intérêts de retard équivalents au triple du taux d'intérêts légal de l'année en cours ainsi que le paiement d'une somme de 40€ due au titre des frais de recouvrement. | G35: Total HT | I35: =SUM(G15:G33)+I6 -> 0
G36: Total TVA | I36: =SUM(H15:H33)+I7 -> 0
G37: Total TTC | I37: =I35+I36 -> 0
C38: Date limite de paiement | E38: =TODAY()+30 -> 43958 | G38: Acompte reçu 30% | I38: =Devis!I37 -> 0
G39: Reste à régler TTC | I39: =I37-I38 -> 0
H41: Suite page | I41: 2/2
A43: Réf | B43: Prestations | D43: M²/Ml/Rlx | E43: Prix Unit | F43: Taux TVA | G43: Total HT | H43: TVA | I43: Total TTC
A44: =IF(Devis!A42="","",Devis!A42) | B44: =IFERROR(VLOOKUP(A44,Offre,2,FALSE),"") | D44: =IF(Devis!D42="","",Devis!D42) | E44: =IFERROR(VLOOKUP(A44,Offre,3,FALSE),"") | F44: =IF(Devis!F42="","",Devis!F42) -> 0.1 | G44: =IFERROR(D44*E44,"") | H44: =IFERROR(G44*F44,"") | I44: =IFERROR(G44+H44,"")
A45: =IF(Devis!A43="","",Devis!A43) | B45: =IFERROR(VLOOKUP(A45,Offre,2,FALSE),"") | D45: =IF(Devis!D43="","",Devis!D43) | E45: =IFERROR(VLOOKUP(A45,Offre,3,FALSE),"") | F45: =IF(Devis!F43="","",Devis!F43) -> 0.1 | G45: =IFERROR(D45*E45,"") | H45: =IFERROR(G45*F45,"") | I45: =IFERROR(G45+H45,"")
A46: =IF(Devis!A44="","",Devis!A44) | B46: =IFERROR(VLOOKUP(A46,Offre,2,FALSE),"") | D46: =IF(Devis!D44="","",Devis!D44) | E46: =IFERROR(VLOOKUP(A46,Offre,3,FALSE),"") | F46: =IF(Devis!F44="","",Devis!F44) -> 0.1 | G46: =IFERROR(D46*E46,"") | H46: =IFERROR(G46*F46,"") | I46: =IFERROR(G46+H46,"")
A47: =IF(Devis!A45="","",Devis!A45) | B47: =IFERROR(VLOOKUP(A47,Offre,2,FALSE),"") | D47: =IF(Devis!D45="","",Devis!D45) | E47: =IFERROR(VLOOKUP(A47,Offre,3,FALSE),"") | F47: =IF(Devis!F45="","",Devis!F45) -> 0.1 | G47: =IFERROR(D47*E47,"") | H47: =IFERROR(G47*F47,"") | I47: =IFERROR(G47+H47,"")
...

Sheet Fiches de chantier
F2: Fiche de Chantier
F4: Date devis : | G4: =TODAY() -> 43928 | H4: N° | J4: =CONCATENATE("GM",YEAR(NOW()),"0",MONTH(NOW()),DAY(NOW()),"-",1) -> GM2020047-1
F7: =Devis!G8 | I7: Adresse d'intervention :
F8: =Devis!G9 -> Mr & Mme Philippe COULANGE | I8: Nom : | J8: =Devis!G15 -> Mr & Mme COULANGE
F9: =Devis!G10 -> 2 rue du champs au moine | I9: Rue : | J9: =Devis!G16 -> 2 rue du champs au moine
F10: =Devis!G11 -> 35630 ST GONDRAN | I10: N° Appt : | J10: =Devis!G17 -> Maison individuelle
E11: Tél : | F11: =Devis!G12 -> 02.99.45.89.82-06.88.25.84.31 | I11: CP : | J11: =Devis!G18 -> 35630 ST GONDRAN
E12: Mail : | F12: =Devis!G13 -> kino35@orange.fr | I12: Tel : | J12: =Devis!G19 -> 02.99.45.89.82-06.88.25.84.31
A14: Nom du ou des techniciens: | H14: temps estimé maxi en H | J14: =SUM(H19:H49)/60 -> 0
G15: Date de début de chantier :
G16: Date de fin de chantier :
A17: Réf | B17: Prestations | D17: M²/Ml/Rlx | E17: Préparation du matériel | F17: Clés a récupérer | G17: Clés rendues | H17: Temps estimé en minute | I17: Temps passé | J17: Observations
B18: =Devis!B22 -> PRESTATIONS DE MENUISERIE
A19: =IF(Devis!A23="","",Devis!A23) -> 10 | B19: =IFERROR(VLOOKUP(A19,Offre,2,FALSE),"") | D19: =IF(Devis!D23="","",Devis!D23) -> 1 | H19: =IFERROR(VLOOKUP(A19,Offre,4,0)*D19,"")
A20: =IF(Devis!A24="","",Devis!A24) -> 100 | B20: =IFERROR(VLOOKUP(A20,Offre,2,FALSE),"") | D20: =IF(Devis!D24="","",Devis!D24) | H20: =IFERROR(VLOOKUP(A20,Offre,4,0)*D20,"")
A21: =IF(Devis!A25="","",Devis!A25) -> 200 | B21: =IFERROR(VLOOKUP(A21,Offre,2,FALSE),"") | D21: =IF(Devis!D25="","",Devis!D25) | H21: =IFERROR(VLOOKUP(A21,Offre,4,0)*D21,"")
A22: =IF(Devis!A26="","",Devis!A26) -> 300 | B22: =IFERROR(VLOOKUP(A22,Offre,2,FALSE),"") | D22: =IF(Devis!D26="","",Devis!D26) | H22: =IFERROR(VLOOKUP(A22,Offre,4,0)*D22,"")
A23: =IF(Devis!A27="","",Devis!A27) -> 400 | B23: =IFERROR(VLOOKUP(A23,Offre,2,FALSE),"") | D23: =IF(Devis!D27="","",Devis!D27) | H23: =IFERROR(VLOOKUP(A23,Offre,4,0)*D23,"")
A24: =IF(Devis!A28="","",Devis!A28) -> 417 | B24: =IFERROR(VLOOKUP(A24,Offre,2,FALSE),"") | D24: =IF(Devis!D28="","",Devis!D28) | H24: =IFERROR(VLOOKUP(A24,Offre,4,0)*D24,"")
A25: Réf | B25: Prestations | D25: M²/Ml/Rlx | E25: Préparation du matériel | F25: Clés a récupérer | G25: Clés rendues | H25: Temps estimé en minute | I25: Temps passé | J25: Observations
A26: =IF(Devis!A29="","",Devis!A29) -> 418 | B26: =IFERROR(VLOOKUP(A26,Offre,2,FALSE),"") | D26: =IF(Devis!D29="","",Devis!D29) | H26: =IFERROR(VLOOKUP(A26,Offre,4,0)*D26,"")
A27: =IF(Devis!A30="","",Devis!A30) | B27: =IFERROR(VLOOKUP(A27,Offre,2,FALSE),"") | D27: =IF(Devis!D30="","",Devis!D30) | H27: =IFERROR(VLOOKUP(A27,Offre,4,0)*D27,"")
A28: =IF(Devis!A31="","",Devis!A31) | B28: =IFERROR(VLOOKUP(A28,Offre,2,FALSE),"") | D28: =IF(Devis!D31="","",Devis!D31) | H28: =IFERROR(VLOOKUP(A28,Offre,4,0)*D28,"")
A29: =IF(Devis!A32="","",Devis!A32) | B29: =IFERROR(VLOOKUP(A29,Offre,2,FALSE),"") | D29: =IF(Devis!D32="","",Devis!D32) | H29: =IFERROR(VLOOKUP(A29,Offre,4,0)*D29,"")
A30: =IF(Devis!A33="","",Devis!A33) | B30: =IFERROR(VLOOKUP(A30,Offre,2,FALSE),"") | D30: =IF(Devis!D33="","",Devis!D33) | H30: =IFERROR(VLOOKUP(A30,Offre,4,0)*D30,"")
A31: =IF(Devis!A42="","",Devis!A42) | B31: =IFERROR(VLOOKUP(A31,Offre,2,FALSE),"") | D31: =IF(Devis!D42="","",Devis!D42) | H31: =IFERROR(VLOOKUP(A31,Offre,4,0)*D31,"")
A32: =IF(Devis!A43="","",Devis!A43) | B32: =IFERROR(VLOOKUP(A32,Offre,2,FALSE),"") | D32: =IF(Devis!D43="","",Devis!D43) | H32: =IFERROR(VLOOKUP(A32,Offre,4,0)*D32,"")
A33: =IF(Devis!A44="","",Devis!A44) | B33: =IFERROR(VLOOKUP(A33,Offre,2,FALSE),"") | D33: =IF(Devis!D44="","",Devis!D44) | H33: =IFERROR(VLOOKUP(A33,Offre,4,0)*D33,"")
A34: =IF(Devis!A45="","",Devis!A45) | B34: =IFERROR(VLOOKUP(A34,Offre,2,FALSE),"") | D34: =IF(Devis!D45="","",Devis!D45) | H34: =IFERROR(VLOOKUP(A34,Offre,4,0)*D34,"")
A35: =IF(Devis!A46="","",Devis!A46) | B35: =IFERROR(VLOOKUP(A35,Offre,2,FALSE),"") | D35: =IF(Devis!D46="","",Devis!D46) | H35: =IFERROR(VLOOKUP(A35,Offre,4,0)*D35,"")
A36: =IF(Devis!A47="","",Devis!A47) | B36: =IFERROR(VLOOKUP(A36,Offre,2,FALSE),"") | D36: =IF(Devis!D47="","",Devis!D47) | H36: =IFERROR(VLOOKUP(A36,Offre,4,0)*D36,"")
A37: =IF(Devis!A48="","",Devis!A48) | B37: =IFERROR(VLOOKUP(A37,Offre,2,FALSE),"") | D37: =IF(Devis!D48="","",Devis!D48) | H37: =IFERROR(VLOOKUP(A37,Offre,4,0)*D37,"")
A38: =IF(Devis!A49="","",Devis!A49) | B38: =IFERROR(VLOOKUP(A38,Offre,2,FALSE),"") | D38: =IF(Devis!D49="","",Devis!D49) | H38: =IFERROR(VLOOKUP(A38,Offre,4,0)*D38,"")
A39: =IF(Devis!A50="","",Devis!A50) | B39: =IFERROR(VLOOKUP(A39,Offre,2,FALSE),"") | D39: =IF(Devis!D50="","",Devis!D50) | H39: =IFERROR(VLOOKUP(A39,Offre,4,0)*D39,"")
A40: =IF(Devis!A51="","",Devis!A51) | B40: =IFERROR(VLOOKUP(A40,Offre,2,FALSE),"") | D40: =IF(Devis!D51="","",Devis!D51) | H40: =IFERROR(VLOOKUP(A40,Offre,4,0)*D40,"")
A41: =IF(Devis!A52="","",Devis!A52) | B41: =IFERROR(VLOOKUP(A41,Offre,2,FALSE),"") | D41: =IF(Devis!D52="","",Devis!D52) | H41: =IFERROR(VLOOKUP(A41,Offre,4,0)*D41,"")
A42: =IF(Devis!A53="","",Devis!A53) | B42: =IFERROR(VLOOKUP(A42,Offre,2,FALSE),"") | D42: =IF(Devis!D53="","",Devis!D53) | H42: =IFERROR(VLOOKUP(A42,Offre,4,0)*D42,"")
... A49: =IF(Devis!A60="","",Devis!A60) | B49: =IFERROR(VLOOKUP(A49,Offre,2,FALSE),"") | D49: =IF(Devis!D60="","",Devis!D60) | H49: =IFERROR(VLOOKUP(A49,Offre,4,0)*D49,"")

Sheet Offre commerciale
A1: référence | B1: désignation | C1: prix € | D1: temps/m² ou ml | E1: cout horaire | F1: matière P | G1: temps | H1: M² | I1: COEF = | J1: 1.05
B2: PEINTURE
B3: INTERIEURE
A4: 1 | B4: Préparation des plafonds, 1 couche d'impression, ratissage, 2 couches de peinture en blanc Mat | C4: =((F4*H4)+G4)*J1 -> 20.5275 | D4: 22 | E4: 45 | F4: 3.05 | G4: =(D4/60)*E4 -> 16.5 | H4: 1 | I4: PLACO NEUF
A5: 2 | B5: Préparation des murs, 1 couche d'impression, ratissage, 2 couches de peinture en blanc velours | C5: =((F5*H5)+G5)*J1 -> 18.9525 | D5: 20 | E5: 45 | F5: 3.05 | G5: =(D5/60)*E5 -> 15 | H5: 1 | I5: PLACO NEUF
A6: 3 | B6: Préparation des plafonds en lessivage, 2 couches de peinture en blanc Mat | C6: =((F6*H6)+G6)*J1 -> 16.38 | D6: 18 | E6: 45 | F6: 2.1 | G6: =(D6/60)*E6 -> 13.5 | H6: 1
A7: 4 | B7: Préparation des murs en lessivage, 2 couches de peinture en blanc velours | C7: =((F7*H7)+G7)*J1 -> 14.805 | D7: 16 | E7: 45 | F7: 2.1 | G7: =(D7/60)*E7 -> 12 | H7: 1
A8: 5 | B8: Plus-value de couleur sur choix du client sur un pan de mur avec réchampi | C8: =((F8*H8)+G8)*J1 -> 5.67 | D8: 3 | E8: 45 | F8: 3.15 | G8: =(D8/60)*E8 -> 2.25 | H8: 1
A9: 6 | B9: Bâchage de mur, protection du sol avant mise en peinture à l'airless pour prestation de plafond ou murs | C9: =((F9*H9)+G9)*J1 -> 194.775 | D9: 210 | E9: 45 | F9: 28 | G9: =(D9/60)*E9 -> 157.5 | H9: 1
A10: 7 | B10: Réparation des fissures avec pose de calicot au plafond, enduisage, ponçage | C10: =((F10*H10)+G10)*J1 -> 57.75 | D10: 60 | E10: 45 | F10: 10 | G10: =(D10/60)*E10 -> 45 | H10: 1
A11: 8 | B11: Lessivage plafond, peinture isolante sur taches tabac ou humidité, 2 couches de blanc Mat | C11: =((F11*H11)+G11)*J1 -> 24.885 | D11: 26 | E11: 45 | F11: 4.2 | G11: =(D11/60)*E11 -> 19.5 | H11: 1
A12: 9 | B12: Lessivage plafond, réparation fissure, pose de calicot, préparation, pose de toile lisse, 2 couches de blanc MAT | C12: =((F12*H12)+G12)*J1 -> 35.49 | D12: 28 | E12: 45 | F12: 12.8 | G12: =(D12/60)*E12 -> 21 | H12: 1
A13: 10 | B13: Décollage du papier peint cuisine, préparation des murs, fourniture et pose de toile, 2 couches de blanc velours | C13: =((F13*H13)+G13)*J1 -> 27.8985 | D13: 28 | E13: 45 | F13: =1.92+3.65 -> 5.57 | G13: =(D13/60)*E13 -> 21 | H13: 1 | I13: Cuisine
A14: 11 | B14: Décollage du papier peint salle de bain, préparation des murs, fourniture et pose de toile, 2 couches de blanc velours | C14: =((F14*H14)+G14)*J1 -> 27.111 | D14: 27 | E14: 45 | F14: =1.92+3.65 -> 5.57 | G14: =(D14/60)*E14 -> 20.25 | H14: 1 | I14: Salle de bain
A15: 12 | B15: Décollage du papier peint dans la chambre, préparation des murs, fourniture et pose de toile, 2 couches de blanc velours | C15: =((F15*H15)+G15)*J1 -> 25.536 | D15: 25 | E15: 45 | F15: =1.92+3.65 -> 5.57 | G15: =(D15/60)*E15 -> 18.75 | H15: 1 | I15: Chambre
A16: 13 | B16: Décollage du papier peint WC, préparation des murs, fourniture et pose de toile, 2 couches de blanc velours | C16: =((F16*H16)+G16)*J1 -> 27.111 | D16: 27 | E16: 45 | F16: =1.92+3.65 -> 5.57 | G16: =(D16/60)*E16 -> 20.25 | H16: 1 | I16: Toilette
A17: 14 | B17: Décollage du papier peint séjour, préparation des murs, fourniture et pose de toile, 2 couches de blanc velours | C17: =((F17*H17)+G17)*J1 -> 25.536 | D17: 25 | E17: 45 | F17: =1.92+3.65 -> 5.57 | G17: =(D17/60)*E17 -> 18.75 | H17: 1 | I17: Salon séjour
A18: 15 | B18: Décollage du papier peint du hall, préparation des murs, fourniture et pose de toile, 2 couches de peinture blanc velours | C18: =((F18*H18)+G18)*J1 -> 27.8985 | D18: 28 | E18: 45 | F18: =1.92+3.65 -> 5.57 | G18: =(D18/60)*E18 -> 21 | H18: 1 | I18: Couloir
A19: 16 | B19: Décollage du papier peint placard, préparation des murs, fourniture et pose de toile, 2 couches de blanc velours | C19: =((F19*H19)+G19)*J1 -> 25.536 | D19: 25 | E19: 45 | F19: =1.92+3.65 -> 5.57 | G19: =(D19/60)*E19 -> 18.75 | H19: 1 | I19: Placard
A20: 17 | B20: Décollage du papier peint de la cage d'escalier, préparation des murs, fourniture et pose de toile, 2 couches de blanc velours | C20: =((F20*H20)+G20)*J1 -> 31.0485 | D20: 32 | E20: 45 | F20: =1.92+3.65 -> 5.57 | G20: =(D20/60)*E20 -> 24 | H20: 1 | I20: Cuisine
A21: 18 | B21: Décollage du papier peint cuisine, préparation des murs, fourniture et pose de toile de verre, 2 couches de blanc velours | C21: =((F21*H21)+G21)*J1 -> 26.4285 | D21: 28 | E21: 45 | F21: =1.92+2.25 -> 4.17 | G21: =(D21/60)*E21 -> 21 | H21: 1 | I21: Cuisine
A22: 19 | B22: Décollage du papier peint salle de bain, préparation des murs, fourniture et pose de toile de verre, 2 couches de blanc velours | C22: =((F22*H22)+G22)*J1 -> 25.641 | D22: 27 | E22: 45 | F22: =1.92+2.25 -> 4.17 | G22: =(D22/60)*E22 -> 20.25 | H22: 1 | I22: Salle de bain
A23: 20 | B23: Décollage du papier peint dans la chambre, préparation des murs, fourniture et pose de toile de verre, 2 couches de blanc velours | C23: =((F23*H23)+G23)*J1 -> 24.066 | D23: 25 | E23: 45 | F23: =1.92+2.25 -> 4.17 | G23: =(D23/60)*E23 -> 18.75 | H23: 1 | I23: Chambre
A24: 21 | B24: Décollage du papier peint WC, préparation des murs, fourniture et pose de toile de verre, 2 couches de blanc velours | C24: =((F24*H24)+G24)*J1 -> 25.641 | D24: 27 | E24: 45 | F24: =1.92+2.25 -> 4.17 | G24: =(D24/60)*E24 -> 20.25 | H24: 1 | I24: Toilette
A25: 22 | B25: Décollage du papier peint séjour, préparation des murs, fourniture et pose de toile de verre, 2 couches de blanc velours | C25: =((F25*H25)+G25)*J1 -> 24.066 | D25: 25 | E25: 45 | F25: =1.92+2.25 -> 4.17 | G25: =(D25/60)*E25 -> 18.75 | H25: 1 | I25: Salon séjour
A26: 23 | B26: Décollage du papier peint du hall, préparation des murs, fourniture et pose de toile de verre, 2 couches de blanc velours | C26: =((F26*H26)+G26)*J1 -> 26.4285 | D26: 28 | E26: 45 | F26: =1.92+2.25 -> 4.17 | G26: =(D26/60)*E26 -> 21 | H26: 1 | I26: Couloir
A27: 24 | B27: Décollage du papier peint placard, préparation des murs, fourniture et pose de toile de verre, 2 couches de blanc velours | C27: =((F27*H27)+G27)*J1 -> 24.066 | D27: 25 | E27: 45 | F27: =1.92+2.25 -> 4.17 | G27: =(D27/60)*E27 -> 18.75 | H27: 1 | I27: Placard
A28: 25 | B28: Décollage du papier peint de la cage d'escalier, préparation des murs, fourniture et pose de toile de verre, 2 couches de blanc | C28: =((F28*H28)+G28)*J1 -> 29.5785 | D28: 32 | E28: 45 | F28: =1.92+2.25 -> 4.17 | G28: =(D28/60)*E28 -> 24 | H28: 1 | I28: Cage d'escalier
A29: 26 | B29: Lessivage porte et huisserie recto-verso, 2 couches de blanc satin | C29: =((F29*H29)+G29)*J1 -> 93.975 | D29: 90 | E29: 45 | F29: 22 | G29: =(D29/60)*E29 -> 67.5 | H29: 1
A30: 27 | B30: Lessivage porte et huisserie 1 face, 2 couches de blanc satin | C30: =((F30*H30)+G30)*J1 -> 65.1 | D30: 60 | E30: 45 | F30: 17 | G30: =(D30/60)*E30 -> 45 | H30: 1
A31: 28 | B31: Préparation de toutes les plinthes, 2 couches de peinture en blanc | C31: =((F31*H31)+G31)*J1 -> 6.0375 | D31: 5 | E31: 45 | F31: 2 | G31: =(D31/60)*E31 -> 3.75 | H31: 1
A32: 29 | B32: Préparation, lessivage du placard, 2 couches de blanc | C32: =((F32*H32)+G32)*J1 -> 69.2475 | D32: 75 | E32: 45 | F32: 9.7 | G32: =(D32/60)*E32 -> 56.25 | H32: 1
A33: 30 | B33: Fenêtre intérieur, lessivage, ponçage, retouche impression, nettoyage mastic, 2 couches de blanc | C33: =((F33*H33)+G33)*J1 -> 91.35 | D33: 100 | E33: 45 | F33: 12 | G33: =(D33/60)*E33 -> 75 | H33: 1
A34: 31 | B34: Lessivage porte-fenêtre intérieur, 2 couches de blanc | C34: =((F34*H34)+G34)*J1 -> 137.025 | D34: 150 | E34: 45 | F34: 18 | G34: =(D34/60)*E34 -> 112.5 | H34: 1
A35: 32 | B35: Préparation, ponçage de portes doubles vantaux avec moulures, 2 couches de blanc | C35: =((F35*H35)+G35)*J1 -> 149.625 | D35: 150 | E35: 45 | F35: 30 | G35: =(D35/60)*E35 -> 112.5 | H35: 1
A36: 33 | B36: Lessivage, préparation de la porte d'entrée intérieur extérieur en peinture bi couleur EXT 8014 INT 9010 | C36: =((F36*H36)+G36)*J1 -> 288.75 | D36: 240 | E36: 45 | F36: 95 | G36: =(D36/60)*E36 -> 180 | H36: 1
A37: 34 | C37: =((F37*H37)+G37)*J1 -> 288.75 | D37: 240 | E37: 45 | F37: 95 | G37: =(D37/60)*E37 -> 180 | H37: 1 | J37: Sur Plafond propre de maison neuve
A38: 35 | B38: Lessivage plafond, peinture isolante sur tache, 2 couches de peinture | C38: =((F38*H38)+G38)*J1 -> 28.14 | D38: 24 | E38: 45 | F38: 8.8 | G38: =(D38/60)*E38 -> 18 | H38: 1
A39: 36 | B39: Lessivage fumée sur Murs, 1 couche de peinture isolante, 1 couche de blanc velours | C39: =((F39*H39)+G39)*J1 -> 26.565 | D39: 22 | E39: 45 | F39: 8.8 | G39: =(D39/60)*E39 -> 16.5 | H39: 1
A40: 37 | B40: Plus-value cage d'escalier et puit de lumière | C40: =((F40*H40)+G40)*J1 -> 322.245 | D40: 270 | E40: 45 | F40: 8.7 | G40: =(D40/60)*E40 -> 202.5 | H40: 12 | J40: Sur murs propre de maison neuve
...

Sheet Prospect
A1: Prospect | B1: Agence | C1: Civilité | D1: Prénom | E1: Nom | F1: adresse | G1: CP | H1: ville | I1: téléphone | J1: Email | K1: Propriétaire | L1: Adresse | M1: Ville | N1: Téléphone | O1: Mail | P1: Locataire | Q1: Adresse | R1: Appart | S1: Ville | T1: Téléphone | U1: DEVIS | V1: DATE | W1: FACTURE | X1: DATE
A2: PR1 | B2: PIGEAULT IMMOBILIER | C2: Mr | D2: Charléric | E2: BANCHEREAU | F2: 25 rue de la monnaie | G2: 3500 | H2: RENNES | I2: 02.99.30.82.18 | J2: locationrennes@pigeaultimmobilier.fr
A3: PR2 | B3: ST ELOI PATRIMOINE | C3: Mr | E3: ROSPARS | F3: 45 Rue du Gl de GAULLE | G3: 35360 | H3: MONTAUBAN de BRETAGNE | I3: 02.99.06.32.32 | J3: sainteloipatrimoine@wanadoo.fr | P3: Mr & Mme GADIR | Q3: 7 place du parlement | R3: 2ème | S3: 35000 RENNES
A4: PR3 | B4: LFI LA FRANCAISE IMMOBILIERE | C4: Mme | D4: Elodie | E4: GOUDET | F4: 28 Bd de la Liberté | G4: 35040 | H4: RENNES | I4: 02.23.25.42.21 | J4: rennescleunay@francaiseimmo.fr | Q4: 70 bd de la guéninais | R4: 3ème | S4: 35000 RENNES
A5: PR4 | B5: BIZEUL IMMOBILIER | C5: Mr | D5: Christophe | E5: BIZEUL | F5: 74 chaussée du Sillon | G5: 35400 | H5: ST MALO | I5: 06.07.17.43.84 | J5: chistophe@bizeul.biz
A6: PR5 | C6: Mme | D6: Roselyne | E6: BEAUVALLET | F6: 7 Domaine de la cote noir | G6: 92500 | H6: RUEIL MALMAISON | K6: Mme BEAUVALLET | L6: 7 Domaine de la cote noir | M6: 92500 RUEIL MALMAISON | P6: Mme BEAUVALLET &PIERRE | Q6: 49 rue Marçais Martin | S6: 35000 RENNES
A7: PR6 | B7: BARON IMMOBILIER | C7: Mr | D7: Jean-Paul | E7: BARON | F7: 12 Place du bas des Lices | G7: 35000 | H7: RENNES | I7: 02.99.30.05.61 | J7: baron.immobilier@wanadoo.fr | K7: Mme ROBIC Adrienne | L7: 22 rue du stade | M7: 56480 CLEGUEREC | N7: 02.97.38.07.67 | P7: Mme KERMARREC | Q7: 45 Av du Mail François Mitterrand | R7: 4 ème | S7: 35000 RENNES | T7: 06.83.52.33.64
A8: PR7 | C8: Mr | D8: Christian | E8: DANIEL
A9: PR8 | B9: LA FRANCAISE IMMOBILIERE | C9: Mme | D9: Laurence | E9: CARRET | H9: ST GREGOIRE
A10: PR9 | C10: Mme / Mr | D10: René | E10: ROUX | F10: 26 Rue Julien Geoffroy | G10: 35000 | H10: RENNES | I10: 06.85.39.48.05 / 06.62.27.58.30
A11: PR10 | C11: Mme / Mr | D11: Patrick | E11: CROSNIER | F11: 4 av Félicité de Lamennais | G11: 35190 | H11: TINTENIAC | I11: 02.99.68.04.71
A12: PR11 | C12: Mme / Mr | E12: FONTAINE | F12: 13 Rue de Flandre | G12: 35135 | H12: CHANTEPIE | I12: 02.99.77.38.43 - 06.24.62.84.69 | J12: lajpfontaine@cgtel.net | K12: Mr & Mme FONTAINE | L12: 13 Rue de Flandre | M12: 35135 CHANTEPIE | N12: 02.99.77.38.43 - 06.24.62.84.69 | T12: 02.99.77.38.43 - 06.24.62.84.69
A13: PR12 | B13: LAFORET IMMOBILIER | C13: Mr | D13: Sébastien | E13: LEMEE | F13: 25 Rue des Rouairies | G13: 22100 | H13: DINAN | I13: 02.96.39.08.33 | J13: slemee-servicegestion@laforet.com | K13: LE MEUR | L13: 23 rue Lejamptel | M13: 35120 DOL de BRETAGNE | P13: SALAUN | Q13: 11 Rés du Bellanger | R13: 28 | S13: 35120 Dol de Bretagne | T13: 06.59.56.90.73
A14: PR13 | C14: Mr | D14: Qentin | E14: NEVEU | F14: 127 Rue d'Antrain | G14: 35000 | H14: RENNES | I14: 06.20.80.19.62 | J14: achat@quentinneveu.fr | K14: Mr DURAND | P14: Mr NEVEU | Q14: 127 Rue d'Antrain | S14: 35000 RENNES | T14: 06.20.80.19.62
A15: PR14 | B15: CASINO GROUPE BARRIERE | C15: Mr | D15: Christophe | E15: OZANE | F15: 4 bd Prés WILSSON | G15: 35800 | H15: DINARD | I15: 06.74.95.08.15 | J15: cozane@groupebarriere.com | P15: CASINO GROUPE BARRIERE | Q15: 4 bd Prés WILSSON | S15: 35800 DINARD
A16: PR15 | C16: Mr | D16: Thierry | E16: LEROUX | F16: 8 Rue des genets | G16: 22350 | H16: CAULNES | I16: 06.41.97.78.33 | J16: leroux_thierry@yahoo.fr | K16: Mr LEROUX | L16: 8 Rue des genets | M16: 22350 CAULNES | N16: 06.41.97.78.33 | O16: leroux_thierry@yahoo.fr | Q16: 2 Rés ter trente | R16: RDC droit | S16: 35190 TINTENIAC
A17: PR16 | C17: Mme | D17: Marie Françoise | E17: DAVID | F17: 1 Rue HAMON | G17: 35000 | H17: RENNES | I17: 06.43.55.15.23 | J17: mariedavid35@hotmail.com | K17: Mme DAVID | L17: 1 Rue HAMON | M17: 35000 RENNES | N17: 06.43.55.15.23 | O17: mariedavid35@hotmail.com | P17: BOULANGER | Q17: 33 Aurélie Nemours | R17: 2ème étage | S17: 35000 RENNES
A18: PR17 | B18: SCI DU FOUR | C18: Mr | D18: Bruno | E18: CAMUS | F18: 8 Rue du four | G18: 35630 | H18: HEDE | I18: 06.19.72.28.54 | J18: b-cam@orange.fr | K18: Mr CAMUS | L18: 8 Rue du four | M18: 35630 HEDE | N18: 06.19.72.28.54 | P18: Mr CAMUS | Q18: 8 Rue du four | S18: 35630 HEDE | T18: 06.19.72.28.54
A19: PR18 | C19: Mr | D19: Jean | E19: LEMEE | F19: 6 Square de Lettonie | G19: 35000 | H19: RENNES | I19: 02.99.50.03.94 | P19: Mr LEMEE | Q19: 6 Square de Lettonie | S19: 35000 RENNES
A20: PR19 | B20: AGENCE COGIR | C20: Mr | D20: Franck | E20: MAUSSION | F20: 5 Rue Lafayette | G20: 35000 | H20: RENNES | I20: 06.70.88.77.31 | J20: franck.maussion@cogir.fr | P20: 20160721000163-PRIME | Q20: 11b, Rue Adolphe Leray | R20: 02.99.54.18.76 | S20: 35000 RENNES
A21: PR20 | B21: AGENCE COGIR | C21: Mr | D21: Franck | E21: MAUSSION | F21: 5 Rue Lafayette | G21: 35000 | H21: RENNES | I21: 06.70.88.77.31 | J21: franck.maussion@cogir.fr | P21: 20150420019843-GUERINEL | Q21: 36 Allée du Gacet | R21: RDC droit | S21: 35000 RENNES
A22: PR21 | B22: AGENCE COGIR | C22: Mr | D22: Bastien | E22: CHEVAL | F22: 5 Rue Lafayette | G22: 35000 | H22: RENNES | I22: 06.71.00.35.39 | J22: bastien.cheval@cogir.fr | P22: 20160920000292-HEUDRE | Q22: 15, place des Lices | R22: 5ème droit | S22: 35000 RENNES | T22: 06.12.39.92.14
A23: PR22 | C23: Mr / Mme | D23: Jean-Claude | E23: GILET | F23: 5 Rue Libération | G23: 35190 | H23: TINTENIAC | I23: 02.99.54.92.47 - 06.66.05.73.84 | K23: Mr & Mme GILET | L23: 5 Rue Libération | M23: 35190 TINTENIAC | N23: 02.99.54.92.47 - 06.66.05.73.84 | P23: Mr & Mme GILET | S23: 35850 PARTHENAY de BRETAGNE
A24: PR23 | C24: Mme | D24: Carole | E24: CROVETTO | F24: La haute Landelle | G24: 35190 | H24: TINTENIAC | I24: 06.77.73.80.18 | J24: carole.crovetto@gmail.com | K24: Mme CROVETTO | L24: La haute Landelle | M24: 35190 TINTENIAC | N24: 06.77.73.80.18 | P24: Mr GUIGNARD | Q24: La haute Landelle | R24: Maison individuelle | S24: 35190 TINTENIAC | T24: 06.71.58.19.25
A25: PR24 | C25: Mr | D25: Jean-Yves | E25: BUSNEL | F25: launay godin | G25: 35190 | H25: TINTENIAC | I25: 06.23.16.16.95 | K25: Mr BUSNEL | L25: launay godin | M25: 35190 TINTENIAC | N25: 06.23.16.16.95 | Q25: La grassaie | S25: 35190 St DOMINEUC
A26: PR25 | C26: Mr | D26: PILLON | E26: Service technique | F26: Rue nationale | G26: 35190 | H26: TINTENIAC | I26: 06.77.04.68.95 | J26: services.techniques@tinteniac.fr | K26: Mairie | L26: Rue Nationale | M26: 35190 TINTENIAC | N26: 02.99.68.03.77 | O26: services.techniques@tinteniac.fr | P26: Presbytère | Q26: 5 Rue du puit Roubidou | S26: 35190 TINTENIAC | T26: 02.99.68.03.77
A27: PR26 | C27: Mr | D27: Jean | E27: DURAND | F27: 29 bd dezerseul | G27: 35510 | H27: CESSON SEVIGNE | I27: 02.99.83.39.87 | J27: jean.durand252@orange.fr | K27: Mr DURAND | L27: 29 bd dezerseul | M27: 35510 CESSON SEVIGNE | N27: 02.99.83.39.87 | P27: Mr NEVEU | Q27: 27 Rue d'antrain | S27: 35000 RENNES
A28: PR27 | B28: AGENCE COGIR | C28: Mr | D28: Franck | E28: MAUSSION | F28: 5 Rue Lafayette | G28: 35000 | H28: RENNES | I28: 06.70.88.77.31 | J28: franck.maussion@cogir.fr | P28: 201607719000158-DELAGARDE | Q28: 15 Place St Anne | R28: 2ème droit | S28: 35000 RENNES | T28: 06.73.44.66.23
A29: PR28 | B29: PIGEAULT IMMOBILIER | C29: Mr | D29: Charléric | E29: BANCHEREAU | F29: 25 rue de la monnaie | G29: 35000 | H29: RENNES | I29: 02.99.30.82.18 | J29: locationrennes@pigeaultimmobilier.fr | K29: Mr FOUSAGRIVE | P29: Mme DUCRET | Q29: 81 Rue d'Antrain | R29: Les Bastides A201 | S29: 35000 RENNES | T29: 06.11.27.37.46
A30: PR29 | B30: PIGEAULT IMMOBILIER | C30: Mr | D30: Charléric | E30: BANCHEREAU | F30: 25 rue de la monnaie | G30: 35000 | H30: RENNES | I30: 02.99.30.82.18 | J30: locationrennes@pigeaultimmobilier.fr | K30: Mr & Mme MOISAN | P30: Mr FIEVRE | Q30: 11 Rue Surcouf | R30: N°56 | S30: 35000 RENNES | T30: 06.19.33.77.21
A31: PR30 | B31: SCANN IMAGE | C31: Mr | E31: EDET | F31: 8 Rue Erbonière | G31: 35510 | H31: CESSON SEVIGNE | I31: 02.99.26.12.00 | J31: isa.persehaie@yahoo.fr | K31: Mr EDET | L31: 8 Rue Erbonière | M31: 35510 CESSON SEVIGNE | N31: 02.99.26.12.00 | O31: isa.persehaie@yahoo.fr | P31: Mr EDET | Q31: 8 Rue Erbonière | S31: 35510 CESSON SEVIGNE | T31: 02.99.26.12.00
A32: PR31 | B32: BARON IMMOBILIER | C32: Mr | D32: Jean-Paul | E32: BARON | F32: 12 Place du bas des Lices | G32: 35000 | H32: RENNES | I32: 02.99.30.05.61 | J32: baron.immobilier@wanadoo.fr | P32: Mr Bretteville Mlle Scott | Q32: 3 Rue Château Renault | R32: 1er droit | S32: 35000 RENNES | T32: 06.42.77.78.13 - 06.46.42.12.76
A33: PR32 | C33: Mr & Mme | D33: Philippe | E33: MAZURIER | F33: 23 Rue haut champs | G33: 35190 | H33: TINTENIAC | K33: Dr MAZURIER | L33: 13 Rue du haut champ | M33: 35190 TINTENIAC | P33: Mr DUBO | Q33: 32 Av des trente | S33: 35190 TINTENIAC | T33: 06.61.43.06.02
A34: PR33 | C34: Mr | E34: COSTA | I34: 06.12.25.50.97 | J34: costa_583@hotmail.com | K34: Mr COSTA | N34: 06.12.25.50.97 | O34: costa_583@hotmail.com | Q34: 11Bis Rue du Clos de justice | S34: 35190 TINTENIAC
A35: PR34 | B35: PIGEAULT IMMOBILIER | C35: Mme | D35: Carole | E35: MARAIS | F35: 25 rue de la monnaie | G35: 35000 | H35: RENNES | I35: 02.99.30.82.18 | J35: locationrennes@pigeaultimmobilier.fr | P35: Mme KERVENO | Q35: 6 Rue St Martin | R35: C208 | S35: 35510 CESSON SEVIGNE | T35: 06.11.27.37.46
A36: PR35 | B36: PIGEAULT IMMOBILIER | C36: Mme | D36: Carole | E36: MARAIS | F36: 26 rue de la monnaie | G36: 3500110 | H36: RENNES | I36: 02.99.30.82.19 | J36: locationrennes@pigeaultimmobilier.fr
A37: PR36 | B37: AGENCE BIZEUL | C37: Mr | D37: Stéphane | E37: RONDELLE | F37: 74 chaussée du Sillon | G37: 35400 | H37: ST MALO | J37: s.ronde@bizeulimmobilier.com | Q37: 10 reu des Français libre | S37: 35800 DINARD
A38: PR37 | B38: COLLEGE ST JOSEPH | C38: Mme | E38: PROVOST | F38: 2 rue St Jean-Baptiste de la salle | G38: 35190 | H38: TINTENIAC | I38: 02.99.68.02.28 | J38: compta2@stjoseph-tinteniac.fr | K38: COLLEGE ST JOSEPH | L38: 2 rue St Jean-Baptiste de la salle | M38: 35190 TINTENIAC | P38: Mme PROVOST | Q38: 2 rue St Jean-Baptiste de la salle | S38: 35190 TINTENIAC | T38: 02.99.68.02.28
A39: PR38 | B39: MAIRIE DE TINTENIAC | C39: Mr | E39: PILLON | F39: 12 Rue Nationnale | G39: 35190 | H39: TINTENIAC | I39: 02.99.68.18.68 - 06.77.04.68.95 | J39: services.techniques@tinteniac.fr | K39: MAIRIE DE TINTENIAC | L39: 12 Rue Nationnale | M39: 35190 TINTENIAC | P39: MAIRIE DE TINTENIAC | Q39: 12 Rue Nationnale | S39: 35190 TINTENIAC
A40: PR39 | B40: PIGEAULT IMMOBILIER | C40: Mme | D40: Carole | E40: MARAIS | F40: 25 rue de la monnaie | G40: 35000 | H40: RENNES | I40: 02.99.30.82.18 | J40: locationrennes@pigeaultimmobilier.fr | K40: Mme LE BELLEC | L40: Kerpuns | M40: 22260 PLOUEC DU TRIEUX | P40: Mlle POULIQUEN | Q40: 11 rue Surcouf | R40: N° A55 | S40: 35000 RENNES | T40: 06.59.77.42.11
...

Sheet Fiche Prospect
G2: Date :
F4: Fiche de renseignements
F7: Prospect :
F8: Adresse :
F9: Code Postal :
F10: Ville :
A13: Professionnel | F13: Particulier
A16: Responsable et interlocuteur : | F16: Responsable et interlocuteur :
A17: Tél : | F17: Tél :
A18: Portable : | F18: Portable :
A19: Mail : | F19: Mail :
A20: Service comptabilité
A21: Tél : | F21: Maison :
A22: Portable : | F22: Appartement :
A23: Mail : | F23: Nombre de pièce :
A24: Service Commercial
A25: Tél : | F25: Faire un diagnostic :
A26: Portable : | F26: Programmer :
A27: Mail :
F28: Faire un devis :
A29: Nombre de logements gérés : | F29: Programmer :
A30: CA :
A31: Remise de carte de viste : | F31: Remise de carte de viste :
A32: Remise de la plaquette : | F32: Remise de la plaquette :
A33: Prospect a relancer : | F33: Prospect a relancer :
A34: Première impression : | F34: Première impression :
A36: Observations : | F36: Observations :

Sheet Client
A1: Prospect | B1: Agence | C1: Civilité | D1: Prénom | E1: Nom | F1: adresse | G1: CP | H1: ville | I1: téléphone | J1: Email | K1: Propriétaire | L1: Adresse | M1: Ville | N1: Téléphone | O1: Mail | P1: Locataire | Q1: Adresse | R1: Appart | S1: Ville | T1: Téléphone | U1: DEVIS | V1: DATE | W1: FACTURE | X1: DATE
A2: PR1 | B2: PIGEAULT IMMOBILIER | C2: Mr | D2: Charléric | E2: BANCHEREAU | F2: 25 rue de la monnaie | G2: 3500 | H2: RENNES | I2: 02.99.30.82.18 | J2: locationrennes@pigeaultimmobilier.fr
A3: PR2 | B3: ST ELOI PATRIMOINE | C3: Mr | E3: ROSPARS | F3: 45 Rue du Gl de GAULLE | G3: 35360 | H3: MONTAUBAN de BRETAGNE | I3: 02.99.06.32.32 | J3: sainteloipatrimoine@wanadoo.fr | P3: Mr & Mme GADIR | Q3: 7 place du parlement | R3: 2ème | S3: 35000 RENNES
A4: PR3 | B4: LFI LA FRANCAISE IMMOBILIERE | C4: Mme | D4: Elodie | E4: GOUDET | F4: 28 Bd de la Liberté | G4: 35040 | H4: RENNES | I4: 02.23.25.42.21 | J4: rennescleunay@francaiseimmo.fr | Q4: 70 bd de la guéninais | R4: 3ème | S4: 35000 RENNES
A5: PR4 | B5: BIZEUL IMMOBILIER | C5: Mr | D5: Christophe | E5: BIZEUL | F5: 74 chaussée du Sillon | G5: 35400 | H5: ST MALO | I5: 06.07.17.43.84 | J5: chistophe@bizeul.biz
A6: PR5 | C6: Mme | D6: Roselyne | E6: BEAUVALLET | F6: 7 Domaine de la cote noir | G6: 92500 | H6: RUEIL MALMAISON | K6: Mme BEAUVALLET | L6: 7 Domaine de la cote noir | M6: 92500 RUEIL MALMAISON | P6: Mme BEAUVALLET &PIERRE | Q6: 49 rue Marçais Martin | S6: 35000 RENNES
A7: PR6 | B7: BARON IMMOBILIER | C7: Mr | D7: Jean-Paul | E7: BARON | F7: 12 Place du bas des Lices | G7: 35000 | H7: RENNES | I7: 02.99.30.05.61 | J7: baron.immobilier@wanadoo.fr | K7: Mme ROBIC Adrienne | L7: 22 rue du stade | M7: 56480 CLEGUEREC | N7: 02.97.38.07.67 | P7: Mme KERMARREC | Q7: 45 Av du Mail François Mitterrand | R7: 4 ème | S7: 35000 RENNES | T7: 06.83.52.33.64
A8: PR7 | C8: Mr | D8: Christian | E8: DANIEL
A9: PR8 | B9: LA FRANCAISE IMMOBILIERE | C9: Mme | D9: Laurence | E9: CARRET | H9: ST GREGOIRE
A10: PR9 | C10: Mme / Mr | D10: René | E10: ROUX | F10: 26 Rue Julien Geoffroy | G10: 35000 | H10: RENNES | I10: 06.85.39.48.05 / 06.62.27.58.30
A11: PR10 | C11: Mme / Mr | D11: Patrick | E11: CROSNIER | F11: 4 av Félicité de Lamennais | G11: 35190 | H11: TINTENIAC | I11: 02.99.68.04.71
A12: PR11 | C12: Mme / Mr | E12: FONTAINE | F12: 13 Rue de Flandre | G12: 35135 | H12: CHANTEPIE | I12: 02.99.77.38.43 - 06.24.62.84.69 | J12: lajpfontaine@cgtel.net | K12: Mr & Mme FONTAINE | L12: 13 Rue de Flandre | M12: 35135 CHANTEPIE | N12: 02.99.77.38.43 - 06.24.62.84.69 | T12: 02.99.77.38.43 - 06.24.62.84.69
A13: PR12 | B13: LAFORET IMMOBILIER | C13: Mr | D13: Sébastien | E13: LEMEE | F13: 25 Rue des Rouairies | G13: 22100 | H13: DINAN | I13: 02.96.39.08.33 | J13: slemee-servicegestion@laforet.com | K13: LE MEUR | L13: 23 rue Lejamptel | M13: 35120 DOL de BRETAGNE | P13: SALAUN | Q13: 11 Rés du Bellanger | R13: 28 | S13: 35120 Dol de Bretagne | T13: 06.59.56.90.73
A14: PR13 | C14: Mr | D14: Qentin | E14: NEVEU | F14: 127 Rue d'Antrain | G14: 35000 | H14: RENNES | I14: 06.20.80.19.62 | J14: achat@quentinneveu.fr | K14: Mr DURAND | P14: Mr NEVEU | Q14: 127 Rue d'Antrain | S14: 35000 RENNES | T14: 06.20.80.19.62
A15: PR14 | B15: CASINO GROUPE BARRIERE | C15: Mr | D15: Christophe | E15: OZANE | F15: 4 bd Prés WILSSON | G15: 35800 | H15: DINARD | I15: 06.74.95.08.15 | J15: cozane@groupebarriere.com | P15: CASINO GROUPE BARRIERE | Q15: 4 bd Prés WILSSON | S15: 35800 DINARD
A16: PR15 | C16: Mr | D16: Thierry | E16: LEROUX | F16: 8 Rue des genets | G16: 22350 | H16: CAULNES | I16: 06.41.97.78.33 | J16: leroux_thierry@yahoo.fr | K16: Mr LEROUX | L16: 8 Rue des genets | M16: 22350 CAULNES | N16: 06.41.97.78.33 | O16: leroux_thierry@yahoo.fr | Q16: 2 Rés ter trente | R16: RDC droit | S16: 35190 TINTENIAC
A17: PR16 | C17: Mme | D17: Marie Françoise | E17: DAVID | F17: 1 Rue HAMON | G17: 35000 | H17: RENNES | I17: 06.43.55.15.23 | J17: mariedavid35@hotmail.com | K17: Mme DAVID | L17: 1 Rue HAMON | M17: 35000 RENNES | N17: 06.43.55.15.23 | O17: mariedavid35@hotmail.com | P17: BOULANGER | Q17: 33 Aurélie Nemours | R17: 2ème étage | S17: 35000 RENNES
A18: PR17 | B18: SCI DU FOUR | C18: Mr | D18: Bruno | E18: CAMUS | F18: 8 Rue du four | G18: 35630 | H18: HEDE | I18: 06.19.72.28.54 | J18: b-cam@orange.fr | K18: Mr CAMUS | L18: 8 Rue du four | M18: 35630 HEDE | N18: 06.19.72.28.54 | P18: Mr CAMUS | Q18: 8 Rue du four | S18: 35630 HEDE | T18: 06.19.72.28.54
A19: PR18 | C19: Mr | D19: Jean | E19: LEMEE | F19: 6 Square de Lettonie | G19: 35000 | H19: RENNES | I19: 02.99.50.03.94 | P19: Mr LEMEE | Q19: 6 Square de Lettonie | S19: 35000 RENNES
A20: PR19 | B20: AGENCE COGIR | C20: Mr | D20: Franck | E20: MAUSSION | F20: 5 Rue Lafayette | G20: 35000 | H20: RENNES | I20: 06.70.88.77.31 | J20: franck.maussion@cogir.fr | P20: 20160721000163-PRIME | Q20: 11b, Rue Adolphe Leray | R20: 02.99.54.18.76 | S20: 35000 RENNES
A21: PR20 | B21: AGENCE COGIR | C21: Mr | D21: Franck | E21: MAUSSION | F21: 5 Rue Lafayette | G21: 35000 | H21: RENNES | I21: 06.70.88.77.31 | J21: franck.maussion@cogir.fr | P21: 20150420019843-GUERINEL | Q21: 36 Allée du Gacet | R21: RDC droit | S21: 35000 RENNES
A22: PR21 | B22: AGENCE COGIR | C22: Mr | D22: Bastien | E22: CHEVAL | F22: 5 Rue Lafayette | G22: 35000 | H22: RENNES | I22: 06.71.00.35.39 | J22: bastien.cheval@cogir.fr | P22: 20160920000292-HEUDRE | Q22: 15, place des Lices | R22: 5ème droit | S22: 35000 RENNES | T22: 06.12.39.92.14
A23: PR22 | C23: Mr / Mme | D23: Jean-Claude | E23: GILET | F23: 5 Rue Libération | G23: 35190 | H23: TINTENIAC | I23: 02.99.54.92.47 - 06.66.05.73.84 | K23: Mr & Mme GILET | L23: 5 Rue Libération | M23: 35190 TINTENIAC | N23: 02.99.54.92.47 - 06.66.05.73.84 | P23: Mr & Mme GILET | S23: 35850 PARTHENAY de BRETAGNE
A24: PR23 | C24: Mme | D24: Carole | E24: CROVETTO | F24: La haute Landelle | G24: 35190 | H24: TINTENIAC | I24: 06.77.73.80.18 | J24: carole.crovetto@gmail.com | K24: Mme CROVETTO | L24: La haute Landelle | M24: 35190 TINTENIAC | N24: 06.77.73.80.18 | P24: Mr GUIGNARD | Q24: La haute Landelle | R24: Maison individuelle | S24: 35190 TINTENIAC | T24: 06.71.58.19.25
A25: PR24 | C25: Mr | D25: Jean-Yves | E25: BUSNEL | F25: launay godin | G25: 35190 | H25: TINTENIAC | I25: 06.23.16.16.95 | K25: Mr BUSNEL | L25: launay godin | M25: 35190 TINTENIAC | N25: 06.23.16.16.95 | Q25: La grassaie | S25: 35190 St DOMINEUC
A26: PR25 | C26: Mr | D26: PILLON | E26: Service technique | F26: Rue nationale | G26: 35190 | H26: TINTENIAC | I26: 06.77.04.68.95 | J26: services.techniques@tinteniac.fr | K26: Mairie | L26: Rue Nationale | M26: 35190 TINTENIAC | N26: 02.99.68.03.77 | O26: services.techniques@tinteniac.fr | P26: Presbytère | Q26: 5 Rue du puit Roubidou | S26: 35190 TINTENIAC | T26: 02.99.68.03.77
A27: PR26 | C27: Mr | D27: Jean | E27: DURAND | F27: 29 bd dezerseul | G27: 35510 | H27: CESSON SEVIGNE | I27: 02.99.83.39.87 | J27: jean.durand252@orange.fr | K27: Mr DURAND | L27: 29 bd dezerseul | M27: 35510 CESSON SEVIGNE | N27: 02.99.83.39.87 | P27: Mr NEVEU | Q27: 27 Rue d'antrain | S27: 35000 RENNES
A28: PR27 | B28: AGENCE COGIR | C28: Mr | D28: Franck | E28: MAUSSION | F28: 5 Rue Lafayette | G28: 35000 | H28: RENNES | I28: 06.70.88.77.31 | J28: franck.maussion@cogir.fr | P28: 201607719000158-DELAGARDE | Q28: 15 Place St Anne | R28: 2ème droit | S28: 35000 RENNES | T28: 06.73.44.66.23
A29: PR28 | B29: PIGEAULT IMMOBILIER | C29: Mr | D29: Charléric | E29: BANCHEREAU | F29: 25 rue de la monnaie | G29: 35000 | H29: RENNES | I29: 02.99.30.82.18 | J29: locationrennes@pigeaultimmobilier.fr | K29: Mr FOUSAGRIVE | P29: Mme DUCRET | Q29: 81 Rue d'Antrain | R29: Les Bastides A201 | S29: 35000 RENNES | T29: 06.11.27.37.46
A30: PR29 | B30: PIGEAULT IMMOBILIER | C30: Mr | D30: Charléric | E30: BANCHEREAU | F30: 25 rue de la monnaie | G30: 35000 | H30: RENNES | I30: 02.99.30.82.18 | J30: locationrennes@pigeaultimmobilier.fr | K30: Mr & Mme MOISAN | P30: Mr FIEVRE | Q30: 11 Rue Surcouf | R30: N°56 | S30: 35000 RENNES | T30: 06.19.33.77.21
A31: PR30 | B31: SCANN IMAGE | C31: Mr | E31: EDET | F31: 8 Rue Erbonière | G31: 35510 | H31: CESSON SEVIGNE | I31: 02.99.26.12.00 | J31: isa.persehaie@yahoo.fr | K31: Mr EDET | L31: 8 Rue Erbonière | M31: 35510 CESSON SEVIGNE | N31: 02.99.26.12.00 | O31: isa.persehaie@yahoo.fr | P31: Mr EDET | Q31: 8 Rue Erbonière | S31: 35510 CESSON SEVIGNE | T31: 02.99.26.12.00
A32: PR31 | B32: BARON IMMOBILIER | C32: Mr | D32: Jean-Paul | E32: BARON | F32: 12 Place du bas des Lices | G32: 35000 | H32: RENNES | I32: 02.99.30.05.61 | J32: baron.immobilier@wanadoo.fr | P32: Mr Bretteville Mlle Scott | Q32: 3 Rue Château Renault | R32: 1er droit | S32: 35000 RENNES | T32: 06.42.77.78.13 - 06.46.42.12.76
A33: PR32 | C33: Mr & Mme | D33: Philippe | E33: MAZURIER | F33: 23 Rue haut champs | G33: 35190 | H33: TINTENIAC | K33: Dr MAZURIER | L33: 13 Rue du haut champ | M33: 35190 TINTENIAC | P33: Mr DUBO | Q33: 32 Av des trente | S33: 35190 TINTENIAC | T33: 06.61.43.06.02
A34: PR33 | C34: Mr | E34: COSTA | I34: 06.12.25.50.97 | J34: costa_583@hotmail.com | K34: Mr COSTA | N34: 06.12.25.50.97 | O34: costa_583@hotmail.com | Q34: 11Bis Rue du Clos de justice | S34: 35190 TINTENIAC
A35: PR34 | B35: PIGEAULT IMMOBILIER | C35: Mme | D35: Carole | E35: MARAIS | F35: 25 rue de la monnaie | G35: 35000 | H35: RENNES | I35: 02.99.30.82.18 | J35: locationrennes@pigeaultimmobilier.fr | P35: Mme KERVENO | Q35: 6 Rue St Martin | R35: C208 | S35: 35510 CESSON SEVIGNE | T35: 06.11.27.37.46
A36: PR35 | B36: PIGEAULT IMMOBILIER | C36: Mme | D36: Carole | E36: MARAIS | F36: 26 rue de la monnaie | G36: 3500110 | H36: RENNES | I36: 02.99.30.82.19 | J36: locationrennes@pigeaultimmobilier.fr
A37: PR36 | B37: AGENCE BIZEUL | C37: Mr | D37: Stéphane | E37: RONDELLE | F37: 74 chaussée du Sillon | G37: 35400 | H37: ST MALO | J37: s.ronde@bizeulimmobilier.com | Q37: 10 reu des Français libre | S37: 35800 DINARD
A38: PR37 | B38: COLLEGE ST JOSEPH | C38: Mme | E38: PROVOST | F38: 2 rue St Jean-Baptiste de la salle | G38: 35190 | H38: TINTENIAC | I38: 02.99.68.02.28 | J38: compta2@stjoseph-tinteniac.fr | K38: COLLEGE ST JOSEPH | L38: 2 rue St Jean-Baptiste de la salle | M38: 35190 TINTENIAC | P38: Mme PROVOST | Q38: 2 rue St Jean-Baptiste de la salle | S38: 35190 TINTENIAC | T38: 02.99.68.02.28
A39: PR38 | B39: MAIRIE DE TINTENIAC | C39: Mr | E39: PILLON | F39: 12 Rue Nationnale | G39: 35190 | H39: TINTENIAC | I39: 02.99.68.18.68 - 06.77.04.68.95 | J39: services.techniques@tinteniac.fr | K39: MAIRIE DE TINTENIAC | L39: 12 Rue Nationnale | M39: 35190 TINTENIAC | P39: MAIRIE DE TINTENIAC | Q39: 12 Rue Nationnale | S39: 35190 TINTENIAC
A40: PR39 | B40: PIGEAULT IMMOBILIER | C40: Mme | D40: Carole | E40: MARAIS | F40: 25 rue de la monnaie | G40: 35000 | H40: RENNES | I40: 02.99.30.82.18 | J40: locationrennes@pigeaultimmobilier.fr | K40: Mme LE BELLEC | L40: Kerpuns | M40: 22260 PLOUEC DU TRIEUX | P40: Mlle POULIQUEN | Q40: 11 rue Surcouf | R40: N° A55 | S40: 35000 RENNES | T40: 06.59.77.42.11
...

Sheet TVA
A2: 0.2 | B2: TVA à 20% :Le taux de TVA par défaut en 2015 est de 20%. Il concerne par défaut tous les produits et services, sauf les exceptions suivantes :
A3: 0.1 | B3: TVA à 10% :On applique des taux de TVA différents dans certains domaines, comme la restauration où le taux en vigueur est de 10%. On retrouve le même taux de 10% pour les produits et services suivants :• Services d’aide à la personne • Prestations d’hébergement et de transport • Produits agricoles sans transformation • Médicaments non remboursés • Travaux et réparation pour les logements ayant plus de deux ans
A4: 0.055 | B4: TVA à 5,5% :• Restauration scolaire • Produits alimentaires de première nécessité • Eau et boissons sans alcool • Équipements pour personnes handicapées • Travaux d’amélioration énergétique des logements de plus de 2 ans • Abonnements aux réseaux de fourniture d’énergie comme le gaz et l’électricité

Sheet Offre Commerciale peinture
A1: référence | B1: désignation | C1: prix € | D1: temps/m² ou ml | E1: cout horaire | F1: matière P | G1: temps | H1: M²
B2: PEINTURE
A3: 1 | B3: Préparation des murs, rebouchage, ponçage, 1 couche d'impression, 2 couches de Blanc | C3: =(F3*H3)+G3 -> 15.5 | D3: 6 | E3: 45 | F3: 11 | G3: =(D3/60)*E3 -> 4.5 | H3: 1
A4: 2 | B4: Préparation des murs, rebouchage, ponçage, 1 couche d'impression, 2 couches de Blanc Velours | C4: =(F4*H4)+G4 -> 15.5 | D4: 6 | E4: 45 | F4: 11 | G4: =(D4/60)*E4 -> 4.5 | H4: 1
A5: 3 | B5: Préparation des plafonds, rebouchage, ponçage, 1 couche d'impression, 2 couches de blanc | C5: =(F5*H5)+G5 -> 19 | D5: 8 | E5: 45 | F5: 13 | G5: =(D5/60)*E5 -> 6 | H5: 1
A6: 4 | B6: Préparation des murs, rebouchage, ponçage, 1 couche d'impression, 2 couches de Couleur | C6: =(F6*H6)+G6 -> 24.5 | D6: 6 | E6: 45 | F6: 20 | G6: =(D6/60)*E6 -> 4.5 | H6: 1
A7: 5 | B7: Préparation des murs, rebouchage, ponçage, 1 couche d'impression, 2 couches de Couleur Velours | C7: =(F7*H7)+G7 -> 24.5 | D7: 6 | E7: 45 | F7: 20 | G7: =(D7/60)*E7 -> 4.5 | H7: 1
A8: 6 | B8: Préparation des plafonds, rebouchage, ponçage, 1 couche d'impression, 2 couches de Couleur | C8: =(F8*H8)+G8 -> 26 | D8: 8 | E8: 45 | F8: 20 | G8: =(D8/60)*E8 -> 6 | H8: 1
A9: 7 | B9: Préparation des murs, rebouchage, ponçage, toile, 1 couche d'impression, 2 couches de blanc | C9: =(F9*H9)+G9 -> 27 | D9: 12 | E9: 45 | F9: 18 | G9: =(D9/60)*E9 -> 9 | H9: 1
A10: 8 | B10: Préparation des murs, rebouchage, ponçage, toile, 1 couche d'impression, 2 couches de blanc Velours | C10: =(F10*H10)+G10 -> 27 | D10: 12 | E10: 45 | F10: 18 | G10: =(D10/60)*E10 -> 9 | H10: 1
A11: 9 | B11: Préparation des plafonds, rebouchage, ponçage, toile, 1 couche d'impression, 2 couches de blanc | C11: =(F11*H11)+G11 -> 29.25 | D11: 15 | E11: 45 | F11: 18 | G11: =(D11/60)*E11 -> 11.25 | H11: 1
A12: 10 | B12: Préparation, impression, 2 couches de blanc | C12: =(F12*H12)+G12 -> 16.5 | D12: 11 | E12: 90 | F12: 22 | G12: =(D12/60)*E12 -> 16.5 | J12: Sur murs propre de maison neuve
A13: 11 | B13: Impression, fourniture de toile lisse, pose + 2 couches de blanc mat | C13: =(F13*H13)+G13 -> 19.5 | D13: 10 | E13: 45 | F13: 12 | G13: =(D13/60)*E13 -> 7.5 | H13: 1 | J13: Sur placo neuf
A14: 12
A15: 13 | B15: Peinture sur murs, après égrainage ou ponçage, 2 couches de peinture en blanc | C15: =(F15*H15)+G15 -> 12.5 | D15: 6 | E15: 45 | F15: 8 | G15: =(D15/60)*E15 -> 4.5 | H15: 1
A16: 14 | B16: Peinture sur murs, après égrainage ou ponçage, 2 couches de peinture en blanc Velours | C16: =(F16*H16)+G16 -> 12.5 | D16: 6 | E16: 45 | F16: 8 | G16: =(D16/60)*E16 -> 4.5 | H16: 1
A17: 15 | B17: Peinture sur plafond, après égrainage ou ponçage, 2 couches de peinture en blanc | C17: =(F17*H17)+G17 -> 14 | D17: 8 | E17: 45 | F17: 8 | G17: =(D17/60)*E17 -> 6 | H17: 1
A18: 16 | B18: Peinture sur murs, après égrénage ou ponçage, 2 couches de peinture choix du client | C18: =(F18*H18)+G18 -> 24.5 | D18: 6 | E18: 45 | F18: 20 | G18: =(D18/60)*E18 -> 4.5 | H18: 1
A19: 17 | B19: Peinture sur plafond, après égrénage ou ponçage, 2 couches de peinture choix du client | C19: =(F19*H19)+G19 -> 26 | D19: 8 | E19: 45 | F19: 20 | G19: =(D19/60)*E19 -> 6 | H19: 1
A20: 18 | B20: Lessivage des murs, 1 couche de peinture blanc | C20: =(F20*H20)+G20 -> 9 | D20: 8 | E20: 45 | F20: 3 | G20: =(D20/60)*E20 -> 6 | H20: 1
A21: 19 | B21: Lessivage des murs, 1 couche de peinture blanc Velours | C21: =(F21*H21)+G21 -> 9 | D21: 8 | E21: 45 | F21: 3 | G21: =(D21/60)*E21 -> 6 | H21: 1
A22: 20 | B22: Lessivage des plafonds, 1 couche de peinture blanc | C22: =(F22*H22)+G22 -> 10.5 | D22: 10 | E22: 45 | F22: 3 | G22: =(D22/60)*E22 -> 7.5 | H22: 1
A23: 21 | B23: Lessivage des murs, 2 couches de peinture blanc | C23: =(F23*H23)+G23 -> 12 | D23: 8 | E23: 45 | F23: 6 | G23: =(D23/60)*E23 -> 6 | H23: 1
A24: 22 | B24: Lessivage des murs, 2 couches de peinture blanc Velours | C24: =(F24*H24)+G24 -> 12 | D24: 8 | E24: 45 | F24: 6 | G24: =(D24/60)*E24 -> 6 | H24: 1
A25: 23 | B25: Lessivage des plafonds, 2 couches de peinture blanc | C25: =(F25*H25)+G25 -> 15 | D25: 12 | E25: 45 | F25: 6 | G25: =(D25/60)*E25 -> 9 | H25: 1
A26: 24 | B26: Lessivage des murs, 2 couches de peinture de Couleur | C26: =(F26*H26)+G26 -> 20.25 | D26: 3 | E26: 45 | F26: 18 | G26: =(D26/60)*E26 -> 2.25 | H26: 1
A27: 25 | B27: Lessivage des plafonds, 2 couches de peinture de Couleur | C27: =(F27*H27)+G27 -> 21.75 | D27: 5 | E27: 45 | F27: 18 | G27: =(D27/60)*E27 -> 3.75 | H27: 1
A28: 26 | B28: Lessivage des murs, 2 couches de peinture Couleur pan de mur cage d'escalier | C28: =(F28*H28)+G28 -> 31.8 | D28: 18 | E28: 46 | F28: 18 | G28: =(D28/60)*E28 -> 13.8 | H28: 1 | I28: Cage descalier
A29: 27 | B29: Lessivage des murs, 2 couches de peinture blanc dans cage d'escalier & couloir | C29: =(F29*H29)+G29 -> 23.5 | D29: 15 | E29: 46 | F29: 12 | G29: =(D29/60)*E29 -> 11.5 | H29: 1 | J29: Sur Plafond propre de maison neuve
A30: 28 | B30: Lessivage plafond, réparation fissure, préparation, 2 couches de blanc | C30: =(F30*H30)+G30 -> 22 | D30: 10 | E30: 60 | F30: 12 | G30: =(D30/60)*E30 -> 10 | H30: 1
A31: 29 | B31: Lessivage fumée sur plafond, 1 couche de peinture isolante, 1 couche de mat | C31: =(F31*H31)+G31 -> 21.5 | D31: 10 | E31: 60 | F31: 11.5 | G31: =(D31/60)*E31 -> 10 | H31: 1
A32: 30 | B32: Lessivage fumée sur Murs, 1 couche de peinture isolante, 1 couche de satiné dans le même ton | C32: =(F32*H32)+G32 -> 23.8 | D32: 15 | E32: 60 | F32: 8.8 | G32: =(D32/60)*E32 -> 15 | H32: 1
A33: 31 | B33: Lessivage radiateur, 2 couches de peinture | C33: =(F33*H33)+G33 -> 65 | D33: 45 | E33: 60 | F33: 20 | G33: =(D33/60)*E33 -> 45 | H33: 1
A34: 32 | B34: Lessivage de coffre de volets roulants, 2 couche de blanc | C34: =(F34*H34)+G34 -> 17.5 | D34: 10 | E34: 45 | F34: 10 | G34: =(D34/60)*E34 -> 7.5 | H34: 1
A35: 33 | B35: Fourniture et pose de toile, 2 couches de blanc | C35: =(F35*H35)+G35 -> 25.25 | D35: 7 | E35: 45 | F35: 20 | G35: =(D35/60)*E35 -> 5.25 | H35: 1
A36: 34 | B36: Fourniture et pose de toile, 2 couches de Couleur | C36: =(F36*H36)+G36 -> 26.75 | D36: 9 | E36: 45 | F36: 20 | G36: =(D36/60)*E36 -> 6.75 | H36: 1
A37: 35 | B37: Décollage du papier peint cuisine, préparation des murs, fourniture et pose de toile, 2 couches de blanc | C37: =(F37*H37)+G37 -> 31 | D37: 20 | E37: 48 | F37: 15 | G37: =(D37/60)*E37 -> 16 | H37: 1 | I37: Cuisine
A38: 36 | B38: Décollage du papier peint salle de bain, préparation des murs, fourniture et pose de toile, 2 couches de blanc | C38: 31 | D38: 20 | E38: 48 | F38: 15 | G38: 16 | H38: 1 | I38: Salle de bain
A39: 37 | B39: Décollage du papier peint dans l'ensemble des pièces, préparation des murs, fourniture et pose de toile, 2 couches de blanc + un mur de couleur | C39: =(F39*H39)+G39 -> 29.75 | D39: 15 | E39: 15 | F39: 26 | G39: =(D39/60)*E39 -> 3.75 | H39: 1 | I39: Chambre
A40: 38 | B40: Décollage du papier peint WC, préparation des murs, fourniture et pose de toile, 2 couches de blanc | C40: =(F40*H40)+G40 -> 31 | D40: 20 | E40: 48 | F40: 15 | G40: =(D40/60)*E40 -> 16 | H40: 1 | I40: Toilette
...
