Workbook

Sheet calcul heure f
B1: Date début plannif | C1: 43472
B2: Heure d'ouverture | C2: 0.33333333
B3: Heure de fermeture | C3: 0.91666667
B4: Temps de fermeture | C4: =MOD(C2-C3,1) -> 0.41666667
B5: Temps d'ouverture | C5: =C3-C2 -> 0.58333333
C7: Client | D7: Temps de gamme | E7: Date_Heure de début | F7: Date de fin hors WE et JF | H7: délai nb de jour | I7: date de fin | J7: heure de fin
C8: =TR.liste!A2 -> a | D8: =TR.liste!B2/24 -> 0.20833333 | E8: =C1+C2 -> 43472.333 | F8: =WORKDAY(INT(E8)+INT(D8/$C$5)+IF((MOD(E8,1)+D8-INT(D8/$C$5)*$C$5)>$C$3,1,0)-1,1,'jour férié'!$A$2:$A$12) +(MOD(E8,1)+D8-INT(D8/$C$5)*$C$5)+IF((MOD(E8,1)+D8-INT(D8/$C$5)*$C$5)>$C$3,$C$4-1,0) -> 43472.542 | H8: =INT(D8/$C$5)+IF((MOD(E8,1)+D8-INT(D8/$C$5)*$C$5)>$C$3,1,0) -> 0 | I8: =WORKDAY(INT(E8)+H8-1,1,'jour férié'!$A$2:$A$12) -> 43472 | J8: =(MOD(E8,1)+D8-INT(D8/$C$5)*$C$5)+IF((MOD(E8,1)+D8-INT(D8/$C$5)*$C$5)>$C$3,$C$4-1,0) -> 0.54166667
C9: =TR.liste!A3 -> b | D9: =TR.liste!B3/24 -> 0.25 | E9: =F8 -> 43472.542 | F9: =WORKDAY(INT(E9)+INT(D9/$C$5)+IF((MOD(E9,1)+D9-INT(D9/$C$5)*$C$5)>$C$3,1,0)-1,1,'jour férié'!$A$2:$A$12) +(MOD(E9,1)+D9-INT(D9/$C$5)*$C$5)+IF((MOD(E9,1)+D9-INT(D9/$C$5)*$C$5)>$C$3,$C$4-1,0) -> 43472.792 | H9: =INT(D9/$C$5)+IF((MOD(E9,1)+D9-INT(D9/$C$5)*$C$5)>$C$3,1,0) -> 0 | I9: =WORKDAY(INT(E9)+H9-1,1,'jour férié'!$A$2:$A$12) -> 43472 | J9: =(MOD(E9,1)+D9-INT(D9/$C$5)*$C$5)+IF((MOD(E9,1)+D9-INT(D9/$C$5)*$C$5)>$C$3,$C$4-1,0) -> 0.79166667
C10: =TR.liste!A4 -> c | D10: =TR.liste!B4/24 -> 0.375 | E10: =F9 -> 43472.792 | F10: =WORKDAY(INT(E10)+INT(D10/$C$5)+IF((MOD(E10,1)+D10-INT(D10/$C$5)*$C$5)>$C$3,1,0)-1,1,'jour férié'!$A$2:$A$12) +(MOD(E10,1)+D10-INT(D10/$C$5)*$C$5)+IF((MOD(E10,1)+D10-INT(D10/$C$5)*$C$5)>$C$3,$C$4-1,0) -> 43473.583 | H10: =INT(D10/$C$5)+IF((MOD(E10,1)+D10-INT(D10/$C$5)*$C$5)>$C$3,1,0) -> 1 | I10: =WORKDAY(INT(E10)+H10-1,1,'jour férié'!$A$2:$A$12) -> 43473 | J10: =(MOD(E10,1)+D10-INT(D10/$C$5)*$C$5)+IF((MOD(E10,1)+D10-INT(D10/$C$5)*$C$5)>$C$3,$C$4-1,0) -> 0.58333333
C11: =TR.liste!A5 -> c | D11: =TR.liste!B5/24 -> 0.525 | E11: =F10 -> 43473.583 | F11: =WORKDAY(INT(E11)+INT(D11/$C$5)+IF((MOD(E11,1)+D11-INT(D11/$C$5)*$C$5)>$C$3,1,0)-1,1,'jour férié'!$A$2:$A$12) +(MOD(E11,1)+D11-INT(D11/$C$5)*$C$5)+IF((MOD(E11,1)+D11-INT(D11/$C$5)*$C$5)>$C$3,$C$4-1,0) -> 43474.525 | H11: =INT(D11/$C$5)+IF((MOD(E11,1)+D11-INT(D11/$C$5)*$C$5)>$C$3,1,0) -> 1 | I11: =WORKDAY(INT(E11)+H11-1,1,'jour férié'!$A$2:$A$12) -> 43474 | J11: =(MOD(E11,1)+D11-INT(D11/$C$5)*$C$5)+IF((MOD(E11,1)+D11-INT(D11/$C$5)*$C$5)>$C$3,$C$4-1,0) -> 0.525
C12: =TR.liste!A6 -> d | D12: =TR.liste!B6/24 -> 1.4070833 | E12: =F11 -> 43474.525 | F12: =WORKDAY(INT(E12)+INT(D12/$C$5)+IF((MOD(E12,1)+D12-INT(D12/$C$5)*$C$5)>$C$3,1,0)-1,1,'jour férié'!$A$2:$A$12) +(MOD(E12,1)+D12-INT(D12/$C$5)*$C$5)+IF((MOD(E12,1)+D12-INT(D12/$C$5)*$C$5)>$C$3,$C$4-1,0) -> 43476.765 | H12: =INT(D12/$C$5)+IF((MOD(E12,1)+D12-INT(D12/$C$5)*$C$5)>$C$3,1,0) -> 2 | I12: =WORKDAY(INT(E12)+H12-1,1,'jour férié'!$A$2:$A$12) -> 43476 | J12: =(MOD(E12,1)+D12-INT(D12/$C$5)*$C$5)+IF((MOD(E12,1)+D12-INT(D12/$C$5)*$C$5)>$C$3,$C$4-1,0) -> 0.76541667
C13: =TR.liste!A7 -> f | D13: =TR.liste!B7/24 -> 0.19 | E13: =F12 -> 43476.765 | F13: =WORKDAY(INT(E13)+INT(D13/$C$5)+IF((MOD(E13,1)+D13-INT(D13/$C$5)*$C$5)>$C$3,1,0)-1,1,'jour férié'!$A$2:$A$12) +(MOD(E13,1)+D13-INT(D13/$C$5)*$C$5)+IF((MOD(E13,1)+D13-INT(D13/$C$5)*$C$5)>$C$3,$C$4-1,0) -> 43479.372 | H13: =INT(D13/$C$5)+IF((MOD(E13,1)+D13-INT(D13/$C$5)*$C$5)>$C$3,1,0) -> 1 | I13: =WORKDAY(INT(E13)+H13-1,1,'jour férié'!$A$2:$A$12) -> 43479 | J13: =(MOD(E13,1)+D13-INT(D13/$C$5)*$C$5)+IF((MOD(E13,1)+D13-INT(D13/$C$5)*$C$5)>$C$3,$C$4-1,0) -> 0.37208333
C14: =TR.liste!A8 -> e | D14: =TR.liste!B8/24 -> 0.315 | E14: =F13 -> 43479.372 | F14: =WORKDAY(INT(E14)+INT(D14/$C$5)+IF((MOD(E14,1)+D14-INT(D14/$C$5)*$C$5)>$C$3,1,0)-1,1,'jour férié'!$A$2:$A$12) +(MOD(E14,1)+D14-INT(D14/$C$5)*$C$5)+IF((MOD(E14,1)+D14-INT(D14/$C$5)*$C$5)>$C$3,$C$4-1,0) -> 43479.687 | H14: =INT(D14/$C$5)+IF((MOD(E14,1)+D14-INT(D14/$C$5)*$C$5)>$C$3,1,0) -> 0 | I14: =WORKDAY(INT(E14)+H14-1,1,'jour férié'!$A$2:$A$12) -> 43479 | J14: =(MOD(E14,1)+D14-INT(D14/$C$5)*$C$5)+IF((MOD(E14,1)+D14-INT(D14/$C$5)*$C$5)>$C$3,$C$4-1,0) -> 0.68708333
C15: =TR.liste!A9 -> f | D15: =TR.liste!B9/24 -> 0.16375 | E15: =F14 -> 43479.687 | F15: =WORKDAY(INT(E15)+INT(D15/$C$5)+IF((MOD(E15,1)+D15-INT(D15/$C$5)*$C$5)>$C$3,1,0)-1,1,'jour férié'!$A$2:$A$12) +(MOD(E15,1)+D15-INT(D15/$C$5)*$C$5)+IF((MOD(E15,1)+D15-INT(D15/$C$5)*$C$5)>$C$3,$C$4-1,0) -> 43479.851 | H15: =INT(D15/$C$5)+IF((MOD(E15,1)+D15-INT(D15/$C$5)*$C$5)>$C$3,1,0) -> 0 | I15: =WORKDAY(INT(E15)+H15-1,1,'jour férié'!$A$2:$A$12) -> 43479 | J15: =(MOD(E15,1)+D15-INT(D15/$C$5)*$C$5)+IF((MOD(E15,1)+D15-INT(D15/$C$5)*$C$5)>$C$3,$C$4-1,0) -> 0.85083333
C16: =TR.liste!A10 -> h | D16: =TR.liste!B10/24 -> 0.083333333 | E16: =F15 -> 43479.851 | F16: =WORKDAY(INT(E16)+INT(D16/$C$5)+IF((MOD(E16,1)+D16-INT(D16/$C$5)*$C$5)>$C$3,1,0)-1,1,'jour férié'!$A$2:$A$12) +(MOD(E16,1)+D16-INT(D16/$C$5)*$C$5)+IF((MOD(E16,1)+D16-INT(D16/$C$5)*$C$5)>$C$3,$C$4-1,0) -> 43480.351 | H16: =INT(D16/$C$5)+IF((MOD(E16,1)+D16-INT(D16/$C$5)*$C$5)>$C$3,1,0) -> 1 | I16: =WORKDAY(INT(E16)+H16-1,1,'jour férié'!$A$2:$A$12) -> 43480 | J16: =(MOD(E16,1)+D16-INT(D16/$C$5)*$C$5)+IF((MOD(E16,1)+D16-INT(D16/$C$5)*$C$5)>$C$3,$C$4-1,0) -> 0.35083333
C17: =TR.liste!A11 -> q | D17: =TR.liste!B11/24 -> 0.0625 | E17: =F16 -> 43480.351 | F17: =WORKDAY(INT(E17)+INT(D17/$C$5)+IF((MOD(E17,1)+D17-INT(D17/$C$5)*$C$5)>$C$3,1,0)-1,1,'jour férié'!$A$2:$A$12) +(MOD(E17,1)+D17-INT(D17/$C$5)*$C$5)+IF((MOD(E17,1)+D17-INT(D17/$C$5)*$C$5)>$C$3,$C$4-1,0) -> 43480.413 | H17: =INT(D17/$C$5)+IF((MOD(E17,1)+D17-INT(D17/$C$5)*$C$5)>$C$3,1,0) -> 0 | I17: =WORKDAY(INT(E17)+H17-1,1,'jour férié'!$A$2:$A$12) -> 43480 | J17: =(MOD(E17,1)+D17-INT(D17/$C$5)*$C$5)+IF((MOD(E17,1)+D17-INT(D17/$C$5)*$C$5)>$C$3,$C$4-1,0) -> 0.41333333
C18: =TR.liste!A12 -> d | D18: =TR.liste!B12/24 -> 0.15 | E18: =F17 -> 43480.413 | F18: =WORKDAY(INT(E18)+INT(D18/$C$5)+IF((MOD(E18,1)+D18-INT(D18/$C$5)*$C$5)>$C$3,1,0)-1,1,'jour férié'!$A$2:$A$12) +(MOD(E18,1)+D18-INT(D18/$C$5)*$C$5)+IF((MOD(E18,1)+D18-INT(D18/$C$5)*$C$5)>$C$3,$C$4-1,0) -> 43480.563 | H18: =INT(D18/$C$5)+IF((MOD(E18,1)+D18-INT(D18/$C$5)*$C$5)>$C$3,1,0) -> 0 | I18: =WORKDAY(INT(E18)+H18-1,1,'jour férié'!$A$2:$A$12) -> 43480 | J18: =(MOD(E18,1)+D18-INT(D18/$C$5)*$C$5)+IF((MOD(E18,1)+D18-INT(D18/$C$5)*$C$5)>$C$3,$C$4-1,0) -> 0.56333333
C19: =TR.liste!A13 -> n | D19: =TR.liste!B13/24 -> 0.32083333 | E19: =F18 -> 43480.563 | F19: =WORKDAY(INT(E19)+INT(D19/$C$5)+IF((MOD(E19,1)+D19-INT(D19/$C$5)*$C$5)>$C$3,1,0)-1,1,'jour férié'!$A$2:$A$12) +(MOD(E19,1)+D19-INT(D19/$C$5)*$C$5)+IF((MOD(E19,1)+D19-INT(D19/$C$5)*$C$5)>$C$3,$C$4-1,0) -> 43480.884 | H19: =INT(D19/$C$5)+IF((MOD(E19,1)+D19-INT(D19/$C$5)*$C$5)>$C$3,1,0) -> 0 | I19: =WORKDAY(INT(E19)+H19-1,1,'jour férié'!$A$2:$A$12) -> 43480 | J19: =(MOD(E19,1)+D19-INT(D19/$C$5)*$C$5)+IF((MOD(E19,1)+D19-INT(D19/$C$5)*$C$5)>$C$3,$C$4-1,0) -> 0.88416667
C20: =TR.liste!A14 -> f | D20: =TR.liste!B14/24 -> 0.42083333 | E20: =F19 -> 43480.884 | F20: =WORKDAY(INT(E20)+INT(D20/$C$5)+IF((MOD(E20,1)+D20-INT(D20/$C$5)*$C$5)>$C$3,1,0)-1,1,'jour férié'!$A$2:$A$12) +(MOD(E20,1)+D20-INT(D20/$C$5)*$C$5)+IF((MOD(E20,1)+D20-INT(D20/$C$5)*$C$5)>$C$3,$C$4-1,0) -> 43481.722 | H20: =INT(D20/$C$5)+IF((MOD(E20,1)+D20-INT(D20/$C$5)*$C$5)>$C$3,1,0) -> 1 | I20: =WORKDAY(INT(E20)+H20-1,1,'jour férié'!$A$2:$A$12) -> 43481 | J20: =(MOD(E20,1)+D20-INT(D20/$C$5)*$C$5)+IF((MOD(E20,1)+D20-INT(D20/$C$5)*$C$5)>$C$3,$C$4-1,0) -> 0.72166667

Sheet TR.liste
A1: client | B1: tmp gamme
A2: a | B2: 5
A3: b | B3: 6
A4: c | B4: 9
A5: c | B5: 12.6
A6: d | B6: 33.77
A7: f | B7: 4.56
A8: e | B8: 7.56
A9: f | B9: 3.93
A10: h | B10: 2
A11: q | B11: 1.5
A12: d | B12: 3.6
A13: n | B13: 7.7
A14: f | B14: 10.1

Sheet jour férié
A1: jour férié 2019-fermeture machine
A2: 43466 | B2: mardi
A3: 43577 | B3: lundi
A4: 43586 | B4: mercredi
A5: 43593 | B5: mercredi
A6: 43615 | B6: jeudi
A7: 43626 | B7: lundi
A8: 43660 | B8: dimanche
A9: 43692 | B9: jeudi
A10: 43770 | B10: vendredi
A11: 43780 | B11: lundi
A12: 43824 | B12: mercredi
