Workbook
Name CODE: [1]!Code
Name CODE: [1]!Code
Name CODE: [1]!Code

Sheet Devis
K15: FALSE | L15: Vernis | M15: A REMPLIR | N15: A REMPLIR
K16: FALSE | L16: Plastification | M16: A REMPLIR | N16: A REMPLIR
K17: FALSE | L17: Pelliculage | M17: A REMPLIR | N17: A REMPLIR
K18: FALSE | L18: Découpe | M18: A CRÉER | N18: A REMPLIR
K19: FALSE | L19: Perforation | M19: A REMPLIR | N19: A REMPLIR
K20: FALSE | L20: Perfo Dét. | M20: A REMPLIR
K21: FALSE | L21: Rainage | M21: A REMPLIR
H28: FALSE | K28: TRUE

Sheet Dossier Lille
C2: DOSSIER DE FABRICATION
C5: CODE | E5: =Devis!$E$5 -> 0
C6: CLIENT | E6: =Devis!$E$6 -> 0 | K6: CONTACT | M6: =Devis!$M$6 -> 0
C7: Adresse : | E7: =Devis!$E$7 -> 0 | K7: Tél. : | L7: =Devis!$L$7 -> 0
K8: Mail : | L8: =Devis!$L$8 -> 0
E9: =Devis!$E$9 -> 0 | H9: =Devis!$H$9 -> 0 | L9: =Devis!$L$9 -> 0
C12: DÉSIGNATION | G12: =Devis!$F$12 -> 0
G13: =Devis!F13 -> 0
C16: IMPRESSION | K16: FACONNAGE
C17: Ft Fini : | E17: =Devis!E15 -> 0 | K17: =Devis!K15 -> FALSE | M17: =Devis!M15 -> A REMPLIR | N17: =Devis!N15 -> A REMPLIR
C18: Ft Ouvert : | E18: =Devis!E16 -> 0 | K18: =Devis!K16 -> FALSE | M18: =Devis!M16 -> A REMPLIR | N18: =Devis!N16 -> A REMPLIR
C19: Papier : | E19: =Devis!E17 -> 0 | K19: =Devis!K17 -> FALSE | M19: =Devis!M17 -> A REMPLIR | N19: =Devis!N17 -> A REMPLIR
C20: Grs : | D20: =Devis!D18 -> 0 | F20: Coloris : | H20: =Devis!H18 -> 0 | K20: =Devis!K18 -> FALSE | M20: =Devis!M18 -> A CRÉER | N20: =Devis!N18 -> A REMPLIR | Q20: A REMPLIR
K21: =Devis!K19 -> FALSE | M21: =Devis!M19 -> A REMPLIR | N21: =Devis!N19 -> A REMPLIR
C22: Recto | H22: Verso | K22: =Devis!K20 -> FALSE | M22: =Devis!M20 -> A REMPLIR | Q22: A REMPLIR
C23: =Devis!C21 -> 0 | H23: =Devis!H21 -> 0 | K23: =Devis!K21 -> FALSE | M23: =Devis!M21 -> A REMPLIR | Q23: A REMPLIR
C24: =Devis!C22 -> 0 | H24: =Devis!H22 -> 0 | K24: INFORMATIONS COMPLÉMENTAIRES
C25: =Devis!C23 -> 0 | H25: =Devis!H23 -> 0
C26: =Devis!C24 -> 0 | H26: =Devis!H24 -> 0
C27: =Devis!C25 -> 0 | H27: =Devis!H25 -> 0
C28: =Devis!C26 -> 0 | H28: =Devis!H26 -> 0
C30: SOUS - TRAITANCE | K30: =VLOOKUP(E31,'[2]SOUS-TRAITANT'!A2:J759,10) -> #N/A
C31: CODE
C32: NOM | E32: =VLOOKUP(E31,'[2]SOUS-TRAITANT'!A2:H759,2) -> #N/A | K32: CONTACT | M32: =VLOOKUP(E31,'[2]SOUS-TRAITANT'!A2:H759,8) -> #N/A
C33: Adresse : | E33: =VLOOKUP(E31,'[2]SOUS-TRAITANT'!A2:H759,3) -> #N/A | K33: Tél. : | L33: =VLOOKUP(E31,'[2]SOUS-TRAITANT'!A2:H759,6) -> #N/A
K34: Tél. : | L34: =VLOOKUP(E31,'[2]SOUS-TRAITANT'!A2:H759,7) -> #N/A
E35: =VLOOKUP(E31,'[2]SOUS-TRAITANT'!A2:H759,4) -> #N/A | H35: =VLOOKUP(E31,'[2]SOUS-TRAITANT'!A2:H759,5) -> #N/A | K35: Mail : | L35: =VLOOKUP(E31,'[2]SOUS-TRAITANT'!A2:J759,9) -> #N/A
C52: Voir conditions de vente au verso

Sheet Dossier
K16: FACONNAGE
K17: =Devis!K15 -> FALSE | M17: =Devis!M15 -> A REMPLIR | N17: =Devis!N15 -> A REMPLIR
K18: =Devis!K16 -> FALSE | M18: =Devis!M16 -> A REMPLIR | N18: =Devis!N16 -> A REMPLIR
K19: =Devis!K17 -> FALSE | M19: =Devis!M17 -> A REMPLIR | N19: =Devis!N17 -> A REMPLIR
K20: =Devis!K18 -> FALSE | M20: =Devis!M18 -> A CRÉER | N20: =Devis!N18 -> A REMPLIR | Q20: ='Dossier Lille'!Q20 -> A REMPLIR
K21: =Devis!K19 -> FALSE | M21: =Devis!M19 -> A REMPLIR | N21: =Devis!N19 -> A REMPLIR
K22: =Devis!K20 -> FALSE | M22: =Devis!M20 -> A REMPLIR | Q22: ='Dossier Lille'!Q22 -> A REMPLIR
K23: =Devis!K21 -> FALSE | M23: =Devis!M21 -> A REMPLIR | Q23: ='Dossier Lille'!Q23 -> A REMPLIR
C52: Voir conditions de vente au verso

Sheet Fiche Technique
J14: FACONNAGE
J15: {=IF(ROWS(J$15:J15)<=COUNTIF(Devis!$K$15:$K$21,TRUE),INDEX(Devis!$L$15:$L$21,SMALL(IF(Devis!$K$15:$K$21=TRUE,ROW(Devis!$K$15:$K$21)-ROW(Devis!$J$15)+1),ROWS(J$15:J15))),"")} | K15: {=IF(ROWS(J$15:J15)<=COUNTIF(Dossier!$K$17:$K$23,TRUE),INDEX(Dossier!$Q$17:$Q$23,SMALL(IF(Dossier!$K$17:$K$23=TRUE,ROW(Dossier!$K$17:$K$23)-ROW(Dossier!$J$17)+1),ROWS(J$15:J15))),"")} | L15: {=IF(ROWS(J$15:J15)<=COUNTIF(Devis!$K$15:$K$21,TRUE),INDEX(Devis!$M$15:$M$21,SMALL(IF(Devis!$K$15:$K$21=TRUE,ROW(Devis!$K$15:$K$21)-ROW(Devis!$J$15)+1),ROWS(J$15:J15))),"")} | M15: {=IF(ROWS(J$15:J15)<=COUNTIF(Devis!$K$15:$K$21,TRUE),INDEX(Devis!$N$15:$N$21,SMALL(IF(Devis!$K$15:$K$21=TRUE,ROW(Devis!$K$15:$K$21)-ROW(Devis!$J$15)+1),ROWS(J$15:J15))),"")}
J16: {=IF(ROWS(J$15:J16)<=COUNTIF(Devis!$K$15:$K$21,TRUE),INDEX(Devis!$L$15:$L$21,SMALL(IF(Devis!$K$15:$K$21=TRUE,ROW(Devis!$K$15:$K$21)-ROW(Devis!$J$15)+1),ROWS(J$15:J16))),"")} | K16: {=IF(ROWS(J$15:J16)<=COUNTIF(Dossier!$K$17:$K$23,TRUE),INDEX(Dossier!$Q$17:$Q$23,SMALL(IF(Dossier!$K$17:$K$23=TRUE,ROW(Dossier!$K$17:$K$23)-ROW(Dossier!$J$17)+1),ROWS(J$15:J16))),"")} | L16: {=IF(ROWS(J$15:J16)<=COUNTIF(Devis!$K$15:$K$21,TRUE),INDEX(Devis!$M$15:$M$21,SMALL(IF(Devis!$K$15:$K$21=TRUE,ROW(Devis!$K$15:$K$21)-ROW(Devis!$J$15)+1),ROWS(J$15:J16))),"")} | M16: {=IF(ROWS(J$15:J16)<=COUNTIF(Devis!$K$15:$K$21,TRUE),INDEX(Devis!$N$15:$N$21,SMALL(IF(Devis!$K$15:$K$21=TRUE,ROW(Devis!$K$15:$K$21)-ROW(Devis!$J$15)+1),ROWS(J$15:J16))),"")}
J17: {=IF(ROWS(J$15:J17)<=COUNTIF(Devis!$K$15:$K$21,TRUE),INDEX(Devis!$L$15:$L$21,SMALL(IF(Devis!$K$15:$K$21=TRUE,ROW(Devis!$K$15:$K$21)-ROW(Devis!$J$15)+1),ROWS(J$15:J17))),"")} | K17: {=IF(ROWS(J$15:J17)<=COUNTIF(Dossier!$K$17:$K$23,TRUE),INDEX(Dossier!$Q$17:$Q$23,SMALL(IF(Dossier!$K$17:$K$23=TRUE,ROW(Dossier!$K$17:$K$23)-ROW(Dossier!$J$17)+1),ROWS(J$15:J17))),"")} | L17: {=IF(ROWS(J$15:J17)<=COUNTIF(Devis!$K$15:$K$21,TRUE),INDEX(Devis!$M$15:$M$21,SMALL(IF(Devis!$K$15:$K$21=TRUE,ROW(Devis!$K$15:$K$21)-ROW(Devis!$J$15)+1),ROWS(J$15:J17))),"")} | M17: {=IF(ROWS(J$15:J17)<=COUNTIF(Devis!$K$15:$K$21,TRUE),INDEX(Devis!$N$15:$N$21,SMALL(IF(Devis!$K$15:$K$21=TRUE,ROW(Devis!$K$15:$K$21)-ROW(Devis!$J$15)+1),ROWS(J$15:J17))),"")}
J18: {=IF(ROWS(J$15:J18)<=COUNTIF(Devis!$K$15:$K$21,TRUE),INDEX(Devis!$L$15:$L$21,SMALL(IF(Devis!$K$15:$K$21=TRUE,ROW(Devis!$K$15:$K$21)-ROW(Devis!$J$15)+1),ROWS(J$15:J18))),"")} | K18: {=IF(ROWS(J$15:J18)<=COUNTIF(Dossier!$K$17:$K$23,TRUE),INDEX(Dossier!$Q$17:$Q$23,SMALL(IF(Dossier!$K$17:$K$23=TRUE,ROW(Dossier!$K$17:$K$23)-ROW(Dossier!$J$17)+1),ROWS(J$15:J18))),"")} | L18: {=IF(ROWS(J$15:J18)<=COUNTIF(Devis!$K$15:$K$21,TRUE),INDEX(Devis!$M$15:$M$21,SMALL(IF(Devis!$K$15:$K$21=TRUE,ROW(Devis!$K$15:$K$21)-ROW(Devis!$J$15)+1),ROWS(J$15:J18))),"")} | M18: {=IF(ROWS(J$15:J18)<=COUNTIF(Devis!$K$15:$K$21,TRUE),INDEX(Devis!$N$15:$N$21,SMALL(IF(Devis!$K$15:$K$21=TRUE,ROW(Devis!$K$15:$K$21)-ROW(Devis!$J$15)+1),ROWS(J$15:J18))),"")}

Sheet Fiche Technique (2)
C1: PAPIER
C3: FORMAT PAPIER
K5: Nbre de Feuille :
C11: FORMAT TIRAGE
K13: Nbre de Pose :
K19: Nbre de Pose :

Sheet Facture
B11: Désignation | E11: Quantité | F11: Prix unitaire | H11: Remise | I11: TOTAL
B14: Commande suivant devis N°
E16: 1 | F16: =#REF! -> #REF!
F40: Total H.T. | I40: =SUM(I15:I39) -> 0
F41: Port
F42: TVA | I42: =(I40+I41)*0.2 -> 0
F43: Acompte
F44: Net à payer | I44: =SUM(I40:I42)-I43 -> 0

Sheet BASE
A1: Impression | B1: Demande | C1: Livraison | D1: Maquette | E1: Désignation | F1: Format fini | G1: Format Ouvert | H1: Papier | I1: Grammage | J1: Vernis | K1: Pelliculage | L1: Découpe | M1: Nbre de poses | N1: Perfo détachable | O1: Perfo Ø | P1: Perfo Nbre | Q1: Nom Sous-traitant | R1: Désignation Sous-traitant | S1: Rainage | T1: Côté
A3: A REMPLIR | B3: Demande prise à l'accueil | C3: A REMPLIR | D3: A REMPLIR | E3: A REMPLIR | F3: A REMPLIR | G3: A REMPLIR | H3: A REMPLIR | I3: A REMPLIR | J3: A REMPLIR | K3: A REMPLIR | L3: A REMPLIR | M3: A REMPLIR | N3: A REMPLIR | O3: A REMPLIR | P3: A REMPLIR | S3: A REMPLIR | T3: A REMPLIR
A4: ARRAS | B4: Demande prise par le Commercial | C4: DEPART USINE | D4: CREA / COMPO | E4: CARTE DE VISITE | F4: 85 x 54 mm | H4: Offset | I4: 80 grs | J4: Brillant | K4: Brillant | L4: EN STOCK | M4: x 1 Pose | N4: Tête | O4: 3 mm | P4: x 1 | Q4: Pelliservice | R4: Pelliculage | S4: 1 Rainant | T4: Recto
A5: MAUROIS | B5: Demande reçu par Mail | C5: COMMERCIAL - 1 POINT | D5: FICHIERS FOURNIS | E5: CARTE DE CORRESPONDANCE | F5: 85 x 55 mm | H5: Couché Mat | I5: 90 grs | J5: Mat | K5: Mat | L5: A CRÉER | M5: x 2 Poses | N5: Pied | O5: 4 mm | P5: x 2 | Q5: ID 3D | R5: Contrecollage | S5: 2 Rainants | T5: Verso
A6: LILLE | B6: Demande reçu par Fax | C6: EXPEDITION - 1 POINT | D6: MODIFICATIONS | E6: CARTES DE FIDELITE | F6: 90 x 50 mm | H6: Couché Demi-Mat | I6: 100 grs | J6: Satiné | K6: Soft Touch | M6: x 3 Poses | N6: Droite | O6: 5 mm | P6: x 3 | Q6: JB | R6: Découpe | S6: 3 Rainants | T6: Recto-Verso
A7: SOUS-TRAITANCE | D7: RETIRAGE + CONTRÔLE | E7: CARTE DE VŒUX | F7: 90 x 55 mm | H7: Couché Brillant | I7: 110 grs | J7: UV Sélectif | M7: x 4 Poses | N7: Gauche | O7: 6 mm | P7: x 4 | Q7: Dipnor | R7: Impression | S7: 4 Rainants
A8: LILLE / MAUROIS | D8: RETIRAGE SANS CONTRÔLE | E8: CALENDRIER | F8: 95 x 55 mm | H8: Dossier | I8: 115 grs | M8: x 5 Poses | O8: 7 mm | Q8: Vanwormhoudt
A9: MAUROIS / LILLE | E9: MENU | F9: 128 x 82 mm | H9: Cyclus offset | I9: 120 grs | L9: Machine Faço | M9: x 6 Poses | N9: Machine Faço | O9: 8 mm | Q9: Vanaerde | S9: Machine Faço
A10: LILLE / ST | E10: CARTE DES VINS | F10: 100 x 150 mm | H10: Cyclus print | I10: 135 grs | M10: x 7 Poses | Q10: Presto
A11: MAUROIS / ST | E11: INVITATION | F11: 210 x 100 mm | H11: Fluo | I11: 150 grs | L11: A REMPLIR | M11: x 8 Poses | N11: A REMPLIR | Q11: Scherpereel | S11: A REMPLIR
A12: LILLE / ST / MAUROIS | E12: TETE DE LETTRE | F12: 150 x 210 mm | H12: Enveloppe sans fenêtre | I12: 160 grs | L12: PLATINE | M12: x 9 Poses | N12: RAINEUSE | Q12: Briqueteur | S12: RAINEUSE
A13: MAUROIS / ST / LILLE | E13: SUITE DE LETTRE | F13: 210 x 297 mm | H13: Enveloppe avec fenêtre | I13: 170 grs | L13: OFFMI | M13: x 10 Poses | N13: OFFMI | S13: PLATINE
A14: ST / MAUROIS | E14: AFFICHE | F14: 220 x 110 mm | H14: Pochette sans fenêtre | I14: 200 grs | L14: JBERG | N14: PM46/2 | S14: OFFMI
A15: ST / LILLE | E15: CHEMISE SANS RABAT | F15: 229 x 114 mm | H15: Pochette avec fenêtre | I15: 220 grs
E16: CHEMISE A RABAT | F16: 229 x 162 mm | I16: 250 grs
E17: PROSPECTUS | F17: 229 x 324 mm | I17: 300 grs
E18: FLYERS | F18: 297 x 420 mm | I18: 320 grs
A19: Plaque | E19: FEUILLET | I19: 350 grs
E20: ETIQUETTE
A21: A REMPLIR | E21: ENVELOPPE
A22: OUI | E22: POCHETTE
A23: NON | E23: PROGRAMME | L23: REGLEMENT | N23: Emballage | O23: Livraison
E24: CAVALIER | J24: Plastification
B25: DELAI | C25: Prépresse | G25: Faconnage | N25: A REMPLIR | O25: A REMPLIR
B26: A REMPLIR | C26: A REMPLIR | D26: Opérateur | G26: Plastification | L26: A REMPLIR | N26: Boite CV 8.5/5.5 | O26: Départ Usine Maurois
B27: Impératif Client | C27: CREA / COMPO | D27: A REMPLIR | G27: Pelliculage | I27: Coloris | J27: A REMPLIR | L27: Chèque | N27: Boite CV 12.8/8.2 | O27: Départ Agence Cambrai
B28: Décalage de quelques jours | C28: MODIFICATIONS | D28: Françoise | E28: Impression | G28: Découpe | J28: Brillant | L28: Espèces | N28: SOUS FILM | O28: Départ Agence Lille
B29: Info Interne | C29: FICHIER FOURNIS | D29: Sylvie | E29: A REMPLIR | G29: Ø Perforation | L29: Virement | N29: sous film/1 | O29: Commercial Maurois
C30: RETIRAGE | D30: Frantz | E30: SM52/4 | F30: Papier | G30: Perfo. Détachable | I30: A REMPLIR | J30: Recto | L30: Carte Bleue | N30: sous film/5 | O30: Commercial Lille
E31: PM46/2 | F31: A REMPLIR | G31: Rainage | I31: Blanc | N31: sous film/10 | O31: Exp. Coursier
E32: NUM LINO | F32: Stock le : | I32: Extra Blanc | N32: sous film/25 | O32: Exp. UPS
E33: NUM KONICA | F33: Cdé le : | I33: Ivoire | N33: sous film/50 | O33: Exp. France Express
A34: COULEUR | E34: S/TRAITANT | I34: Natural | N34: sous film/100
A35: QUADRI | I35: Crème | N35: sous film/200
A36: NOIR | D36: Transmis par | I36: Jaune | N36: sous film/250
A37: Vernis Brillant | D37: A REMPLIR | I37: Rose | N37: sous film/500
A38: Vernis Satiné | D38: Marie-Claude | I38: Bleu | N38: sous élastique/100
A39: Vernis Mat | D39: Sophie | I39: Vert | N39: sous élastique/250
I40: Gris | N40: sous élastique/500
I41: Rouge | N41: CARTON
...
