Workbook
Name Date: Feuil1!$B$2:$B$22
Name DLUO: Feuil1!$D$2:$E$6
Name Recette: Feuil1!$A$2:$A$22

Sheet Feuil1
A1: Recette | B1: Date de fabrication | D1: Recette | E1: DLUO
A2: A | B2: 42047 | D2: A | E2: 48
A3: A | B3: 42048 | D3: B | E3: 48
A4: A | B4: 42050 | D4: C | E4: 84
A5: A | B5: 42051 | D5: D | E5: 90
A6: A | B6: 42052 | D6: E | E6: 84
A7: B | B7: 42060
A8: B | B8: 42061
A9: B | B9: 42062

Sheet Planning1
B1: =MIN(Feuil1!$B$2:$B$22) -> 42047 | C1: =DATE(YEAR(B1),MONTH(B1),DAY(B1)+1) -> 42048 | D1: =DATE(YEAR(C1),MONTH(C1),DAY(C1)+1) -> 42049 | E1: =DATE(YEAR(D1),MONTH(D1),DAY(D1)+1) -> 42050 | F1: =DATE(YEAR(E1),MONTH(E1),DAY(E1)+1) -> 42051 | G1: =DATE(YEAR(F1),MONTH(F1),DAY(F1)+1) -> 42052 | H1: =DATE(YEAR(G1),MONTH(G1),DAY(G1)+1) -> 42053 | I1: =DATE(YEAR(H1),MONTH(H1),DAY(H1)+1) -> 42054 | J1: =DATE(YEAR(I1),MONTH(I1),DAY(I1)+1) -> 42055 | ... BL1: =DATE(YEAR(BK1),MONTH(BK1),DAY(BK1)+1) -> 42109
A2: =IF(Recette<>"",Recette,"") -> A | B2: =IF($A2<>"",IF(B$1=Feuil1!$B2,1,IF(B$1<Feuil1!$B2,2,IF(B$1>(Feuil1!$B2+VLOOKUP(Feuil1!$A2,DLUO,2)),4,IF(B$1=(Feuil1!$B2+VLOOKUP(Feuil1!$A2,DLUO,2)),3,"")))),"aucun test") -> 1 | C2: =IF($A2<>"",IF(C$1=Feuil1!$B2,1,IF(C$1<Feuil1!$B2,2,IF(C$1>(Feuil1!$B2+VLOOKUP(Feuil1!$A2,DLUO,2)),4,IF(C$1=(Feuil1!$B2+VLOOKUP(Feuil1!$A2,DLUO,2)),3,"")))),"aucun test") | D2: =IF($A2<>"",IF(D$1=Feuil1!$B2,1,IF(D$1<Feuil1!$B2,2,IF(D$1>(Feuil1!$B2+VLOOKUP(Feuil1!$A2,DLUO,2)),4,IF(D$1=(Feuil1!$B2+VLOOKUP(Feuil1!$A2,DLUO,2)),3,"")))),"aucun test") | E2: =IF($A2<>"",IF(E$1=Feuil1!$B2,1,IF(E$1<Feuil1!$B2,2,IF(E$1>(Feuil1!$B2+VLOOKUP(Feuil1!$A2,DLUO,2)),4,IF(E$1=(Feuil1!$B2+VLOOKUP(Feuil1!$A2,DLUO,2)),3,"")))),"aucun test") | F2: =IF($A2<>"",IF(F$1=Feuil1!$B2,1,IF(F$1<Feuil1!$B2,2,IF(F$1>(Feuil1!$B2+VLOOKUP(Feuil1!$A2,DLUO,2)),4,IF(F$1=(Feuil1!$B2+VLOOKUP(Feuil1!$A2,DLUO,2)),3,"")))),"aucun test") | G2: =IF($A2<>"",IF(G$1=Feuil1!$B2,1,IF(G$1<Feuil1!$B2,2,IF(G$1>(Feuil1!$B2+VLOOKUP(Feuil1!$A2,DLUO,2)),4,IF(G$1=(Feuil1!$B2+VLOOKUP(Feuil1!$A2,DLUO,2)),3,"")))),"aucun test") | H2: =IF($A2<>"",IF(H$1=Feuil1!$B2,1,IF(H$1<Feuil1!$B2,2,IF(H$1>(Feuil1!$B2+VLOOKUP(Feuil1!$A2,DLUO,2)),4,IF(H$1=(Feuil1!$B2+VLOOKUP(Feuil1!$A2,DLUO,2)),3,"")))),"aucun test") | I2: =IF($A2<>"",IF(I$1=Feuil1!$B2,1,IF(I$1<Feuil1!$B2,2,IF(I$1>(Feuil1!$B2+VLOOKUP(Feuil1!$A2,DLUO,2)),4,IF(I$1=(Feuil1!$B2+VLOOKUP(Feuil1!$A2,DLUO,2)),3,"")))),"aucun test") | ... BL2: =IF($A2<>"",IF(BL$1=Feuil1!$B2,1,IF(BL$1<Feuil1!$B2,2,IF(BL$1>(Feuil1!$B2+VLOOKUP(Feuil1!$A2,DLUO,2)),4,IF(BL$1=(Feuil1!$B2+VLOOKUP(Feuil1!$A2,DLUO,2)),3,"")))),"aucun test") -> 4
A3: =IF(Recette<>"",Recette,"") -> A | B3: =IF($A3<>"",IF(B$1=Feuil1!$B3,1,IF(B$1<Feuil1!$B3,2,IF(B$1>(Feuil1!$B3+VLOOKUP(Feuil1!$A3,DLUO,2)),4,IF(B$1=(Feuil1!$B3+VLOOKUP(Feuil1!$A3,DLUO,2)),3,"")))),"aucun test") -> 2 | C3: =IF($A3<>"",IF(C$1=Feuil1!$B3,1,IF(C$1<Feuil1!$B3,2,IF(C$1>(Feuil1!$B3+VLOOKUP(Feuil1!$A3,DLUO,2)),4,IF(C$1=(Feuil1!$B3+VLOOKUP(Feuil1!$A3,DLUO,2)),3,"")))),"aucun test") -> 1 | D3: =IF($A3<>"",IF(D$1=Feuil1!$B3,1,IF(D$1<Feuil1!$B3,2,IF(D$1>(Feuil1!$B3+VLOOKUP(Feuil1!$A3,DLUO,2)),4,IF(D$1=(Feuil1!$B3+VLOOKUP(Feuil1!$A3,DLUO,2)),3,"")))),"aucun test") | E3: =IF($A3<>"",IF(E$1=Feuil1!$B3,1,IF(E$1<Feuil1!$B3,2,IF(E$1>(Feuil1!$B3+VLOOKUP(Feuil1!$A3,DLUO,2)),4,IF(E$1=(Feuil1!$B3+VLOOKUP(Feuil1!$A3,DLUO,2)),3,"")))),"aucun test") | F3: =IF($A3<>"",IF(F$1=Feuil1!$B3,1,IF(F$1<Feuil1!$B3,2,IF(F$1>(Feuil1!$B3+VLOOKUP(Feuil1!$A3,DLUO,2)),4,IF(F$1=(Feuil1!$B3+VLOOKUP(Feuil1!$A3,DLUO,2)),3,"")))),"aucun test") | G3: =IF($A3<>"",IF(G$1=Feuil1!$B3,1,IF(G$1<Feuil1!$B3,2,IF(G$1>(Feuil1!$B3+VLOOKUP(Feuil1!$A3,DLUO,2)),4,IF(G$1=(Feuil1!$B3+VLOOKUP(Feuil1!$A3,DLUO,2)),3,"")))),"aucun test") | H3: =IF($A3<>"",IF(H$1=Feuil1!$B3,1,IF(H$1<Feuil1!$B3,2,IF(H$1>(Feuil1!$B3+VLOOKUP(Feuil1!$A3,DLUO,2)),4,IF(H$1=(Feuil1!$B3+VLOOKUP(Feuil1!$A3,DLUO,2)),3,"")))),"aucun test") | I3: =IF($A3<>"",IF(I$1=Feuil1!$B3,1,IF(I$1<Feuil1!$B3,2,IF(I$1>(Feuil1!$B3+VLOOKUP(Feuil1!$A3,DLUO,2)),4,IF(I$1=(Feuil1!$B3+VLOOKUP(Feuil1!$A3,DLUO,2)),3,"")))),"aucun test") | ... BL3: =IF($A3<>"",IF(BL$1=Feuil1!$B3,1,IF(BL$1<Feuil1!$B3,2,IF(BL$1>(Feuil1!$B3+VLOOKUP(Feuil1!$A3,DLUO,2)),4,IF(BL$1=(Feuil1!$B3+VLOOKUP(Feuil1!$A3,DLUO,2)),3,"")))),"aucun test") -> 4
A4: =IF(Recette<>"",Recette,"") -> A | B4: =IF($A4<>"",IF(B$1=Feuil1!$B4,1,IF(B$1<Feuil1!$B4,2,IF(B$1>(Feuil1!$B4+VLOOKUP(Feuil1!$A4,DLUO,2)),4,IF(B$1=(Feuil1!$B4+VLOOKUP(Feuil1!$A4,DLUO,2)),3,"")))),"aucun test") -> 2 | C4: =IF($A4<>"",IF(C$1=Feuil1!$B4,1,IF(C$1<Feuil1!$B4,2,IF(C$1>(Feuil1!$B4+VLOOKUP(Feuil1!$A4,DLUO,2)),4,IF(C$1=(Feuil1!$B4+VLOOKUP(Feuil1!$A4,DLUO,2)),3,"")))),"aucun test") -> 2 | D4: =IF($A4<>"",IF(D$1=Feuil1!$B4,1,IF(D$1<Feuil1!$B4,2,IF(D$1>(Feuil1!$B4+VLOOKUP(Feuil1!$A4,DLUO,2)),4,IF(D$1=(Feuil1!$B4+VLOOKUP(Feuil1!$A4,DLUO,2)),3,"")))),"aucun test") -> 2 | E4: =IF($A4<>"",IF(E$1=Feuil1!$B4,1,IF(E$1<Feuil1!$B4,2,IF(E$1>(Feuil1!$B4+VLOOKUP(Feuil1!$A4,DLUO,2)),4,IF(E$1=(Feuil1!$B4+VLOOKUP(Feuil1!$A4,DLUO,2)),3,"")))),"aucun test") -> 1 | F4: =IF($A4<>"",IF(F$1=Feuil1!$B4,1,IF(F$1<Feuil1!$B4,2,IF(F$1>(Feuil1!$B4+VLOOKUP(Feuil1!$A4,DLUO,2)),4,IF(F$1=(Feuil1!$B4+VLOOKUP(Feuil1!$A4,DLUO,2)),3,"")))),"aucun test") | G4: =IF($A4<>"",IF(G$1=Feuil1!$B4,1,IF(G$1<Feuil1!$B4,2,IF(G$1>(Feuil1!$B4+VLOOKUP(Feuil1!$A4,DLUO,2)),4,IF(G$1=(Feuil1!$B4+VLOOKUP(Feuil1!$A4,DLUO,2)),3,"")))),"aucun test") | H4: =IF($A4<>"",IF(H$1=Feuil1!$B4,1,IF(H$1<Feuil1!$B4,2,IF(H$1>(Feuil1!$B4+VLOOKUP(Feuil1!$A4,DLUO,2)),4,IF(H$1=(Feuil1!$B4+VLOOKUP(Feuil1!$A4,DLUO,2)),3,"")))),"aucun test") | I4: =IF($A4<>"",IF(I$1=Feuil1!$B4,1,IF(I$1<Feuil1!$B4,2,IF(I$1>(Feuil1!$B4+VLOOKUP(Feuil1!$A4,DLUO,2)),4,IF(I$1=(Feuil1!$B4+VLOOKUP(Feuil1!$A4,DLUO,2)),3,"")))),"aucun test") | ... BL4: =IF($A4<>"",IF(BL$1=Feuil1!$B4,1,IF(BL$1<Feuil1!$B4,2,IF(BL$1>(Feuil1!$B4+VLOOKUP(Feuil1!$A4,DLUO,2)),4,IF(BL$1=(Feuil1!$B4+VLOOKUP(Feuil1!$A4,DLUO,2)),3,"")))),"aucun test") -> 4
A5: =IF(Recette<>"",Recette,"") -> A | B5: =IF($A5<>"",IF(B$1=Feuil1!$B5,1,IF(B$1<Feuil1!$B5,2,IF(B$1>(Feuil1!$B5+VLOOKUP(Feuil1!$A5,DLUO,2)),4,IF(B$1=(Feuil1!$B5+VLOOKUP(Feuil1!$A5,DLUO,2)),3,"")))),"aucun test") -> 2 | C5: =IF($A5<>"",IF(C$1=Feuil1!$B5,1,IF(C$1<Feuil1!$B5,2,IF(C$1>(Feuil1!$B5+VLOOKUP(Feuil1!$A5,DLUO,2)),4,IF(C$1=(Feuil1!$B5+VLOOKUP(Feuil1!$A5,DLUO,2)),3,"")))),"aucun test") -> 2 | D5: =IF($A5<>"",IF(D$1=Feuil1!$B5,1,IF(D$1<Feuil1!$B5,2,IF(D$1>(Feuil1!$B5+VLOOKUP(Feuil1!$A5,DLUO,2)),4,IF(D$1=(Feuil1!$B5+VLOOKUP(Feuil1!$A5,DLUO,2)),3,"")))),"aucun test") -> 2 | E5: =IF($A5<>"",IF(E$1=Feuil1!$B5,1,IF(E$1<Feuil1!$B5,2,IF(E$1>(Feuil1!$B5+VLOOKUP(Feuil1!$A5,DLUO,2)),4,IF(E$1=(Feuil1!$B5+VLOOKUP(Feuil1!$A5,DLUO,2)),3,"")))),"aucun test") -> 2 | F5: =IF($A5<>"",IF(F$1=Feuil1!$B5,1,IF(F$1<Feuil1!$B5,2,IF(F$1>(Feuil1!$B5+VLOOKUP(Feuil1!$A5,DLUO,2)),4,IF(F$1=(Feuil1!$B5+VLOOKUP(Feuil1!$A5,DLUO,2)),3,"")))),"aucun test") -> 1 | G5: =IF($A5<>"",IF(G$1=Feuil1!$B5,1,IF(G$1<Feuil1!$B5,2,IF(G$1>(Feuil1!$B5+VLOOKUP(Feuil1!$A5,DLUO,2)),4,IF(G$1=(Feuil1!$B5+VLOOKUP(Feuil1!$A5,DLUO,2)),3,"")))),"aucun test") | H5: =IF($A5<>"",IF(H$1=Feuil1!$B5,1,IF(H$1<Feuil1!$B5,2,IF(H$1>(Feuil1!$B5+VLOOKUP(Feuil1!$A5,DLUO,2)),4,IF(H$1=(Feuil1!$B5+VLOOKUP(Feuil1!$A5,DLUO,2)),3,"")))),"aucun test") | I5: =IF($A5<>"",IF(I$1=Feuil1!$B5,1,IF(I$1<Feuil1!$B5,2,IF(I$1>(Feuil1!$B5+VLOOKUP(Feuil1!$A5,DLUO,2)),4,IF(I$1=(Feuil1!$B5+VLOOKUP(Feuil1!$A5,DLUO,2)),3,"")))),"aucun test") | ... BL5: =IF($A5<>"",IF(BL$1=Feuil1!$B5,1,IF(BL$1<Feuil1!$B5,2,IF(BL$1>(Feuil1!$B5+VLOOKUP(Feuil1!$A5,DLUO,2)),4,IF(BL$1=(Feuil1!$B5+VLOOKUP(Feuil1!$A5,DLUO,2)),3,"")))),"aucun test") -> 4
A6: =IF(Recette<>"",Recette,"") -> A | B6: =IF($A6<>"",IF(B$1=Feuil1!$B6,1,IF(B$1<Feuil1!$B6,2,IF(B$1>(Feuil1!$B6+VLOOKUP(Feuil1!$A6,DLUO,2)),4,IF(B$1=(Feuil1!$B6+VLOOKUP(Feuil1!$A6,DLUO,2)),3,"")))),"aucun test") -> 2 | C6: =IF($A6<>"",IF(C$1=Feuil1!$B6,1,IF(C$1<Feuil1!$B6,2,IF(C$1>(Feuil1!$B6+VLOOKUP(Feuil1!$A6,DLUO,2)),4,IF(C$1=(Feuil1!$B6+VLOOKUP(Feuil1!$A6,DLUO,2)),3,"")))),"aucun test") -> 2 | D6: =IF($A6<>"",IF(D$1=Feuil1!$B6,1,IF(D$1<Feuil1!$B6,2,IF(D$1>(Feuil1!$B6+VLOOKUP(Feuil1!$A6,DLUO,2)),4,IF(D$1=(Feuil1!$B6+VLOOKUP(Feuil1!$A6,DLUO,2)),3,"")))),"aucun test") -> 2 | E6: =IF($A6<>"",IF(E$1=Feuil1!$B6,1,IF(E$1<Feuil1!$B6,2,IF(E$1>(Feuil1!$B6+VLOOKUP(Feuil1!$A6,DLUO,2)),4,IF(E$1=(Feuil1!$B6+VLOOKUP(Feuil1!$A6,DLUO,2)),3,"")))),"aucun test") -> 2 | F6: =IF($A6<>"",IF(F$1=Feuil1!$B6,1,IF(F$1<Feuil1!$B6,2,IF(F$1>(Feuil1!$B6+VLOOKUP(Feuil1!$A6,DLUO,2)),4,IF(F$1=(Feuil1!$B6+VLOOKUP(Feuil1!$A6,DLUO,2)),3,"")))),"aucun test") -> 2 | G6: =IF($A6<>"",IF(G$1=Feuil1!$B6,1,IF(G$1<Feuil1!$B6,2,IF(G$1>(Feuil1!$B6+VLOOKUP(Feuil1!$A6,DLUO,2)),4,IF(G$1=(Feuil1!$B6+VLOOKUP(Feuil1!$A6,DLUO,2)),3,"")))),"aucun test") -> 1 | H6: =IF($A6<>"",IF(H$1=Feuil1!$B6,1,IF(H$1<Feuil1!$B6,2,IF(H$1>(Feuil1!$B6+VLOOKUP(Feuil1!$A6,DLUO,2)),4,IF(H$1=(Feuil1!$B6+VLOOKUP(Feuil1!$A6,DLUO,2)),3,"")))),"aucun test") | I6: =IF($A6<>"",IF(I$1=Feuil1!$B6,1,IF(I$1<Feuil1!$B6,2,IF(I$1>(Feuil1!$B6+VLOOKUP(Feuil1!$A6,DLUO,2)),4,IF(I$1=(Feuil1!$B6+VLOOKUP(Feuil1!$A6,DLUO,2)),3,"")))),"aucun test") | ... BL6: =IF($A6<>"",IF(BL$1=Feuil1!$B6,1,IF(BL$1<Feuil1!$B6,2,IF(BL$1>(Feuil1!$B6+VLOOKUP(Feuil1!$A6,DLUO,2)),4,IF(BL$1=(Feuil1!$B6+VLOOKUP(Feuil1!$A6,DLUO,2)),3,"")))),"aucun test") -> 4
A7: =IF(Recette<>"",Recette,"") -> B | B7: =IF($A7<>"",IF(B$1=Feuil1!$B7,1,IF(B$1<Feuil1!$B7,2,IF(B$1>(Feuil1!$B7+VLOOKUP(Feuil1!$A7,DLUO,2)),4,IF(B$1=(Feuil1!$B7+VLOOKUP(Feuil1!$A7,DLUO,2)),3,"")))),"aucun test") -> 2 | C7: =IF($A7<>"",IF(C$1=Feuil1!$B7,1,IF(C$1<Feuil1!$B7,2,IF(C$1>(Feuil1!$B7+VLOOKUP(Feuil1!$A7,DLUO,2)),4,IF(C$1=(Feuil1!$B7+VLOOKUP(Feuil1!$A7,DLUO,2)),3,"")))),"aucun test") -> 2 | D7: =IF($A7<>"",IF(D$1=Feuil1!$B7,1,IF(D$1<Feuil1!$B7,2,IF(D$1>(Feuil1!$B7+VLOOKUP(Feuil1!$A7,DLUO,2)),4,IF(D$1=(Feuil1!$B7+VLOOKUP(Feuil1!$A7,DLUO,2)),3,"")))),"aucun test") -> 2 | E7: =IF($A7<>"",IF(E$1=Feuil1!$B7,1,IF(E$1<Feuil1!$B7,2,IF(E$1>(Feuil1!$B7+VLOOKUP(Feuil1!$A7,DLUO,2)),4,IF(E$1=(Feuil1!$B7+VLOOKUP(Feuil1!$A7,DLUO,2)),3,"")))),"aucun test") -> 2 | F7: =IF($A7<>"",IF(F$1=Feuil1!$B7,1,IF(F$1<Feuil1!$B7,2,IF(F$1>(Feuil1!$B7+VLOOKUP(Feuil1!$A7,DLUO,2)),4,IF(F$1=(Feuil1!$B7+VLOOKUP(Feuil1!$A7,DLUO,2)),3,"")))),"aucun test") -> 2 | G7: =IF($A7<>"",IF(G$1=Feuil1!$B7,1,IF(G$1<Feuil1!$B7,2,IF(G$1>(Feuil1!$B7+VLOOKUP(Feuil1!$A7,DLUO,2)),4,IF(G$1=(Feuil1!$B7+VLOOKUP(Feuil1!$A7,DLUO,2)),3,"")))),"aucun test") -> 2 | H7: =IF($A7<>"",IF(H$1=Feuil1!$B7,1,IF(H$1<Feuil1!$B7,2,IF(H$1>(Feuil1!$B7+VLOOKUP(Feuil1!$A7,DLUO,2)),4,IF(H$1=(Feuil1!$B7+VLOOKUP(Feuil1!$A7,DLUO,2)),3,"")))),"aucun test") -> 2 | I7: =IF($A7<>"",IF(I$1=Feuil1!$B7,1,IF(I$1<Feuil1!$B7,2,IF(I$1>(Feuil1!$B7+VLOOKUP(Feuil1!$A7,DLUO,2)),4,IF(I$1=(Feuil1!$B7+VLOOKUP(Feuil1!$A7,DLUO,2)),3,"")))),"aucun test") -> 2 | ... BL7: =IF($A7<>"",IF(BL$1=Feuil1!$B7,1,IF(BL$1<Feuil1!$B7,2,IF(BL$1>(Feuil1!$B7+VLOOKUP(Feuil1!$A7,DLUO,2)),4,IF(BL$1=(Feuil1!$B7+VLOOKUP(Feuil1!$A7,DLUO,2)),3,"")))),"aucun test") -> 4
A8: =IF(Recette<>"",Recette,"") -> B | B8: =IF($A8<>"",IF(B$1=Feuil1!$B8,1,IF(B$1<Feuil1!$B8,2,IF(B$1>(Feuil1!$B8+VLOOKUP(Feuil1!$A8,DLUO,2)),4,IF(B$1=(Feuil1!$B8+VLOOKUP(Feuil1!$A8,DLUO,2)),3,"")))),"aucun test") -> 2 | C8: =IF($A8<>"",IF(C$1=Feuil1!$B8,1,IF(C$1<Feuil1!$B8,2,IF(C$1>(Feuil1!$B8+VLOOKUP(Feuil1!$A8,DLUO,2)),4,IF(C$1=(Feuil1!$B8+VLOOKUP(Feuil1!$A8,DLUO,2)),3,"")))),"aucun test") -> 2 | D8: =IF($A8<>"",IF(D$1=Feuil1!$B8,1,IF(D$1<Feuil1!$B8,2,IF(D$1>(Feuil1!$B8+VLOOKUP(Feuil1!$A8,DLUO,2)),4,IF(D$1=(Feuil1!$B8+VLOOKUP(Feuil1!$A8,DLUO,2)),3,"")))),"aucun test") -> 2 | E8: =IF($A8<>"",IF(E$1=Feuil1!$B8,1,IF(E$1<Feuil1!$B8,2,IF(E$1>(Feuil1!$B8+VLOOKUP(Feuil1!$A8,DLUO,2)),4,IF(E$1=(Feuil1!$B8+VLOOKUP(Feuil1!$A8,DLUO,2)),3,"")))),"aucun test") -> 2 | F8: =IF($A8<>"",IF(F$1=Feuil1!$B8,1,IF(F$1<Feuil1!$B8,2,IF(F$1>(Feuil1!$B8+VLOOKUP(Feuil1!$A8,DLUO,2)),4,IF(F$1=(Feuil1!$B8+VLOOKUP(Feuil1!$A8,DLUO,2)),3,"")))),"aucun test") -> 2 | G8: =IF($A8<>"",IF(G$1=Feuil1!$B8,1,IF(G$1<Feuil1!$B8,2,IF(G$1>(Feuil1!$B8+VLOOKUP(Feuil1!$A8,DLUO,2)),4,IF(G$1=(Feuil1!$B8+VLOOKUP(Feuil1!$A8,DLUO,2)),3,"")))),"aucun test") -> 2 | H8: =IF($A8<>"",IF(H$1=Feuil1!$B8,1,IF(H$1<Feuil1!$B8,2,IF(H$1>(Feuil1!$B8+VLOOKUP(Feuil1!$A8,DLUO,2)),4,IF(H$1=(Feuil1!$B8+VLOOKUP(Feuil1!$A8,DLUO,2)),3,"")))),"aucun test") -> 2 | I8: =IF($A8<>"",IF(I$1=Feuil1!$B8,1,IF(I$1<Feuil1!$B8,2,IF(I$1>(Feuil1!$B8+VLOOKUP(Feuil1!$A8,DLUO,2)),4,IF(I$1=(Feuil1!$B8+VLOOKUP(Feuil1!$A8,DLUO,2)),3,"")))),"aucun test") -> 2 | ... BL8: =IF($A8<>"",IF(BL$1=Feuil1!$B8,1,IF(BL$1<Feuil1!$B8,2,IF(BL$1>(Feuil1!$B8+VLOOKUP(Feuil1!$A8,DLUO,2)),4,IF(BL$1=(Feuil1!$B8+VLOOKUP(Feuil1!$A8,DLUO,2)),3,"")))),"aucun test") -> 3
A9: =IF(Recette<>"",Recette,"") -> B | B9: =IF($A9<>"",IF(B$1=Feuil1!$B9,1,IF(B$1<Feuil1!$B9,2,IF(B$1>(Feuil1!$B9+VLOOKUP(Feuil1!$A9,DLUO,2)),4,IF(B$1=(Feuil1!$B9+VLOOKUP(Feuil1!$A9,DLUO,2)),3,"")))),"aucun test") -> 2 | C9: =IF($A9<>"",IF(C$1=Feuil1!$B9,1,IF(C$1<Feuil1!$B9,2,IF(C$1>(Feuil1!$B9+VLOOKUP(Feuil1!$A9,DLUO,2)),4,IF(C$1=(Feuil1!$B9+VLOOKUP(Feuil1!$A9,DLUO,2)),3,"")))),"aucun test") -> 2 | D9: =IF($A9<>"",IF(D$1=Feuil1!$B9,1,IF(D$1<Feuil1!$B9,2,IF(D$1>(Feuil1!$B9+VLOOKUP(Feuil1!$A9,DLUO,2)),4,IF(D$1=(Feuil1!$B9+VLOOKUP(Feuil1!$A9,DLUO,2)),3,"")))),"aucun test") -> 2 | E9: =IF($A9<>"",IF(E$1=Feuil1!$B9,1,IF(E$1<Feuil1!$B9,2,IF(E$1>(Feuil1!$B9+VLOOKUP(Feuil1!$A9,DLUO,2)),4,IF(E$1=(Feuil1!$B9+VLOOKUP(Feuil1!$A9,DLUO,2)),3,"")))),"aucun test") -> 2 | F9: =IF($A9<>"",IF(F$1=Feuil1!$B9,1,IF(F$1<Feuil1!$B9,2,IF(F$1>(Feuil1!$B9+VLOOKUP(Feuil1!$A9,DLUO,2)),4,IF(F$1=(Feuil1!$B9+VLOOKUP(Feuil1!$A9,DLUO,2)),3,"")))),"aucun test") -> 2 | G9: =IF($A9<>"",IF(G$1=Feuil1!$B9,1,IF(G$1<Feuil1!$B9,2,IF(G$1>(Feuil1!$B9+VLOOKUP(Feuil1!$A9,DLUO,2)),4,IF(G$1=(Feuil1!$B9+VLOOKUP(Feuil1!$A9,DLUO,2)),3,"")))),"aucun test") -> 2 | H9: =IF($A9<>"",IF(H$1=Feuil1!$B9,1,IF(H$1<Feuil1!$B9,2,IF(H$1>(Feuil1!$B9+VLOOKUP(Feuil1!$A9,DLUO,2)),4,IF(H$1=(Feuil1!$B9+VLOOKUP(Feuil1!$A9,DLUO,2)),3,"")))),"aucun test") -> 2 | I9: =IF($A9<>"",IF(I$1=Feuil1!$B9,1,IF(I$1<Feuil1!$B9,2,IF(I$1>(Feuil1!$B9+VLOOKUP(Feuil1!$A9,DLUO,2)),4,IF(I$1=(Feuil1!$B9+VLOOKUP(Feuil1!$A9,DLUO,2)),3,"")))),"aucun test") -> 2 | ... BL9: =IF($A9<>"",IF(BL$1=Feuil1!$B9,1,IF(BL$1<Feuil1!$B9,2,IF(BL$1>(Feuil1!$B9+VLOOKUP(Feuil1!$A9,DLUO,2)),4,IF(BL$1=(Feuil1!$B9+VLOOKUP(Feuil1!$A9,DLUO,2)),3,"")))),"aucun test")
A10: =IF(Recette<>"",Recette,"") | B10: =IF($A10<>"",IF(B$1=Feuil1!$B10,1,IF(B$1<Feuil1!$B10,2,IF(B$1>(Feuil1!$B10+VLOOKUP(Feuil1!$A10,DLUO,2)),4,IF(B$1=(Feuil1!$B10+VLOOKUP(Feuil1!$A10,DLUO,2)),3,"")))),"aucun test") -> aucun test | C10: =IF($A10<>"",IF(C$1=Feuil1!$B10,1,IF(C$1<Feuil1!$B10,2,IF(C$1>(Feuil1!$B10+VLOOKUP(Feuil1!$A10,DLUO,2)),4,IF(C$1=(Feuil1!$B10+VLOOKUP(Feuil1!$A10,DLUO,2)),3,"")))),"aucun test") -> aucun test | D10: =IF($A10<>"",IF(D$1=Feuil1!$B10,1,IF(D$1<Feuil1!$B10,2,IF(D$1>(Feuil1!$B10+VLOOKUP(Feuil1!$A10,DLUO,2)),4,IF(D$1=(Feuil1!$B10+VLOOKUP(Feuil1!$A10,DLUO,2)),3,"")))),"aucun test") -> aucun test | E10: =IF($A10<>"",IF(E$1=Feuil1!$B10,1,IF(E$1<Feuil1!$B10,2,IF(E$1>(Feuil1!$B10+VLOOKUP(Feuil1!$A10,DLUO,2)),4,IF(E$1=(Feuil1!$B10+VLOOKUP(Feuil1!$A10,DLUO,2)),3,"")))),"aucun test") -> aucun test | F10: =IF($A10<>"",IF(F$1=Feuil1!$B10,1,IF(F$1<Feuil1!$B10,2,IF(F$1>(Feuil1!$B10+VLOOKUP(Feuil1!$A10,DLUO,2)),4,IF(F$1=(Feuil1!$B10+VLOOKUP(Feuil1!$A10,DLUO,2)),3,"")))),"aucun test") -> aucun test | G10: =IF($A10<>"",IF(G$1=Feuil1!$B10,1,IF(G$1<Feuil1!$B10,2,IF(G$1>(Feuil1!$B10+VLOOKUP(Feuil1!$A10,DLUO,2)),4,IF(G$1=(Feuil1!$B10+VLOOKUP(Feuil1!$A10,DLUO,2)),3,"")))),"aucun test") -> aucun test | H10: =IF($A10<>"",IF(H$1=Feuil1!$B10,1,IF(H$1<Feuil1!$B10,2,IF(H$1>(Feuil1!$B10+VLOOKUP(Feuil1!$A10,DLUO,2)),4,IF(H$1=(Feuil1!$B10+VLOOKUP(Feuil1!$A10,DLUO,2)),3,"")))),"aucun test") -> aucun test | I10: =IF($A10<>"",IF(I$1=Feuil1!$B10,1,IF(I$1<Feuil1!$B10,2,IF(I$1>(Feuil1!$B10+VLOOKUP(Feuil1!$A10,DLUO,2)),4,IF(I$1=(Feuil1!$B10+VLOOKUP(Feuil1!$A10,DLUO,2)),3,"")))),"aucun test") -> aucun test | ... BL10: =IF($A10<>"",IF(BL$1=Feuil1!$B10,1,IF(BL$1<Feuil1!$B10,2,IF(BL$1>(Feuil1!$B10+VLOOKUP(Feuil1!$A10,DLUO,2)),4,IF(BL$1=(Feuil1!$B10+VLOOKUP(Feuil1!$A10,DLUO,2)),3,"")))),"aucun test") -> aucun test
A11: =IF(Recette<>"",Recette,"") | B11: =IF($A11<>"",IF(B$1=Feuil1!$B11,1,IF(B$1<Feuil1!$B11,2,IF(B$1>(Feuil1!$B11+VLOOKUP(Feuil1!$A11,DLUO,2)),4,IF(B$1=(Feuil1!$B11+VLOOKUP(Feuil1!$A11,DLUO,2)),3,"")))),"aucun test") -> aucun test | C11: =IF($A11<>"",IF(C$1=Feuil1!$B11,1,IF(C$1<Feuil1!$B11,2,IF(C$1>(Feuil1!$B11+VLOOKUP(Feuil1!$A11,DLUO,2)),4,IF(C$1=(Feuil1!$B11+VLOOKUP(Feuil1!$A11,DLUO,2)),3,"")))),"aucun test") -> aucun test | D11: =IF($A11<>"",IF(D$1=Feuil1!$B11,1,IF(D$1<Feuil1!$B11,2,IF(D$1>(Feuil1!$B11+VLOOKUP(Feuil1!$A11,DLUO,2)),4,IF(D$1=(Feuil1!$B11+VLOOKUP(Feuil1!$A11,DLUO,2)),3,"")))),"aucun test") -> aucun test | E11: =IF($A11<>"",IF(E$1=Feuil1!$B11,1,IF(E$1<Feuil1!$B11,2,IF(E$1>(Feuil1!$B11+VLOOKUP(Feuil1!$A11,DLUO,2)),4,IF(E$1=(Feuil1!$B11+VLOOKUP(Feuil1!$A11,DLUO,2)),3,"")))),"aucun test") -> aucun test | F11: =IF($A11<>"",IF(F$1=Feuil1!$B11,1,IF(F$1<Feuil1!$B11,2,IF(F$1>(Feuil1!$B11+VLOOKUP(Feuil1!$A11,DLUO,2)),4,IF(F$1=(Feuil1!$B11+VLOOKUP(Feuil1!$A11,DLUO,2)),3,"")))),"aucun test") -> aucun test | G11: =IF($A11<>"",IF(G$1=Feuil1!$B11,1,IF(G$1<Feuil1!$B11,2,IF(G$1>(Feuil1!$B11+VLOOKUP(Feuil1!$A11,DLUO,2)),4,IF(G$1=(Feuil1!$B11+VLOOKUP(Feuil1!$A11,DLUO,2)),3,"")))),"aucun test") -> aucun test | H11: =IF($A11<>"",IF(H$1=Feuil1!$B11,1,IF(H$1<Feuil1!$B11,2,IF(H$1>(Feuil1!$B11+VLOOKUP(Feuil1!$A11,DLUO,2)),4,IF(H$1=(Feuil1!$B11+VLOOKUP(Feuil1!$A11,DLUO,2)),3,"")))),"aucun test") -> aucun test | I11: =IF($A11<>"",IF(I$1=Feuil1!$B11,1,IF(I$1<Feuil1!$B11,2,IF(I$1>(Feuil1!$B11+VLOOKUP(Feuil1!$A11,DLUO,2)),4,IF(I$1=(Feuil1!$B11+VLOOKUP(Feuil1!$A11,DLUO,2)),3,"")))),"aucun test") -> aucun test | ... BL11: =IF($A11<>"",IF(BL$1=Feuil1!$B11,1,IF(BL$1<Feuil1!$B11,2,IF(BL$1>(Feuil1!$B11+VLOOKUP(Feuil1!$A11,DLUO,2)),4,IF(BL$1=(Feuil1!$B11+VLOOKUP(Feuil1!$A11,DLUO,2)),3,"")))),"aucun test") -> aucun test
A12: =IF(Recette<>"",Recette,"") | B12: =IF($A12<>"",IF(B$1=Feuil1!$B12,1,IF(B$1<Feuil1!$B12,2,IF(B$1>(Feuil1!$B12+VLOOKUP(Feuil1!$A12,DLUO,2)),4,IF(B$1=(Feuil1!$B12+VLOOKUP(Feuil1!$A12,DLUO,2)),3,"")))),"aucun test") -> aucun test | C12: =IF($A12<>"",IF(C$1=Feuil1!$B12,1,IF(C$1<Feuil1!$B12,2,IF(C$1>(Feuil1!$B12+VLOOKUP(Feuil1!$A12,DLUO,2)),4,IF(C$1=(Feuil1!$B12+VLOOKUP(Feuil1!$A12,DLUO,2)),3,"")))),"aucun test") -> aucun test | D12: =IF($A12<>"",IF(D$1=Feuil1!$B12,1,IF(D$1<Feuil1!$B12,2,IF(D$1>(Feuil1!$B12+VLOOKUP(Feuil1!$A12,DLUO,2)),4,IF(D$1=(Feuil1!$B12+VLOOKUP(Feuil1!$A12,DLUO,2)),3,"")))),"aucun test") -> aucun test | E12: =IF($A12<>"",IF(E$1=Feuil1!$B12,1,IF(E$1<Feuil1!$B12,2,IF(E$1>(Feuil1!$B12+VLOOKUP(Feuil1!$A12,DLUO,2)),4,IF(E$1=(Feuil1!$B12+VLOOKUP(Feuil1!$A12,DLUO,2)),3,"")))),"aucun test") -> aucun test | F12: =IF($A12<>"",IF(F$1=Feuil1!$B12,1,IF(F$1<Feuil1!$B12,2,IF(F$1>(Feuil1!$B12+VLOOKUP(Feuil1!$A12,DLUO,2)),4,IF(F$1=(Feuil1!$B12+VLOOKUP(Feuil1!$A12,DLUO,2)),3,"")))),"aucun test") -> aucun test | G12: =IF($A12<>"",IF(G$1=Feuil1!$B12,1,IF(G$1<Feuil1!$B12,2,IF(G$1>(Feuil1!$B12+VLOOKUP(Feuil1!$A12,DLUO,2)),4,IF(G$1=(Feuil1!$B12+VLOOKUP(Feuil1!$A12,DLUO,2)),3,"")))),"aucun test") -> aucun test | H12: =IF($A12<>"",IF(H$1=Feuil1!$B12,1,IF(H$1<Feuil1!$B12,2,IF(H$1>(Feuil1!$B12+VLOOKUP(Feuil1!$A12,DLUO,2)),4,IF(H$1=(Feuil1!$B12+VLOOKUP(Feuil1!$A12,DLUO,2)),3,"")))),"aucun test") -> aucun test | I12: =IF($A12<>"",IF(I$1=Feuil1!$B12,1,IF(I$1<Feuil1!$B12,2,IF(I$1>(Feuil1!$B12+VLOOKUP(Feuil1!$A12,DLUO,2)),4,IF(I$1=(Feuil1!$B12+VLOOKUP(Feuil1!$A12,DLUO,2)),3,"")))),"aucun test") -> aucun test | ... BL12: =IF($A12<>"",IF(BL$1=Feuil1!$B12,1,IF(BL$1<Feuil1!$B12,2,IF(BL$1>(Feuil1!$B12+VLOOKUP(Feuil1!$A12,DLUO,2)),4,IF(BL$1=(Feuil1!$B12+VLOOKUP(Feuil1!$A12,DLUO,2)),3,"")))),"aucun test") -> aucun test
A13: =IF(Recette<>"",Recette,"") | B13: =IF($A13<>"",IF(B$1=Feuil1!$B13,1,IF(B$1<Feuil1!$B13,2,IF(B$1>(Feuil1!$B13+VLOOKUP(Feuil1!$A13,DLUO,2)),4,IF(B$1=(Feuil1!$B13+VLOOKUP(Feuil1!$A13,DLUO,2)),3,"")))),"aucun test") -> aucun test | C13: =IF($A13<>"",IF(C$1=Feuil1!$B13,1,IF(C$1<Feuil1!$B13,2,IF(C$1>(Feuil1!$B13+VLOOKUP(Feuil1!$A13,DLUO,2)),4,IF(C$1=(Feuil1!$B13+VLOOKUP(Feuil1!$A13,DLUO,2)),3,"")))),"aucun test") -> aucun test | D13: =IF($A13<>"",IF(D$1=Feuil1!$B13,1,IF(D$1<Feuil1!$B13,2,IF(D$1>(Feuil1!$B13+VLOOKUP(Feuil1!$A13,DLUO,2)),4,IF(D$1=(Feuil1!$B13+VLOOKUP(Feuil1!$A13,DLUO,2)),3,"")))),"aucun test") -> aucun test | E13: =IF($A13<>"",IF(E$1=Feuil1!$B13,1,IF(E$1<Feuil1!$B13,2,IF(E$1>(Feuil1!$B13+VLOOKUP(Feuil1!$A13,DLUO,2)),4,IF(E$1=(Feuil1!$B13+VLOOKUP(Feuil1!$A13,DLUO,2)),3,"")))),"aucun test") -> aucun test | F13: =IF($A13<>"",IF(F$1=Feuil1!$B13,1,IF(F$1<Feuil1!$B13,2,IF(F$1>(Feuil1!$B13+VLOOKUP(Feuil1!$A13,DLUO,2)),4,IF(F$1=(Feuil1!$B13+VLOOKUP(Feuil1!$A13,DLUO,2)),3,"")))),"aucun test") -> aucun test | G13: =IF($A13<>"",IF(G$1=Feuil1!$B13,1,IF(G$1<Feuil1!$B13,2,IF(G$1>(Feuil1!$B13+VLOOKUP(Feuil1!$A13,DLUO,2)),4,IF(G$1=(Feuil1!$B13+VLOOKUP(Feuil1!$A13,DLUO,2)),3,"")))),"aucun test") -> aucun test | H13: =IF($A13<>"",IF(H$1=Feuil1!$B13,1,IF(H$1<Feuil1!$B13,2,IF(H$1>(Feuil1!$B13+VLOOKUP(Feuil1!$A13,DLUO,2)),4,IF(H$1=(Feuil1!$B13+VLOOKUP(Feuil1!$A13,DLUO,2)),3,"")))),"aucun test") -> aucun test | I13: =IF($A13<>"",IF(I$1=Feuil1!$B13,1,IF(I$1<Feuil1!$B13,2,IF(I$1>(Feuil1!$B13+VLOOKUP(Feuil1!$A13,DLUO,2)),4,IF(I$1=(Feuil1!$B13+VLOOKUP(Feuil1!$A13,DLUO,2)),3,"")))),"aucun test") -> aucun test | ... BL13: =IF($A13<>"",IF(BL$1=Feuil1!$B13,1,IF(BL$1<Feuil1!$B13,2,IF(BL$1>(Feuil1!$B13+VLOOKUP(Feuil1!$A13,DLUO,2)),4,IF(BL$1=(Feuil1!$B13+VLOOKUP(Feuil1!$A13,DLUO,2)),3,"")))),"aucun test") -> aucun test
... A15: =IF(Recette<>"",Recette,"") | B15: =IF($A15<>"",IF(B$1=Feuil1!$B15,1,IF(B$1<Feuil1!$B15,2,IF(B$1>(Feuil1!$B15+VLOOKUP(Feuil1!$A15,DLUO,2)),4,IF(B$1=(Feuil1!$B15+VLOOKUP(Feuil1!$A15,DLUO,2)),3,"")))),"aucun test") -> aucun test | C15: =IF($A15<>"",IF(C$1=Feuil1!$B15,1,IF(C$1<Feuil1!$B15,2,IF(C$1>(Feuil1!$B15+VLOOKUP(Feuil1!$A15,DLUO,2)),4,IF(C$1=(Feuil1!$B15+VLOOKUP(Feuil1!$A15,DLUO,2)),3,"")))),"aucun test") -> aucun test | D15: =IF($A15<>"",IF(D$1=Feuil1!$B15,1,IF(D$1<Feuil1!$B15,2,IF(D$1>(Feuil1!$B15+VLOOKUP(Feuil1!$A15,DLUO,2)),4,IF(D$1=(Feuil1!$B15+VLOOKUP(Feuil1!$A15,DLUO,2)),3,"")))),"aucun test") -> aucun test | E15: =IF($A15<>"",IF(E$1=Feuil1!$B15,1,IF(E$1<Feuil1!$B15,2,IF(E$1>(Feuil1!$B15+VLOOKUP(Feuil1!$A15,DLUO,2)),4,IF(E$1=(Feuil1!$B15+VLOOKUP(Feuil1!$A15,DLUO,2)),3,"")))),"aucun test") -> aucun test | F15: =IF($A15<>"",IF(F$1=Feuil1!$B15,1,IF(F$1<Feuil1!$B15,2,IF(F$1>(Feuil1!$B15+VLOOKUP(Feuil1!$A15,DLUO,2)),4,IF(F$1=(Feuil1!$B15+VLOOKUP(Feuil1!$A15,DLUO,2)),3,"")))),"aucun test") -> aucun test | G15: =IF($A15<>"",IF(G$1=Feuil1!$B15,1,IF(G$1<Feuil1!$B15,2,IF(G$1>(Feuil1!$B15+VLOOKUP(Feuil1!$A15,DLUO,2)),4,IF(G$1=(Feuil1!$B15+VLOOKUP(Feuil1!$A15,DLUO,2)),3,"")))),"aucun test") -> aucun test | H15: =IF($A15<>"",IF(H$1=Feuil1!$B15,1,IF(H$1<Feuil1!$B15,2,IF(H$1>(Feuil1!$B15+VLOOKUP(Feuil1!$A15,DLUO,2)),4,IF(H$1=(Feuil1!$B15+VLOOKUP(Feuil1!$A15,DLUO,2)),3,"")))),"aucun test") -> aucun test | I15: =IF($A15<>"",IF(I$1=Feuil1!$B15,1,IF(I$1<Feuil1!$B15,2,IF(I$1>(Feuil1!$B15+VLOOKUP(Feuil1!$A15,DLUO,2)),4,IF(I$1=(Feuil1!$B15+VLOOKUP(Feuil1!$A15,DLUO,2)),3,"")))),"aucun test") -> aucun test | ... BL15: =IF($A15<>"",IF(BL$1=Feuil1!$B15,1,IF(BL$1<Feuil1!$B15,2,IF(BL$1>(Feuil1!$B15+VLOOKUP(Feuil1!$A15,DLUO,2)),4,IF(BL$1=(Feuil1!$B15+VLOOKUP(Feuil1!$A15,DLUO,2)),3,"")))),"aucun test") -> aucun test
F18: =IF(TODAY()<(Feuil1!$B2+VLOOKUP(Feuil1!$A2,DLUO,2)),1,0) -> 1
B19: =TODAY() -> 42053 | D19: =IF(B19>C20,1,0) -> 0 | F19: =B1+VLOOKUP(Feuil1!$A2,DLUO,2) -> 42095
B20: 42047 | C20: =B20+48 -> 42095

Sheet Planning2
B1: =MIN(Feuil1!$B$2:$B$22) -> 42047 | C1: =DATE(YEAR(B1),MONTH(B1),DAY(B1)+1) -> 42048 | D1: =DATE(YEAR(C1),MONTH(C1),DAY(C1)+1) -> 42049 | E1: =DATE(YEAR(D1),MONTH(D1),DAY(D1)+1) -> 42050 | F1: =DATE(YEAR(E1),MONTH(E1),DAY(E1)+1) -> 42051 | G1: =DATE(YEAR(F1),MONTH(F1),DAY(F1)+1) -> 42052 | H1: =DATE(YEAR(G1),MONTH(G1),DAY(G1)+1) -> 42053 | I1: =DATE(YEAR(H1),MONTH(H1),DAY(H1)+1) -> 42054 | J1: =DATE(YEAR(I1),MONTH(I1),DAY(I1)+1) -> 42055 | ... BL1: =DATE(YEAR(BK1),MONTH(BK1),DAY(BK1)+1) -> 42109
A2: =IF(Recette<>"",Recette,"") -> A | B2: =IF($A2<>"",IF(B$1=Feuil1!$B2,1,IF(B$1=Feuil1!$B2+VLOOKUP(Planning2!$A2,DLUO,2),VLOOKUP(Planning2!$A2,DLUO,2)+1,IF(AND(B$1>Feuil1!$B2,B$1<Feuil1!$B2+VLOOKUP(Planning2!$A2,DLUO,2)),A2+1,0))),"") -> 1 | C2: =IF($A2<>"",IF(C$1=Feuil1!$B2,1,IF(C$1=Feuil1!$B2+VLOOKUP(Planning2!$A2,DLUO,2),VLOOKUP(Planning2!$A2,DLUO,2)+1,IF(AND(C$1>Feuil1!$B2,C$1<Feuil1!$B2+VLOOKUP(Planning2!$A2,DLUO,2)),B2+1,0))),"") -> 2 | D2: =IF($A2<>"",IF(D$1=Feuil1!$B2,1,IF(D$1=Feuil1!$B2+VLOOKUP(Planning2!$A2,DLUO,2),VLOOKUP(Planning2!$A2,DLUO,2)+1,IF(AND(D$1>Feuil1!$B2,D$1<Feuil1!$B2+VLOOKUP(Planning2!$A2,DLUO,2)),C2+1,0))),"") -> 3 | E2: =IF($A2<>"",IF(E$1=Feuil1!$B2,1,IF(E$1=Feuil1!$B2+VLOOKUP(Planning2!$A2,DLUO,2),VLOOKUP(Planning2!$A2,DLUO,2)+1,IF(AND(E$1>Feuil1!$B2,E$1<Feuil1!$B2+VLOOKUP(Planning2!$A2,DLUO,2)),D2+1,0))),"") -> 4 | F2: =IF($A2<>"",IF(F$1=Feuil1!$B2,1,IF(F$1=Feuil1!$B2+VLOOKUP(Planning2!$A2,DLUO,2),VLOOKUP(Planning2!$A2,DLUO,2)+1,IF(AND(F$1>Feuil1!$B2,F$1<Feuil1!$B2+VLOOKUP(Planning2!$A2,DLUO,2)),E2+1,0))),"") -> 5 | G2: =IF($A2<>"",IF(G$1=Feuil1!$B2,1,IF(G$1=Feuil1!$B2+VLOOKUP(Planning2!$A2,DLUO,2),VLOOKUP(Planning2!$A2,DLUO,2)+1,IF(AND(G$1>Feuil1!$B2,G$1<Feuil1!$B2+VLOOKUP(Planning2!$A2,DLUO,2)),F2+1,0))),"") -> 6 | H2: =IF($A2<>"",IF(H$1=Feuil1!$B2,1,IF(H$1=Feuil1!$B2+VLOOKUP(Planning2!$A2,DLUO,2),VLOOKUP(Planning2!$A2,DLUO,2)+1,IF(AND(H$1>Feuil1!$B2,H$1<Feuil1!$B2+VLOOKUP(Planning2!$A2,DLUO,2)),G2+1,0))),"") -> 7 | I2: =IF($A2<>"",IF(I$1=Feuil1!$B2,1,IF(I$1=Feuil1!$B2+VLOOKUP(Planning2!$A2,DLUO,2),VLOOKUP(Planning2!$A2,DLUO,2)+1,IF(AND(I$1>Feuil1!$B2,I$1<Feuil1!$B2+VLOOKUP(Planning2!$A2,DLUO,2)),H2+1,0))),"") -> 8 | ... BL2: =IF($A2<>"",IF(BL$1=Feuil1!$B2,1,IF(BL$1=Feuil1!$B2+VLOOKUP(Planning2!$A2,DLUO,2),VLOOKUP(Planning2!$A2,DLUO,2)+1,IF(AND(BL$1>Feuil1!$B2,BL$1<Feuil1!$B2+VLOOKUP(Planning2!$A2,DLUO,2)),BK2+1,0))),"") -> 0
A3: =IF(Recette<>"",Recette,"") -> A | B3: =IF($A3<>"",IF(B$1=Feuil1!$B3,1,IF(B$1=Feuil1!$B3+VLOOKUP(Planning2!$A3,DLUO,2),VLOOKUP(Planning2!$A3,DLUO,2)+1,IF(AND(B$1>Feuil1!$B3,B$1<Feuil1!$B3+VLOOKUP(Planning2!$A3,DLUO,2)),A3+1,0))),"") -> 0 | C3: =IF($A3<>"",IF(C$1=Feuil1!$B3,1,IF(C$1=Feuil1!$B3+VLOOKUP(Planning2!$A3,DLUO,2),VLOOKUP(Planning2!$A3,DLUO,2)+1,IF(AND(C$1>Feuil1!$B3,C$1<Feuil1!$B3+VLOOKUP(Planning2!$A3,DLUO,2)),B3+1,0))),"") -> 1 | D3: =IF($A3<>"",IF(D$1=Feuil1!$B3,1,IF(D$1=Feuil1!$B3+VLOOKUP(Planning2!$A3,DLUO,2),VLOOKUP(Planning2!$A3,DLUO,2)+1,IF(AND(D$1>Feuil1!$B3,D$1<Feuil1!$B3+VLOOKUP(Planning2!$A3,DLUO,2)),C3+1,0))),"") -> 2 | E3: =IF($A3<>"",IF(E$1=Feuil1!$B3,1,IF(E$1=Feuil1!$B3+VLOOKUP(Planning2!$A3,DLUO,2),VLOOKUP(Planning2!$A3,DLUO,2)+1,IF(AND(E$1>Feuil1!$B3,E$1<Feuil1!$B3+VLOOKUP(Planning2!$A3,DLUO,2)),D3+1,0))),"") -> 3 | F3: =IF($A3<>"",IF(F$1=Feuil1!$B3,1,IF(F$1=Feuil1!$B3+VLOOKUP(Planning2!$A3,DLUO,2),VLOOKUP(Planning2!$A3,DLUO,2)+1,IF(AND(F$1>Feuil1!$B3,F$1<Feuil1!$B3+VLOOKUP(Planning2!$A3,DLUO,2)),E3+1,0))),"") -> 4 | G3: =IF($A3<>"",IF(G$1=Feuil1!$B3,1,IF(G$1=Feuil1!$B3+VLOOKUP(Planning2!$A3,DLUO,2),VLOOKUP(Planning2!$A3,DLUO,2)+1,IF(AND(G$1>Feuil1!$B3,G$1<Feuil1!$B3+VLOOKUP(Planning2!$A3,DLUO,2)),F3+1,0))),"") -> 5 | H3: =IF($A3<>"",IF(H$1=Feuil1!$B3,1,IF(H$1=Feuil1!$B3+VLOOKUP(Planning2!$A3,DLUO,2),VLOOKUP(Planning2!$A3,DLUO,2)+1,IF(AND(H$1>Feuil1!$B3,H$1<Feuil1!$B3+VLOOKUP(Planning2!$A3,DLUO,2)),G3+1,0))),"") -> 6 | I3: =IF($A3<>"",IF(I$1=Feuil1!$B3,1,IF(I$1=Feuil1!$B3+VLOOKUP(Planning2!$A3,DLUO,2),VLOOKUP(Planning2!$A3,DLUO,2)+1,IF(AND(I$1>Feuil1!$B3,I$1<Feuil1!$B3+VLOOKUP(Planning2!$A3,DLUO,2)),H3+1,0))),"") -> 7 | ... BL3: =IF($A3<>"",IF(BL$1=Feuil1!$B3,1,IF(BL$1=Feuil1!$B3+VLOOKUP(Planning2!$A3,DLUO,2),VLOOKUP(Planning2!$A3,DLUO,2)+1,IF(AND(BL$1>Feuil1!$B3,BL$1<Feuil1!$B3+VLOOKUP(Planning2!$A3,DLUO,2)),BK3+1,0))),"") -> 0
A4: =IF(Recette<>"",Recette,"") -> A | B4: =IF($A4<>"",IF(B$1=Feuil1!$B4,1,IF(B$1=Feuil1!$B4+VLOOKUP(Planning2!$A4,DLUO,2),VLOOKUP(Planning2!$A4,DLUO,2)+1,IF(AND(B$1>Feuil1!$B4,B$1<Feuil1!$B4+VLOOKUP(Planning2!$A4,DLUO,2)),A4+1,0))),"") -> 0 | C4: =IF($A4<>"",IF(C$1=Feuil1!$B4,1,IF(C$1=Feuil1!$B4+VLOOKUP(Planning2!$A4,DLUO,2),VLOOKUP(Planning2!$A4,DLUO,2)+1,IF(AND(C$1>Feuil1!$B4,C$1<Feuil1!$B4+VLOOKUP(Planning2!$A4,DLUO,2)),B4+1,0))),"") -> 0 | D4: =IF($A4<>"",IF(D$1=Feuil1!$B4,1,IF(D$1=Feuil1!$B4+VLOOKUP(Planning2!$A4,DLUO,2),VLOOKUP(Planning2!$A4,DLUO,2)+1,IF(AND(D$1>Feuil1!$B4,D$1<Feuil1!$B4+VLOOKUP(Planning2!$A4,DLUO,2)),C4+1,0))),"") -> 0 | E4: =IF($A4<>"",IF(E$1=Feuil1!$B4,1,IF(E$1=Feuil1!$B4+VLOOKUP(Planning2!$A4,DLUO,2),VLOOKUP(Planning2!$A4,DLUO,2)+1,IF(AND(E$1>Feuil1!$B4,E$1<Feuil1!$B4+VLOOKUP(Planning2!$A4,DLUO,2)),D4+1,0))),"") -> 1 | F4: =IF($A4<>"",IF(F$1=Feuil1!$B4,1,IF(F$1=Feuil1!$B4+VLOOKUP(Planning2!$A4,DLUO,2),VLOOKUP(Planning2!$A4,DLUO,2)+1,IF(AND(F$1>Feuil1!$B4,F$1<Feuil1!$B4+VLOOKUP(Planning2!$A4,DLUO,2)),E4+1,0))),"") -> 2 | G4: =IF($A4<>"",IF(G$1=Feuil1!$B4,1,IF(G$1=Feuil1!$B4+VLOOKUP(Planning2!$A4,DLUO,2),VLOOKUP(Planning2!$A4,DLUO,2)+1,IF(AND(G$1>Feuil1!$B4,G$1<Feuil1!$B4+VLOOKUP(Planning2!$A4,DLUO,2)),F4+1,0))),"") -> 3 | H4: =IF($A4<>"",IF(H$1=Feuil1!$B4,1,IF(H$1=Feuil1!$B4+VLOOKUP(Planning2!$A4,DLUO,2),VLOOKUP(Planning2!$A4,DLUO,2)+1,IF(AND(H$1>Feuil1!$B4,H$1<Feuil1!$B4+VLOOKUP(Planning2!$A4,DLUO,2)),G4+1,0))),"") -> 4 | I4: =IF($A4<>"",IF(I$1=Feuil1!$B4,1,IF(I$1=Feuil1!$B4+VLOOKUP(Planning2!$A4,DLUO,2),VLOOKUP(Planning2!$A4,DLUO,2)+1,IF(AND(I$1>Feuil1!$B4,I$1<Feuil1!$B4+VLOOKUP(Planning2!$A4,DLUO,2)),H4+1,0))),"") -> 5 | ... BL4: =IF($A4<>"",IF(BL$1=Feuil1!$B4,1,IF(BL$1=Feuil1!$B4+VLOOKUP(Planning2!$A4,DLUO,2),VLOOKUP(Planning2!$A4,DLUO,2)+1,IF(AND(BL$1>Feuil1!$B4,BL$1<Feuil1!$B4+VLOOKUP(Planning2!$A4,DLUO,2)),BK4+1,0))),"") -> 0
A5: =IF(Recette<>"",Recette,"") -> A | B5: =IF($A5<>"",IF(B$1=Feuil1!$B5,1,IF(B$1=Feuil1!$B5+VLOOKUP(Planning2!$A5,DLUO,2),VLOOKUP(Planning2!$A5,DLUO,2)+1,IF(AND(B$1>Feuil1!$B5,B$1<Feuil1!$B5+VLOOKUP(Planning2!$A5,DLUO,2)),A5+1,0))),"") -> 0 | C5: =IF($A5<>"",IF(C$1=Feuil1!$B5,1,IF(C$1=Feuil1!$B5+VLOOKUP(Planning2!$A5,DLUO,2),VLOOKUP(Planning2!$A5,DLUO,2)+1,IF(AND(C$1>Feuil1!$B5,C$1<Feuil1!$B5+VLOOKUP(Planning2!$A5,DLUO,2)),B5+1,0))),"") -> 0 | D5: =IF($A5<>"",IF(D$1=Feuil1!$B5,1,IF(D$1=Feuil1!$B5+VLOOKUP(Planning2!$A5,DLUO,2),VLOOKUP(Planning2!$A5,DLUO,2)+1,IF(AND(D$1>Feuil1!$B5,D$1<Feuil1!$B5+VLOOKUP(Planning2!$A5,DLUO,2)),C5+1,0))),"") -> 0 | E5: =IF($A5<>"",IF(E$1=Feuil1!$B5,1,IF(E$1=Feuil1!$B5+VLOOKUP(Planning2!$A5,DLUO,2),VLOOKUP(Planning2!$A5,DLUO,2)+1,IF(AND(E$1>Feuil1!$B5,E$1<Feuil1!$B5+VLOOKUP(Planning2!$A5,DLUO,2)),D5+1,0))),"") -> 0 | F5: =IF($A5<>"",IF(F$1=Feuil1!$B5,1,IF(F$1=Feuil1!$B5+VLOOKUP(Planning2!$A5,DLUO,2),VLOOKUP(Planning2!$A5,DLUO,2)+1,IF(AND(F$1>Feuil1!$B5,F$1<Feuil1!$B5+VLOOKUP(Planning2!$A5,DLUO,2)),E5+1,0))),"") -> 1 | G5: =IF($A5<>"",IF(G$1=Feuil1!$B5,1,IF(G$1=Feuil1!$B5+VLOOKUP(Planning2!$A5,DLUO,2),VLOOKUP(Planning2!$A5,DLUO,2)+1,IF(AND(G$1>Feuil1!$B5,G$1<Feuil1!$B5+VLOOKUP(Planning2!$A5,DLUO,2)),F5+1,0))),"") -> 2 | H5: =IF($A5<>"",IF(H$1=Feuil1!$B5,1,IF(H$1=Feuil1!$B5+VLOOKUP(Planning2!$A5,DLUO,2),VLOOKUP(Planning2!$A5,DLUO,2)+1,IF(AND(H$1>Feuil1!$B5,H$1<Feuil1!$B5+VLOOKUP(Planning2!$A5,DLUO,2)),G5+1,0))),"") -> 3 | I5: =IF($A5<>"",IF(I$1=Feuil1!$B5,1,IF(I$1=Feuil1!$B5+VLOOKUP(Planning2!$A5,DLUO,2),VLOOKUP(Planning2!$A5,DLUO,2)+1,IF(AND(I$1>Feuil1!$B5,I$1<Feuil1!$B5+VLOOKUP(Planning2!$A5,DLUO,2)),H5+1,0))),"") -> 4 | ... BL5: =IF($A5<>"",IF(BL$1=Feuil1!$B5,1,IF(BL$1=Feuil1!$B5+VLOOKUP(Planning2!$A5,DLUO,2),VLOOKUP(Planning2!$A5,DLUO,2)+1,IF(AND(BL$1>Feuil1!$B5,BL$1<Feuil1!$B5+VLOOKUP(Planning2!$A5,DLUO,2)),BK5+1,0))),"") -> 0
A6: =IF(Recette<>"",Recette,"") -> A | B6: =IF($A6<>"",IF(B$1=Feuil1!$B6,1,IF(B$1=Feuil1!$B6+VLOOKUP(Planning2!$A6,DLUO,2),VLOOKUP(Planning2!$A6,DLUO,2)+1,IF(AND(B$1>Feuil1!$B6,B$1<Feuil1!$B6+VLOOKUP(Planning2!$A6,DLUO,2)),A6+1,0))),"") -> 0 | C6: =IF($A6<>"",IF(C$1=Feuil1!$B6,1,IF(C$1=Feuil1!$B6+VLOOKUP(Planning2!$A6,DLUO,2),VLOOKUP(Planning2!$A6,DLUO,2)+1,IF(AND(C$1>Feuil1!$B6,C$1<Feuil1!$B6+VLOOKUP(Planning2!$A6,DLUO,2)),B6+1,0))),"") -> 0 | D6: =IF($A6<>"",IF(D$1=Feuil1!$B6,1,IF(D$1=Feuil1!$B6+VLOOKUP(Planning2!$A6,DLUO,2),VLOOKUP(Planning2!$A6,DLUO,2)+1,IF(AND(D$1>Feuil1!$B6,D$1<Feuil1!$B6+VLOOKUP(Planning2!$A6,DLUO,2)),C6+1,0))),"") -> 0 | E6: =IF($A6<>"",IF(E$1=Feuil1!$B6,1,IF(E$1=Feuil1!$B6+VLOOKUP(Planning2!$A6,DLUO,2),VLOOKUP(Planning2!$A6,DLUO,2)+1,IF(AND(E$1>Feuil1!$B6,E$1<Feuil1!$B6+VLOOKUP(Planning2!$A6,DLUO,2)),D6+1,0))),"") -> 0 | F6: =IF($A6<>"",IF(F$1=Feuil1!$B6,1,IF(F$1=Feuil1!$B6+VLOOKUP(Planning2!$A6,DLUO,2),VLOOKUP(Planning2!$A6,DLUO,2)+1,IF(AND(F$1>Feuil1!$B6,F$1<Feuil1!$B6+VLOOKUP(Planning2!$A6,DLUO,2)),E6+1,0))),"") -> 0 | G6: =IF($A6<>"",IF(G$1=Feuil1!$B6,1,IF(G$1=Feuil1!$B6+VLOOKUP(Planning2!$A6,DLUO,2),VLOOKUP(Planning2!$A6,DLUO,2)+1,IF(AND(G$1>Feuil1!$B6,G$1<Feuil1!$B6+VLOOKUP(Planning2!$A6,DLUO,2)),F6+1,0))),"") -> 1 | H6: =IF($A6<>"",IF(H$1=Feuil1!$B6,1,IF(H$1=Feuil1!$B6+VLOOKUP(Planning2!$A6,DLUO,2),VLOOKUP(Planning2!$A6,DLUO,2)+1,IF(AND(H$1>Feuil1!$B6,H$1<Feuil1!$B6+VLOOKUP(Planning2!$A6,DLUO,2)),G6+1,0))),"") -> 2 | I6: =IF($A6<>"",IF(I$1=Feuil1!$B6,1,IF(I$1=Feuil1!$B6+VLOOKUP(Planning2!$A6,DLUO,2),VLOOKUP(Planning2!$A6,DLUO,2)+1,IF(AND(I$1>Feuil1!$B6,I$1<Feuil1!$B6+VLOOKUP(Planning2!$A6,DLUO,2)),H6+1,0))),"") -> 3 | ... BL6: =IF($A6<>"",IF(BL$1=Feuil1!$B6,1,IF(BL$1=Feuil1!$B6+VLOOKUP(Planning2!$A6,DLUO,2),VLOOKUP(Planning2!$A6,DLUO,2)+1,IF(AND(BL$1>Feuil1!$B6,BL$1<Feuil1!$B6+VLOOKUP(Planning2!$A6,DLUO,2)),BK6+1,0))),"") -> 0
A7: =IF(Recette<>"",Recette,"") -> B | B7: =IF($A7<>"",IF(B$1=Feuil1!$B7,1,IF(B$1=Feuil1!$B7+VLOOKUP(Planning2!$A7,DLUO,2),VLOOKUP(Planning2!$A7,DLUO,2)+1,IF(AND(B$1>Feuil1!$B7,B$1<Feuil1!$B7+VLOOKUP(Planning2!$A7,DLUO,2)),A7+1,0))),"") -> 0 | C7: =IF($A7<>"",IF(C$1=Feuil1!$B7,1,IF(C$1=Feuil1!$B7+VLOOKUP(Planning2!$A7,DLUO,2),VLOOKUP(Planning2!$A7,DLUO,2)+1,IF(AND(C$1>Feuil1!$B7,C$1<Feuil1!$B7+VLOOKUP(Planning2!$A7,DLUO,2)),B7+1,0))),"") -> 0 | D7: =IF($A7<>"",IF(D$1=Feuil1!$B7,1,IF(D$1=Feuil1!$B7+VLOOKUP(Planning2!$A7,DLUO,2),VLOOKUP(Planning2!$A7,DLUO,2)+1,IF(AND(D$1>Feuil1!$B7,D$1<Feuil1!$B7+VLOOKUP(Planning2!$A7,DLUO,2)),C7+1,0))),"") -> 0 | E7: =IF($A7<>"",IF(E$1=Feuil1!$B7,1,IF(E$1=Feuil1!$B7+VLOOKUP(Planning2!$A7,DLUO,2),VLOOKUP(Planning2!$A7,DLUO,2)+1,IF(AND(E$1>Feuil1!$B7,E$1<Feuil1!$B7+VLOOKUP(Planning2!$A7,DLUO,2)),D7+1,0))),"") -> 0 | F7: =IF($A7<>"",IF(F$1=Feuil1!$B7,1,IF(F$1=Feuil1!$B7+VLOOKUP(Planning2!$A7,DLUO,2),VLOOKUP(Planning2!$A7,DLUO,2)+1,IF(AND(F$1>Feuil1!$B7,F$1<Feuil1!$B7+VLOOKUP(Planning2!$A7,DLUO,2)),E7+1,0))),"") -> 0 | G7: =IF($A7<>"",IF(G$1=Feuil1!$B7,1,IF(G$1=Feuil1!$B7+VLOOKUP(Planning2!$A7,DLUO,2),VLOOKUP(Planning2!$A7,DLUO,2)+1,IF(AND(G$1>Feuil1!$B7,G$1<Feuil1!$B7+VLOOKUP(Planning2!$A7,DLUO,2)),F7+1,0))),"") -> 0 | H7: =IF($A7<>"",IF(H$1=Feuil1!$B7,1,IF(H$1=Feuil1!$B7+VLOOKUP(Planning2!$A7,DLUO,2),VLOOKUP(Planning2!$A7,DLUO,2)+1,IF(AND(H$1>Feuil1!$B7,H$1<Feuil1!$B7+VLOOKUP(Planning2!$A7,DLUO,2)),G7+1,0))),"") -> 0 | I7: =IF($A7<>"",IF(I$1=Feuil1!$B7,1,IF(I$1=Feuil1!$B7+VLOOKUP(Planning2!$A7,DLUO,2),VLOOKUP(Planning2!$A7,DLUO,2)+1,IF(AND(I$1>Feuil1!$B7,I$1<Feuil1!$B7+VLOOKUP(Planning2!$A7,DLUO,2)),H7+1,0))),"") -> 0 | ... BL7: =IF($A7<>"",IF(BL$1=Feuil1!$B7,1,IF(BL$1=Feuil1!$B7+VLOOKUP(Planning2!$A7,DLUO,2),VLOOKUP(Planning2!$A7,DLUO,2)+1,IF(AND(BL$1>Feuil1!$B7,BL$1<Feuil1!$B7+VLOOKUP(Planning2!$A7,DLUO,2)),BK7+1,0))),"") -> 0
A8: =IF(Recette<>"",Recette,"") -> B | B8: =IF($A8<>"",IF(B$1=Feuil1!$B8,1,IF(B$1=Feuil1!$B8+VLOOKUP(Planning2!$A8,DLUO,2),VLOOKUP(Planning2!$A8,DLUO,2)+1,IF(AND(B$1>Feuil1!$B8,B$1<Feuil1!$B8+VLOOKUP(Planning2!$A8,DLUO,2)),A8+1,0))),"") -> 0 | C8: =IF($A8<>"",IF(C$1=Feuil1!$B8,1,IF(C$1=Feuil1!$B8+VLOOKUP(Planning2!$A8,DLUO,2),VLOOKUP(Planning2!$A8,DLUO,2)+1,IF(AND(C$1>Feuil1!$B8,C$1<Feuil1!$B8+VLOOKUP(Planning2!$A8,DLUO,2)),B8+1,0))),"") -> 0 | D8: =IF($A8<>"",IF(D$1=Feuil1!$B8,1,IF(D$1=Feuil1!$B8+VLOOKUP(Planning2!$A8,DLUO,2),VLOOKUP(Planning2!$A8,DLUO,2)+1,IF(AND(D$1>Feuil1!$B8,D$1<Feuil1!$B8+VLOOKUP(Planning2!$A8,DLUO,2)),C8+1,0))),"") -> 0 | E8: =IF($A8<>"",IF(E$1=Feuil1!$B8,1,IF(E$1=Feuil1!$B8+VLOOKUP(Planning2!$A8,DLUO,2),VLOOKUP(Planning2!$A8,DLUO,2)+1,IF(AND(E$1>Feuil1!$B8,E$1<Feuil1!$B8+VLOOKUP(Planning2!$A8,DLUO,2)),D8+1,0))),"") -> 0 | F8: =IF($A8<>"",IF(F$1=Feuil1!$B8,1,IF(F$1=Feuil1!$B8+VLOOKUP(Planning2!$A8,DLUO,2),VLOOKUP(Planning2!$A8,DLUO,2)+1,IF(AND(F$1>Feuil1!$B8,F$1<Feuil1!$B8+VLOOKUP(Planning2!$A8,DLUO,2)),E8+1,0))),"") -> 0 | G8: =IF($A8<>"",IF(G$1=Feuil1!$B8,1,IF(G$1=Feuil1!$B8+VLOOKUP(Planning2!$A8,DLUO,2),VLOOKUP(Planning2!$A8,DLUO,2)+1,IF(AND(G$1>Feuil1!$B8,G$1<Feuil1!$B8+VLOOKUP(Planning2!$A8,DLUO,2)),F8+1,0))),"") -> 0 | H8: =IF($A8<>"",IF(H$1=Feuil1!$B8,1,IF(H$1=Feuil1!$B8+VLOOKUP(Planning2!$A8,DLUO,2),VLOOKUP(Planning2!$A8,DLUO,2)+1,IF(AND(H$1>Feuil1!$B8,H$1<Feuil1!$B8+VLOOKUP(Planning2!$A8,DLUO,2)),G8+1,0))),"") -> 0 | I8: =IF($A8<>"",IF(I$1=Feuil1!$B8,1,IF(I$1=Feuil1!$B8+VLOOKUP(Planning2!$A8,DLUO,2),VLOOKUP(Planning2!$A8,DLUO,2)+1,IF(AND(I$1>Feuil1!$B8,I$1<Feuil1!$B8+VLOOKUP(Planning2!$A8,DLUO,2)),H8+1,0))),"") -> 0 | ... BL8: =IF($A8<>"",IF(BL$1=Feuil1!$B8,1,IF(BL$1=Feuil1!$B8+VLOOKUP(Planning2!$A8,DLUO,2),VLOOKUP(Planning2!$A8,DLUO,2)+1,IF(AND(BL$1>Feuil1!$B8,BL$1<Feuil1!$B8+VLOOKUP(Planning2!$A8,DLUO,2)),BK8+1,0))),"") -> 49
A9: =IF(Recette<>"",Recette,"") -> B | B9: =IF($A9<>"",IF(B$1=Feuil1!$B9,1,IF(B$1=Feuil1!$B9+VLOOKUP(Planning2!$A9,DLUO,2),VLOOKUP(Planning2!$A9,DLUO,2)+1,IF(AND(B$1>Feuil1!$B9,B$1<Feuil1!$B9+VLOOKUP(Planning2!$A9,DLUO,2)),A9+1,0))),"") -> 0 | C9: =IF($A9<>"",IF(C$1=Feuil1!$B9,1,IF(C$1=Feuil1!$B9+VLOOKUP(Planning2!$A9,DLUO,2),VLOOKUP(Planning2!$A9,DLUO,2)+1,IF(AND(C$1>Feuil1!$B9,C$1<Feuil1!$B9+VLOOKUP(Planning2!$A9,DLUO,2)),B9+1,0))),"") -> 0 | D9: =IF($A9<>"",IF(D$1=Feuil1!$B9,1,IF(D$1=Feuil1!$B9+VLOOKUP(Planning2!$A9,DLUO,2),VLOOKUP(Planning2!$A9,DLUO,2)+1,IF(AND(D$1>Feuil1!$B9,D$1<Feuil1!$B9+VLOOKUP(Planning2!$A9,DLUO,2)),C9+1,0))),"") -> 0 | E9: =IF($A9<>"",IF(E$1=Feuil1!$B9,1,IF(E$1=Feuil1!$B9+VLOOKUP(Planning2!$A9,DLUO,2),VLOOKUP(Planning2!$A9,DLUO,2)+1,IF(AND(E$1>Feuil1!$B9,E$1<Feuil1!$B9+VLOOKUP(Planning2!$A9,DLUO,2)),D9+1,0))),"") -> 0 | F9: =IF($A9<>"",IF(F$1=Feuil1!$B9,1,IF(F$1=Feuil1!$B9+VLOOKUP(Planning2!$A9,DLUO,2),VLOOKUP(Planning2!$A9,DLUO,2)+1,IF(AND(F$1>Feuil1!$B9,F$1<Feuil1!$B9+VLOOKUP(Planning2!$A9,DLUO,2)),E9+1,0))),"") -> 0 | G9: =IF($A9<>"",IF(G$1=Feuil1!$B9,1,IF(G$1=Feuil1!$B9+VLOOKUP(Planning2!$A9,DLUO,2),VLOOKUP(Planning2!$A9,DLUO,2)+1,IF(AND(G$1>Feuil1!$B9,G$1<Feuil1!$B9+VLOOKUP(Planning2!$A9,DLUO,2)),F9+1,0))),"") -> 0 | H9: =IF($A9<>"",IF(H$1=Feuil1!$B9,1,IF(H$1=Feuil1!$B9+VLOOKUP(Planning2!$A9,DLUO,2),VLOOKUP(Planning2!$A9,DLUO,2)+1,IF(AND(H$1>Feuil1!$B9,H$1<Feuil1!$B9+VLOOKUP(Planning2!$A9,DLUO,2)),G9+1,0))),"") -> 0 | I9: =IF($A9<>"",IF(I$1=Feuil1!$B9,1,IF(I$1=Feuil1!$B9+VLOOKUP(Planning2!$A9,DLUO,2),VLOOKUP(Planning2!$A9,DLUO,2)+1,IF(AND(I$1>Feuil1!$B9,I$1<Feuil1!$B9+VLOOKUP(Planning2!$A9,DLUO,2)),H9+1,0))),"") -> 0 | ... BL9: =IF($A9<>"",IF(BL$1=Feuil1!$B9,1,IF(BL$1=Feuil1!$B9+VLOOKUP(Planning2!$A9,DLUO,2),VLOOKUP(Planning2!$A9,DLUO,2)+1,IF(AND(BL$1>Feuil1!$B9,BL$1<Feuil1!$B9+VLOOKUP(Planning2!$A9,DLUO,2)),BK9+1,0))),"") -> 48
A10: =IF(Recette<>"",Recette,"") | B10: =IF($A10<>"",IF(B$1=Feuil1!$B10,1,IF(B$1=Feuil1!$B10+VLOOKUP(Feuil1!$A10,DLUO,2),VLOOKUP(Feuil1!$A10,DLUO,2),0)),"") | C10: =IF($A10<>"",IF(C$1=Feuil1!$B10,1,IF(C$1=Feuil1!$B10+VLOOKUP(Feuil1!$A10,DLUO,2),VLOOKUP(Feuil1!$A10,DLUO,2),0)),"") | D10: =IF($A10<>"",IF(D$1=Feuil1!$B10,1,IF(D$1=Feuil1!$B10+VLOOKUP(Feuil1!$A10,DLUO,2),VLOOKUP(Feuil1!$A10,DLUO,2),0)),"") | E10: =IF($A10<>"",IF(E$1=Feuil1!$B10,1,IF(E$1=Feuil1!$B10+VLOOKUP(Feuil1!$A10,DLUO,2),VLOOKUP(Feuil1!$A10,DLUO,2),0)),"") | F10: =IF($A10<>"",IF(F$1=Feuil1!$B10,1,IF(F$1=Feuil1!$B10+VLOOKUP(Feuil1!$A10,DLUO,2),VLOOKUP(Feuil1!$A10,DLUO,2),0)),"") | G10: =IF($A10<>"",IF(G$1=Feuil1!$B10,1,IF(G$1=Feuil1!$B10+VLOOKUP(Feuil1!$A10,DLUO,2),VLOOKUP(Feuil1!$A10,DLUO,2),0)),"") | H10: =IF($A10<>"",IF(H$1=Feuil1!$B10,1,IF(H$1=Feuil1!$B10+VLOOKUP(Feuil1!$A10,DLUO,2),VLOOKUP(Feuil1!$A10,DLUO,2),0)),"") | I10: =IF($A10<>"",IF(I$1=Feuil1!$B10,1,IF(I$1=Feuil1!$B10+VLOOKUP(Feuil1!$A10,DLUO,2),VLOOKUP(Feuil1!$A10,DLUO,2),0)),"") | ... BL10: =IF($A10<>"",IF(BL$1=Feuil1!$B10,1,IF(BL$1=Feuil1!$B10+VLOOKUP(Feuil1!$A10,DLUO,2),VLOOKUP(Feuil1!$A10,DLUO,2),0)),"")
A11: =IF(Recette<>"",Recette,"") | B11: =IF($A11<>"",IF(B$1=Feuil1!$B11,1,IF(B$1=Feuil1!$B11+VLOOKUP(Feuil1!$A11,DLUO,2),VLOOKUP(Feuil1!$A11,DLUO,2),0)),"") | C11: =IF($A11<>"",IF(C$1=Feuil1!$B11,1,IF(C$1=Feuil1!$B11+VLOOKUP(Feuil1!$A11,DLUO,2),VLOOKUP(Feuil1!$A11,DLUO,2),0)),"") | D11: =IF($A11<>"",IF(D$1=Feuil1!$B11,1,IF(D$1=Feuil1!$B11+VLOOKUP(Feuil1!$A11,DLUO,2),VLOOKUP(Feuil1!$A11,DLUO,2),0)),"") | E11: =IF($A11<>"",IF(E$1=Feuil1!$B11,1,IF(E$1=Feuil1!$B11+VLOOKUP(Feuil1!$A11,DLUO,2),VLOOKUP(Feuil1!$A11,DLUO,2),0)),"") | F11: =IF($A11<>"",IF(F$1=Feuil1!$B11,1,IF(F$1=Feuil1!$B11+VLOOKUP(Feuil1!$A11,DLUO,2),VLOOKUP(Feuil1!$A11,DLUO,2),0)),"") | G11: =IF($A11<>"",IF(G$1=Feuil1!$B11,1,IF(G$1=Feuil1!$B11+VLOOKUP(Feuil1!$A11,DLUO,2),VLOOKUP(Feuil1!$A11,DLUO,2),0)),"") | H11: =IF($A11<>"",IF(H$1=Feuil1!$B11,1,IF(H$1=Feuil1!$B11+VLOOKUP(Feuil1!$A11,DLUO,2),VLOOKUP(Feuil1!$A11,DLUO,2),0)),"") | I11: =IF($A11<>"",IF(I$1=Feuil1!$B11,1,IF(I$1=Feuil1!$B11+VLOOKUP(Feuil1!$A11,DLUO,2),VLOOKUP(Feuil1!$A11,DLUO,2),0)),"") | ... BL11: =IF($A11<>"",IF(BL$1=Feuil1!$B11,1,IF(BL$1=Feuil1!$B11+VLOOKUP(Feuil1!$A11,DLUO,2),VLOOKUP(Feuil1!$A11,DLUO,2),0)),"")
A12: =IF(Recette<>"",Recette,"") | B12: =IF($A12<>"",IF(B$1=Feuil1!$B12,1,IF(B$1=Feuil1!$B12+VLOOKUP(Feuil1!$A12,DLUO,2),VLOOKUP(Feuil1!$A12,DLUO,2),0)),"") | C12: =IF($A12<>"",IF(C$1=Feuil1!$B12,1,IF(C$1=Feuil1!$B12+VLOOKUP(Feuil1!$A12,DLUO,2),VLOOKUP(Feuil1!$A12,DLUO,2),0)),"") | D12: =IF($A12<>"",IF(D$1=Feuil1!$B12,1,IF(D$1=Feuil1!$B12+VLOOKUP(Feuil1!$A12,DLUO,2),VLOOKUP(Feuil1!$A12,DLUO,2),0)),"") | E12: =IF($A12<>"",IF(E$1=Feuil1!$B12,1,IF(E$1=Feuil1!$B12+VLOOKUP(Feuil1!$A12,DLUO,2),VLOOKUP(Feuil1!$A12,DLUO,2),0)),"") | F12: =IF($A12<>"",IF(F$1=Feuil1!$B12,1,IF(F$1=Feuil1!$B12+VLOOKUP(Feuil1!$A12,DLUO,2),VLOOKUP(Feuil1!$A12,DLUO,2),0)),"") | G12: =IF($A12<>"",IF(G$1=Feuil1!$B12,1,IF(G$1=Feuil1!$B12+VLOOKUP(Feuil1!$A12,DLUO,2),VLOOKUP(Feuil1!$A12,DLUO,2),0)),"") | H12: =IF($A12<>"",IF(H$1=Feuil1!$B12,1,IF(H$1=Feuil1!$B12+VLOOKUP(Feuil1!$A12,DLUO,2),VLOOKUP(Feuil1!$A12,DLUO,2),0)),"") | I12: =IF($A12<>"",IF(I$1=Feuil1!$B12,1,IF(I$1=Feuil1!$B12+VLOOKUP(Feuil1!$A12,DLUO,2),VLOOKUP(Feuil1!$A12,DLUO,2),0)),"") | ... BL12: =IF($A12<>"",IF(BL$1=Feuil1!$B12,1,IF(BL$1=Feuil1!$B12+VLOOKUP(Feuil1!$A12,DLUO,2),VLOOKUP(Feuil1!$A12,DLUO,2),0)),"")
A13: =IF(Recette<>"",Recette,"") | B13: =IF($A13<>"",IF(B$1=Feuil1!$B13,1,IF(B$1=Feuil1!$B13+VLOOKUP(Feuil1!$A13,DLUO,2),VLOOKUP(Feuil1!$A13,DLUO,2),0)),"") | C13: =IF($A13<>"",IF(C$1=Feuil1!$B13,1,IF(C$1=Feuil1!$B13+VLOOKUP(Feuil1!$A13,DLUO,2),VLOOKUP(Feuil1!$A13,DLUO,2),0)),"") | D13: =IF($A13<>"",IF(D$1=Feuil1!$B13,1,IF(D$1=Feuil1!$B13+VLOOKUP(Feuil1!$A13,DLUO,2),VLOOKUP(Feuil1!$A13,DLUO,2),0)),"") | E13: =IF($A13<>"",IF(E$1=Feuil1!$B13,1,IF(E$1=Feuil1!$B13+VLOOKUP(Feuil1!$A13,DLUO,2),VLOOKUP(Feuil1!$A13,DLUO,2),0)),"") | F13: =IF($A13<>"",IF(F$1=Feuil1!$B13,1,IF(F$1=Feuil1!$B13+VLOOKUP(Feuil1!$A13,DLUO,2),VLOOKUP(Feuil1!$A13,DLUO,2),0)),"") | G13: =IF($A13<>"",IF(G$1=Feuil1!$B13,1,IF(G$1=Feuil1!$B13+VLOOKUP(Feuil1!$A13,DLUO,2),VLOOKUP(Feuil1!$A13,DLUO,2),0)),"") | H13: =IF($A13<>"",IF(H$1=Feuil1!$B13,1,IF(H$1=Feuil1!$B13+VLOOKUP(Feuil1!$A13,DLUO,2),VLOOKUP(Feuil1!$A13,DLUO,2),0)),"") | I13: =IF($A13<>"",IF(I$1=Feuil1!$B13,1,IF(I$1=Feuil1!$B13+VLOOKUP(Feuil1!$A13,DLUO,2),VLOOKUP(Feuil1!$A13,DLUO,2),0)),"") | ... BL13: =IF($A13<>"",IF(BL$1=Feuil1!$B13,1,IF(BL$1=Feuil1!$B13+VLOOKUP(Feuil1!$A13,DLUO,2),VLOOKUP(Feuil1!$A13,DLUO,2),0)),"")
A14: =IF(Recette<>"",Recette,"") | B14: =IF($A14<>"",IF(B$1=Feuil1!$B14,1,IF(B$1=Feuil1!$B14+VLOOKUP(Feuil1!$A14,DLUO,2),VLOOKUP(Feuil1!$A14,DLUO,2),0)),"") | C14: =IF($A14<>"",IF(C$1=Feuil1!$B14,1,IF(C$1=Feuil1!$B14+VLOOKUP(Feuil1!$A14,DLUO,2),VLOOKUP(Feuil1!$A14,DLUO,2),0)),"") | D14: =IF($A14<>"",IF(D$1=Feuil1!$B14,1,IF(D$1=Feuil1!$B14+VLOOKUP(Feuil1!$A14,DLUO,2),VLOOKUP(Feuil1!$A14,DLUO,2),0)),"") | E14: =IF($A14<>"",IF(E$1=Feuil1!$B14,1,IF(E$1=Feuil1!$B14+VLOOKUP(Feuil1!$A14,DLUO,2),VLOOKUP(Feuil1!$A14,DLUO,2),0)),"") | F14: =IF($A14<>"",IF(F$1=Feuil1!$B14,1,IF(F$1=Feuil1!$B14+VLOOKUP(Feuil1!$A14,DLUO,2),VLOOKUP(Feuil1!$A14,DLUO,2),0)),"") | G14: =IF($A14<>"",IF(G$1=Feuil1!$B14,1,IF(G$1=Feuil1!$B14+VLOOKUP(Feuil1!$A14,DLUO,2),VLOOKUP(Feuil1!$A14,DLUO,2),0)),"") | H14: =IF($A14<>"",IF(H$1=Feuil1!$B14,1,IF(H$1=Feuil1!$B14+VLOOKUP(Feuil1!$A14,DLUO,2),VLOOKUP(Feuil1!$A14,DLUO,2),0)),"") | I14: =IF($A14<>"",IF(I$1=Feuil1!$B14,1,IF(I$1=Feuil1!$B14+VLOOKUP(Feuil1!$A14,DLUO,2),VLOOKUP(Feuil1!$A14,DLUO,2),0)),"") | ... BL14: =IF($A14<>"",IF(BL$1=Feuil1!$B14,1,IF(BL$1=Feuil1!$B14+VLOOKUP(Feuil1!$A14,DLUO,2),VLOOKUP(Feuil1!$A14,DLUO,2),0)),"")
A15: =IF(Recette<>"",Recette,"") | B15: =IF($A15<>"",IF(B$1=Feuil1!$B15,1,IF(B$1=Feuil1!$B15+VLOOKUP(Feuil1!$A15,DLUO,2),VLOOKUP(Feuil1!$A15,DLUO,2),0)),"") | C15: =IF($A15<>"",IF(C$1=Feuil1!$B15,1,IF(C$1=Feuil1!$B15+VLOOKUP(Feuil1!$A15,DLUO,2),VLOOKUP(Feuil1!$A15,DLUO,2),0)),"") | D15: =IF($A15<>"",IF(D$1=Feuil1!$B15,1,IF(D$1=Feuil1!$B15+VLOOKUP(Feuil1!$A15,DLUO,2),VLOOKUP(Feuil1!$A15,DLUO,2),0)),"") | E15: =IF($A15<>"",IF(E$1=Feuil1!$B15,1,IF(E$1=Feuil1!$B15+VLOOKUP(Feuil1!$A15,DLUO,2),VLOOKUP(Feuil1!$A15,DLUO,2),0)),"") | F15: =IF($A15<>"",IF(F$1=Feuil1!$B15,1,IF(F$1=Feuil1!$B15+VLOOKUP(Feuil1!$A15,DLUO,2),VLOOKUP(Feuil1!$A15,DLUO,2),0)),"") | G15: =IF($A15<>"",IF(G$1=Feuil1!$B15,1,IF(G$1=Feuil1!$B15+VLOOKUP(Feuil1!$A15,DLUO,2),VLOOKUP(Feuil1!$A15,DLUO,2),0)),"") | H15: =IF($A15<>"",IF(H$1=Feuil1!$B15,1,IF(H$1=Feuil1!$B15+VLOOKUP(Feuil1!$A15,DLUO,2),VLOOKUP(Feuil1!$A15,DLUO,2),0)),"") | I15: =IF($A15<>"",IF(I$1=Feuil1!$B15,1,IF(I$1=Feuil1!$B15+VLOOKUP(Feuil1!$A15,DLUO,2),VLOOKUP(Feuil1!$A15,DLUO,2),0)),"") | ... BL15: =IF($A15<>"",IF(BL$1=Feuil1!$B15,1,IF(BL$1=Feuil1!$B15+VLOOKUP(Feuil1!$A15,DLUO,2),VLOOKUP(Feuil1!$A15,DLUO,2),0)),"")
