Workbook
Name DebutP: Prévisionnel!$E$4:$E$15
Name Finp: Prévisionnel!$F$4:$F$15
Name libelle: Prévisionnel!$C$4:$C$15
Name LibeTaches: Paramètres!$K$2:$K$7
Name ressources: Paramètres!$D$2:$D$6
Name taches: Paramètres!$I$2:$I$5

Sheet Prévisionnel
A3: Ressource | B3: Ref tâche | C3: Libellé Tâche | D3: Famille | E3: Début prévu | F3: Fin prévu | G3: Durée prévue (h) | H3: Début réel | I3: Fin réel | J3: Durée réelle | K3: Date de livraison | L3: % Avancement
A4: Jacobe | B4: Fermentation | C4: Filtration | E4: 42034 | F4: 42050 | G4: 8 | H4: 32914 | I4: =IF(L4=100%,NOW(),"") -> 42046.361 | J4: 5 | L4: 1
A5: Jacobe | B5: Fermentation | C5: Mélange ingrédients | E5: 42060 | F5: 42120 | G5: 10 | H5: 42034 | I5: =IF(L5=100%,NOW(),"") -> 42046.361 | J5: 15 | L5: 1
A6: Claude | B6: Distillation | E6: 42215 | F6: 42485 | G6: 10 | H6: 41913 | I6: =IF(L6=100%,NOW(),"") -> 42046.361 | J6: 11 | L6: 1
A7: Baptiste | E7: 42189 | F7: 42629 | G7: 11 | H7: 41583 | I7: =IF(L7=100%,NOW(),"") | J7: 10 | L7: 0.9
G8: 5 | I8: =IF(L8=100%,NOW(),"") | J8: 5 | L8: 0
G9: 10 | I9: =IF(L9=100%,NOW(),"") | J9: 30 | L9: 0.1
G10: 3 | I10: =IF(L10=100%,NOW(),"") | J10: 4 | L10: 0.7
I11: =IF(L11=100%,NOW(),"") -> 42046.361 | L11: 1
I12: =IF(L12=100%,NOW(),"") | L12: 0.9
I13: =IF(L13=100%,NOW(),"") | L13: 0
I14: =IF(L14=100%,NOW(),"") | L14: 0.3
I15: =IF(L15=100%,NOW(),"") | L15: 0.05

Sheet Suivi
A2: Date | B2: mois | C2: année | D2: ressource | E2: coût horraire | F2: tâche | G2: libellé tâche | H2: TPS conso | I2: Coût HT par tâches | J2: Cumul tps sur la tâche | K2: dépassement réel/prévu | L2: dépassement quota
A3: =IF(Prévisionnel!H4="","",Prévisionnel!H4) -> 32914 | B3: =IF(A3="","",VLOOKUP(MONTH(A3),Paramètres!$A$2:$B$13,2)) -> Février | C3: =IF(A3="","",YEAR(A3)) -> 1990 | D3: =IF(Prévisionnel!A4="","",Prévisionnel!A4) -> Jacobe | E3: =IF(ISNA(VLOOKUP(D3,Paramètres!$D$2:$E$6,2,FALSE)),"",VLOOKUP(D3,Paramètres!$D$2:$E$6,2,FALSE)) -> 9 | F3: =IF(Prévisionnel!B4="","",Prévisionnel!B4) -> Fermentation | G3: =IF(Prévisionnel!C4="","",Prévisionnel!C4) -> Filtration | H3: =IF(Prévisionnel!J4="","",Prévisionnel!J4) -> 5 | I3: =IF(ISERROR(J3*E3),"",J3*E3) -> 0 | J3: =SUMIFS(Paramètres!$H$3:$H3,Paramètres!$B3:$B$3,Paramètres!$B3,Paramètres!$C3:$C$3,Paramètres!$C3,Paramètres!$F$3:$F3,Paramètres!$F3) -> 0 | K3: =IF(AND(Prévisionnel!J4<>"",Prévisionnel!G4<>""),Prévisionnel!J4/Prévisionnel!G4,"") -> 0.625
A4: =IF(Prévisionnel!H5="","",Prévisionnel!H5) -> 42034 | B4: =IF(A4="","",VLOOKUP(MONTH(A4),Paramètres!$A$2:$B$13,2)) -> Janvier | C4: =IF(A4="","",YEAR(A4)) -> 2015 | D4: =IF(Prévisionnel!A5="","",Prévisionnel!A5) -> Jacobe | E4: =IF(ISNA(VLOOKUP(D4,Paramètres!$D$2:$E$6,2,FALSE)),"",VLOOKUP(D4,Paramètres!$D$2:$E$6,2,FALSE)) -> 9 | F4: =IF(Prévisionnel!B5="","",Prévisionnel!B5) -> Fermentation | G4: =IF(Prévisionnel!C5="","",Prévisionnel!C5) -> Mélange ingrédients | H4: =IF(Prévisionnel!J5="","",Prévisionnel!J5) -> 15 | I4: =IF(ISERROR(J4*E4),"",J4*E4) -> 0 | J4: =SUMIFS(Paramètres!$H$3:$H4,Paramètres!$B$3:$B4,Paramètres!$B4,Paramètres!$C$3:$C4,Paramètres!$C4,Paramètres!$F$3:$F4,Paramètres!$F4) -> 0 | K4: =IF(AND(Prévisionnel!J5<>"",Prévisionnel!G5<>""),Prévisionnel!J5/Prévisionnel!G5,"") -> 1.5
A5: =IF(Prévisionnel!H6="","",Prévisionnel!H6) -> 41913 | B5: =IF(A5="","",VLOOKUP(MONTH(A5),Paramètres!$A$2:$B$13,2)) -> Octobre | C5: =IF(A5="","",YEAR(A5)) -> 2014 | D5: =IF(Prévisionnel!A6="","",Prévisionnel!A6) -> Claude | E5: =IF(ISNA(VLOOKUP(D5,Paramètres!$D$2:$E$6,2,FALSE)),"",VLOOKUP(D5,Paramètres!$D$2:$E$6,2,FALSE)) | F5: =IF(Prévisionnel!B6="","",Prévisionnel!B6) -> Distillation | G5: =IF(Prévisionnel!C6="","",Prévisionnel!C6) | H5: =IF(Prévisionnel!J6="","",Prévisionnel!J6) -> 11 | I5: =IF(ISERROR(J5*E5),"",J5*E5) | J5: =SUMIFS(Paramètres!$H$3:$H5,Paramètres!$B$3:$B5,Paramètres!$B5,Paramètres!$C$3:$C5,Paramètres!$C5,Paramètres!$F$3:$F5,Paramètres!$F5) -> 0 | K5: =IF(AND(Prévisionnel!J6<>"",Prévisionnel!G6<>""),Prévisionnel!J6/Prévisionnel!G6,"") -> 1.1
A6: =IF(Prévisionnel!H7="","",Prévisionnel!H7) -> 41583 | B6: =IF(A6="","",VLOOKUP(MONTH(A6),Paramètres!$A$2:$B$13,2)) -> Novembre | C6: =IF(A6="","",YEAR(A6)) -> 2013 | D6: =IF(Prévisionnel!A7="","",Prévisionnel!A7) -> Baptiste | E6: =IF(ISNA(VLOOKUP(D6,Paramètres!$D$2:$E$6,2,FALSE)),"",VLOOKUP(D6,Paramètres!$D$2:$E$6,2,FALSE)) -> 15 | F6: =IF(Prévisionnel!B7="","",Prévisionnel!B7) | G6: =IF(Prévisionnel!C7="","",Prévisionnel!C7) | H6: =IF(Prévisionnel!J7="","",Prévisionnel!J7) -> 10 | I6: =IF(ISERROR(J6*E6),"",J6*E6) -> 0 | J6: =SUMIFS(Paramètres!$H$3:$H6,Paramètres!$B$3:$B6,Paramètres!$B6,Paramètres!$C$3:$C6,Paramètres!$C6,Paramètres!$F$3:$F6,Paramètres!$F6) -> 0 | K6: =IF(AND(Prévisionnel!J7<>"",Prévisionnel!G7<>""),Prévisionnel!J7/Prévisionnel!G7,"") -> 0.90909091
A7: =IF(Prévisionnel!H8="","",Prévisionnel!H8) | B7: =IF(A7="","",VLOOKUP(MONTH(A7),Paramètres!$A$2:$B$13,2)) | C7: =IF(A7="","",YEAR(A7)) | D7: =IF(Prévisionnel!A8="","",Prévisionnel!A8) | E7: =IF(ISNA(VLOOKUP(D7,Paramètres!$D$2:$E$6,2,FALSE)),"",VLOOKUP(D7,Paramètres!$D$2:$E$6,2,FALSE)) | F7: =IF(Prévisionnel!B8="","",Prévisionnel!B8) | G7: =IF(Prévisionnel!C8="","",Prévisionnel!C8) | H7: =IF(Prévisionnel!J8="","",Prévisionnel!J8) -> 5 | I7: =IF(ISERROR(J7*E7),"",J7*E7) | J7: =SUMIFS(Paramètres!$H$3:$H7,Paramètres!$B$3:$B7,Paramètres!$B7,Paramètres!$C$3:$C7,Paramètres!$C7,Paramètres!$F$3:$F7,Paramètres!$F7) -> 0 | K7: =IF(AND(Prévisionnel!J8<>"",Prévisionnel!G8<>""),Prévisionnel!J8/Prévisionnel!G8,"") -> 1
A8: =IF(Prévisionnel!H9="","",Prévisionnel!H9) | B8: =IF(A8="","",VLOOKUP(MONTH(A8),Paramètres!$A$2:$B$13,2)) | C8: =IF(A8="","",YEAR(A8)) | D8: =IF(Prévisionnel!A9="","",Prévisionnel!A9) | E8: =IF(ISNA(VLOOKUP(D8,Paramètres!$D$2:$E$6,2,FALSE)),"",VLOOKUP(D8,Paramètres!$D$2:$E$6,2,FALSE)) | F8: =IF(Prévisionnel!B9="","",Prévisionnel!B9) | G8: =IF(Prévisionnel!C9="","",Prévisionnel!C9) | H8: =IF(Prévisionnel!J9="","",Prévisionnel!J9) -> 30 | I8: =IF(ISERROR(J8*E8),"",J8*E8) | J8: =SUMIFS(Paramètres!$H$3:$H8,Paramètres!$B$3:$B8,Paramètres!$B8,Paramètres!$C$3:$C8,Paramètres!$C8,Paramètres!$F$3:$F8,Paramètres!$F8) -> 0 | K8: =IF(AND(Prévisionnel!J9<>"",Prévisionnel!G9<>""),Prévisionnel!J9/Prévisionnel!G9,"") -> 3
A9: =IF(Prévisionnel!H10="","",Prévisionnel!H10) | B9: =IF(A9="","",VLOOKUP(MONTH(A9),Paramètres!$A$2:$B$13,2)) | C9: =IF(A9="","",YEAR(A9)) | D9: =IF(Prévisionnel!A10="","",Prévisionnel!A10) | E9: =IF(ISNA(VLOOKUP(D9,Paramètres!$D$2:$E$6,2,FALSE)),"",VLOOKUP(D9,Paramètres!$D$2:$E$6,2,FALSE)) | F9: =IF(Prévisionnel!B10="","",Prévisionnel!B10) | G9: =IF(Prévisionnel!C10="","",Prévisionnel!C10) | H9: =IF(Prévisionnel!J10="","",Prévisionnel!J10) -> 4 | I9: =IF(ISERROR(J9*E9),"",J9*E9) | J9: =SUMIFS(Paramètres!$H$3:$H9,Paramètres!$B$3:$B9,Paramètres!$B9,Paramètres!$C$3:$C9,Paramètres!$C9,Paramètres!$F$3:$F9,Paramètres!$F9) -> 0 | K9: =IF(AND(Prévisionnel!J10<>"",Prévisionnel!G10<>""),Prévisionnel!J10/Prévisionnel!G10,"") -> 1.3333333
A10: =IF(Prévisionnel!H11="","",Prévisionnel!H11) | B10: =IF(A10="","",VLOOKUP(MONTH(A10),Paramètres!$A$2:$B$13,2)) | C10: =IF(A10="","",YEAR(A10)) | D10: =IF(Prévisionnel!A11="","",Prévisionnel!A11) | E10: =IF(ISNA(VLOOKUP(D10,Paramètres!$D$2:$E$6,2,FALSE)),"",VLOOKUP(D10,Paramètres!$D$2:$E$6,2,FALSE)) | F10: =IF(Prévisionnel!B11="","",Prévisionnel!B11) | G10: =IF(Prévisionnel!C11="","",Prévisionnel!C11) | H10: =IF(Prévisionnel!J11="","",Prévisionnel!J11) | I10: =IF(ISERROR(J10*E10),"",J10*E10) | J10: =SUMIFS(Paramètres!$H$3:$H10,Paramètres!$B$3:$B10,Paramètres!$B10,Paramètres!$C$3:$C10,Paramètres!$C10,Paramètres!$F$3:$F10,Paramètres!$F10) -> 0 | K10: =IF(AND(Prévisionnel!J11<>"",Prévisionnel!G11<>""),Prévisionnel!J11/Prévisionnel!G11,"")
A11: =IF(Prévisionnel!H12="","",Prévisionnel!H12) | B11: =IF(A11="","",VLOOKUP(MONTH(A11),Paramètres!$A$2:$B$13,2)) | C11: =IF(A11="","",YEAR(A11)) | D11: =IF(Prévisionnel!A12="","",Prévisionnel!A12) | E11: =IF(ISNA(VLOOKUP(D11,Paramètres!$D$2:$E$6,2,FALSE)),"",VLOOKUP(D11,Paramètres!$D$2:$E$6,2,FALSE)) | F11: =IF(Prévisionnel!B12="","",Prévisionnel!B12) | G11: =IF(Prévisionnel!C12="","",Prévisionnel!C12) | H11: =IF(Prévisionnel!J12="","",Prévisionnel!J12) | I11: =IF(ISERROR(J11*E11),"",J11*E11) | J11: =SUMIFS(Paramètres!$H$3:$H11,Paramètres!$B$3:$B11,Paramètres!$B11,Paramètres!$C$3:$C11,Paramètres!$C11,Paramètres!$F$3:$F11,Paramètres!$F11) -> 0 | K11: =IF(AND(Prévisionnel!J12<>"",Prévisionnel!G12<>""),Prévisionnel!J12/Prévisionnel!G12,"")
A12: =IF(Prévisionnel!H13="","",Prévisionnel!H13) | B12: =IF(A12="","",VLOOKUP(MONTH(A12),Paramètres!$A$2:$B$13,2)) | C12: =IF(A12="","",YEAR(A12)) | D12: =IF(Prévisionnel!A13="","",Prévisionnel!A13) | E12: =IF(ISNA(VLOOKUP(D12,Paramètres!$D$2:$E$6,2,FALSE)),"",VLOOKUP(D12,Paramètres!$D$2:$E$6,2,FALSE)) | F12: =IF(Prévisionnel!B13="","",Prévisionnel!B13) | G12: =IF(Prévisionnel!C13="","",Prévisionnel!C13) | H12: =IF(Prévisionnel!J13="","",Prévisionnel!J13) | I12: =IF(ISERROR(J12*E12),"",J12*E12) | J12: =SUMIFS(Paramètres!$H$3:$H12,Paramètres!$B$3:$B12,Paramètres!$B12,Paramètres!$C$3:$C12,Paramètres!$C12,Paramètres!$F$3:$F12,Paramètres!$F12) -> 0 | K12: =IF(AND(Prévisionnel!J13<>"",Prévisionnel!G13<>""),Prévisionnel!J13/Prévisionnel!G13,"")
A13: =IF(Prévisionnel!H14="","",Prévisionnel!H14) | B13: =IF(A13="","",VLOOKUP(MONTH(A13),Paramètres!$A$2:$B$13,2)) | C13: =IF(A13="","",YEAR(A13)) | D13: =IF(Prévisionnel!A14="","",Prévisionnel!A14) | E13: =IF(ISNA(VLOOKUP(D13,Paramètres!$D$2:$E$6,2,FALSE)),"",VLOOKUP(D13,Paramètres!$D$2:$E$6,2,FALSE)) | F13: =IF(Prévisionnel!B14="","",Prévisionnel!B14) | G13: =IF(Prévisionnel!C14="","",Prévisionnel!C14) | H13: =IF(Prévisionnel!J14="","",Prévisionnel!J14) | I13: =IF(ISERROR(J13*E13),"",J13*E13) | J13: =SUMIFS(Paramètres!$H$3:$H13,Paramètres!$B$3:$B13,Paramètres!$B13,Paramètres!$C$3:$C13,Paramètres!$C13,Paramètres!$F$3:$F13,Paramètres!$F13) -> 0 | K13: =IF(AND(Prévisionnel!J14<>"",Prévisionnel!G14<>""),Prévisionnel!J14/Prévisionnel!G14,"")
A14: =IF(Prévisionnel!H15="","",Prévisionnel!H15) | B14: =IF(A14="","",VLOOKUP(MONTH(A14),Paramètres!$A$2:$B$13,2)) | C14: =IF(A14="","",YEAR(A14)) | D14: =IF(Prévisionnel!A15="","",Prévisionnel!A15) | E14: =IF(ISNA(VLOOKUP(D14,Paramètres!$D$2:$E$6,2,FALSE)),"",VLOOKUP(D14,Paramètres!$D$2:$E$6,2,FALSE)) | F14: =IF(Prévisionnel!B15="","",Prévisionnel!B15) | G14: =IF(Prévisionnel!C15="","",Prévisionnel!C15) | H14: =IF(Prévisionnel!J15="","",Prévisionnel!J15) | I14: =IF(ISERROR(J14*E14),"",J14*E14) | J14: =SUMIFS(Paramètres!$H$3:$H14,Paramètres!$B$3:$B14,Paramètres!$B14,Paramètres!$C$3:$C14,Paramètres!$C14,Paramètres!$F$3:$F14,Paramètres!$F14) -> 0 | K14: =IF(AND(Prévisionnel!J15<>"",Prévisionnel!G15<>""),Prévisionnel!J15/Prévisionnel!G15,"")
A15: =IF(Prévisionnel!H16="","",Prévisionnel!H16) | B15: =IF(A15="","",VLOOKUP(MONTH(A15),Paramètres!$A$2:$B$13,2)) | C15: =IF(A15="","",YEAR(A15)) | D15: =IF(Prévisionnel!A16="","",Prévisionnel!A16) | E15: =IF(ISNA(VLOOKUP(D15,Paramètres!$D$2:$E$6,2,FALSE)),"",VLOOKUP(D15,Paramètres!$D$2:$E$6,2,FALSE)) | F15: =IF(Prévisionnel!B16="","",Prévisionnel!B16) | G15: =IF(Prévisionnel!C16="","",Prévisionnel!C16) | H15: =IF(Prévisionnel!J16="","",Prévisionnel!J16) | I15: =IF(ISERROR(J15*E15),"",J15*E15) | J15: =SUMIFS(Paramètres!$H$3:$H15,Paramètres!$B$3:$B15,Paramètres!$B15,Paramètres!$C$3:$C15,Paramètres!$C15,Paramètres!$F$3:$F15,Paramètres!$F15) -> 0 | K15: =IF(AND(Prévisionnel!J16<>"",Prévisionnel!G16<>""),Prévisionnel!J16/Prévisionnel!G16,"")
... A29: =IF(Prévisionnel!H30="","",Prévisionnel!H30) | B29: =IF(A29="","",VLOOKUP(MONTH(A29),Paramètres!$A$2:$B$13,2)) | C29: =IF(A29="","",YEAR(A29)) | D29: =IF(Prévisionnel!A30="","",Prévisionnel!A30) | E29: =IF(ISNA(VLOOKUP(D29,Paramètres!$D$2:$E$6,2,FALSE)),"",VLOOKUP(D29,Paramètres!$D$2:$E$6,2,FALSE)) | F29: =IF(Prévisionnel!B30="","",Prévisionnel!B30) | G29: =IF(Prévisionnel!C30="","",Prévisionnel!C30) | H29: =IF(Prévisionnel!J30="","",Prévisionnel!J30) | I29: =IF(ISERROR(J29*E29),"",J29*E29) | J29: =SUMIFS(Paramètres!$H$3:$H29,Paramètres!$B$3:$B29,Paramètres!$B29,Paramètres!$C$3:$C29,Paramètres!$C29,Paramètres!$F$3:$F29,Paramètres!$F29) -> 0 | K29: =IF(AND(Prévisionnel!J30<>"",Prévisionnel!G30<>""),Prévisionnel!J30/Prévisionnel!G30,"")

Sheet Paramètres
A1: Numéro du mois | B1: Mois | D1: Ressources | E1: Cout horaire | I1: Ref tâche | K1: Libellé tâche
A2: 1 | B2: Janvier | D2: Jean-Michel | E2: 10 | I2: Préparation du moût | K2: Mélange ingrédients
A3: 2 | B3: Février | D3: Baptiste | E3: 15 | I3: Fermentation | K3: Cuisson
A4: 3 | B4: Mars | D4: Jacobe | E4: 9 | I4: Distillation | K4: Brassage
A5: 4 | B5: Avril | D5: Jean-Claude | E5: 8 | I5: Affinage et vieillissement | K5: Filtration
A6: 5 | B6: Mai | I6: Mise en bouteille | K6: Dilution
A7: 6 | B7: Juin | K7: Présentation
A8: 7 | B8: Juillet
A9: 8 | B9: Août
A10: 9 | B10: Septembre
A11: 10 | B11: Octobre
A12: 11 | B12: Novembre
A13: 12 | B13: Décembre

Sheet Planning Prévisionnel
B2: Libellé | C2: Début Prévu | D2: Fin Prévu | F2: 42005 | G2: 42036 | H2: 42064 | I2: 42095 | J2: 42125 | K2: 42156 | L2: 42186 | M2: 42217 | N2: 42248 | O2: 42278 | P2: 42309 | Q2: 42339 | R2: 42370 | S2: 42401 | T2: 42430 | U2: 42461 | V2: 42491 | W2: 42522 | X2: 42552 | Y2: 42583 | Z2: 42614 | AA2: 42644 | AB2: 42675 | AC2: 42705
B3: {=IF(libelle<>"",libelle,"")} -> Filtration | C3: {=IF(DebutP<>"",DebutP,"")} -> 42034 | D3: {=IF(Finp<>"",Finp,"")} -> 42050 | F3: =IF(AND($C3<>"",$D3<>""),IF(OR(AND(MONTH(F$2)<MONTH($C3),YEAR(F$2)=YEAR($C3)),YEAR(F$2)<YEAR($C3),YEAR(F$2)>YEAR($D3),AND(MONTH(F$2)>MONTH($D3),YEAR(F$2)=YEAR($D3))),0,1),"") -> 1 | G3: =IF(AND($C3<>"",$D3<>""),IF(OR(AND(MONTH(G$2)<MONTH($C3),YEAR(G$2)=YEAR($C3)),YEAR(G$2)<YEAR($C3),YEAR(G$2)>YEAR($D3),AND(MONTH(G$2)>MONTH($D3),YEAR(G$2)=YEAR($D3))),0,1),"") -> 1 | H3: =IF(AND($C3<>"",$D3<>""),IF(OR(AND(MONTH(H$2)<MONTH($C3),YEAR(H$2)=YEAR($C3)),YEAR(H$2)<YEAR($C3),YEAR(H$2)>YEAR($D3),AND(MONTH(H$2)>MONTH($D3),YEAR(H$2)=YEAR($D3))),0,1),"") -> 0 | I3: =IF(AND($C3<>"",$D3<>""),IF(OR(AND(MONTH(I$2)<MONTH($C3),YEAR(I$2)=YEAR($C3)),YEAR(I$2)<YEAR($C3),YEAR(I$2)>YEAR($D3),AND(MONTH(I$2)>MONTH($D3),YEAR(I$2)=YEAR($D3))),0,1),"") -> 0 | J3: =IF(AND($C3<>"",$D3<>""),IF(OR(AND(MONTH(J$2)<MONTH($C3),YEAR(J$2)=YEAR($C3)),YEAR(J$2)<YEAR($C3),YEAR(J$2)>YEAR($D3),AND(MONTH(J$2)>MONTH($D3),YEAR(J$2)=YEAR($D3))),0,1),"") -> 0 | K3: =IF(AND($C3<>"",$D3<>""),IF(OR(AND(MONTH(K$2)<MONTH($C3),YEAR(K$2)=YEAR($C3)),YEAR(K$2)<YEAR($C3),YEAR(K$2)>YEAR($D3),AND(MONTH(K$2)>MONTH($D3),YEAR(K$2)=YEAR($D3))),0,1),"") -> 0 | L3: =IF(AND($C3<>"",$D3<>""),IF(OR(AND(MONTH(L$2)<MONTH($C3),YEAR(L$2)=YEAR($C3)),YEAR(L$2)<YEAR($C3),YEAR(L$2)>YEAR($D3),AND(MONTH(L$2)>MONTH($D3),YEAR(L$2)=YEAR($D3))),0,1),"") -> 0 | M3: =IF(AND($C3<>"",$D3<>""),IF(OR(AND(MONTH(M$2)<MONTH($C3),YEAR(M$2)=YEAR($C3)),YEAR(M$2)<YEAR($C3),YEAR(M$2)>YEAR($D3),AND(MONTH(M$2)>MONTH($D3),YEAR(M$2)=YEAR($D3))),0,1),"") -> 0 | ... AC3: =IF(AND($C3<>"",$D3<>""),IF(OR(AND(MONTH(AC$2)<MONTH($C3),YEAR(AC$2)=YEAR($C3)),YEAR(AC$2)<YEAR($C3),YEAR(AC$2)>YEAR($D3),AND(MONTH(AC$2)>MONTH($D3),YEAR(AC$2)=YEAR($D3))),0,1),"") -> 0
B4: Mélange ingrédients | C4: 42060 | D4: 42120 | F4: =IF(AND($C4<>"",$D4<>""),IF(OR(AND(MONTH(F$2)<MONTH($C4),YEAR(F$2)=YEAR($C4)),YEAR(F$2)<YEAR($C4),YEAR(F$2)>YEAR($D4),AND(MONTH(F$2)>MONTH($D4),YEAR(F$2)=YEAR($D4))),0,1),"") -> 0 | G4: =IF(AND($C4<>"",$D4<>""),IF(OR(AND(MONTH(G$2)<MONTH($C4),YEAR(G$2)=YEAR($C4)),YEAR(G$2)<YEAR($C4),YEAR(G$2)>YEAR($D4),AND(MONTH(G$2)>MONTH($D4),YEAR(G$2)=YEAR($D4))),0,1),"") -> 1 | H4: =IF(AND($C4<>"",$D4<>""),IF(OR(AND(MONTH(H$2)<MONTH($C4),YEAR(H$2)=YEAR($C4)),YEAR(H$2)<YEAR($C4),YEAR(H$2)>YEAR($D4),AND(MONTH(H$2)>MONTH($D4),YEAR(H$2)=YEAR($D4))),0,1),"") -> 1 | I4: =IF(AND($C4<>"",$D4<>""),IF(OR(AND(MONTH(I$2)<MONTH($C4),YEAR(I$2)=YEAR($C4)),YEAR(I$2)<YEAR($C4),YEAR(I$2)>YEAR($D4),AND(MONTH(I$2)>MONTH($D4),YEAR(I$2)=YEAR($D4))),0,1),"") -> 1 | J4: =IF(AND($C4<>"",$D4<>""),IF(OR(AND(MONTH(J$2)<MONTH($C4),YEAR(J$2)=YEAR($C4)),YEAR(J$2)<YEAR($C4),YEAR(J$2)>YEAR($D4),AND(MONTH(J$2)>MONTH($D4),YEAR(J$2)=YEAR($D4))),0,1),"") -> 0 | K4: =IF(AND($C4<>"",$D4<>""),IF(OR(AND(MONTH(K$2)<MONTH($C4),YEAR(K$2)=YEAR($C4)),YEAR(K$2)<YEAR($C4),YEAR(K$2)>YEAR($D4),AND(MONTH(K$2)>MONTH($D4),YEAR(K$2)=YEAR($D4))),0,1),"") -> 0 | L4: =IF(AND($C4<>"",$D4<>""),IF(OR(AND(MONTH(L$2)<MONTH($C4),YEAR(L$2)=YEAR($C4)),YEAR(L$2)<YEAR($C4),YEAR(L$2)>YEAR($D4),AND(MONTH(L$2)>MONTH($D4),YEAR(L$2)=YEAR($D4))),0,1),"") -> 0 | M4: =IF(AND($C4<>"",$D4<>""),IF(OR(AND(MONTH(M$2)<MONTH($C4),YEAR(M$2)=YEAR($C4)),YEAR(M$2)<YEAR($C4),YEAR(M$2)>YEAR($D4),AND(MONTH(M$2)>MONTH($D4),YEAR(M$2)=YEAR($D4))),0,1),"") -> 0 | ... AC4: =IF(AND($C4<>"",$D4<>""),IF(OR(AND(MONTH(AC$2)<MONTH($C4),YEAR(AC$2)=YEAR($C4)),YEAR(AC$2)<YEAR($C4),YEAR(AC$2)>YEAR($D4),AND(MONTH(AC$2)>MONTH($D4),YEAR(AC$2)=YEAR($D4))),0,1),"") -> 0
C5: 42215 | D5: 42485 | F5: =IF(AND($C5<>"",$D5<>""),IF(OR(AND(MONTH(F$2)<MONTH($C5),YEAR(F$2)=YEAR($C5)),YEAR(F$2)<YEAR($C5),YEAR(F$2)>YEAR($D5),AND(MONTH(F$2)>MONTH($D5),YEAR(F$2)=YEAR($D5))),0,1),"") -> 0 | G5: =IF(AND($C5<>"",$D5<>""),IF(OR(AND(MONTH(G$2)<MONTH($C5),YEAR(G$2)=YEAR($C5)),YEAR(G$2)<YEAR($C5),YEAR(G$2)>YEAR($D5),AND(MONTH(G$2)>MONTH($D5),YEAR(G$2)=YEAR($D5))),0,1),"") -> 0 | H5: =IF(AND($C5<>"",$D5<>""),IF(OR(AND(MONTH(H$2)<MONTH($C5),YEAR(H$2)=YEAR($C5)),YEAR(H$2)<YEAR($C5),YEAR(H$2)>YEAR($D5),AND(MONTH(H$2)>MONTH($D5),YEAR(H$2)=YEAR($D5))),0,1),"") -> 0 | I5: =IF(AND($C5<>"",$D5<>""),IF(OR(AND(MONTH(I$2)<MONTH($C5),YEAR(I$2)=YEAR($C5)),YEAR(I$2)<YEAR($C5),YEAR(I$2)>YEAR($D5),AND(MONTH(I$2)>MONTH($D5),YEAR(I$2)=YEAR($D5))),0,1),"") -> 0 | J5: =IF(AND($C5<>"",$D5<>""),IF(OR(AND(MONTH(J$2)<MONTH($C5),YEAR(J$2)=YEAR($C5)),YEAR(J$2)<YEAR($C5),YEAR(J$2)>YEAR($D5),AND(MONTH(J$2)>MONTH($D5),YEAR(J$2)=YEAR($D5))),0,1),"") -> 0 | K5: =IF(AND($C5<>"",$D5<>""),IF(OR(AND(MONTH(K$2)<MONTH($C5),YEAR(K$2)=YEAR($C5)),YEAR(K$2)<YEAR($C5),YEAR(K$2)>YEAR($D5),AND(MONTH(K$2)>MONTH($D5),YEAR(K$2)=YEAR($D5))),0,1),"") -> 0 | L5: =IF(AND($C5<>"",$D5<>""),IF(OR(AND(MONTH(L$2)<MONTH($C5),YEAR(L$2)=YEAR($C5)),YEAR(L$2)<YEAR($C5),YEAR(L$2)>YEAR($D5),AND(MONTH(L$2)>MONTH($D5),YEAR(L$2)=YEAR($D5))),0,1),"") -> 1 | M5: =IF(AND($C5<>"",$D5<>""),IF(OR(AND(MONTH(M$2)<MONTH($C5),YEAR(M$2)=YEAR($C5)),YEAR(M$2)<YEAR($C5),YEAR(M$2)>YEAR($D5),AND(MONTH(M$2)>MONTH($D5),YEAR(M$2)=YEAR($D5))),0,1),"") -> 1 | ... AC5: =IF(AND($C5<>"",$D5<>""),IF(OR(AND(MONTH(AC$2)<MONTH($C5),YEAR(AC$2)=YEAR($C5)),YEAR(AC$2)<YEAR($C5),YEAR(AC$2)>YEAR($D5),AND(MONTH(AC$2)>MONTH($D5),YEAR(AC$2)=YEAR($D5))),0,1),"") -> 0
C6: 42189 | D6: 42629 | F6: =IF(AND($C6<>"",$D6<>""),IF(OR(AND(MONTH(F$2)<MONTH($C6),YEAR(F$2)=YEAR($C6)),YEAR(F$2)<YEAR($C6),YEAR(F$2)>YEAR($D6),AND(MONTH(F$2)>MONTH($D6),YEAR(F$2)=YEAR($D6))),0,1),"") -> 0 | G6: =IF(AND($C6<>"",$D6<>""),IF(OR(AND(MONTH(G$2)<MONTH($C6),YEAR(G$2)=YEAR($C6)),YEAR(G$2)<YEAR($C6),YEAR(G$2)>YEAR($D6),AND(MONTH(G$2)>MONTH($D6),YEAR(G$2)=YEAR($D6))),0,1),"") -> 0 | H6: =IF(AND($C6<>"",$D6<>""),IF(OR(AND(MONTH(H$2)<MONTH($C6),YEAR(H$2)=YEAR($C6)),YEAR(H$2)<YEAR($C6),YEAR(H$2)>YEAR($D6),AND(MONTH(H$2)>MONTH($D6),YEAR(H$2)=YEAR($D6))),0,1),"") -> 0 | I6: =IF(AND($C6<>"",$D6<>""),IF(OR(AND(MONTH(I$2)<MONTH($C6),YEAR(I$2)=YEAR($C6)),YEAR(I$2)<YEAR($C6),YEAR(I$2)>YEAR($D6),AND(MONTH(I$2)>MONTH($D6),YEAR(I$2)=YEAR($D6))),0,1),"") -> 0 | J6: =IF(AND($C6<>"",$D6<>""),IF(OR(AND(MONTH(J$2)<MONTH($C6),YEAR(J$2)=YEAR($C6)),YEAR(J$2)<YEAR($C6),YEAR(J$2)>YEAR($D6),AND(MONTH(J$2)>MONTH($D6),YEAR(J$2)=YEAR($D6))),0,1),"") -> 0 | K6: =IF(AND($C6<>"",$D6<>""),IF(OR(AND(MONTH(K$2)<MONTH($C6),YEAR(K$2)=YEAR($C6)),YEAR(K$2)<YEAR($C6),YEAR(K$2)>YEAR($D6),AND(MONTH(K$2)>MONTH($D6),YEAR(K$2)=YEAR($D6))),0,1),"") -> 0 | L6: =IF(AND($C6<>"",$D6<>""),IF(OR(AND(MONTH(L$2)<MONTH($C6),YEAR(L$2)=YEAR($C6)),YEAR(L$2)<YEAR($C6),YEAR(L$2)>YEAR($D6),AND(MONTH(L$2)>MONTH($D6),YEAR(L$2)=YEAR($D6))),0,1),"") -> 1 | M6: =IF(AND($C6<>"",$D6<>""),IF(OR(AND(MONTH(M$2)<MONTH($C6),YEAR(M$2)=YEAR($C6)),YEAR(M$2)<YEAR($C6),YEAR(M$2)>YEAR($D6),AND(MONTH(M$2)>MONTH($D6),YEAR(M$2)=YEAR($D6))),0,1),"") -> 1 | ... AC6: =IF(AND($C6<>"",$D6<>""),IF(OR(AND(MONTH(AC$2)<MONTH($C6),YEAR(AC$2)=YEAR($C6)),YEAR(AC$2)<YEAR($C6),YEAR(AC$2)>YEAR($D6),AND(MONTH(AC$2)>MONTH($D6),YEAR(AC$2)=YEAR($D6))),0,1),"") -> 0
F7: =IF(AND($C7<>"",$D7<>""),IF(OR(AND(MONTH(F$2)<MONTH($C7),YEAR(F$2)=YEAR($C7)),YEAR(F$2)<YEAR($C7),YEAR(F$2)>YEAR($D7),AND(MONTH(F$2)>MONTH($D7),YEAR(F$2)=YEAR($D7))),0,1),"") | G7: =IF(AND($C7<>"",$D7<>""),IF(OR(AND(MONTH(G$2)<MONTH($C7),YEAR(G$2)=YEAR($C7)),YEAR(G$2)<YEAR($C7),YEAR(G$2)>YEAR($D7),AND(MONTH(G$2)>MONTH($D7),YEAR(G$2)=YEAR($D7))),0,1),"") | H7: =IF(AND($C7<>"",$D7<>""),IF(OR(AND(MONTH(H$2)<MONTH($C7),YEAR(H$2)=YEAR($C7)),YEAR(H$2)<YEAR($C7),YEAR(H$2)>YEAR($D7),AND(MONTH(H$2)>MONTH($D7),YEAR(H$2)=YEAR($D7))),0,1),"") | I7: =IF(AND($C7<>"",$D7<>""),IF(OR(AND(MONTH(I$2)<MONTH($C7),YEAR(I$2)=YEAR($C7)),YEAR(I$2)<YEAR($C7),YEAR(I$2)>YEAR($D7),AND(MONTH(I$2)>MONTH($D7),YEAR(I$2)=YEAR($D7))),0,1),"") | J7: =IF(AND($C7<>"",$D7<>""),IF(OR(AND(MONTH(J$2)<MONTH($C7),YEAR(J$2)=YEAR($C7)),YEAR(J$2)<YEAR($C7),YEAR(J$2)>YEAR($D7),AND(MONTH(J$2)>MONTH($D7),YEAR(J$2)=YEAR($D7))),0,1),"") | K7: =IF(AND($C7<>"",$D7<>""),IF(OR(AND(MONTH(K$2)<MONTH($C7),YEAR(K$2)=YEAR($C7)),YEAR(K$2)<YEAR($C7),YEAR(K$2)>YEAR($D7),AND(MONTH(K$2)>MONTH($D7),YEAR(K$2)=YEAR($D7))),0,1),"") | L7: =IF(AND($C7<>"",$D7<>""),IF(OR(AND(MONTH(L$2)<MONTH($C7),YEAR(L$2)=YEAR($C7)),YEAR(L$2)<YEAR($C7),YEAR(L$2)>YEAR($D7),AND(MONTH(L$2)>MONTH($D7),YEAR(L$2)=YEAR($D7))),0,1),"") | M7: =IF(AND($C7<>"",$D7<>""),IF(OR(AND(MONTH(M$2)<MONTH($C7),YEAR(M$2)=YEAR($C7)),YEAR(M$2)<YEAR($C7),YEAR(M$2)>YEAR($D7),AND(MONTH(M$2)>MONTH($D7),YEAR(M$2)=YEAR($D7))),0,1),"") | ... AC7: =IF(AND($C7<>"",$D7<>""),IF(OR(AND(MONTH(AC$2)<MONTH($C7),YEAR(AC$2)=YEAR($C7)),YEAR(AC$2)<YEAR($C7),YEAR(AC$2)>YEAR($D7),AND(MONTH(AC$2)>MONTH($D7),YEAR(AC$2)=YEAR($D7))),0,1),"")
F8: =IF(AND($C8<>"",$D8<>""),IF(OR(AND(MONTH(F$2)<MONTH($C8),YEAR(F$2)=YEAR($C8)),YEAR(F$2)<YEAR($C8),YEAR(F$2)>YEAR($D8),AND(MONTH(F$2)>MONTH($D8),YEAR(F$2)=YEAR($D8))),0,1),"") | G8: =IF(AND($C8<>"",$D8<>""),IF(OR(AND(MONTH(G$2)<MONTH($C8),YEAR(G$2)=YEAR($C8)),YEAR(G$2)<YEAR($C8),YEAR(G$2)>YEAR($D8),AND(MONTH(G$2)>MONTH($D8),YEAR(G$2)=YEAR($D8))),0,1),"") | H8: =IF(AND($C8<>"",$D8<>""),IF(OR(AND(MONTH(H$2)<MONTH($C8),YEAR(H$2)=YEAR($C8)),YEAR(H$2)<YEAR($C8),YEAR(H$2)>YEAR($D8),AND(MONTH(H$2)>MONTH($D8),YEAR(H$2)=YEAR($D8))),0,1),"") | I8: =IF(AND($C8<>"",$D8<>""),IF(OR(AND(MONTH(I$2)<MONTH($C8),YEAR(I$2)=YEAR($C8)),YEAR(I$2)<YEAR($C8),YEAR(I$2)>YEAR($D8),AND(MONTH(I$2)>MONTH($D8),YEAR(I$2)=YEAR($D8))),0,1),"") | J8: =IF(AND($C8<>"",$D8<>""),IF(OR(AND(MONTH(J$2)<MONTH($C8),YEAR(J$2)=YEAR($C8)),YEAR(J$2)<YEAR($C8),YEAR(J$2)>YEAR($D8),AND(MONTH(J$2)>MONTH($D8),YEAR(J$2)=YEAR($D8))),0,1),"") | K8: =IF(AND($C8<>"",$D8<>""),IF(OR(AND(MONTH(K$2)<MONTH($C8),YEAR(K$2)=YEAR($C8)),YEAR(K$2)<YEAR($C8),YEAR(K$2)>YEAR($D8),AND(MONTH(K$2)>MONTH($D8),YEAR(K$2)=YEAR($D8))),0,1),"") | L8: =IF(AND($C8<>"",$D8<>""),IF(OR(AND(MONTH(L$2)<MONTH($C8),YEAR(L$2)=YEAR($C8)),YEAR(L$2)<YEAR($C8),YEAR(L$2)>YEAR($D8),AND(MONTH(L$2)>MONTH($D8),YEAR(L$2)=YEAR($D8))),0,1),"") | M8: =IF(AND($C8<>"",$D8<>""),IF(OR(AND(MONTH(M$2)<MONTH($C8),YEAR(M$2)=YEAR($C8)),YEAR(M$2)<YEAR($C8),YEAR(M$2)>YEAR($D8),AND(MONTH(M$2)>MONTH($D8),YEAR(M$2)=YEAR($D8))),0,1),"") | ... AC8: =IF(AND($C8<>"",$D8<>""),IF(OR(AND(MONTH(AC$2)<MONTH($C8),YEAR(AC$2)=YEAR($C8)),YEAR(AC$2)<YEAR($C8),YEAR(AC$2)>YEAR($D8),AND(MONTH(AC$2)>MONTH($D8),YEAR(AC$2)=YEAR($D8))),0,1),"")
F9: =IF(AND($C9<>"",$D9<>""),IF(OR(AND(MONTH(F$2)<MONTH($C9),YEAR(F$2)=YEAR($C9)),YEAR(F$2)<YEAR($C9),YEAR(F$2)>YEAR($D9),AND(MONTH(F$2)>MONTH($D9),YEAR(F$2)=YEAR($D9))),0,1),"") | G9: =IF(AND($C9<>"",$D9<>""),IF(OR(AND(MONTH(G$2)<MONTH($C9),YEAR(G$2)=YEAR($C9)),YEAR(G$2)<YEAR($C9),YEAR(G$2)>YEAR($D9),AND(MONTH(G$2)>MONTH($D9),YEAR(G$2)=YEAR($D9))),0,1),"") | H9: =IF(AND($C9<>"",$D9<>""),IF(OR(AND(MONTH(H$2)<MONTH($C9),YEAR(H$2)=YEAR($C9)),YEAR(H$2)<YEAR($C9),YEAR(H$2)>YEAR($D9),AND(MONTH(H$2)>MONTH($D9),YEAR(H$2)=YEAR($D9))),0,1),"") | I9: =IF(AND($C9<>"",$D9<>""),IF(OR(AND(MONTH(I$2)<MONTH($C9),YEAR(I$2)=YEAR($C9)),YEAR(I$2)<YEAR($C9),YEAR(I$2)>YEAR($D9),AND(MONTH(I$2)>MONTH($D9),YEAR(I$2)=YEAR($D9))),0,1),"") | J9: =IF(AND($C9<>"",$D9<>""),IF(OR(AND(MONTH(J$2)<MONTH($C9),YEAR(J$2)=YEAR($C9)),YEAR(J$2)<YEAR($C9),YEAR(J$2)>YEAR($D9),AND(MONTH(J$2)>MONTH($D9),YEAR(J$2)=YEAR($D9))),0,1),"") | K9: =IF(AND($C9<>"",$D9<>""),IF(OR(AND(MONTH(K$2)<MONTH($C9),YEAR(K$2)=YEAR($C9)),YEAR(K$2)<YEAR($C9),YEAR(K$2)>YEAR($D9),AND(MONTH(K$2)>MONTH($D9),YEAR(K$2)=YEAR($D9))),0,1),"") | L9: =IF(AND($C9<>"",$D9<>""),IF(OR(AND(MONTH(L$2)<MONTH($C9),YEAR(L$2)=YEAR($C9)),YEAR(L$2)<YEAR($C9),YEAR(L$2)>YEAR($D9),AND(MONTH(L$2)>MONTH($D9),YEAR(L$2)=YEAR($D9))),0,1),"") | M9: =IF(AND($C9<>"",$D9<>""),IF(OR(AND(MONTH(M$2)<MONTH($C9),YEAR(M$2)=YEAR($C9)),YEAR(M$2)<YEAR($C9),YEAR(M$2)>YEAR($D9),AND(MONTH(M$2)>MONTH($D9),YEAR(M$2)=YEAR($D9))),0,1),"") | ... AC9: =IF(AND($C9<>"",$D9<>""),IF(OR(AND(MONTH(AC$2)<MONTH($C9),YEAR(AC$2)=YEAR($C9)),YEAR(AC$2)<YEAR($C9),YEAR(AC$2)>YEAR($D9),AND(MONTH(AC$2)>MONTH($D9),YEAR(AC$2)=YEAR($D9))),0,1),"")
F10: =IF(AND($C10<>"",$D10<>""),IF(OR(AND(MONTH(F$2)<MONTH($C10),YEAR(F$2)=YEAR($C10)),YEAR(F$2)<YEAR($C10),YEAR(F$2)>YEAR($D10),AND(MONTH(F$2)>MONTH($D10),YEAR(F$2)=YEAR($D10))),0,1),"") | G10: =IF(AND($C10<>"",$D10<>""),IF(OR(AND(MONTH(G$2)<MONTH($C10),YEAR(G$2)=YEAR($C10)),YEAR(G$2)<YEAR($C10),YEAR(G$2)>YEAR($D10),AND(MONTH(G$2)>MONTH($D10),YEAR(G$2)=YEAR($D10))),0,1),"") | H10: =IF(AND($C10<>"",$D10<>""),IF(OR(AND(MONTH(H$2)<MONTH($C10),YEAR(H$2)=YEAR($C10)),YEAR(H$2)<YEAR($C10),YEAR(H$2)>YEAR($D10),AND(MONTH(H$2)>MONTH($D10),YEAR(H$2)=YEAR($D10))),0,1),"") | I10: =IF(AND($C10<>"",$D10<>""),IF(OR(AND(MONTH(I$2)<MONTH($C10),YEAR(I$2)=YEAR($C10)),YEAR(I$2)<YEAR($C10),YEAR(I$2)>YEAR($D10),AND(MONTH(I$2)>MONTH($D10),YEAR(I$2)=YEAR($D10))),0,1),"") | J10: =IF(AND($C10<>"",$D10<>""),IF(OR(AND(MONTH(J$2)<MONTH($C10),YEAR(J$2)=YEAR($C10)),YEAR(J$2)<YEAR($C10),YEAR(J$2)>YEAR($D10),AND(MONTH(J$2)>MONTH($D10),YEAR(J$2)=YEAR($D10))),0,1),"") | K10: =IF(AND($C10<>"",$D10<>""),IF(OR(AND(MONTH(K$2)<MONTH($C10),YEAR(K$2)=YEAR($C10)),YEAR(K$2)<YEAR($C10),YEAR(K$2)>YEAR($D10),AND(MONTH(K$2)>MONTH($D10),YEAR(K$2)=YEAR($D10))),0,1),"") | L10: =IF(AND($C10<>"",$D10<>""),IF(OR(AND(MONTH(L$2)<MONTH($C10),YEAR(L$2)=YEAR($C10)),YEAR(L$2)<YEAR($C10),YEAR(L$2)>YEAR($D10),AND(MONTH(L$2)>MONTH($D10),YEAR(L$2)=YEAR($D10))),0,1),"") | M10: =IF(AND($C10<>"",$D10<>""),IF(OR(AND(MONTH(M$2)<MONTH($C10),YEAR(M$2)=YEAR($C10)),YEAR(M$2)<YEAR($C10),YEAR(M$2)>YEAR($D10),AND(MONTH(M$2)>MONTH($D10),YEAR(M$2)=YEAR($D10))),0,1),"") | ... AC10: =IF(AND($C10<>"",$D10<>""),IF(OR(AND(MONTH(AC$2)<MONTH($C10),YEAR(AC$2)=YEAR($C10)),YEAR(AC$2)<YEAR($C10),YEAR(AC$2)>YEAR($D10),AND(MONTH(AC$2)>MONTH($D10),YEAR(AC$2)=YEAR($D10))),0,1),"")
F11: =IF(AND($C11<>"",$D11<>""),IF(OR(AND(MONTH(F$2)<MONTH($C11),YEAR(F$2)=YEAR($C11)),YEAR(F$2)<YEAR($C11),YEAR(F$2)>YEAR($D11),AND(MONTH(F$2)>MONTH($D11),YEAR(F$2)=YEAR($D11))),0,1),"") | G11: =IF(AND($C11<>"",$D11<>""),IF(OR(AND(MONTH(G$2)<MONTH($C11),YEAR(G$2)=YEAR($C11)),YEAR(G$2)<YEAR($C11),YEAR(G$2)>YEAR($D11),AND(MONTH(G$2)>MONTH($D11),YEAR(G$2)=YEAR($D11))),0,1),"") | H11: =IF(AND($C11<>"",$D11<>""),IF(OR(AND(MONTH(H$2)<MONTH($C11),YEAR(H$2)=YEAR($C11)),YEAR(H$2)<YEAR($C11),YEAR(H$2)>YEAR($D11),AND(MONTH(H$2)>MONTH($D11),YEAR(H$2)=YEAR($D11))),0,1),"") | I11: =IF(AND($C11<>"",$D11<>""),IF(OR(AND(MONTH(I$2)<MONTH($C11),YEAR(I$2)=YEAR($C11)),YEAR(I$2)<YEAR($C11),YEAR(I$2)>YEAR($D11),AND(MONTH(I$2)>MONTH($D11),YEAR(I$2)=YEAR($D11))),0,1),"") | J11: =IF(AND($C11<>"",$D11<>""),IF(OR(AND(MONTH(J$2)<MONTH($C11),YEAR(J$2)=YEAR($C11)),YEAR(J$2)<YEAR($C11),YEAR(J$2)>YEAR($D11),AND(MONTH(J$2)>MONTH($D11),YEAR(J$2)=YEAR($D11))),0,1),"") | K11: =IF(AND($C11<>"",$D11<>""),IF(OR(AND(MONTH(K$2)<MONTH($C11),YEAR(K$2)=YEAR($C11)),YEAR(K$2)<YEAR($C11),YEAR(K$2)>YEAR($D11),AND(MONTH(K$2)>MONTH($D11),YEAR(K$2)=YEAR($D11))),0,1),"") | L11: =IF(AND($C11<>"",$D11<>""),IF(OR(AND(MONTH(L$2)<MONTH($C11),YEAR(L$2)=YEAR($C11)),YEAR(L$2)<YEAR($C11),YEAR(L$2)>YEAR($D11),AND(MONTH(L$2)>MONTH($D11),YEAR(L$2)=YEAR($D11))),0,1),"") | M11: =IF(AND($C11<>"",$D11<>""),IF(OR(AND(MONTH(M$2)<MONTH($C11),YEAR(M$2)=YEAR($C11)),YEAR(M$2)<YEAR($C11),YEAR(M$2)>YEAR($D11),AND(MONTH(M$2)>MONTH($D11),YEAR(M$2)=YEAR($D11))),0,1),"") | ... AC11: =IF(AND($C11<>"",$D11<>""),IF(OR(AND(MONTH(AC$2)<MONTH($C11),YEAR(AC$2)=YEAR($C11)),YEAR(AC$2)<YEAR($C11),YEAR(AC$2)>YEAR($D11),AND(MONTH(AC$2)>MONTH($D11),YEAR(AC$2)=YEAR($D11))),0,1),"")
F12: =IF(AND($C12<>"",$D12<>""),IF(OR(AND(MONTH(F$2)<MONTH($C12),YEAR(F$2)=YEAR($C12)),YEAR(F$2)<YEAR($C12),YEAR(F$2)>YEAR($D12),AND(MONTH(F$2)>MONTH($D12),YEAR(F$2)=YEAR($D12))),0,1),"") | G12: =IF(AND($C12<>"",$D12<>""),IF(OR(AND(MONTH(G$2)<MONTH($C12),YEAR(G$2)=YEAR($C12)),YEAR(G$2)<YEAR($C12),YEAR(G$2)>YEAR($D12),AND(MONTH(G$2)>MONTH($D12),YEAR(G$2)=YEAR($D12))),0,1),"") | H12: =IF(AND($C12<>"",$D12<>""),IF(OR(AND(MONTH(H$2)<MONTH($C12),YEAR(H$2)=YEAR($C12)),YEAR(H$2)<YEAR($C12),YEAR(H$2)>YEAR($D12),AND(MONTH(H$2)>MONTH($D12),YEAR(H$2)=YEAR($D12))),0,1),"") | I12: =IF(AND($C12<>"",$D12<>""),IF(OR(AND(MONTH(I$2)<MONTH($C12),YEAR(I$2)=YEAR($C12)),YEAR(I$2)<YEAR($C12),YEAR(I$2)>YEAR($D12),AND(MONTH(I$2)>MONTH($D12),YEAR(I$2)=YEAR($D12))),0,1),"") | J12: =IF(AND($C12<>"",$D12<>""),IF(OR(AND(MONTH(J$2)<MONTH($C12),YEAR(J$2)=YEAR($C12)),YEAR(J$2)<YEAR($C12),YEAR(J$2)>YEAR($D12),AND(MONTH(J$2)>MONTH($D12),YEAR(J$2)=YEAR($D12))),0,1),"") | K12: =IF(AND($C12<>"",$D12<>""),IF(OR(AND(MONTH(K$2)<MONTH($C12),YEAR(K$2)=YEAR($C12)),YEAR(K$2)<YEAR($C12),YEAR(K$2)>YEAR($D12),AND(MONTH(K$2)>MONTH($D12),YEAR(K$2)=YEAR($D12))),0,1),"") | L12: =IF(AND($C12<>"",$D12<>""),IF(OR(AND(MONTH(L$2)<MONTH($C12),YEAR(L$2)=YEAR($C12)),YEAR(L$2)<YEAR($C12),YEAR(L$2)>YEAR($D12),AND(MONTH(L$2)>MONTH($D12),YEAR(L$2)=YEAR($D12))),0,1),"") | M12: =IF(AND($C12<>"",$D12<>""),IF(OR(AND(MONTH(M$2)<MONTH($C12),YEAR(M$2)=YEAR($C12)),YEAR(M$2)<YEAR($C12),YEAR(M$2)>YEAR($D12),AND(MONTH(M$2)>MONTH($D12),YEAR(M$2)=YEAR($D12))),0,1),"") | ... AC12: =IF(AND($C12<>"",$D12<>""),IF(OR(AND(MONTH(AC$2)<MONTH($C12),YEAR(AC$2)=YEAR($C12)),YEAR(AC$2)<YEAR($C12),YEAR(AC$2)>YEAR($D12),AND(MONTH(AC$2)>MONTH($D12),YEAR(AC$2)=YEAR($D12))),0,1),"")
F13: =IF(AND($C13<>"",$D13<>""),IF(OR(AND(MONTH(F$2)<MONTH($C13),YEAR(F$2)=YEAR($C13)),YEAR(F$2)<YEAR($C13),YEAR(F$2)>YEAR($D13),AND(MONTH(F$2)>MONTH($D13),YEAR(F$2)=YEAR($D13))),0,1),"") | G13: =IF(AND($C13<>"",$D13<>""),IF(OR(AND(MONTH(G$2)<MONTH($C13),YEAR(G$2)=YEAR($C13)),YEAR(G$2)<YEAR($C13),YEAR(G$2)>YEAR($D13),AND(MONTH(G$2)>MONTH($D13),YEAR(G$2)=YEAR($D13))),0,1),"") | H13: =IF(AND($C13<>"",$D13<>""),IF(OR(AND(MONTH(H$2)<MONTH($C13),YEAR(H$2)=YEAR($C13)),YEAR(H$2)<YEAR($C13),YEAR(H$2)>YEAR($D13),AND(MONTH(H$2)>MONTH($D13),YEAR(H$2)=YEAR($D13))),0,1),"") | I13: =IF(AND($C13<>"",$D13<>""),IF(OR(AND(MONTH(I$2)<MONTH($C13),YEAR(I$2)=YEAR($C13)),YEAR(I$2)<YEAR($C13),YEAR(I$2)>YEAR($D13),AND(MONTH(I$2)>MONTH($D13),YEAR(I$2)=YEAR($D13))),0,1),"") | J13: =IF(AND($C13<>"",$D13<>""),IF(OR(AND(MONTH(J$2)<MONTH($C13),YEAR(J$2)=YEAR($C13)),YEAR(J$2)<YEAR($C13),YEAR(J$2)>YEAR($D13),AND(MONTH(J$2)>MONTH($D13),YEAR(J$2)=YEAR($D13))),0,1),"") | K13: =IF(AND($C13<>"",$D13<>""),IF(OR(AND(MONTH(K$2)<MONTH($C13),YEAR(K$2)=YEAR($C13)),YEAR(K$2)<YEAR($C13),YEAR(K$2)>YEAR($D13),AND(MONTH(K$2)>MONTH($D13),YEAR(K$2)=YEAR($D13))),0,1),"") | L13: =IF(AND($C13<>"",$D13<>""),IF(OR(AND(MONTH(L$2)<MONTH($C13),YEAR(L$2)=YEAR($C13)),YEAR(L$2)<YEAR($C13),YEAR(L$2)>YEAR($D13),AND(MONTH(L$2)>MONTH($D13),YEAR(L$2)=YEAR($D13))),0,1),"") | M13: =IF(AND($C13<>"",$D13<>""),IF(OR(AND(MONTH(M$2)<MONTH($C13),YEAR(M$2)=YEAR($C13)),YEAR(M$2)<YEAR($C13),YEAR(M$2)>YEAR($D13),AND(MONTH(M$2)>MONTH($D13),YEAR(M$2)=YEAR($D13))),0,1),"") | ... AC13: =IF(AND($C13<>"",$D13<>""),IF(OR(AND(MONTH(AC$2)<MONTH($C13),YEAR(AC$2)=YEAR($C13)),YEAR(AC$2)<YEAR($C13),YEAR(AC$2)>YEAR($D13),AND(MONTH(AC$2)>MONTH($D13),YEAR(AC$2)=YEAR($D13))),0,1),"")
F14: =IF(AND($C14<>"",$D14<>""),IF(OR(AND(MONTH(F$2)<MONTH($C14),YEAR(F$2)=YEAR($C14)),YEAR(F$2)<YEAR($C14),YEAR(F$2)>YEAR($D14),AND(MONTH(F$2)>MONTH($D14),YEAR(F$2)=YEAR($D14))),0,1),"") | G14: =IF(AND($C14<>"",$D14<>""),IF(OR(AND(MONTH(G$2)<MONTH($C14),YEAR(G$2)=YEAR($C14)),YEAR(G$2)<YEAR($C14),YEAR(G$2)>YEAR($D14),AND(MONTH(G$2)>MONTH($D14),YEAR(G$2)=YEAR($D14))),0,1),"") | H14: =IF(AND($C14<>"",$D14<>""),IF(OR(AND(MONTH(H$2)<MONTH($C14),YEAR(H$2)=YEAR($C14)),YEAR(H$2)<YEAR($C14),YEAR(H$2)>YEAR($D14),AND(MONTH(H$2)>MONTH($D14),YEAR(H$2)=YEAR($D14))),0,1),"") | I14: =IF(AND($C14<>"",$D14<>""),IF(OR(AND(MONTH(I$2)<MONTH($C14),YEAR(I$2)=YEAR($C14)),YEAR(I$2)<YEAR($C14),YEAR(I$2)>YEAR($D14),AND(MONTH(I$2)>MONTH($D14),YEAR(I$2)=YEAR($D14))),0,1),"") | J14: =IF(AND($C14<>"",$D14<>""),IF(OR(AND(MONTH(J$2)<MONTH($C14),YEAR(J$2)=YEAR($C14)),YEAR(J$2)<YEAR($C14),YEAR(J$2)>YEAR($D14),AND(MONTH(J$2)>MONTH($D14),YEAR(J$2)=YEAR($D14))),0,1),"") | K14: =IF(AND($C14<>"",$D14<>""),IF(OR(AND(MONTH(K$2)<MONTH($C14),YEAR(K$2)=YEAR($C14)),YEAR(K$2)<YEAR($C14),YEAR(K$2)>YEAR($D14),AND(MONTH(K$2)>MONTH($D14),YEAR(K$2)=YEAR($D14))),0,1),"") | L14: =IF(AND($C14<>"",$D14<>""),IF(OR(AND(MONTH(L$2)<MONTH($C14),YEAR(L$2)=YEAR($C14)),YEAR(L$2)<YEAR($C14),YEAR(L$2)>YEAR($D14),AND(MONTH(L$2)>MONTH($D14),YEAR(L$2)=YEAR($D14))),0,1),"") | M14: =IF(AND($C14<>"",$D14<>""),IF(OR(AND(MONTH(M$2)<MONTH($C14),YEAR(M$2)=YEAR($C14)),YEAR(M$2)<YEAR($C14),YEAR(M$2)>YEAR($D14),AND(MONTH(M$2)>MONTH($D14),YEAR(M$2)=YEAR($D14))),0,1),"") | ... AC14: =IF(AND($C14<>"",$D14<>""),IF(OR(AND(MONTH(AC$2)<MONTH($C14),YEAR(AC$2)=YEAR($C14)),YEAR(AC$2)<YEAR($C14),YEAR(AC$2)>YEAR($D14),AND(MONTH(AC$2)>MONTH($D14),YEAR(AC$2)=YEAR($D14))),0,1),"")

Sheet Recherche
A1: Rechercher | C1: Résultat
A2: Collaborateur | B2: Mois
