Workbook

Sheet Feuil1
A1: ID Adresse | C1: _identifiant | D1: MrMme | E1: Nom | F1: Prénom | G1: DateNaissance | H1: Code Postal | I1: Ville | J1: Adresse | K1: Pays
A2: =B2&"_"&COUNTIF($B$2:B2,B2) -> 2924_1 | B2: =IF(C2<>"",C2,IF(INDIRECT("C"&ROW()-1)<>"",INDIRECT("C"&ROW()-1),IF(INDIRECT("C"&ROW()-2)<>"",INDIRECT("C"&ROW()-2),IF(INDIRECT("C"&ROW()-3)<>"",INDIRECT("C"&ROW()-3),IF(INDIRECT("C"&ROW()-4)<>"",INDIRECT("C"&ROW()-4),""))))) -> 2924 | C2: 2924 | D2: Mme | E2: A | F2: Lorena | G2: 24852
A3: =B3&"_"&COUNTIF($B$2:B3,B3) -> 2924_2 | B3: =IF(C3<>"",C3,IF(INDIRECT("C"&ROW()-1)<>"",INDIRECT("C"&ROW()-1),IF(INDIRECT("C"&ROW()-2)<>"",INDIRECT("C"&ROW()-2),IF(INDIRECT("C"&ROW()-3)<>"",INDIRECT("C"&ROW()-3),IF(INDIRECT("C"&ROW()-4)<>"",INDIRECT("C"&ROW()-4),""))))) -> 2924
A4: =B4&"_"&COUNTIF($B$2:B4,B4) -> 2924_3 | B4: =IF(C4<>"",C4,IF(INDIRECT("C"&ROW()-1)<>"",INDIRECT("C"&ROW()-1),IF(INDIRECT("C"&ROW()-2)<>"",INDIRECT("C"&ROW()-2),IF(INDIRECT("C"&ROW()-3)<>"",INDIRECT("C"&ROW()-3),IF(INDIRECT("C"&ROW()-4)<>"",INDIRECT("C"&ROW()-4),""))))) -> 2924
A5: =B5&"_"&COUNTIF($B$2:B5,B5) -> 3149_1 | B5: =IF(C5<>"",C5,IF(INDIRECT("C"&ROW()-1)<>"",INDIRECT("C"&ROW()-1),IF(INDIRECT("C"&ROW()-2)<>"",INDIRECT("C"&ROW()-2),IF(INDIRECT("C"&ROW()-3)<>"",INDIRECT("C"&ROW()-3),IF(INDIRECT("C"&ROW()-4)<>"",INDIRECT("C"&ROW()-4),""))))) -> 3149 | C5: 3149 | D5: Mme | E5: B | F5: Amina Aicha | G5: 30221
A6: =B6&"_"&COUNTIF($B$2:B6,B6) -> 3149_2 | B6: =IF(C6<>"",C6,IF(INDIRECT("C"&ROW()-1)<>"",INDIRECT("C"&ROW()-1),IF(INDIRECT("C"&ROW()-2)<>"",INDIRECT("C"&ROW()-2),IF(INDIRECT("C"&ROW()-3)<>"",INDIRECT("C"&ROW()-3),IF(INDIRECT("C"&ROW()-4)<>"",INDIRECT("C"&ROW()-4),""))))) -> 3149
A7: =B7&"_"&COUNTIF($B$2:B7,B7) -> 3149_3 | B7: =IF(C7<>"",C7,IF(INDIRECT("C"&ROW()-1)<>"",INDIRECT("C"&ROW()-1),IF(INDIRECT("C"&ROW()-2)<>"",INDIRECT("C"&ROW()-2),IF(INDIRECT("C"&ROW()-3)<>"",INDIRECT("C"&ROW()-3),IF(INDIRECT("C"&ROW()-4)<>"",INDIRECT("C"&ROW()-4),""))))) -> 3149
A8: =B8&"_"&COUNTIF($B$2:B8,B8) -> 2718_1 | B8: =IF(C8<>"",C8,IF(INDIRECT("C"&ROW()-1)<>"",INDIRECT("C"&ROW()-1),IF(INDIRECT("C"&ROW()-2)<>"",INDIRECT("C"&ROW()-2),IF(INDIRECT("C"&ROW()-3)<>"",INDIRECT("C"&ROW()-3),IF(INDIRECT("C"&ROW()-4)<>"",INDIRECT("C"&ROW()-4),""))))) -> 2718 | C8: 2718 | D8: Mlle | E8: C | F8: Asmaa | G8: 28428 | H8: 31000 | I8: Oran | J8: 4 Rue Gay Lussac Bel air | K8: Algérie
A9: =B9&"_"&COUNTIF($B$2:B9,B9) -> 2718_2 | B9: =IF(C9<>"",C9,IF(INDIRECT("C"&ROW()-1)<>"",INDIRECT("C"&ROW()-1),IF(INDIRECT("C"&ROW()-2)<>"",INDIRECT("C"&ROW()-2),IF(INDIRECT("C"&ROW()-3)<>"",INDIRECT("C"&ROW()-3),IF(INDIRECT("C"&ROW()-4)<>"",INDIRECT("C"&ROW()-4),""))))) -> 2718 | J9: CEDEX 12
A10: =B10&"_"&COUNTIF($B$2:B10,B10) -> 2718_3 | B10: =IF(C10<>"",C10,IF(INDIRECT("C"&ROW()-1)<>"",INDIRECT("C"&ROW()-1),IF(INDIRECT("C"&ROW()-2)<>"",INDIRECT("C"&ROW()-2),IF(INDIRECT("C"&ROW()-3)<>"",INDIRECT("C"&ROW()-3),IF(INDIRECT("C"&ROW()-4)<>"",INDIRECT("C"&ROW()-4),""))))) -> 2718
A11: =B11&"_"&COUNTIF($B$2:B11,B11) -> 3651_1 | B11: =IF(C11<>"",C11,IF(INDIRECT("C"&ROW()-1)<>"",INDIRECT("C"&ROW()-1),IF(INDIRECT("C"&ROW()-2)<>"",INDIRECT("C"&ROW()-2),IF(INDIRECT("C"&ROW()-3)<>"",INDIRECT("C"&ROW()-3),IF(INDIRECT("C"&ROW()-4)<>"",INDIRECT("C"&ROW()-4),""))))) -> 3651 | C11: 3651 | D11: Mme | E11: D | F11: Fatima | G11: 27463
A12: =B12&"_"&COUNTIF($B$2:B12,B12) -> 3651_2 | B12: =IF(C12<>"",C12,IF(INDIRECT("C"&ROW()-1)<>"",INDIRECT("C"&ROW()-1),IF(INDIRECT("C"&ROW()-2)<>"",INDIRECT("C"&ROW()-2),IF(INDIRECT("C"&ROW()-3)<>"",INDIRECT("C"&ROW()-3),IF(INDIRECT("C"&ROW()-4)<>"",INDIRECT("C"&ROW()-4),""))))) -> 3651
A13: =B13&"_"&COUNTIF($B$2:B13,B13) -> 3651_3 | B13: =IF(C13<>"",C13,IF(INDIRECT("C"&ROW()-1)<>"",INDIRECT("C"&ROW()-1),IF(INDIRECT("C"&ROW()-2)<>"",INDIRECT("C"&ROW()-2),IF(INDIRECT("C"&ROW()-3)<>"",INDIRECT("C"&ROW()-3),IF(INDIRECT("C"&ROW()-4)<>"",INDIRECT("C"&ROW()-4),""))))) -> 3651
A14: =B14&"_"&COUNTIF($B$2:B14,B14) -> 3651_4 | B14: =IF(C14<>"",C14,IF(INDIRECT("C"&ROW()-1)<>"",INDIRECT("C"&ROW()-1),IF(INDIRECT("C"&ROW()-2)<>"",INDIRECT("C"&ROW()-2),IF(INDIRECT("C"&ROW()-3)<>"",INDIRECT("C"&ROW()-3),IF(INDIRECT("C"&ROW()-4)<>"",INDIRECT("C"&ROW()-4),""))))) -> 3651
A15: =B15&"_"&COUNTIF($B$2:B15,B15) -> 3339_1 | B15: =IF(C15<>"",C15,IF(INDIRECT("C"&ROW()-1)<>"",INDIRECT("C"&ROW()-1),IF(INDIRECT("C"&ROW()-2)<>"",INDIRECT("C"&ROW()-2),IF(INDIRECT("C"&ROW()-3)<>"",INDIRECT("C"&ROW()-3),IF(INDIRECT("C"&ROW()-4)<>"",INDIRECT("C"&ROW()-4),""))))) -> 3339 | C15: 3339 | D15: Mr | E15: E | F15: Said | G15: 19359 | H15: 91560 | I15: Crosne | J15: 8 Rue Victor Hugo
A16: =B16&"_"&COUNTIF($B$2:B16,B16) -> 3339_2 | B16: =IF(C16<>"",C16,IF(INDIRECT("C"&ROW()-1)<>"",INDIRECT("C"&ROW()-1),IF(INDIRECT("C"&ROW()-2)<>"",INDIRECT("C"&ROW()-2),IF(INDIRECT("C"&ROW()-3)<>"",INDIRECT("C"&ROW()-3),IF(INDIRECT("C"&ROW()-4)<>"",INDIRECT("C"&ROW()-4),""))))) -> 3339 | J16: CEDEX 14
A17: =B17&"_"&COUNTIF($B$2:B17,B17) -> 3266_1 | B17: =IF(C17<>"",C17,IF(INDIRECT("C"&ROW()-1)<>"",INDIRECT("C"&ROW()-1),IF(INDIRECT("C"&ROW()-2)<>"",INDIRECT("C"&ROW()-2),IF(INDIRECT("C"&ROW()-3)<>"",INDIRECT("C"&ROW()-3),IF(INDIRECT("C"&ROW()-4)<>"",INDIRECT("C"&ROW()-4),""))))) -> 3266 | C17: 3266 | D17: Mr | E17: F | F17: Rachid | G17: 26166 | H17: 94160 | I17: Saint-Mandé | J17: Férération des Laboratoires | K17: France
A18: =B18&"_"&COUNTIF($B$2:B18,B18) -> 3266_2 | B18: =IF(C18<>"",C18,IF(INDIRECT("C"&ROW()-1)<>"",INDIRECT("C"&ROW()-1),IF(INDIRECT("C"&ROW()-2)<>"",INDIRECT("C"&ROW()-2),IF(INDIRECT("C"&ROW()-3)<>"",INDIRECT("C"&ROW()-3),IF(INDIRECT("C"&ROW()-4)<>"",INDIRECT("C"&ROW()-4),""))))) -> 3266 | J18: HIA Béguin
A19: =B19&"_"&COUNTIF($B$2:B19,B19) -> 3266_3 | B19: =IF(C19<>"",C19,IF(INDIRECT("C"&ROW()-1)<>"",INDIRECT("C"&ROW()-1),IF(INDIRECT("C"&ROW()-2)<>"",INDIRECT("C"&ROW()-2),IF(INDIRECT("C"&ROW()-3)<>"",INDIRECT("C"&ROW()-3),IF(INDIRECT("C"&ROW()-4)<>"",INDIRECT("C"&ROW()-4),""))))) -> 3266 | J19: 69 Av de Paris
A20: =B20&"_"&COUNTIF($B$2:B20,B20) -> 3425_1 | B20: =IF(C20<>"",C20,IF(INDIRECT("C"&ROW()-1)<>"",INDIRECT("C"&ROW()-1),IF(INDIRECT("C"&ROW()-2)<>"",INDIRECT("C"&ROW()-2),IF(INDIRECT("C"&ROW()-3)<>"",INDIRECT("C"&ROW()-3),IF(INDIRECT("C"&ROW()-4)<>"",INDIRECT("C"&ROW()-4),""))))) -> 3425 | C20: 3425 | D20: Mme | E20: G | F20: Christelle | G20: 29849
A21: =B21&"_"&COUNTIF($B$2:B21,B21) -> 3425_2 | B21: =IF(C21<>"",C21,IF(INDIRECT("C"&ROW()-1)<>"",INDIRECT("C"&ROW()-1),IF(INDIRECT("C"&ROW()-2)<>"",INDIRECT("C"&ROW()-2),IF(INDIRECT("C"&ROW()-3)<>"",INDIRECT("C"&ROW()-3),IF(INDIRECT("C"&ROW()-4)<>"",INDIRECT("C"&ROW()-4),""))))) -> 3425
A22: =B22&"_"&COUNTIF($B$2:B22,B22) -> 3425_3 | B22: =IF(C22<>"",C22,IF(INDIRECT("C"&ROW()-1)<>"",INDIRECT("C"&ROW()-1),IF(INDIRECT("C"&ROW()-2)<>"",INDIRECT("C"&ROW()-2),IF(INDIRECT("C"&ROW()-3)<>"",INDIRECT("C"&ROW()-3),IF(INDIRECT("C"&ROW()-4)<>"",INDIRECT("C"&ROW()-4),""))))) -> 3425
A23: =B23&"_"&COUNTIF($B$2:B23,B23) -> 3635_1 | B23: =IF(C23<>"",C23,IF(INDIRECT("C"&ROW()-1)<>"",INDIRECT("C"&ROW()-1),IF(INDIRECT("C"&ROW()-2)<>"",INDIRECT("C"&ROW()-2),IF(INDIRECT("C"&ROW()-3)<>"",INDIRECT("C"&ROW()-3),IF(INDIRECT("C"&ROW()-4)<>"",INDIRECT("C"&ROW()-4),""))))) -> 3635 | C23: 3635 | D23: Mr | E23: H | F23: Wilfried | G23: 26721
A24: =B24&"_"&COUNTIF($B$2:B24,B24) -> 3635_2 | B24: =IF(C24<>"",C24,IF(INDIRECT("C"&ROW()-1)<>"",INDIRECT("C"&ROW()-1),IF(INDIRECT("C"&ROW()-2)<>"",INDIRECT("C"&ROW()-2),IF(INDIRECT("C"&ROW()-3)<>"",INDIRECT("C"&ROW()-3),IF(INDIRECT("C"&ROW()-4)<>"",INDIRECT("C"&ROW()-4),""))))) -> 3635
A25: =B25&"_"&COUNTIF($B$2:B25,B25) -> 3635_3 | B25: =IF(C25<>"",C25,IF(INDIRECT("C"&ROW()-1)<>"",INDIRECT("C"&ROW()-1),IF(INDIRECT("C"&ROW()-2)<>"",INDIRECT("C"&ROW()-2),IF(INDIRECT("C"&ROW()-3)<>"",INDIRECT("C"&ROW()-3),IF(INDIRECT("C"&ROW()-4)<>"",INDIRECT("C"&ROW()-4),""))))) -> 3635
A26: =B26&"_"&COUNTIF($B$2:B26,B26) -> 877_1 | B26: =IF(C26<>"",C26,IF(INDIRECT("C"&ROW()-1)<>"",INDIRECT("C"&ROW()-1),IF(INDIRECT("C"&ROW()-2)<>"",INDIRECT("C"&ROW()-2),IF(INDIRECT("C"&ROW()-3)<>"",INDIRECT("C"&ROW()-3),IF(INDIRECT("C"&ROW()-4)<>"",INDIRECT("C"&ROW()-4),""))))) -> 877 | C26: 877 | D26: Mme | E26: I | F26: Laurence | G26: 21094 | H26: 56140 | I26: Saint-Congard | J26: La Roche Blanche | K26: France
A27: =B27&"_"&COUNTIF($B$2:B27,B27) -> 877_2 | B27: =IF(C27<>"",C27,IF(INDIRECT("C"&ROW()-1)<>"",INDIRECT("C"&ROW()-1),IF(INDIRECT("C"&ROW()-2)<>"",INDIRECT("C"&ROW()-2),IF(INDIRECT("C"&ROW()-3)<>"",INDIRECT("C"&ROW()-3),IF(INDIRECT("C"&ROW()-4)<>"",INDIRECT("C"&ROW()-4),""))))) -> 877 | J27: 14 CDEX
A28: =B28&"_"&COUNTIF($B$2:B28,B28) -> 3206_1 | B28: =IF(C28<>"",C28,IF(INDIRECT("C"&ROW()-1)<>"",INDIRECT("C"&ROW()-1),IF(INDIRECT("C"&ROW()-2)<>"",INDIRECT("C"&ROW()-2),IF(INDIRECT("C"&ROW()-3)<>"",INDIRECT("C"&ROW()-3),IF(INDIRECT("C"&ROW()-4)<>"",INDIRECT("C"&ROW()-4),""))))) -> 3206 | C28: 3206 | D28: Mr | E28: J | F28: Gilles | G28: 26582
A29: =B29&"_"&COUNTIF($B$2:B29,B29) -> 3206_2 | B29: =IF(C29<>"",C29,IF(INDIRECT("C"&ROW()-1)<>"",INDIRECT("C"&ROW()-1),IF(INDIRECT("C"&ROW()-2)<>"",INDIRECT("C"&ROW()-2),IF(INDIRECT("C"&ROW()-3)<>"",INDIRECT("C"&ROW()-3),IF(INDIRECT("C"&ROW()-4)<>"",INDIRECT("C"&ROW()-4),""))))) -> 3206
A30: =B30&"_"&COUNTIF($B$2:B30,B30) -> 1404_1 | B30: =IF(C30<>"",C30,IF(INDIRECT("C"&ROW()-1)<>"",INDIRECT("C"&ROW()-1),IF(INDIRECT("C"&ROW()-2)<>"",INDIRECT("C"&ROW()-2),IF(INDIRECT("C"&ROW()-3)<>"",INDIRECT("C"&ROW()-3),IF(INDIRECT("C"&ROW()-4)<>"",INDIRECT("C"&ROW()-4),""))))) -> 1404 | C30: 1404 | D30: Mr | E30: K | F30: Jacques | G30: 9964 | H30: 75015 | I30: Paris | J30: 22 Rue Emeriau | K30: France
A31: =B31&"_"&COUNTIF($B$2:B31,B31) -> 3028_1 | B31: =IF(C31<>"",C31,IF(INDIRECT("C"&ROW()-1)<>"",INDIRECT("C"&ROW()-1),IF(INDIRECT("C"&ROW()-2)<>"",INDIRECT("C"&ROW()-2),IF(INDIRECT("C"&ROW()-3)<>"",INDIRECT("C"&ROW()-3),IF(INDIRECT("C"&ROW()-4)<>"",INDIRECT("C"&ROW()-4),""))))) -> 3028 | C31: 3028 | D31: Mr | E31: L | F31: Jean-Marc | G31: 19925
A32: =B32&"_"&COUNTIF($B$2:B32,B32) -> 3028_2 | B32: =IF(C32<>"",C32,IF(INDIRECT("C"&ROW()-1)<>"",INDIRECT("C"&ROW()-1),IF(INDIRECT("C"&ROW()-2)<>"",INDIRECT("C"&ROW()-2),IF(INDIRECT("C"&ROW()-3)<>"",INDIRECT("C"&ROW()-3),IF(INDIRECT("C"&ROW()-4)<>"",INDIRECT("C"&ROW()-4),""))))) -> 3028
A33: =B33&"_"&COUNTIF($B$2:B33,B33) -> 1549_1 | B33: =IF(C33<>"",C33,IF(INDIRECT("C"&ROW()-1)<>"",INDIRECT("C"&ROW()-1),IF(INDIRECT("C"&ROW()-2)<>"",INDIRECT("C"&ROW()-2),IF(INDIRECT("C"&ROW()-3)<>"",INDIRECT("C"&ROW()-3),IF(INDIRECT("C"&ROW()-4)<>"",INDIRECT("C"&ROW()-4),""))))) -> 1549 | C33: 1549 | D33: Mr | E33: M | F33: André | G33: 24137
A34: =B34&"_"&COUNTIF($B$2:B34,B34) -> 1549_2 | B34: =IF(C34<>"",C34,IF(INDIRECT("C"&ROW()-1)<>"",INDIRECT("C"&ROW()-1),IF(INDIRECT("C"&ROW()-2)<>"",INDIRECT("C"&ROW()-2),IF(INDIRECT("C"&ROW()-3)<>"",INDIRECT("C"&ROW()-3),IF(INDIRECT("C"&ROW()-4)<>"",INDIRECT("C"&ROW()-4),""))))) -> 1549
A35: =B35&"_"&COUNTIF($B$2:B35,B35) -> 1549_3 | B35: =IF(C35<>"",C35,IF(INDIRECT("C"&ROW()-1)<>"",INDIRECT("C"&ROW()-1),IF(INDIRECT("C"&ROW()-2)<>"",INDIRECT("C"&ROW()-2),IF(INDIRECT("C"&ROW()-3)<>"",INDIRECT("C"&ROW()-3),IF(INDIRECT("C"&ROW()-4)<>"",INDIRECT("C"&ROW()-4),""))))) -> 1549
A36: =B36&"_"&COUNTIF($B$2:B36,B36) -> 23_1 | B36: =IF(C36<>"",C36,IF(INDIRECT("C"&ROW()-1)<>"",INDIRECT("C"&ROW()-1),IF(INDIRECT("C"&ROW()-2)<>"",INDIRECT("C"&ROW()-2),IF(INDIRECT("C"&ROW()-3)<>"",INDIRECT("C"&ROW()-3),IF(INDIRECT("C"&ROW()-4)<>"",INDIRECT("C"&ROW()-4),""))))) -> 23 | C36: 23 | D36: Mme | E36: N | F36: Marie-Noelle | G36: 22288 | H36: 78000 | I36: Versailles | J36: Tradition B | K36: France
A37: =B37&"_"&COUNTIF($B$2:B37,B37) -> 23_2 | B37: =IF(C37<>"",C37,IF(INDIRECT("C"&ROW()-1)<>"",INDIRECT("C"&ROW()-1),IF(INDIRECT("C"&ROW()-2)<>"",INDIRECT("C"&ROW()-2),IF(INDIRECT("C"&ROW()-3)<>"",INDIRECT("C"&ROW()-3),IF(INDIRECT("C"&ROW()-4)<>"",INDIRECT("C"&ROW()-4),""))))) -> 23 | J37: 82 bis, Av. de Paris
A38: =B38&"_"&COUNTIF($B$2:B38,B38) -> 1023_1 | B38: =IF(C38<>"",C38,IF(INDIRECT("C"&ROW()-1)<>"",INDIRECT("C"&ROW()-1),IF(INDIRECT("C"&ROW()-2)<>"",INDIRECT("C"&ROW()-2),IF(INDIRECT("C"&ROW()-3)<>"",INDIRECT("C"&ROW()-3),IF(INDIRECT("C"&ROW()-4)<>"",INDIRECT("C"&ROW()-4),""))))) -> 1023 | C38: 1023 | D38: Mme | E38: W | F38: Najla | G38: 21537 | H38: 54500 | I38: Vandoeuvre les Nancy | J38: 33 Rue François Villon | K38: France
A39: =B39&"_"&COUNTIF($B$2:B39,B39) -> 1023_2 | B39: =IF(C39<>"",C39,IF(INDIRECT("C"&ROW()-1)<>"",INDIRECT("C"&ROW()-1),IF(INDIRECT("C"&ROW()-2)<>"",INDIRECT("C"&ROW()-2),IF(INDIRECT("C"&ROW()-3)<>"",INDIRECT("C"&ROW()-3),IF(INDIRECT("C"&ROW()-4)<>"",INDIRECT("C"&ROW()-4),""))))) -> 1023
A40: =B40&"_"&COUNTIF($B$2:B40,B40) -> 973_1 | B40: =IF(C40<>"",C40,IF(INDIRECT("C"&ROW()-1)<>"",INDIRECT("C"&ROW()-1),IF(INDIRECT("C"&ROW()-2)<>"",INDIRECT("C"&ROW()-2),IF(INDIRECT("C"&ROW()-3)<>"",INDIRECT("C"&ROW()-3),IF(INDIRECT("C"&ROW()-4)<>"",INDIRECT("C"&ROW()-4),""))))) -> 973 | C40: 973 | D40: Mme | E40: X | F40: Gnankou Chantal | G40: 19059 | I40: Abidjan | J40: Cococdy les II-Plateaux | K40: Côte-d’Ivoire
A41: =B41&"_"&COUNTIF($B$2:B41,B41) -> 973_2 | B41: =IF(C41<>"",C41,IF(INDIRECT("C"&ROW()-1)<>"",INDIRECT("C"&ROW()-1),IF(INDIRECT("C"&ROW()-2)<>"",INDIRECT("C"&ROW()-2),IF(INDIRECT("C"&ROW()-3)<>"",INDIRECT("C"&ROW()-3),IF(INDIRECT("C"&ROW()-4)<>"",INDIRECT("C"&ROW()-4),""))))) -> 973 | J41: 6
A42: =B42&"_"&COUNTIF($B$2:B42,B42) -> 973_3 | B42: =IF(C42<>"",C42,IF(INDIRECT("C"&ROW()-1)<>"",INDIRECT("C"&ROW()-1),IF(INDIRECT("C"&ROW()-2)<>"",INDIRECT("C"&ROW()-2),IF(INDIRECT("C"&ROW()-3)<>"",INDIRECT("C"&ROW()-3),IF(INDIRECT("C"&ROW()-4)<>"",INDIRECT("C"&ROW()-4),""))))) -> 973 | J42: BP 916
A43: =B43&"_"&COUNTIF($B$2:B43,B43) -> 1037_1 | B43: =IF(C43<>"",C43,IF(INDIRECT("C"&ROW()-1)<>"",INDIRECT("C"&ROW()-1),IF(INDIRECT("C"&ROW()-2)<>"",INDIRECT("C"&ROW()-2),IF(INDIRECT("C"&ROW()-3)<>"",INDIRECT("C"&ROW()-3),IF(INDIRECT("C"&ROW()-4)<>"",INDIRECT("C"&ROW()-4),""))))) -> 1037 | C43: 1037 | D43: Mr | E43: Y | F43: Anani | G43: 19724 | H43: 94000 | I43: Créteil | J43: 7 Rue Charrier | K43: France
A44: =B44&"_"&COUNTIF($B$2:B44,B44) -> 1037_2 | B44: =IF(C44<>"",C44,IF(INDIRECT("C"&ROW()-1)<>"",INDIRECT("C"&ROW()-1),IF(INDIRECT("C"&ROW()-2)<>"",INDIRECT("C"&ROW()-2),IF(INDIRECT("C"&ROW()-3)<>"",INDIRECT("C"&ROW()-3),IF(INDIRECT("C"&ROW()-4)<>"",INDIRECT("C"&ROW()-4),""))))) -> 1037
A45: =B45&"_"&COUNTIF($B$2:B45,B45) -> 1037_3 | B45: =IF(C45<>"",C45,IF(INDIRECT("C"&ROW()-1)<>"",INDIRECT("C"&ROW()-1),IF(INDIRECT("C"&ROW()-2)<>"",INDIRECT("C"&ROW()-2),IF(INDIRECT("C"&ROW()-3)<>"",INDIRECT("C"&ROW()-3),IF(INDIRECT("C"&ROW()-4)<>"",INDIRECT("C"&ROW()-4),""))))) -> 1037
A46: =B46&"_"&COUNTIF($B$2:B46,B46) -> 3204_1 | B46: =IF(C46<>"",C46,IF(INDIRECT("C"&ROW()-1)<>"",INDIRECT("C"&ROW()-1),IF(INDIRECT("C"&ROW()-2)<>"",INDIRECT("C"&ROW()-2),IF(INDIRECT("C"&ROW()-3)<>"",INDIRECT("C"&ROW()-3),IF(INDIRECT("C"&ROW()-4)<>"",INDIRECT("C"&ROW()-4),""))))) -> 3204 | C46: 3204 | D46: Mr | E46: Z | F46: Imad | G46: 29071
A47: =B47&"_"&COUNTIF($B$2:B47,B47) -> 3204_2 | B47: =IF(C47<>"",C47,IF(INDIRECT("C"&ROW()-1)<>"",INDIRECT("C"&ROW()-1),IF(INDIRECT("C"&ROW()-2)<>"",INDIRECT("C"&ROW()-2),IF(INDIRECT("C"&ROW()-3)<>"",INDIRECT("C"&ROW()-3),IF(INDIRECT("C"&ROW()-4)<>"",INDIRECT("C"&ROW()-4),""))))) -> 3204
A48: =B48&"_"&COUNTIF($B$2:B48,B48) -> 2774_1 | B48: =IF(C48<>"",C48,IF(INDIRECT("C"&ROW()-1)<>"",INDIRECT("C"&ROW()-1),IF(INDIRECT("C"&ROW()-2)<>"",INDIRECT("C"&ROW()-2),IF(INDIRECT("C"&ROW()-3)<>"",INDIRECT("C"&ROW()-3),IF(INDIRECT("C"&ROW()-4)<>"",INDIRECT("C"&ROW()-4),""))))) -> 2774 | C48: 2774 | D48: Mr | E48: AA | F48: Malik | G48: 27458 | H48: 75013 | I48: Paris | J48: 39 Bls Saint Marcel
A49: =B49&"_"&COUNTIF($B$2:B49,B49) -> 1322_1 | B49: =IF(C49<>"",C49,IF(INDIRECT("C"&ROW()-1)<>"",INDIRECT("C"&ROW()-1),IF(INDIRECT("C"&ROW()-2)<>"",INDIRECT("C"&ROW()-2),IF(INDIRECT("C"&ROW()-3)<>"",INDIRECT("C"&ROW()-3),IF(INDIRECT("C"&ROW()-4)<>"",INDIRECT("C"&ROW()-4),""))))) -> 1322 | C49: 1322 | D49: Mr | E49: AB | F49: Suleiman | G49: 17726 | H49: 94000 | I49: Créteil | J49: 1 Av. de la Habette | K49: France
A50: =B50&"_"&COUNTIF($B$2:B50,B50) -> 1322_2 | B50: =IF(C50<>"",C50,IF(INDIRECT("C"&ROW()-1)<>"",INDIRECT("C"&ROW()-1),IF(INDIRECT("C"&ROW()-2)<>"",INDIRECT("C"&ROW()-2),IF(INDIRECT("C"&ROW()-3)<>"",INDIRECT("C"&ROW()-3),IF(INDIRECT("C"&ROW()-4)<>"",INDIRECT("C"&ROW()-4),""))))) -> 1322
A51: =B51&"_"&COUNTIF($B$2:B51,B51) -> 1322_3 | B51: =IF(C51<>"",C51,IF(INDIRECT("C"&ROW()-1)<>"",INDIRECT("C"&ROW()-1),IF(INDIRECT("C"&ROW()-2)<>"",INDIRECT("C"&ROW()-2),IF(INDIRECT("C"&ROW()-3)<>"",INDIRECT("C"&ROW()-3),IF(INDIRECT("C"&ROW()-4)<>"",INDIRECT("C"&ROW()-4),""))))) -> 1322
A52: =B52&"_"&COUNTIF($B$2:B52,B52) -> 1514_1 | B52: =IF(C52<>"",C52,IF(INDIRECT("C"&ROW()-1)<>"",INDIRECT("C"&ROW()-1),IF(INDIRECT("C"&ROW()-2)<>"",INDIRECT("C"&ROW()-2),IF(INDIRECT("C"&ROW()-3)<>"",INDIRECT("C"&ROW()-3),IF(INDIRECT("C"&ROW()-4)<>"",INDIRECT("C"&ROW()-4),""))))) -> 1514 | C52: 1514 | D52: Mme | E52: AC | F52: Sophie | G52: 21447 | H52: 87000 | I52: Limoges | J52: 14 Rue Mariette | K52: France
A53: =B53&"_"&COUNTIF($B$2:B53,B53) -> 1514_2 | B53: =IF(C53<>"",C53,IF(INDIRECT("C"&ROW()-1)<>"",INDIRECT("C"&ROW()-1),IF(INDIRECT("C"&ROW()-2)<>"",INDIRECT("C"&ROW()-2),IF(INDIRECT("C"&ROW()-3)<>"",INDIRECT("C"&ROW()-3),IF(INDIRECT("C"&ROW()-4)<>"",INDIRECT("C"&ROW()-4),""))))) -> 1514
A54: =B54&"_"&COUNTIF($B$2:B54,B54) -> 26_1 | B54: =IF(C54<>"",C54,IF(INDIRECT("C"&ROW()-1)<>"",INDIRECT("C"&ROW()-1),IF(INDIRECT("C"&ROW()-2)<>"",INDIRECT("C"&ROW()-2),IF(INDIRECT("C"&ROW()-3)<>"",INDIRECT("C"&ROW()-3),IF(INDIRECT("C"&ROW()-4)<>"",INDIRECT("C"&ROW()-4),""))))) -> 26 | C54: 26 | D54: Mme | E54: AD | F54: Josette | G54: 16832 | H54: 63450 | I54: Chanonat | J54: 10 Rue des Beix | K54: France
A55: =B55&"_"&COUNTIF($B$2:B55,B55) -> 26_2 | B55: =IF(C55<>"",C55,IF(INDIRECT("C"&ROW()-1)<>"",INDIRECT("C"&ROW()-1),IF(INDIRECT("C"&ROW()-2)<>"",INDIRECT("C"&ROW()-2),IF(INDIRECT("C"&ROW()-3)<>"",INDIRECT("C"&ROW()-3),IF(INDIRECT("C"&ROW()-4)<>"",INDIRECT("C"&ROW()-4),""))))) -> 26
A56: =B56&"_"&COUNTIF($B$2:B56,B56) -> 26_3 | B56: =IF(C56<>"",C56,IF(INDIRECT("C"&ROW()-1)<>"",INDIRECT("C"&ROW()-1),IF(INDIRECT("C"&ROW()-2)<>"",INDIRECT("C"&ROW()-2),IF(INDIRECT("C"&ROW()-3)<>"",INDIRECT("C"&ROW()-3),IF(INDIRECT("C"&ROW()-4)<>"",INDIRECT("C"&ROW()-4),""))))) -> 26
A57: =B57&"_"&COUNTIF($B$2:B57,B57) -> 2671_1 | B57: =IF(C57<>"",C57,IF(INDIRECT("C"&ROW()-1)<>"",INDIRECT("C"&ROW()-1),IF(INDIRECT("C"&ROW()-2)<>"",INDIRECT("C"&ROW()-2),IF(INDIRECT("C"&ROW()-3)<>"",INDIRECT("C"&ROW()-3),IF(INDIRECT("C"&ROW()-4)<>"",INDIRECT("C"&ROW()-4),""))))) -> 2671 | C57: 2671 | D57: Mlle | E57: ALAUZET | F57: Corentine | G57: 27515 | H57: 54550 | I57: Pont-saint-Vincent | J57: 32 Rue Carnot
A58: =B58&"_"&COUNTIF($B$2:B58,B58) -> 2671_2 | B58: =IF(C58<>"",C58,IF(INDIRECT("C"&ROW()-1)<>"",INDIRECT("C"&ROW()-1),IF(INDIRECT("C"&ROW()-2)<>"",INDIRECT("C"&ROW()-2),IF(INDIRECT("C"&ROW()-3)<>"",INDIRECT("C"&ROW()-3),IF(INDIRECT("C"&ROW()-4)<>"",INDIRECT("C"&ROW()-4),""))))) -> 2671
A59: =B59&"_"&COUNTIF($B$2:B59,B59) -> 28_1 | B59: =IF(C59<>"",C59,IF(INDIRECT("C"&ROW()-1)<>"",INDIRECT("C"&ROW()-1),IF(INDIRECT("C"&ROW()-2)<>"",INDIRECT("C"&ROW()-2),IF(INDIRECT("C"&ROW()-3)<>"",INDIRECT("C"&ROW()-3),IF(INDIRECT("C"&ROW()-4)<>"",INDIRECT("C"&ROW()-4),""))))) -> 28 | C59: 28 | D59: Mme | E59: ALBERTINI | F59: Marie-Thérèse | G59: 17634 | H59: 2100 | I59: Saint-Quentin | J59: 95 Rue de Mulhouse
A60: =B60&"_"&COUNTIF($B$2:B60,B60) -> 28_2 | B60: =IF(C60<>"",C60,IF(INDIRECT("C"&ROW()-1)<>"",INDIRECT("C"&ROW()-1),IF(INDIRECT("C"&ROW()-2)<>"",INDIRECT("C"&ROW()-2),IF(INDIRECT("C"&ROW()-3)<>"",INDIRECT("C"&ROW()-3),IF(INDIRECT("C"&ROW()-4)<>"",INDIRECT("C"&ROW()-4),""))))) -> 28
A61: =B61&"_"&COUNTIF($B$2:B61,B61) -> 30_1 | B61: =IF(C61<>"",C61,IF(INDIRECT("C"&ROW()-1)<>"",INDIRECT("C"&ROW()-1),IF(INDIRECT("C"&ROW()-2)<>"",INDIRECT("C"&ROW()-2),IF(INDIRECT("C"&ROW()-3)<>"",INDIRECT("C"&ROW()-3),IF(INDIRECT("C"&ROW()-4)<>"",INDIRECT("C"&ROW()-4),""))))) -> 30 | C61: 30 | D61: Mme | E61: ALLARDET SERVENT | F61: Annick | G61: 18356 | H61: 30900 | I61: Nimes | J61: 50 Rue des Costières | K61: France

Sheet Feuil2
A1: CIVILITE | B1: NOM | C1: PRENOM | D1: DATE DE NAISSANCE | E1: ADRESSE_LIGNE1 | F1: ADRESSE_LIGNE2 | G1: ADRESSE_LIGNE3 | H1: ADRESSE_LIGNE4 | I1: CODE POSTAL
A2: =IF(Feuil1!D2:D25="","",Feuil1!D2:D25) -> Mme | B2: =IF(Feuil1!E2:E25="","",Feuil1!E2:E25) -> A | C2: =IF(Feuil1!F2:F25="","",Feuil1!F2:F25) -> Lorena | D2: =IF(Feuil1!G2:G25="","",Feuil1!G2:G25) -> 24852 | E2: =IF(Feuil1!J2:J25="","",Feuil1!J2:J25)
A3: =IF(Feuil1!D3:D26="","",Feuil1!D3:D26) | B3: =IF(Feuil1!E3:E26="","",Feuil1!E3:E26) | C3: =IF(Feuil1!F3:F26="","",Feuil1!F3:F26) | D3: =IF(Feuil1!G3:G26="","",Feuil1!G3:G26) | E3: =IF(Feuil1!J3:J26="","",Feuil1!J3:J26)
A4: =IF(Feuil1!D4:D27="","",Feuil1!D4:D27) | B4: =IF(Feuil1!E4:E27="","",Feuil1!E4:E27) | C4: =IF(Feuil1!F4:F27="","",Feuil1!F4:F27) | D4: =IF(Feuil1!G4:G27="","",Feuil1!G4:G27) | E4: =IF(Feuil1!J4:J27="","",Feuil1!J4:J27)
A5: =IF(Feuil1!D5:D28="","",Feuil1!D5:D28) -> Mme | B5: =IF(Feuil1!E5:E28="","",Feuil1!E5:E28) -> B | C5: =IF(Feuil1!F5:F28="","",Feuil1!F5:F28) -> Amina Aicha | D5: =IF(Feuil1!G5:G28="","",Feuil1!G5:G28) -> 30221 | E5: =IF(Feuil1!J5:J28="","",Feuil1!J5:J28)
A6: =IF(Feuil1!D6:D29="","",Feuil1!D6:D29) | B6: =IF(Feuil1!E6:E29="","",Feuil1!E6:E29) | C6: =IF(Feuil1!F6:F29="","",Feuil1!F6:F29) | D6: =IF(Feuil1!G6:G29="","",Feuil1!G6:G29) | E6: =IF(Feuil1!J6:J29="","",Feuil1!J6:J29)
A7: =IF(Feuil1!D7:D30="","",Feuil1!D7:D30) | B7: =IF(Feuil1!E7:E30="","",Feuil1!E7:E30) | C7: =IF(Feuil1!F7:F30="","",Feuil1!F7:F30) | D7: =IF(Feuil1!G7:G30="","",Feuil1!G7:G30) | E7: =IF(Feuil1!J7:J30="","",Feuil1!J7:J30)
A8: =IF(Feuil1!D8:D31="","",Feuil1!D8:D31) -> Mlle | B8: =IF(Feuil1!E8:E31="","",Feuil1!E8:E31) -> C | C8: =IF(Feuil1!F8:F31="","",Feuil1!F8:F31) -> Asmaa | D8: =IF(Feuil1!G8:G31="","",Feuil1!G8:G31) -> 28428 | E8: =IF(Feuil1!J8:J31="","",Feuil1!J8:J31) -> 4 Rue Gay Lussac Bel air
A9: =IF(Feuil1!D9:D32="","",Feuil1!D9:D32) | B9: =IF(Feuil1!E9:E32="","",Feuil1!E9:E32) | C9: =IF(Feuil1!F9:F32="","",Feuil1!F9:F32) | D9: =IF(Feuil1!G9:G32="","",Feuil1!G9:G32) | E9: =IF(Feuil1!J9:J32="","",Feuil1!J9:J32) -> CEDEX 12
A10: =IF(Feuil1!D10:D33="","",Feuil1!D10:D33) | B10: =IF(Feuil1!E10:E33="","",Feuil1!E10:E33) | C10: =IF(Feuil1!F10:F33="","",Feuil1!F10:F33) | D10: =IF(Feuil1!G10:G33="","",Feuil1!G10:G33) | E10: =IF(Feuil1!J10:J33="","",Feuil1!J10:J33)
A11: =IF(Feuil1!D11:D34="","",Feuil1!D11:D34) -> Mme | B11: =IF(Feuil1!E11:E34="","",Feuil1!E11:E34) -> D | C11: =IF(Feuil1!F11:F34="","",Feuil1!F11:F34) -> Fatima | D11: =IF(Feuil1!G11:G34="","",Feuil1!G11:G34) -> 27463 | E11: =IF(Feuil1!J11:J34="","",Feuil1!J11:J34)
A12: =IF(Feuil1!D12:D35="","",Feuil1!D12:D35) | B12: =IF(Feuil1!E12:E35="","",Feuil1!E12:E35) | C12: =IF(Feuil1!F12:F35="","",Feuil1!F12:F35) | D12: =IF(Feuil1!G12:G35="","",Feuil1!G12:G35) | E12: =IF(Feuil1!J12:J35="","",Feuil1!J12:J35)
A13: =IF(Feuil1!D13:D36="","",Feuil1!D13:D36) | B13: =IF(Feuil1!E13:E36="","",Feuil1!E13:E36) | C13: =IF(Feuil1!F13:F36="","",Feuil1!F13:F36) | D13: =IF(Feuil1!G13:G36="","",Feuil1!G13:G36) | E13: =IF(Feuil1!J13:J36="","",Feuil1!J13:J36)
... A38: =IF(Feuil1!D38:D61="","",Feuil1!D38:D61) -> Mme | B38: =IF(Feuil1!E38:E61="","",Feuil1!E38:E61) -> W | C38: =IF(Feuil1!F38:F61="","",Feuil1!F38:F61) -> Najla | D38: =IF(Feuil1!G38:G61="","",Feuil1!G38:G61) -> 21537 | E38: =IF(Feuil1!J38:J61="","",Feuil1!J38:J61) -> 33 Rue François Villon
A39: =IF(Feuil1!D39:D62="","",Feuil1!D39:D62) | C39: =IF(Feuil1!F39:F62="","",Feuil1!F39:F62) | D39: =IF(Feuil1!G39:G62="","",Feuil1!G39:G62) | E39: =IF(Feuil1!J39:J62="","",Feuil1!J39:J62)
A40: =IF(Feuil1!D40:D63="","",Feuil1!D40:D63) -> Mme | C40: =IF(Feuil1!F40:F63="","",Feuil1!F40:F63) -> Gnankou Chantal | D40: =IF(Feuil1!G40:G63="","",Feuil1!G40:G63) -> 19059 | E40: =IF(Feuil1!J40:J63="","",Feuil1!J40:J63) -> Cococdy les II-Plateaux

Sheet Feuil3
