Workbook
Name Codesaisie: Tableau3[Titre]
Name p_Titrees: listes!$A$1:$I$7
Name p_titres: Tableau2[Titre]

Sheet listes
A1: Titre | B1: Numéro | C1: Auteur | D1: Editeur | E1: Prix Unit | F1: Année | G1: Bon N° | H1: ISBN | I1: Spécialité
A2: 100 questions incontournables au test d'aptitude et de logique - Tremplin 1, Team, AST1, ESG, EDC | B2: 1 | C2: PGE-PGO, Navid Hedayati-Dezfouli | D2: DUNOD | E2: 1391.5 | F2: 41283 | G2: 1 | H2: 9782100592210 | I2: Concours
A3: 100 conseils incontournables pour réussir la synthèse | B3: 2 | C3: PGE-PGO, Lina Hajoui, Céline Torrent, Mustapha Benkalfate | D3: DUNOD | E3: 1368.5 | F3: 41283 | G3: 1 | H3: 9782100593934 | I3: Concours
A4: Concours Ecricome Tremplin 1 et Passerelle 1 | B4: 3 | C4: Marie-Virginie Speller, Pia Boisbourdain, Hélène Bautheney | D4: DUNOD | E4: 1840 | F4: 41290 | G4: 1 | H4: 9782100592234 | I4: Concours
A5: Concours Ecricome Tremplin 2 et Passerelle 2 | B5: 4 | C5: Marie-Virginie Speller, Pia Boisbourdain, Hélène Bautheney | D5: DUNOD | E5: 1656 | F5: 41290 | G5: 2 | H5: 9782100592227 | I5: Concours
A6: Se préparer au test d'aptitude - Tremplin 2, Passerelle 2, AST2, HEC, Essec - Niveau bac + 3 et plus | B6: 5 | C6: Marie-Virginie Speller | D6: DUNOD | E6: 1725 | F6: 41227 | G6: 2 | H6: 9782100590865 | I6: Concours
A7: Se préparer au test d'aptitude - Tremplin 1, Team, AST1, EDC, ESG, SKEMA - Niveau post-bac à bac + 2 | B7: 6 | C7: Marie-Virginie Speller | D7: DUNOD | E7: 1610 | F7: 41227 | G7: 2 | H7: 9782100590872 | I7: Concours

Sheet titres livrais
A1: Titre | B1: Numéro | C1: Auteur | D1: Editeur | E1: Prix Unit | F1: Année | G1: Bon N° | H1: ISBN | I1: Spécialité
A2: DSCG 3 - Management et contrôle de gestion - Manuel et applications, Corrigés inclus | B2: =IF(ISNA(VLOOKUP(Codesaisie,listes!$A$2:$I$7,2,FALSE)),0,VLOOKUP(Codesaisie,listes!$A$2:$I$7,2,FALSE)) -> 0 | C2: =IF(ISNA(VLOOKUP(Codesaisie,listes!$A$2:$I$7,3,FALSE)),0,VLOOKUP(Codesaisie,listes!$A$2:$I$7,3,FALSE)) -> 0 | D2: =IF(ISNA(VLOOKUP(Codesaisie,listes!$A$2:$I$7,4,FALSE)),0,VLOOKUP(Codesaisie,listes!$A$2:$I$7,4,FALSE)) -> 0 | E2: =IF(ISNA(VLOOKUP(Codesaisie,listes!$A$2:$I$7,5,FALSE)),0,VLOOKUP(Codesaisie,listes!$A$2:$I$7,5,FALSE)) -> 0 | F2: =IF(ISNA(VLOOKUP(Codesaisie,listes!$A$2:$I$7,6,FALSE)),0,VLOOKUP(Codesaisie,listes!$A$2:$I$7,6,FALSE)) -> 0 | G2: =IF(ISNA(VLOOKUP(Codesaisie,listes!$A$2:$I$7,7,FALSE)),0,VLOOKUP(Codesaisie,listes!$A$2:$I$7,7,FALSE)) -> 0 | H2: =IF(ISNA(VLOOKUP(Codesaisie,listes!$A$2:$I$7,8,FALSE)),0,VLOOKUP(Codesaisie,listes!$A$2:$I$7,8,FALSE)) -> 0 | I2: =IF(ISNA(VLOOKUP(Codesaisie,listes!$A$2:$I$7,9,FALSE)),0,VLOOKUP(Codesaisie,listes!$A$2:$I$7,9,FALSE)) -> 0
A3: DSCG 2 - Finance - Manuel et applications | B3: =IF(ISNA(VLOOKUP(Codesaisie,listes!$A$2:$I$7,2,FALSE)),0,VLOOKUP(Codesaisie,listes!$A$2:$I$7,2,FALSE)) -> 0 | C3: =IF(ISNA(VLOOKUP(Codesaisie,listes!$A$2:$I$7,3,FALSE)),0,VLOOKUP(Codesaisie,listes!$A$2:$I$7,3,FALSE)) -> 0 | D3: =IF(ISNA(VLOOKUP(Codesaisie,listes!$A$2:$I$7,4,FALSE)),0,VLOOKUP(Codesaisie,listes!$A$2:$I$7,4,FALSE)) -> 0 | E3: =IF(ISNA(VLOOKUP(Codesaisie,listes!$A$2:$I$7,5,FALSE)),0,VLOOKUP(Codesaisie,listes!$A$2:$I$7,5,FALSE)) -> 0 | F3: =IF(ISNA(VLOOKUP(Codesaisie,listes!$A$2:$I$7,6,FALSE)),0,VLOOKUP(Codesaisie,listes!$A$2:$I$7,6,FALSE)) -> 0 | G3: =IF(ISNA(VLOOKUP(Codesaisie,listes!$A$2:$I$7,7,FALSE)),0,VLOOKUP(Codesaisie,listes!$A$2:$I$7,7,FALSE)) -> 0 | H3: =IF(ISNA(VLOOKUP(Codesaisie,listes!$A$2:$I$7,8,FALSE)),0,VLOOKUP(Codesaisie,listes!$A$2:$I$7,8,FALSE)) -> 0 | I3: =IF(ISNA(VLOOKUP(Codesaisie,listes!$A$2:$I$7,9,FALSE)),0,VLOOKUP(Codesaisie,listes!$A$2:$I$7,9,FALSE)) -> 0
A4: DSCG 2 - Finance - Corrigés du manuel | B4: =IF(ISNA(VLOOKUP(Codesaisie,listes!$A$2:$I$7,2,FALSE)),0,VLOOKUP(Codesaisie,listes!$A$2:$I$7,2,FALSE)) -> 0 | C4: =IF(ISNA(VLOOKUP(Codesaisie,listes!$A$2:$I$7,3,FALSE)),0,VLOOKUP(Codesaisie,listes!$A$2:$I$7,3,FALSE)) -> 0 | D4: =IF(ISNA(VLOOKUP(Codesaisie,listes!$A$2:$I$7,4,FALSE)),0,VLOOKUP(Codesaisie,listes!$A$2:$I$7,4,FALSE)) -> 0 | E4: =IF(ISNA(VLOOKUP(Codesaisie,listes!$A$2:$I$7,5,FALSE)),0,VLOOKUP(Codesaisie,listes!$A$2:$I$7,5,FALSE)) -> 0 | F4: =IF(ISNA(VLOOKUP(Codesaisie,listes!$A$2:$I$7,6,FALSE)),0,VLOOKUP(Codesaisie,listes!$A$2:$I$7,6,FALSE)) -> 0 | G4: =IF(ISNA(VLOOKUP(Codesaisie,listes!$A$2:$I$7,7,FALSE)),0,VLOOKUP(Codesaisie,listes!$A$2:$I$7,7,FALSE)) -> 0 | H4: =IF(ISNA(VLOOKUP(Codesaisie,listes!$A$2:$I$7,8,FALSE)),0,VLOOKUP(Codesaisie,listes!$A$2:$I$7,8,FALSE)) -> 0 | I4: =IF(ISNA(VLOOKUP(Codesaisie,listes!$A$2:$I$7,9,FALSE)),0,VLOOKUP(Codesaisie,listes!$A$2:$I$7,9,FALSE)) -> 0
A5: Se préparer au test d'aptitude - Tremplin 1, Team, AST1, EDC, ESG, SKEMA - Niveau post-bac à bac + 2 | B5: =IF(ISNA(VLOOKUP(Codesaisie,listes!$A$2:$I$7,2,FALSE)),0,VLOOKUP(Codesaisie,listes!$A$2:$I$7,2,FALSE)) -> 6 | C5: =IF(ISNA(VLOOKUP(Codesaisie,listes!$A$2:$I$7,3,FALSE)),0,VLOOKUP(Codesaisie,listes!$A$2:$I$7,3,FALSE)) -> Marie-Virginie Speller | D5: =IF(ISNA(VLOOKUP(Codesaisie,listes!$A$2:$I$7,4,FALSE)),0,VLOOKUP(Codesaisie,listes!$A$2:$I$7,4,FALSE)) -> DUNOD | E5: =IF(ISNA(VLOOKUP(Codesaisie,listes!$A$2:$I$7,5,FALSE)),0,VLOOKUP(Codesaisie,listes!$A$2:$I$7,5,FALSE)) -> 1610 | F5: =IF(ISNA(VLOOKUP(Codesaisie,listes!$A$2:$I$7,6,FALSE)),0,VLOOKUP(Codesaisie,listes!$A$2:$I$7,6,FALSE)) -> 41227 | G5: =IF(ISNA(VLOOKUP(Codesaisie,listes!$A$2:$I$7,7,FALSE)),0,VLOOKUP(Codesaisie,listes!$A$2:$I$7,7,FALSE)) -> 2 | H5: =IF(ISNA(VLOOKUP(Codesaisie,listes!$A$2:$I$7,8,FALSE)),0,VLOOKUP(Codesaisie,listes!$A$2:$I$7,8,FALSE)) -> 9782100590872 | I5: =IF(ISNA(VLOOKUP(Codesaisie,listes!$A$2:$I$7,9,FALSE)),0,VLOOKUP(Codesaisie,listes!$A$2:$I$7,9,FALSE)) -> Concours
A6: 100 questions incontournables au test d'aptitude et de logique - Tremplin 1, Team, AST1, ESG, EDC | B6: =IF(ISNA(VLOOKUP(Codesaisie,listes!$A$2:$I$7,2,FALSE)),0,VLOOKUP(Codesaisie,listes!$A$2:$I$7,2,FALSE)) -> 1 | C6: =IF(ISNA(VLOOKUP(Codesaisie,listes!$A$2:$I$7,3,FALSE)),0,VLOOKUP(Codesaisie,listes!$A$2:$I$7,3,FALSE)) -> PGE-PGO, Navid Hedayati-Dezfouli | D6: =IF(ISNA(VLOOKUP(Codesaisie,listes!$A$2:$I$7,4,FALSE)),0,VLOOKUP(Codesaisie,listes!$A$2:$I$7,4,FALSE)) -> DUNOD | E6: =IF(ISNA(VLOOKUP(Codesaisie,listes!$A$2:$I$7,5,FALSE)),0,VLOOKUP(Codesaisie,listes!$A$2:$I$7,5,FALSE)) -> 1391.5 | F6: =IF(ISNA(VLOOKUP(Codesaisie,listes!$A$2:$I$7,6,FALSE)),0,VLOOKUP(Codesaisie,listes!$A$2:$I$7,6,FALSE)) -> 41283 | G6: =IF(ISNA(VLOOKUP(Codesaisie,listes!$A$2:$I$7,7,FALSE)),0,VLOOKUP(Codesaisie,listes!$A$2:$I$7,7,FALSE)) -> 1 | H6: =IF(ISNA(VLOOKUP(Codesaisie,listes!$A$2:$I$7,8,FALSE)),0,VLOOKUP(Codesaisie,listes!$A$2:$I$7,8,FALSE)) -> 9782100592210 | I6: =IF(ISNA(VLOOKUP(Codesaisie,listes!$A$2:$I$7,9,FALSE)),0,VLOOKUP(Codesaisie,listes!$A$2:$I$7,9,FALSE)) -> Concours
A7: 100 conseils incontournables pour réussir la synthèse | B7: =IF(ISNA(VLOOKUP(Codesaisie,listes!$A$2:$I$7,2,FALSE)),0,VLOOKUP(Codesaisie,listes!$A$2:$I$7,2,FALSE)) -> 2 | C7: =IF(ISNA(VLOOKUP(Codesaisie,listes!$A$2:$I$7,3,FALSE)),0,VLOOKUP(Codesaisie,listes!$A$2:$I$7,3,FALSE)) -> PGE-PGO, Lina Hajoui, Céline Torrent, Mustapha Benkalfate | D7: =IF(ISNA(VLOOKUP(Codesaisie,listes!$A$2:$I$7,4,FALSE)),0,VLOOKUP(Codesaisie,listes!$A$2:$I$7,4,FALSE)) -> DUNOD | E7: =IF(ISNA(VLOOKUP(Codesaisie,listes!$A$2:$I$7,5,FALSE)),0,VLOOKUP(Codesaisie,listes!$A$2:$I$7,5,FALSE)) -> 1368.5 | F7: =IF(ISNA(VLOOKUP(Codesaisie,listes!$A$2:$I$7,6,FALSE)),0,VLOOKUP(Codesaisie,listes!$A$2:$I$7,6,FALSE)) -> 41283 | G7: =IF(ISNA(VLOOKUP(Codesaisie,listes!$A$2:$I$7,7,FALSE)),0,VLOOKUP(Codesaisie,listes!$A$2:$I$7,7,FALSE)) -> 1 | H7: =IF(ISNA(VLOOKUP(Codesaisie,listes!$A$2:$I$7,8,FALSE)),0,VLOOKUP(Codesaisie,listes!$A$2:$I$7,8,FALSE)) -> 9782100593934 | I7: =IF(ISNA(VLOOKUP(Codesaisie,listes!$A$2:$I$7,9,FALSE)),0,VLOOKUP(Codesaisie,listes!$A$2:$I$7,9,FALSE)) -> Concours

Sheet titres non livrais
A1: Titre | B1: Numéro | C1: Auteur | D1: Editeur | E1: Prix Unit | F1: Année | G1: Bon N° | H1: ISBN | I1: Spécialité
