Workbook
Name paiement: [1]donnee!$K$2:$K$5

Sheet BDD_licencie
T1: option | X1: Paiement N°1 | AC1: Paiement N°2 | AH1: Paiement N°3
A2: N° Licence | B2: Nons | D2: Prénoms | E2: Nom Prénom | F2: date de naissance | G2: sexe | H2: adresse | J2: cp | K2: ville | L2: Ville | M2: Mail | N2: Telephone N°1 | O2: Telephone N°2 | P2: catégorie | Q2: somme due au club | T2: Criterium | U2: Formule intensive | V2: Maillot | W2: total option | X2: Mode de paiement | Y2: N° | Z2: Montant | AA2: date encaissement souhaité | AB2: date encaissement réalisé | AC2: Mode de paiement | AD2: N° | AE2: Montant | AF2: date encaissement souhaité | AG2: date encaissement réalisé | AH2: Mode de paiement | AI2: N° | AJ2: Montant | AK2: date encaissement souhaité | AL2: date encaissement réalisé
A3: 2112047 | B3: ALEXANDRE MARTIN | C3: =UPPER(B3) -> ALEXANDRE MARTIN | D3: Julien | E3: =CONCATENATE(C3," ",D3) -> ALEXANDRE MARTIN Julien | W3: =IF(T3="","",T3+U3+V3)
A4: 2112048 | B4: ALEXANDRE MARTIN | C4: =UPPER(B4) -> ALEXANDRE MARTIN | D4: Samuel | E4: =CONCATENATE(C4," ",D4) -> ALEXANDRE MARTIN Samuel | W4: =IF(T4="","",T4+U4+V4)
A5: 2112658 | B5: ALIBERT-VALAIRE | C5: =UPPER(B5) -> ALIBERT-VALAIRE | D5: Liam | E5: =CONCATENATE(C5," ",D5) -> ALIBERT-VALAIRE Liam | W5: =IF(T5="","",T5+U5+V5)
A6: 2112552 | B6: ALLARD-LATOUR | C6: =UPPER(B6) -> ALLARD-LATOUR | D6: Marie | E6: =CONCATENATE(C6," ",D6) -> ALLARD-LATOUR Marie | W6: =IF(T6="","",T6+U6+V6)
A7: 2112213 | B7: ALTHEIM | C7: =UPPER(B7) -> ALTHEIM | D7: Bernhard | E7: =CONCATENATE(C7," ",D7) -> ALTHEIM Bernhard | W7: =IF(T7="","",T7+U7+V7)
A8: 212320 | B8: AMIOT | C8: =UPPER(B8) -> AMIOT | D8: Christophe | E8: =CONCATENATE(C8," ",D8) -> AMIOT Christophe | W8: =IF(T8="","",T8+U8+V8)
A9: 2112630 | B9: AMODEO | C9: =UPPER(B9) -> AMODEO | D9: Jean-baptiste | E9: =CONCATENATE(C9," ",D9) -> AMODEO Jean-baptiste | W9: =IF(T9="","",T9+U9+V9)
A10: 2112626 | B10: ANGELERGUES | C10: =UPPER(B10) -> ANGELERGUES | D10: Svitlana | E10: =CONCATENATE(C10," ",D10) -> ANGELERGUES Svitlana | W10: =IF(T10="","",T10+U10+V10)
A11: 2111925 | B11: ANTOY | C11: =UPPER(B11) -> ANTOY | D11: Alya | E11: =CONCATENATE(C11," ",D11) -> ANTOY Alya | W11: =IF(T11="","",T11+U11+V11)
A12: 7113678 | B12: AUBERTIN-MOREL | C12: =UPPER(B12) -> AUBERTIN-MOREL | D12: Lenni | E12: =CONCATENATE(C12," ",D12) -> AUBERTIN-MOREL Lenni | W12: =IF(T12="","",T12+U12+V12)
A13: 2111797 | B13: BABIN | C13: =UPPER(B13) -> BABIN | D13: Emile | E13: =CONCATENATE(C13," ",D13) -> BABIN Emile | W13: =IF(T13="","",T13+U13+V13)
A14: 2112567 | B14: BAILLY | C14: =UPPER(B14) -> BAILLY | D14: Isabelle | E14: =CONCATENATE(C14," ",D14) -> BAILLY Isabelle | W14: =IF(T14="","",T14+U14+V14)
... A194: 2112607 | B194: ZIZI | C194: =UPPER(B194) -> ZIZI | D194: Mustapha | E194: =CONCATENATE(C194," ",D194) -> ZIZI Mustapha | W194: =IF(T194="","",T194+U194+V194)
A195: 193 | B195: 193 | C195: =UPPER(B195) -> 193 | D195: 193 | E195: =CONCATENATE(C195," ",D195) -> 193 193 | W195: =IF(T195="","",T195+U195+V195)
A196: 194 | B196: 194 | C196: =UPPER(B196) -> 194 | D196: 194 | E196: =CONCATENATE(C196," ",D196) -> 194 194 | W196: =IF(T196="","",T196+U196+V196)
A197: 195 | B197: 195 | C197: =UPPER(B197) -> 195 | D197: 195 | E197: =CONCATENATE(C197," ",D197) -> 195 195 | W197: =IF(T197="","",T197+U197+V197)
A198: 196 | B198: 196 | C198: =UPPER(B198) -> 196 | D198: 196 | E198: =CONCATENATE(C198," ",D198) -> 196 196 | W198: =IF(T198="","",T198+U198+V198)
A199: 197 | B199: 197 | C199: =UPPER(B199) -> 197 | D199: 197 | E199: =CONCATENATE(C199," ",D199) -> 197 197 | W199: =IF(T199="","",T199+U199+V199)
A200: 198 | B200: 198 | C200: =UPPER(B200) -> 198 | D200: 198 | E200: =CONCATENATE(C200," ",D200) -> 198 198 | W200: =IF(T200="","",T200+U200+V200)
A201: 199 | B201: 199 | C201: =UPPER(B201) -> 199 | D201: 199 | E201: =CONCATENATE(C201," ",D201) -> 199 199 | W201: =IF(T201="","",T201+U201+V201)
A202: 200 | B202: 200 | C202: =UPPER(B202) -> 200 | D202: 200 | E202: =CONCATENATE(C202," ",D202) -> 200 200 | W202: =IF(T202="","",T202+U202+V202)
A203: 201 | B203: 201 | C203: =UPPER(B203) -> 201 | D203: 201 | E203: =CONCATENATE(C203," ",D203) -> 201 201 | W203: =IF(T203="","",T203+U203+V203)
A204: 202 | B204: 202 | C204: =UPPER(B204) -> 202 | D204: 202 | E204: =CONCATENATE(C204," ",D204) -> 202 202 | W204: =IF(T204="","",T204+U204+V204)
A205: 203 | B205: 203 | C205: =UPPER(B205) -> 203 | D205: 203 | E205: =CONCATENATE(C205," ",D205) -> 203 203 | W205: =IF(T205="","",T205+U205+V205)
A206: 204 | B206: 204 | C206: =UPPER(B206) -> 204 | D206: 204 | E206: =CONCATENATE(C206," ",D206) -> 204 204 | W206: =IF(T206="","",T206+U206+V206)
... A270: 268 | B270: 268 | C270: =UPPER(B270) -> 268 | D270: 268 | E270: =CONCATENATE(C270," ",D270) -> 268 268 | W270: =IF(T270="","",T270+U270+V270)
A271: 269 | B271: 269 | C271: =UPPER(B271) -> 269 | D271: 269 | E271: =CONCATENATE(C271," ",D271) -> 269 269 | L271: =UPPER(K271) | N271: =UPPER(M271) | W271: =IF(T271="","",T271+U271+V271)
A272: 270 | B272: 270 | C272: =UPPER(B272) -> 270 | D272: 270 | E272: =CONCATENATE(C272," ",D272) -> 270 270 | L272: =UPPER(K272) | N272: =UPPER(M272) | W272: =IF(T272="","",T272+U272+V272)
A273: 271 | B273: 271 | C273: =UPPER(B273) -> 271 | D273: 271 | E273: =CONCATENATE(C273," ",D273) -> 271 271 | L273: =UPPER(K273) | N273: =UPPER(M273) | W273: =IF(T273="","",T273+U273+V273)
A274: 272 | B274: 272 | C274: =UPPER(B274) -> 272 | D274: 272 | E274: =CONCATENATE(C274," ",D274) -> 272 272 | L274: =UPPER(K274) | N274: =UPPER(M274) | W274: =IF(T274="","",T274+U274+V274)
A275: 273 | B275: 273 | C275: =UPPER(B275) -> 273 | D275: 273 | E275: =CONCATENATE(C275," ",D275) -> 273 273 | L275: =UPPER(K275) | N275: =UPPER(M275) | W275: =IF(T275="","",T275+U275+V275)
A276: 274 | B276: 274 | C276: =UPPER(B276) -> 274 | D276: 274 | E276: =CONCATENATE(C276," ",D276) -> 274 274 | L276: =UPPER(K276) | N276: =UPPER(M276) | W276: =IF(T276="","",T276+U276+V276)
A277: 275 | B277: 275 | C277: =UPPER(B277) -> 275 | D277: 275 | E277: =CONCATENATE(C277," ",D277) -> 275 275 | L277: =UPPER(K277) | N277: =UPPER(M277) | W277: =IF(T277="","",T277+U277+V277)
A278: 276 | B278: 276 | C278: =UPPER(B278) -> 276 | D278: 276 | E278: =CONCATENATE(C278," ",D278) -> 276 276 | L278: =UPPER(K278) | N278: =UPPER(M278) | W278: =IF(T278="","",T278+U278+V278)
A279: 277 | B279: 277 | C279: =UPPER(B279) -> 277 | D279: 277 | E279: =CONCATENATE(C279," ",D279) -> 277 277 | L279: =UPPER(K279) | N279: =UPPER(M279) | W279: =IF(T279="","",T279+U279+V279)
A280: 278 | B280: 278 | C280: =UPPER(B280) -> 278 | D280: 278 | E280: =CONCATENATE(C280," ",D280) -> 278 278 | L280: =UPPER(K280) | N280: =UPPER(M280) | W280: =IF(T280="","",T280+U280+V280)
A281: 279 | B281: 279 | C281: =UPPER(B281) -> 279 | D281: 279 | E281: =CONCATENATE(C281," ",D281) -> 279 279 | L281: =UPPER(K281) | N281: =UPPER(M281) | W281: =IF(T281="","",T281+U281+V281)
A282: 280 | B282: 280 | C282: =UPPER(B282) -> 280 | D282: 280 | E282: =CONCATENATE(C282," ",D282) -> 280 280 | L282: =UPPER(K282) | N282: =UPPER(M282) | W282: =IF(T282="","",T282+U282+V282)
...

Sheet Feuil2
B1: Commande Matériel
B5: N° licence | C5: Nom prémon | D5: N° ref | E5: Désignation | F5: Prix | G5: Nbre | H5: Prix | I5: Remise | K5: Prix Net
B6: 2112661 | C6: =IF(B6="","",VLOOKUP(B6,BDD_licencie!A$3:E$389,5,0)) -> BEAU Valentino | E6: =IF(D6="","",VLOOKUP(D6,[1]base!A$2:F$400,2,0)) | F6: =IF(D6="","",VLOOKUP(D6,[1]base!A$2:F$400,3,0)) | H6: =IF(G6="","",G6*F6) | J6: =IF(G6="","",H6*I6) | K6: =IF(G6="","",(H6-J6))
B7: 219956 | C7: =IF(B7="","",VLOOKUP(B7,BDD_licencie!A$3:E$389,5,0)) -> GIRARD Philippe | E7: =IF(D7="","",VLOOKUP(D7,[1]base!A$2:F$400,2,0)) | F7: =IF(D7="","",VLOOKUP(D7,[1]base!A$2:F$400,3,0)) | H7: =IF(G7="","",G7*F7) | J7: =IF(G7="","",H7*I7) | K7: =IF(G7="","",(H7-J7))
B8: 2112047 | C8: =IF(B8="","",VLOOKUP(B8,BDD_licencie!A$3:E$389,5,0)) -> ALEXANDRE MARTIN Julien | E8: =IF(D8="","",VLOOKUP(D8,[1]base!A$2:F$400,2,0)) | F8: =IF(D8="","",VLOOKUP(D8,[1]base!A$2:F$400,3,0)) | H8: =IF(G8="","",G8*F8) | J8: =IF(G8="","",H8*I8) | K8: =IF(G8="","",(H8-J8))
B9: 216303 | C9: =IF(B9="","",VLOOKUP(B9,BDD_licencie!A$3:E$389,5,0)) -> CLEMENT Maurice | E9: =IF(D9="","",VLOOKUP(D9,[1]base!A$2:F$400,2,0)) | F9: =IF(D9="","",VLOOKUP(D9,[1]base!A$2:F$400,3,0)) | H9: =IF(G9="","",G9*F9) | J9: =IF(G9="","",H9*I9) | K9: =IF(G9="","",(H9-J9))
B10: 219789 | C10: =IF(B10="","",VLOOKUP(B10,BDD_licencie!A$3:E$389,5,0)) -> GARLIN Samuel | E10: =IF(D10="","",VLOOKUP(D10,[1]base!A$2:F$400,2,0)) | F10: =IF(D10="","",VLOOKUP(D10,[1]base!A$2:F$400,3,0)) | H10: =IF(G10="","",G10*F10) | J10: =IF(G10="","",H10*I10) | K10: =IF(G10="","",(H10-J10))
B11: 216894 | C11: =IF(B11="","",VLOOKUP(B11,BDD_licencie!A$3:E$389,5,0)) -> CAIGNOL Patrick | E11: =IF(D11="","",VLOOKUP(D11,[1]base!A$2:F$400,2,0)) | F11: =IF(D11="","",VLOOKUP(D11,[1]base!A$2:F$400,3,0)) | H11: =IF(G11="","",G11*F11) | J11: =IF(G11="","",H11*I11) | K11: =IF(G11="","",(H11-J11))
B12: 2111254 | C12: =IF(B12="","",VLOOKUP(B12,BDD_licencie!A$3:E$389,5,0)) -> CAIGNOL Cathy | E12: =IF(D12="","",VLOOKUP(D12,[1]base!A$2:F$400,2,0)) | F12: =IF(D12="","",VLOOKUP(D12,[1]base!A$2:F$400,3,0)) | H12: =IF(G12="","",G12*F12) | J12: =IF(G12="","",H12*I12) | K12: =IF(G12="","",(H12-J12))
B13: 2111925 | C13: =IF(B13="","",VLOOKUP(B13,BDD_licencie!A$3:E$389,5,0)) -> ANTOY Alya | E13: =IF(D13="","",VLOOKUP(D13,[1]base!A$2:F$400,2,0)) | F13: =IF(D13="","",VLOOKUP(D13,[1]base!A$2:F$400,3,0)) | H13: =IF(G13="","",G13*F13) | J13: =IF(G13="","",H13*I13) | K13: =IF(G13="","",(H13-J13))
B14: 2111788 | C14: =IF(B14="","",VLOOKUP(B14,BDD_licencie!A$3:E$389,5,0)) -> BOYARM Aaron | E14: =IF(D14="","",VLOOKUP(D14,[1]base!A$2:F$400,2,0)) | F14: =IF(D14="","",VLOOKUP(D14,[1]base!A$2:F$400,3,0)) | H14: =IF(G14="","",G14*F14) | J14: =IF(G14="","",H14*I14) | K14: =IF(G14="","",(H14-J14))
B15: 219802 | C15: =IF(B15="","",VLOOKUP(B15,BDD_licencie!A$3:E$389,5,0)) -> GIRARD Thomas | E15: =IF(D15="","",VLOOKUP(D15,[1]base!A$2:F$400,2,0)) | F15: =IF(D15="","",VLOOKUP(D15,[1]base!A$2:F$400,3,0)) | H15: =IF(G15="","",G15*F15) | J15: =IF(G15="","",H15*I15) | K15: =IF(G15="","",(H15-J15))
B16: 217880 | C16: =IF(B16="","",VLOOKUP(B16,BDD_licencie!A$3:E$389,5,0)) -> JULIEN Marine | E16: =IF(D16="","",VLOOKUP(D16,[1]base!A$2:F$400,2,0)) | F16: =IF(D16="","",VLOOKUP(D16,[1]base!A$2:F$400,3,0)) | H16: =IF(G16="","",G16*F16)
F17: TOTAL | K17: =SUM(K6:K16) -> 0
F18: Frais de port | K18: =IF(D6="","",IF(K17<45,4.7,IF(K17<=80,2.7,0)))
F20: Total Net | K20: =IF(E6="","",SUM(K17:K18))
