Workbook

Sheet Feuil1
K1: Jours passage programmés | R1: Jours passage prévus | Y1: MATRICE
G2: CP | H2: Tournée | I2: Commentaire | J2: Ecart | K2: L | L2: M | M2: M2 | N2: J | O2: V | P2: S | Q2: D | R2: L3 | S2: M4 | T2: M5 | U2: J6 | V2: V7 | W2: S8 | X2: D9 | Y2: L2 | Z2: M3 | AA2: M6 | AB2: J2 | AC2: V2 | AD2: S2 | AE2: D2
G3: 6 | H3: Avignon | J3: =ABS(K3-R3)+ABS(L3-S3)+ABS(M3-T3)+ABS(N3-U3)+ABS(O3-V3)+ABS(P3-W3)+ABS(Q3-X3) -> 0 | K3: 0 | L3: 1 | M3: 1 | N3: 1 | O3: 1 | P3: 1 | Q3: 0 | R3: 0 | S3: 1 | T3: 1 | U3: 1 | V3: 1 | W3: 1 | X3: 0 | Y3: =Tableau1[[#This Row],[L]]=Tableau1[[#This Row],[L3]] -> TRUE | Z3: =Tableau1[[#This Row],[M]]=Tableau1[[#This Row],[M4]] -> TRUE | AA3: =Tableau1[[#This Row],[M2]]=Tableau1[[#This Row],[M5]] -> TRUE | AB3: =Tableau1[[#This Row],[J]]=Tableau1[[#This Row],[J6]] -> TRUE | AC3: =Tableau1[[#This Row],[V]]=Tableau1[[#This Row],[V7]] -> TRUE | AD3: =Tableau1[[#This Row],[S]]=Tableau1[[#This Row],[S8]] -> TRUE | AE3: =Tableau1[[#This Row],[D]]=Tableau1[[#This Row],[D9]] -> TRUE
G4: 14 | H4: Gap | J4: =ABS(K4-R4)+ABS(L4-S4)+ABS(M4-T4)+ABS(N4-U4)+ABS(O4-V4)+ABS(P4-W4)+ABS(Q4-X4) -> 1 | K4: 0 | L4: 1 | M4: 1 | N4: 1 | O4: 1 | P4: 0 | Q4: 0 | R4: 1 | S4: 1 | T4: 1 | U4: 1 | V4: 1 | W4: 0 | X4: 0 | Y4: =Tableau1[[#This Row],[L]]=Tableau1[[#This Row],[L3]] -> FALSE | Z4: =Tableau1[[#This Row],[M]]=Tableau1[[#This Row],[M4]] -> TRUE | AA4: =Tableau1[[#This Row],[M2]]=Tableau1[[#This Row],[M5]] -> TRUE | AB4: =Tableau1[[#This Row],[J]]=Tableau1[[#This Row],[J6]] -> TRUE | AC4: =Tableau1[[#This Row],[V]]=Tableau1[[#This Row],[V7]] -> TRUE | AD4: =Tableau1[[#This Row],[S]]=Tableau1[[#This Row],[S8]] -> TRUE | AE4: =Tableau1[[#This Row],[D]]=Tableau1[[#This Row],[D9]] -> TRUE
G5: 14 | H5: Vitrolles | J5: =ABS(K5-R5)+ABS(L5-S5)+ABS(M5-T5)+ABS(N5-U5)+ABS(O5-V5)+ABS(P5-W5)+ABS(Q5-X5) -> 0 | K5: 1 | L5: 1 | M5: 1 | N5: 1 | O5: 1 | P5: 0 | Q5: 0 | R5: 1 | S5: 1 | T5: 1 | U5: 1 | V5: 1 | W5: 0 | X5: 0 | Y5: =Tableau1[[#This Row],[L]]=Tableau1[[#This Row],[L3]] -> TRUE | Z5: =Tableau1[[#This Row],[M]]=Tableau1[[#This Row],[M4]] -> TRUE | AA5: =Tableau1[[#This Row],[M2]]=Tableau1[[#This Row],[M5]] -> TRUE | AB5: =Tableau1[[#This Row],[J]]=Tableau1[[#This Row],[J6]] -> TRUE | AC5: =Tableau1[[#This Row],[V]]=Tableau1[[#This Row],[V7]] -> TRUE | AD5: =Tableau1[[#This Row],[S]]=Tableau1[[#This Row],[S8]] -> TRUE | AE5: =Tableau1[[#This Row],[D]]=Tableau1[[#This Row],[D9]] -> TRUE
G6: 8 | H6: 2210 | J6: =ABS(K6-R6)+ABS(L6-S6)+ABS(M6-T6)+ABS(N6-U6)+ABS(O6-V6)+ABS(P6-W6)+ABS(Q6-X6) -> 2 | K6: 1 | L6: 1 | M6: 1 | N6: 1 | O6: 1 | P6: 0 | Q6: 0 | R6: 1 | S6: 0 | T6: 1 | U6: 0 | V6: 1 | W6: 0 | X6: 0 | Y6: =Tableau1[[#This Row],[L]]=Tableau1[[#This Row],[L3]] -> TRUE | Z6: =Tableau1[[#This Row],[M]]=Tableau1[[#This Row],[M4]] -> FALSE | AA6: =Tableau1[[#This Row],[M2]]=Tableau1[[#This Row],[M5]] -> TRUE | AB6: =Tableau1[[#This Row],[J]]=Tableau1[[#This Row],[J6]] -> FALSE | AC6: =Tableau1[[#This Row],[V]]=Tableau1[[#This Row],[V7]] -> TRUE | AD6: =Tableau1[[#This Row],[S]]=Tableau1[[#This Row],[S8]] -> TRUE | AE6: =Tableau1[[#This Row],[D]]=Tableau1[[#This Row],[D9]] -> TRUE
G7: 8 | H7: 2210 | J7: =ABS(K7-R7)+ABS(L7-S7)+ABS(M7-T7)+ABS(N7-U7)+ABS(O7-V7)+ABS(P7-W7)+ABS(Q7-X7) -> 2 | K7: 1 | L7: 1 | M7: 1 | N7: 1 | O7: 1 | P7: 0 | Q7: 0 | R7: 1 | S7: 0 | T7: 1 | U7: 0 | V7: 1 | W7: 0 | X7: 0 | Y7: =Tableau1[[#This Row],[L]]=Tableau1[[#This Row],[L3]] -> TRUE | Z7: =Tableau1[[#This Row],[M]]=Tableau1[[#This Row],[M4]] -> FALSE | AA7: =Tableau1[[#This Row],[M2]]=Tableau1[[#This Row],[M5]] -> TRUE | AB7: =Tableau1[[#This Row],[J]]=Tableau1[[#This Row],[J6]] -> FALSE | AC7: =Tableau1[[#This Row],[V]]=Tableau1[[#This Row],[V7]] -> TRUE | AD7: =Tableau1[[#This Row],[S]]=Tableau1[[#This Row],[S8]] -> TRUE | AE7: =Tableau1[[#This Row],[D]]=Tableau1[[#This Row],[D9]] -> TRUE
G8: 59 | H8: Lille | J8: =ABS(K8-R8)+ABS(L8-S8)+ABS(M8-T8)+ABS(N8-U8)+ABS(O8-V8)+ABS(P8-W8)+ABS(Q8-X8) -> 3 | K8: 1 | L8: 1 | M8: 1 | N8: 1 | O8: 0 | P8: 0 | Q8: 0 | R8: 1 | S8: 1 | T8: 1 | U8: 0 | V8: 0 | W8: 1 | X8: 1 | Y8: =Tableau1[[#This Row],[L]]=Tableau1[[#This Row],[L3]] -> TRUE | Z8: =Tableau1[[#This Row],[M]]=Tableau1[[#This Row],[M4]] -> TRUE | AA8: =Tableau1[[#This Row],[M2]]=Tableau1[[#This Row],[M5]] -> TRUE | AB8: =Tableau1[[#This Row],[J]]=Tableau1[[#This Row],[J6]] -> FALSE | AC8: =Tableau1[[#This Row],[V]]=Tableau1[[#This Row],[V7]] -> TRUE | AD8: =Tableau1[[#This Row],[S]]=Tableau1[[#This Row],[S8]] -> FALSE | AE8: =Tableau1[[#This Row],[D]]=Tableau1[[#This Row],[D9]] -> FALSE
G9: 59 | H9: Baives | J9: =ABS(K9-R9)+ABS(L9-S9)+ABS(M9-T9)+ABS(N9-U9)+ABS(O9-V9)+ABS(P9-W9)+ABS(Q9-X9) -> 6 | K9: 1 | L9: 1 | M9: 1 | N9: 0 | O9: 0 | P9: 0 | Q9: 1 | R9: 0 | S9: 0 | T9: 1 | U9: 1 | V9: 1 | W9: 1 | X9: 0 | Y9: =Tableau1[[#This Row],[L]]=Tableau1[[#This Row],[L3]] -> FALSE | Z9: =Tableau1[[#This Row],[M]]=Tableau1[[#This Row],[M4]] -> FALSE | AA9: =Tableau1[[#This Row],[M2]]=Tableau1[[#This Row],[M5]] -> TRUE | AB9: =Tableau1[[#This Row],[J]]=Tableau1[[#This Row],[J6]] -> FALSE | AC9: =Tableau1[[#This Row],[V]]=Tableau1[[#This Row],[V7]] -> FALSE | AD9: =Tableau1[[#This Row],[S]]=Tableau1[[#This Row],[S8]] -> FALSE | AE9: =Tableau1[[#This Row],[D]]=Tableau1[[#This Row],[D9]] -> FALSE
G10: 1 | H10: Romans | J10: =ABS(K10-R10)+ABS(L10-S10)+ABS(M10-T10)+ABS(N10-U10)+ABS(O10-V10)+ABS(P10-W10)+ABS(Q10-X10) -> 4 | K10: 0 | L10: 0 | M10: 1 | N10: 1 | O10: 1 | P10: 0 | Q10: 0 | R10: 1 | S10: 0 | T10: 1 | U10: 0 | V10: 0 | W10: 1 | X10: 0 | Y10: =Tableau1[[#This Row],[L]]=Tableau1[[#This Row],[L3]] -> FALSE | Z10: =Tableau1[[#This Row],[M]]=Tableau1[[#This Row],[M4]] -> TRUE | AA10: =Tableau1[[#This Row],[M2]]=Tableau1[[#This Row],[M5]] -> TRUE | AB10: =Tableau1[[#This Row],[J]]=Tableau1[[#This Row],[J6]] -> FALSE | AC10: =Tableau1[[#This Row],[V]]=Tableau1[[#This Row],[V7]] -> FALSE | AD10: =Tableau1[[#This Row],[S]]=Tableau1[[#This Row],[S8]] -> FALSE | AE10: =Tableau1[[#This Row],[D]]=Tableau1[[#This Row],[D9]] -> TRUE
G11: 1 | H11: Bourg en Bresse | J11: =ABS(K11-R11)+ABS(L11-S11)+ABS(M11-T11)+ABS(N11-U11)+ABS(O11-V11)+ABS(P11-W11)+ABS(Q11-X11) -> 2 | K11: 1 | L11: 1 | M11: 1 | N11: 1 | O11: 1 | P11: 1 | Q11: 1 | R11: 1 | S11: 1 | T11: 0 | U11: 0 | V11: 1 | W11: 1 | X11: 1 | Y11: =Tableau1[[#This Row],[L]]=Tableau1[[#This Row],[L3]] -> TRUE | Z11: =Tableau1[[#This Row],[M]]=Tableau1[[#This Row],[M4]] -> TRUE | AA11: =Tableau1[[#This Row],[M2]]=Tableau1[[#This Row],[M5]] -> FALSE | AB11: =Tableau1[[#This Row],[J]]=Tableau1[[#This Row],[J6]] -> FALSE | AC11: =Tableau1[[#This Row],[V]]=Tableau1[[#This Row],[V7]] -> TRUE | AD11: =Tableau1[[#This Row],[S]]=Tableau1[[#This Row],[S8]] -> TRUE | AE11: =Tableau1[[#This Row],[D]]=Tableau1[[#This Row],[D9]] -> TRUE
H14: https://forum.excel-pratique.com/viewtopic.php?f=2&t=140067&sid=f61a1212a4c14b87e33e4a88ea9f02bc

Sheet Feuil2
A1: CP | B1: Total ecarts | C1: LUN | D1: MAR | E1: MER | F1: JEU | G1: VEN | H1: SAM | I1: DIM
A2: 1 | B2: =IF(SUM($C2:$I2)=0,"",SUM($C2:$I2)) -> 6 | C2: =IF(COUNTIFS(Tableau1[CP],Feuil2!$A2,Tableau1[L2],FALSE)=0,"",COUNTIFS(Tableau1[CP],Feuil2!$A2,Tableau1[L2],FALSE)) -> 1 | D2: =IF(COUNTIFS(Tableau1[CP],Feuil2!$A2,Tableau1[M3],FALSE)=0,"",COUNTIFS(Tableau1[CP],Feuil2!$A2,Tableau1[M3],FALSE)) | E2: =IF(COUNTIFS(Tableau1[CP],Feuil2!$A2,Tableau1[M6],FALSE)=0,"",COUNTIFS(Tableau1[CP],Feuil2!$A2,Tableau1[M6],FALSE)) -> 1 | F2: =IF(COUNTIFS(Tableau1[CP],Feuil2!$A2,Tableau1[J2],FALSE)=0,"",COUNTIFS(Tableau1[CP],Feuil2!$A2,Tableau1[J2],FALSE)) -> 2 | G2: =IF(COUNTIFS(Tableau1[CP],Feuil2!$A2,Tableau1[V2],FALSE)=0,"",COUNTIFS(Tableau1[CP],Feuil2!$A2,Tableau1[V2],FALSE)) -> 1 | H2: =IF(COUNTIFS(Tableau1[CP],Feuil2!$A2,Tableau1[S2],FALSE)=0,"",COUNTIFS(Tableau1[CP],Feuil2!$A2,Tableau1[S2],FALSE)) -> 1 | I2: =IF(COUNTIFS(Tableau1[CP],Feuil2!$A2,Tableau1[D2],FALSE)=0,"",COUNTIFS(Tableau1[CP],Feuil2!$A2,Tableau1[D2],FALSE))
A3: 2 | B3: =IF(SUM($C3:$I3)=0,"",SUM($C3:$I3)) | C3: =IF(COUNTIFS(Tableau1[CP],Feuil2!$A3,Tableau1[L2],FALSE)=0,"",COUNTIFS(Tableau1[CP],Feuil2!$A3,Tableau1[L2],FALSE)) | D3: =IF(COUNTIFS(Tableau1[CP],Feuil2!$A3,Tableau1[M3],FALSE)=0,"",COUNTIFS(Tableau1[CP],Feuil2!$A3,Tableau1[M3],FALSE)) | E3: =IF(COUNTIFS(Tableau1[CP],Feuil2!$A3,Tableau1[M6],FALSE)=0,"",COUNTIFS(Tableau1[CP],Feuil2!$A3,Tableau1[M6],FALSE)) | F3: =IF(COUNTIFS(Tableau1[CP],Feuil2!$A3,Tableau1[J2],FALSE)=0,"",COUNTIFS(Tableau1[CP],Feuil2!$A3,Tableau1[J2],FALSE)) | G3: =IF(COUNTIFS(Tableau1[CP],Feuil2!$A3,Tableau1[V2],FALSE)=0,"",COUNTIFS(Tableau1[CP],Feuil2!$A3,Tableau1[V2],FALSE)) | H3: =IF(COUNTIFS(Tableau1[CP],Feuil2!$A3,Tableau1[S2],FALSE)=0,"",COUNTIFS(Tableau1[CP],Feuil2!$A3,Tableau1[S2],FALSE)) | I3: =IF(COUNTIFS(Tableau1[CP],Feuil2!$A3,Tableau1[D2],FALSE)=0,"",COUNTIFS(Tableau1[CP],Feuil2!$A3,Tableau1[D2],FALSE))
A4: 3 | B4: =IF(SUM($C4:$I4)=0,"",SUM($C4:$I4)) | C4: =IF(COUNTIFS(Tableau1[CP],Feuil2!$A4,Tableau1[L2],FALSE)=0,"",COUNTIFS(Tableau1[CP],Feuil2!$A4,Tableau1[L2],FALSE)) | D4: =IF(COUNTIFS(Tableau1[CP],Feuil2!$A4,Tableau1[M3],FALSE)=0,"",COUNTIFS(Tableau1[CP],Feuil2!$A4,Tableau1[M3],FALSE)) | E4: =IF(COUNTIFS(Tableau1[CP],Feuil2!$A4,Tableau1[M6],FALSE)=0,"",COUNTIFS(Tableau1[CP],Feuil2!$A4,Tableau1[M6],FALSE)) | F4: =IF(COUNTIFS(Tableau1[CP],Feuil2!$A4,Tableau1[J2],FALSE)=0,"",COUNTIFS(Tableau1[CP],Feuil2!$A4,Tableau1[J2],FALSE)) | G4: =IF(COUNTIFS(Tableau1[CP],Feuil2!$A4,Tableau1[V2],FALSE)=0,"",COUNTIFS(Tableau1[CP],Feuil2!$A4,Tableau1[V2],FALSE)) | H4: =IF(COUNTIFS(Tableau1[CP],Feuil2!$A4,Tableau1[S2],FALSE)=0,"",COUNTIFS(Tableau1[CP],Feuil2!$A4,Tableau1[S2],FALSE)) | I4: =IF(COUNTIFS(Tableau1[CP],Feuil2!$A4,Tableau1[D2],FALSE)=0,"",COUNTIFS(Tableau1[CP],Feuil2!$A4,Tableau1[D2],FALSE))
A5: 4 | B5: =IF(SUM($C5:$I5)=0,"",SUM($C5:$I5)) | C5: =IF(COUNTIFS(Tableau1[CP],Feuil2!$A5,Tableau1[L2],FALSE)=0,"",COUNTIFS(Tableau1[CP],Feuil2!$A5,Tableau1[L2],FALSE)) | D5: =IF(COUNTIFS(Tableau1[CP],Feuil2!$A5,Tableau1[M3],FALSE)=0,"",COUNTIFS(Tableau1[CP],Feuil2!$A5,Tableau1[M3],FALSE)) | E5: =IF(COUNTIFS(Tableau1[CP],Feuil2!$A5,Tableau1[M6],FALSE)=0,"",COUNTIFS(Tableau1[CP],Feuil2!$A5,Tableau1[M6],FALSE)) | F5: =IF(COUNTIFS(Tableau1[CP],Feuil2!$A5,Tableau1[J2],FALSE)=0,"",COUNTIFS(Tableau1[CP],Feuil2!$A5,Tableau1[J2],FALSE)) | G5: =IF(COUNTIFS(Tableau1[CP],Feuil2!$A5,Tableau1[V2],FALSE)=0,"",COUNTIFS(Tableau1[CP],Feuil2!$A5,Tableau1[V2],FALSE)) | H5: =IF(COUNTIFS(Tableau1[CP],Feuil2!$A5,Tableau1[S2],FALSE)=0,"",COUNTIFS(Tableau1[CP],Feuil2!$A5,Tableau1[S2],FALSE)) | I5: =IF(COUNTIFS(Tableau1[CP],Feuil2!$A5,Tableau1[D2],FALSE)=0,"",COUNTIFS(Tableau1[CP],Feuil2!$A5,Tableau1[D2],FALSE))
A6: 5 | B6: =IF(SUM($C6:$I6)=0,"",SUM($C6:$I6)) | C6: =IF(COUNTIFS(Tableau1[CP],Feuil2!$A6,Tableau1[L2],FALSE)=0,"",COUNTIFS(Tableau1[CP],Feuil2!$A6,Tableau1[L2],FALSE)) | D6: =IF(COUNTIFS(Tableau1[CP],Feuil2!$A6,Tableau1[M3],FALSE)=0,"",COUNTIFS(Tableau1[CP],Feuil2!$A6,Tableau1[M3],FALSE)) | E6: =IF(COUNTIFS(Tableau1[CP],Feuil2!$A6,Tableau1[M6],FALSE)=0,"",COUNTIFS(Tableau1[CP],Feuil2!$A6,Tableau1[M6],FALSE)) | F6: =IF(COUNTIFS(Tableau1[CP],Feuil2!$A6,Tableau1[J2],FALSE)=0,"",COUNTIFS(Tableau1[CP],Feuil2!$A6,Tableau1[J2],FALSE)) | G6: =IF(COUNTIFS(Tableau1[CP],Feuil2!$A6,Tableau1[V2],FALSE)=0,"",COUNTIFS(Tableau1[CP],Feuil2!$A6,Tableau1[V2],FALSE)) | H6: =IF(COUNTIFS(Tableau1[CP],Feuil2!$A6,Tableau1[S2],FALSE)=0,"",COUNTIFS(Tableau1[CP],Feuil2!$A6,Tableau1[S2],FALSE)) | I6: =IF(COUNTIFS(Tableau1[CP],Feuil2!$A6,Tableau1[D2],FALSE)=0,"",COUNTIFS(Tableau1[CP],Feuil2!$A6,Tableau1[D2],FALSE))
A7: 6 | B7: =IF(SUM($C7:$I7)=0,"",SUM($C7:$I7)) | C7: =IF(COUNTIFS(Tableau1[CP],Feuil2!$A7,Tableau1[L2],FALSE)=0,"",COUNTIFS(Tableau1[CP],Feuil2!$A7,Tableau1[L2],FALSE)) | D7: =IF(COUNTIFS(Tableau1[CP],Feuil2!$A7,Tableau1[M3],FALSE)=0,"",COUNTIFS(Tableau1[CP],Feuil2!$A7,Tableau1[M3],FALSE)) | E7: =IF(COUNTIFS(Tableau1[CP],Feuil2!$A7,Tableau1[M6],FALSE)=0,"",COUNTIFS(Tableau1[CP],Feuil2!$A7,Tableau1[M6],FALSE)) | F7: =IF(COUNTIFS(Tableau1[CP],Feuil2!$A7,Tableau1[J2],FALSE)=0,"",COUNTIFS(Tableau1[CP],Feuil2!$A7,Tableau1[J2],FALSE)) | G7: =IF(COUNTIFS(Tableau1[CP],Feuil2!$A7,Tableau1[V2],FALSE)=0,"",COUNTIFS(Tableau1[CP],Feuil2!$A7,Tableau1[V2],FALSE)) | H7: =IF(COUNTIFS(Tableau1[CP],Feuil2!$A7,Tableau1[S2],FALSE)=0,"",COUNTIFS(Tableau1[CP],Feuil2!$A7,Tableau1[S2],FALSE)) | I7: =IF(COUNTIFS(Tableau1[CP],Feuil2!$A7,Tableau1[D2],FALSE)=0,"",COUNTIFS(Tableau1[CP],Feuil2!$A7,Tableau1[D2],FALSE))
A8: 8 | B8: =IF(SUM($C8:$I8)=0,"",SUM($C8:$I8)) -> 4 | C8: =IF(COUNTIFS(Tableau1[CP],Feuil2!$A8,Tableau1[L2],FALSE)=0,"",COUNTIFS(Tableau1[CP],Feuil2!$A8,Tableau1[L2],FALSE)) | D8: =IF(COUNTIFS(Tableau1[CP],Feuil2!$A8,Tableau1[M3],FALSE)=0,"",COUNTIFS(Tableau1[CP],Feuil2!$A8,Tableau1[M3],FALSE)) -> 2 | E8: =IF(COUNTIFS(Tableau1[CP],Feuil2!$A8,Tableau1[M6],FALSE)=0,"",COUNTIFS(Tableau1[CP],Feuil2!$A8,Tableau1[M6],FALSE)) | F8: =IF(COUNTIFS(Tableau1[CP],Feuil2!$A8,Tableau1[J2],FALSE)=0,"",COUNTIFS(Tableau1[CP],Feuil2!$A8,Tableau1[J2],FALSE)) -> 2 | G8: =IF(COUNTIFS(Tableau1[CP],Feuil2!$A8,Tableau1[V2],FALSE)=0,"",COUNTIFS(Tableau1[CP],Feuil2!$A8,Tableau1[V2],FALSE)) | H8: =IF(COUNTIFS(Tableau1[CP],Feuil2!$A8,Tableau1[S2],FALSE)=0,"",COUNTIFS(Tableau1[CP],Feuil2!$A8,Tableau1[S2],FALSE)) | I8: =IF(COUNTIFS(Tableau1[CP],Feuil2!$A8,Tableau1[D2],FALSE)=0,"",COUNTIFS(Tableau1[CP],Feuil2!$A8,Tableau1[D2],FALSE))
A9: 9 | B9: =IF(SUM($C9:$I9)=0,"",SUM($C9:$I9)) | C9: =IF(COUNTIFS(Tableau1[CP],Feuil2!$A9,Tableau1[L2],FALSE)=0,"",COUNTIFS(Tableau1[CP],Feuil2!$A9,Tableau1[L2],FALSE)) | D9: =IF(COUNTIFS(Tableau1[CP],Feuil2!$A9,Tableau1[M3],FALSE)=0,"",COUNTIFS(Tableau1[CP],Feuil2!$A9,Tableau1[M3],FALSE)) | E9: =IF(COUNTIFS(Tableau1[CP],Feuil2!$A9,Tableau1[M6],FALSE)=0,"",COUNTIFS(Tableau1[CP],Feuil2!$A9,Tableau1[M6],FALSE)) | F9: =IF(COUNTIFS(Tableau1[CP],Feuil2!$A9,Tableau1[J2],FALSE)=0,"",COUNTIFS(Tableau1[CP],Feuil2!$A9,Tableau1[J2],FALSE)) | G9: =IF(COUNTIFS(Tableau1[CP],Feuil2!$A9,Tableau1[V2],FALSE)=0,"",COUNTIFS(Tableau1[CP],Feuil2!$A9,Tableau1[V2],FALSE)) | H9: =IF(COUNTIFS(Tableau1[CP],Feuil2!$A9,Tableau1[S2],FALSE)=0,"",COUNTIFS(Tableau1[CP],Feuil2!$A9,Tableau1[S2],FALSE)) | I9: =IF(COUNTIFS(Tableau1[CP],Feuil2!$A9,Tableau1[D2],FALSE)=0,"",COUNTIFS(Tableau1[CP],Feuil2!$A9,Tableau1[D2],FALSE))
A10: 10 | B10: =IF(SUM($C10:$I10)=0,"",SUM($C10:$I10)) | C10: =IF(COUNTIFS(Tableau1[CP],Feuil2!$A10,Tableau1[L2],FALSE)=0,"",COUNTIFS(Tableau1[CP],Feuil2!$A10,Tableau1[L2],FALSE)) | D10: =IF(COUNTIFS(Tableau1[CP],Feuil2!$A10,Tableau1[M3],FALSE)=0,"",COUNTIFS(Tableau1[CP],Feuil2!$A10,Tableau1[M3],FALSE)) | E10: =IF(COUNTIFS(Tableau1[CP],Feuil2!$A10,Tableau1[M6],FALSE)=0,"",COUNTIFS(Tableau1[CP],Feuil2!$A10,Tableau1[M6],FALSE)) | F10: =IF(COUNTIFS(Tableau1[CP],Feuil2!$A10,Tableau1[J2],FALSE)=0,"",COUNTIFS(Tableau1[CP],Feuil2!$A10,Tableau1[J2],FALSE)) | G10: =IF(COUNTIFS(Tableau1[CP],Feuil2!$A10,Tableau1[V2],FALSE)=0,"",COUNTIFS(Tableau1[CP],Feuil2!$A10,Tableau1[V2],FALSE)) | H10: =IF(COUNTIFS(Tableau1[CP],Feuil2!$A10,Tableau1[S2],FALSE)=0,"",COUNTIFS(Tableau1[CP],Feuil2!$A10,Tableau1[S2],FALSE)) | I10: =IF(COUNTIFS(Tableau1[CP],Feuil2!$A10,Tableau1[D2],FALSE)=0,"",COUNTIFS(Tableau1[CP],Feuil2!$A10,Tableau1[D2],FALSE))
A11: 11 | B11: =IF(SUM($C11:$I11)=0,"",SUM($C11:$I11)) | C11: =IF(COUNTIFS(Tableau1[CP],Feuil2!$A11,Tableau1[L2],FALSE)=0,"",COUNTIFS(Tableau1[CP],Feuil2!$A11,Tableau1[L2],FALSE)) | D11: =IF(COUNTIFS(Tableau1[CP],Feuil2!$A11,Tableau1[M3],FALSE)=0,"",COUNTIFS(Tableau1[CP],Feuil2!$A11,Tableau1[M3],FALSE)) | E11: =IF(COUNTIFS(Tableau1[CP],Feuil2!$A11,Tableau1[M6],FALSE)=0,"",COUNTIFS(Tableau1[CP],Feuil2!$A11,Tableau1[M6],FALSE)) | F11: =IF(COUNTIFS(Tableau1[CP],Feuil2!$A11,Tableau1[J2],FALSE)=0,"",COUNTIFS(Tableau1[CP],Feuil2!$A11,Tableau1[J2],FALSE)) | G11: =IF(COUNTIFS(Tableau1[CP],Feuil2!$A11,Tableau1[V2],FALSE)=0,"",COUNTIFS(Tableau1[CP],Feuil2!$A11,Tableau1[V2],FALSE)) | H11: =IF(COUNTIFS(Tableau1[CP],Feuil2!$A11,Tableau1[S2],FALSE)=0,"",COUNTIFS(Tableau1[CP],Feuil2!$A11,Tableau1[S2],FALSE)) | I11: =IF(COUNTIFS(Tableau1[CP],Feuil2!$A11,Tableau1[D2],FALSE)=0,"",COUNTIFS(Tableau1[CP],Feuil2!$A11,Tableau1[D2],FALSE))
A12: 12 | B12: =IF(SUM($C12:$I12)=0,"",SUM($C12:$I12)) | C12: =IF(COUNTIFS(Tableau1[CP],Feuil2!$A12,Tableau1[L2],FALSE)=0,"",COUNTIFS(Tableau1[CP],Feuil2!$A12,Tableau1[L2],FALSE)) | D12: =IF(COUNTIFS(Tableau1[CP],Feuil2!$A12,Tableau1[M3],FALSE)=0,"",COUNTIFS(Tableau1[CP],Feuil2!$A12,Tableau1[M3],FALSE)) | E12: =IF(COUNTIFS(Tableau1[CP],Feuil2!$A12,Tableau1[M6],FALSE)=0,"",COUNTIFS(Tableau1[CP],Feuil2!$A12,Tableau1[M6],FALSE)) | F12: =IF(COUNTIFS(Tableau1[CP],Feuil2!$A12,Tableau1[J2],FALSE)=0,"",COUNTIFS(Tableau1[CP],Feuil2!$A12,Tableau1[J2],FALSE)) | G12: =IF(COUNTIFS(Tableau1[CP],Feuil2!$A12,Tableau1[V2],FALSE)=0,"",COUNTIFS(Tableau1[CP],Feuil2!$A12,Tableau1[V2],FALSE)) | H12: =IF(COUNTIFS(Tableau1[CP],Feuil2!$A12,Tableau1[S2],FALSE)=0,"",COUNTIFS(Tableau1[CP],Feuil2!$A12,Tableau1[S2],FALSE)) | I12: =IF(COUNTIFS(Tableau1[CP],Feuil2!$A12,Tableau1[D2],FALSE)=0,"",COUNTIFS(Tableau1[CP],Feuil2!$A12,Tableau1[D2],FALSE))
A13: 13 | B13: =IF(SUM($C13:$I13)=0,"",SUM($C13:$I13)) | C13: =IF(COUNTIFS(Tableau1[CP],Feuil2!$A13,Tableau1[L2],FALSE)=0,"",COUNTIFS(Tableau1[CP],Feuil2!$A13,Tableau1[L2],FALSE)) | D13: =IF(COUNTIFS(Tableau1[CP],Feuil2!$A13,Tableau1[M3],FALSE)=0,"",COUNTIFS(Tableau1[CP],Feuil2!$A13,Tableau1[M3],FALSE)) | E13: =IF(COUNTIFS(Tableau1[CP],Feuil2!$A13,Tableau1[M6],FALSE)=0,"",COUNTIFS(Tableau1[CP],Feuil2!$A13,Tableau1[M6],FALSE)) | F13: =IF(COUNTIFS(Tableau1[CP],Feuil2!$A13,Tableau1[J2],FALSE)=0,"",COUNTIFS(Tableau1[CP],Feuil2!$A13,Tableau1[J2],FALSE)) | G13: =IF(COUNTIFS(Tableau1[CP],Feuil2!$A13,Tableau1[V2],FALSE)=0,"",COUNTIFS(Tableau1[CP],Feuil2!$A13,Tableau1[V2],FALSE)) | H13: =IF(COUNTIFS(Tableau1[CP],Feuil2!$A13,Tableau1[S2],FALSE)=0,"",COUNTIFS(Tableau1[CP],Feuil2!$A13,Tableau1[S2],FALSE)) | I13: =IF(COUNTIFS(Tableau1[CP],Feuil2!$A13,Tableau1[D2],FALSE)=0,"",COUNTIFS(Tableau1[CP],Feuil2!$A13,Tableau1[D2],FALSE))
... A26: 59 | B26: =IF(SUM($C26:$I26)=0,"",SUM($C26:$I26)) -> 9 | C26: =IF(COUNTIFS(Tableau1[CP],Feuil2!$A26,Tableau1[L2],FALSE)=0,"",COUNTIFS(Tableau1[CP],Feuil2!$A26,Tableau1[L2],FALSE)) -> 1 | D26: =IF(COUNTIFS(Tableau1[CP],Feuil2!$A26,Tableau1[M3],FALSE)=0,"",COUNTIFS(Tableau1[CP],Feuil2!$A26,Tableau1[M3],FALSE)) -> 1 | E26: =IF(COUNTIFS(Tableau1[CP],Feuil2!$A26,Tableau1[M6],FALSE)=0,"",COUNTIFS(Tableau1[CP],Feuil2!$A26,Tableau1[M6],FALSE)) | F26: =IF(COUNTIFS(Tableau1[CP],Feuil2!$A26,Tableau1[J2],FALSE)=0,"",COUNTIFS(Tableau1[CP],Feuil2!$A26,Tableau1[J2],FALSE)) -> 2 | G26: =IF(COUNTIFS(Tableau1[CP],Feuil2!$A26,Tableau1[V2],FALSE)=0,"",COUNTIFS(Tableau1[CP],Feuil2!$A26,Tableau1[V2],FALSE)) -> 1 | H26: =IF(COUNTIFS(Tableau1[CP],Feuil2!$A26,Tableau1[S2],FALSE)=0,"",COUNTIFS(Tableau1[CP],Feuil2!$A26,Tableau1[S2],FALSE)) -> 2 | I26: =IF(COUNTIFS(Tableau1[CP],Feuil2!$A26,Tableau1[D2],FALSE)=0,"",COUNTIFS(Tableau1[CP],Feuil2!$A26,Tableau1[D2],FALSE)) -> 2
