Workbook

Sheet Données 
B2: TYPE A
D3: 7 jrs
C4: 762 | D4: 1528.3411
C5: 763 | D5: 1918.1636
C6: 769 | D6: 950.42045
C7: 912 | D7: 2391.2
C8: 918 | D8: 1380.9231
C9: 988 | D9: 1188.878
C10: 9LP1 | D10: 2044.8398
C11: 9MS1 | D11: 180
C12: 9MTL1 | D12: 166.11436
C13: 9P2 | D13: 3133.3702
C14: 370 | D14: 1644.2848
C15: 371 | D15: 1573.2396
... C34: T45 | D34: 1590.336
B36: TYPE B
D37: 7 jrs
C38: 762 | D38: 501.75853
C39: 763 | D39: 552.67143
C40: 769 | D40: 250.22289
C41: 912 | D41: 461.02828
C42: 918 | D42: 280.5
C43: 988 | D43: 318.58824
C44: 9LP1 | D44: 477.0079
C45: 9MS1 | D45: 180.53731
C46: 9MTL1 | D46: 107.97191
C47: 9P2 | D47: 771.98977
C48: P15
C49: 370 | D49: 496.53805
C50: 371 | D50: 464.16446
C51: 377 | D51: 477.2093
C52: 791 | D52: 454.10623
C53: 793 | D53: 450.32091
C54: 794 | D54: 372.59745
C55: 795 | D55: 243.13735
C56: P16
C57: P19
C58: 30J | D58: 284.63813
C59: 30K | D59: 356.16706
C60: 30T | D60: 415.13514
...

Sheet Resultat
A3: codes | B3: Type A | C3: Type B | D3: Type C | E3: Type D | F3: Type E | G3: Type F | H3: Type G
A4: 762 | B4: =IFERROR(INDEX('Données '!$C$4:$D$34,MATCH(Resultat!$A4,'Données '!$C$4:$C$34,0),2),"") -> 1528.3411 | C4: =IFERROR(INDEX('Données '!$C$38:$D$71,MATCH(Resultat!$A4,'Données '!$C$38:$C$71,0),2),"") -> 501.75853 | D4: =IFERROR(INDEX('Données '!$C$75:$D$105,MATCH(Resultat!$A4,'Données '!$C$75:$C$105,0),2),"") -> 114.702 | E4: =IFERROR(INDEX('Données '!$C$109:$D$142,MATCH(Resultat!$A4,'Données '!$C$109:$C$142,0),2),"") -> 3.2680435 | F4: =IFERROR(INDEX('Données '!$C$146:$D$176,MATCH(Resultat!$A4,'Données '!$C$146:$C$176,0),2),"") -> 0 | G4: =IFERROR(INDEX('Données '!$C$180:$D$210,MATCH(Resultat!$A4,'Données '!$C$180:$C$210,0),2),"") -> 75.05 | H4: =IFERROR(INDEX('Données '!$C$214:$D$244,MATCH(Resultat!$A4,'Données '!$C$214:$C$244,0),2),"") -> 0.68887603
A5: 763 | B5: =IFERROR(INDEX('Données '!$C$4:$D$34,MATCH(Resultat!$A5,'Données '!$C$4:$C$34,0),2),"") -> 1918.1636 | C5: =IFERROR(INDEX('Données '!$C$38:$D$71,MATCH(Resultat!$A5,'Données '!$C$38:$C$71,0),2),"") -> 552.67143 | D5: =IFERROR(INDEX('Données '!$C$75:$D$105,MATCH(Resultat!$A5,'Données '!$C$75:$C$105,0),2),"") -> 60.582 | E5: =IFERROR(INDEX('Données '!$C$109:$D$142,MATCH(Resultat!$A5,'Données '!$C$109:$C$142,0),2),"") -> 3.5683377 | F5: =IFERROR(INDEX('Données '!$C$146:$D$176,MATCH(Resultat!$A5,'Données '!$C$146:$C$176,0),2),"") -> 0 | G5: =IFERROR(INDEX('Données '!$C$180:$D$210,MATCH(Resultat!$A5,'Données '!$C$180:$C$210,0),2),"") -> 31.583333 | H5: =IFERROR(INDEX('Données '!$C$214:$D$244,MATCH(Resultat!$A5,'Données '!$C$214:$C$244,0),2),"") -> 0.84129982
A6: 769 | B6: =IFERROR(INDEX('Données '!$C$4:$D$34,MATCH(Resultat!$A6,'Données '!$C$4:$C$34,0),2),"") -> 950.42045 | C6: =IFERROR(INDEX('Données '!$C$38:$D$71,MATCH(Resultat!$A6,'Données '!$C$38:$C$71,0),2),"") -> 250.22289 | D6: =IFERROR(INDEX('Données '!$C$75:$D$105,MATCH(Resultat!$A6,'Données '!$C$75:$C$105,0),2),"") -> 55.758 | E6: =IFERROR(INDEX('Données '!$C$109:$D$142,MATCH(Resultat!$A6,'Données '!$C$109:$C$142,0),2),"") -> 3.9431818 | F6: =IFERROR(INDEX('Données '!$C$146:$D$176,MATCH(Resultat!$A6,'Données '!$C$146:$C$176,0),2),"") -> 0 | G6: =IFERROR(INDEX('Données '!$C$180:$D$210,MATCH(Resultat!$A6,'Données '!$C$180:$C$210,0),2),"") -> 58.666667 | H6: =IFERROR(INDEX('Données '!$C$214:$D$244,MATCH(Resultat!$A6,'Données '!$C$214:$C$244,0),2),"") -> 0.80826705
A7: 912 | B7: =IFERROR(INDEX('Données '!$C$4:$D$34,MATCH(Resultat!$A7,'Données '!$C$4:$C$34,0),2),"") -> 2391.2 | C7: =IFERROR(INDEX('Données '!$C$38:$D$71,MATCH(Resultat!$A7,'Données '!$C$38:$C$71,0),2),"") -> 461.02828 | D7: =IFERROR(INDEX('Données '!$C$75:$D$105,MATCH(Resultat!$A7,'Données '!$C$75:$C$105,0),2),"") -> 44.835 | E7: =IFERROR(INDEX('Données '!$C$109:$D$142,MATCH(Resultat!$A7,'Données '!$C$109:$C$142,0),2),"") -> 5.4444444 | F7: =IFERROR(INDEX('Données '!$C$146:$D$176,MATCH(Resultat!$A7,'Données '!$C$146:$C$176,0),2),"") -> 17712 | G7: =IFERROR(INDEX('Données '!$C$180:$D$210,MATCH(Resultat!$A7,'Données '!$C$180:$C$210,0),2),"") -> 18.75 | H7: =IFERROR(INDEX('Données '!$C$214:$D$244,MATCH(Resultat!$A7,'Données '!$C$214:$C$244,0),2),"") -> 0.66422222
A8: 918 | B8: =IFERROR(INDEX('Données '!$C$4:$D$34,MATCH(Resultat!$A8,'Données '!$C$4:$C$34,0),2),"") -> 1380.9231 | C8: =IFERROR(INDEX('Données '!$C$38:$D$71,MATCH(Resultat!$A8,'Données '!$C$38:$C$71,0),2),"") -> 280.5 | D8: =IFERROR(INDEX('Données '!$C$75:$D$105,MATCH(Resultat!$A8,'Données '!$C$75:$C$105,0),2),"") -> 8.976 | E8: =IFERROR(INDEX('Données '!$C$109:$D$142,MATCH(Resultat!$A8,'Données '!$C$109:$C$142,0),2),"") -> 5.1923077 | F8: =IFERROR(INDEX('Données '!$C$146:$D$176,MATCH(Resultat!$A8,'Données '!$C$146:$C$176,0),2),"") -> 0 | G8: =IFERROR(INDEX('Données '!$C$180:$D$210,MATCH(Resultat!$A8,'Données '!$C$180:$C$210,0),2),"") -> 6.5 | H8: =IFERROR(INDEX('Données '!$C$214:$D$244,MATCH(Resultat!$A8,'Données '!$C$214:$C$244,0),2),"") -> 0.89713609
A9: 988 | B9: =IFERROR(INDEX('Données '!$C$4:$D$34,MATCH(Resultat!$A9,'Données '!$C$4:$C$34,0),2),"") -> 1188.878 | C9: =IFERROR(INDEX('Données '!$C$38:$D$71,MATCH(Resultat!$A9,'Données '!$C$38:$C$71,0),2),"") -> 318.58824 | D9: =IFERROR(INDEX('Données '!$C$75:$D$105,MATCH(Resultat!$A9,'Données '!$C$75:$C$105,0),2),"") -> 8.124 | E9: =IFERROR(INDEX('Données '!$C$109:$D$142,MATCH(Resultat!$A9,'Données '!$C$109:$C$142,0),2),"") -> 3.9146341 | F9: =IFERROR(INDEX('Données '!$C$146:$D$176,MATCH(Resultat!$A9,'Données '!$C$146:$C$176,0),2),"") -> 0 | G9: =IFERROR(INDEX('Données '!$C$180:$D$210,MATCH(Resultat!$A9,'Données '!$C$180:$C$210,0),2),"") -> 6.8333333 | H9: =IFERROR(INDEX('Données '!$C$214:$D$244,MATCH(Resultat!$A9,'Données '!$C$214:$C$244,0),2),"") -> 0.82331707
A10: 9LP1 | B10: =IFERROR(INDEX('Données '!$C$4:$D$34,MATCH(Resultat!$A10,'Données '!$C$4:$C$34,0),2),"") -> 2044.8398 | C10: =IFERROR(INDEX('Données '!$C$38:$D$71,MATCH(Resultat!$A10,'Données '!$C$38:$C$71,0),2),"") -> 477.0079 | D10: =IFERROR(INDEX('Données '!$C$75:$D$105,MATCH(Resultat!$A10,'Données '!$C$75:$C$105,0),2),"") -> 205.336 | E10: =IFERROR(INDEX('Données '!$C$109:$D$142,MATCH(Resultat!$A10,'Données '!$C$109:$C$142,0),2),"") -> 6.5485477 | F10: =IFERROR(INDEX('Données '!$C$146:$D$176,MATCH(Resultat!$A10,'Données '!$C$146:$C$176,0),2),"") -> 0 | G10: =IFERROR(INDEX('Données '!$C$180:$D$210,MATCH(Resultat!$A10,'Données '!$C$180:$C$210,0),2),"") -> 100.41667 | H10: =IFERROR(INDEX('Données '!$C$214:$D$244,MATCH(Resultat!$A10,'Données '!$C$214:$C$244,0),2),"") -> 0.8489674
A11: 9MS1 | B11: =IFERROR(INDEX('Données '!$C$4:$D$34,MATCH(Resultat!$A11,'Données '!$C$4:$C$34,0),2),"") -> 180 | C11: =IFERROR(INDEX('Données '!$C$38:$D$71,MATCH(Resultat!$A11,'Données '!$C$38:$C$71,0),2),"") -> 180.53731 | D11: =IFERROR(INDEX('Données '!$C$75:$D$105,MATCH(Resultat!$A11,'Données '!$C$75:$C$105,0),2),"") -> 2.016 | E11: =IFERROR(INDEX('Données '!$C$109:$D$142,MATCH(Resultat!$A11,'Données '!$C$109:$C$142,0),2),"") -> 0.99702381 | F11: =IFERROR(INDEX('Données '!$C$146:$D$176,MATCH(Resultat!$A11,'Données '!$C$146:$C$176,0),2),"") -> 0 | G11: =IFERROR(INDEX('Données '!$C$180:$D$210,MATCH(Resultat!$A11,'Données '!$C$180:$C$210,0),2),"") -> 11.2 | H11: =IFERROR(INDEX('Données '!$C$214:$D$244,MATCH(Resultat!$A11,'Données '!$C$214:$C$244,0),2),"") -> 1
A12: 9MTL1 | B12: =IFERROR(INDEX('Données '!$C$4:$D$34,MATCH(Resultat!$A12,'Données '!$C$4:$C$34,0),2),"") -> 166.11436 | C12: =IFERROR(INDEX('Données '!$C$38:$D$71,MATCH(Resultat!$A12,'Données '!$C$38:$C$71,0),2),"") -> 107.97191 | D12: =IFERROR(INDEX('Données '!$C$75:$D$105,MATCH(Resultat!$A12,'Données '!$C$75:$C$105,0),2),"") -> 6.149 | E12: =IFERROR(INDEX('Données '!$C$109:$D$142,MATCH(Resultat!$A12,'Données '!$C$109:$C$142,0),2),"") -> 1.5384962 | F12: =IFERROR(INDEX('Données '!$C$146:$D$176,MATCH(Resultat!$A12,'Données '!$C$146:$C$176,0),2),"") -> 0 | G12: =IFERROR(INDEX('Données '!$C$180:$D$210,MATCH(Resultat!$A12,'Données '!$C$180:$C$210,0),2),"") -> 37.016667 | H12: =IFERROR(INDEX('Données '!$C$214:$D$244,MATCH(Resultat!$A12,'Données '!$C$214:$C$244,0),2),"") -> 0.92285757
A13: 9P2 | B13: =IFERROR(INDEX('Données '!$C$4:$D$34,MATCH(Resultat!$A13,'Données '!$C$4:$C$34,0),2),"") -> 3133.3702 | C13: =IFERROR(INDEX('Données '!$C$38:$D$71,MATCH(Resultat!$A13,'Données '!$C$38:$C$71,0),2),"") -> 771.98977 | D13: =IFERROR(INDEX('Données '!$C$75:$D$105,MATCH(Resultat!$A13,'Données '!$C$75:$C$105,0),2),"") -> 301.848 | E13: =IFERROR(INDEX('Données '!$C$109:$D$142,MATCH(Resultat!$A13,'Données '!$C$109:$C$142,0),2),"") -> 4.0743945 | F13: =IFERROR(INDEX('Données '!$C$146:$D$176,MATCH(Resultat!$A13,'Données '!$C$146:$C$176,0),2),"") -> 0 | G13: =IFERROR(INDEX('Données '!$C$180:$D$210,MATCH(Resultat!$A13,'Données '!$C$180:$C$210,0),2),"") -> 96.333333 | H13: =IFERROR(INDEX('Données '!$C$214:$D$244,MATCH(Resultat!$A13,'Données '!$C$214:$C$244,0),2),"") -> 0.92235184
A14: P15 | B14: =IFERROR(INDEX('Données '!$C$4:$D$34,MATCH(Resultat!$A14,'Données '!$C$4:$C$34,0),2),"") | C14: =IFERROR(INDEX('Données '!$C$38:$D$71,MATCH(Resultat!$A14,'Données '!$C$38:$C$71,0),2),"") -> 0 | D14: =IFERROR(INDEX('Données '!$C$75:$D$105,MATCH(Resultat!$A14,'Données '!$C$75:$C$105,0),2),"") | E14: =IFERROR(INDEX('Données '!$C$109:$D$142,MATCH(Resultat!$A14,'Données '!$C$109:$C$142,0),2),"") -> 0 | F14: =IFERROR(INDEX('Données '!$C$146:$D$176,MATCH(Resultat!$A14,'Données '!$C$146:$C$176,0),2),"") | G14: =IFERROR(INDEX('Données '!$C$180:$D$210,MATCH(Resultat!$A14,'Données '!$C$180:$C$210,0),2),"") | H14: =IFERROR(INDEX('Données '!$C$214:$D$244,MATCH(Resultat!$A14,'Données '!$C$214:$C$244,0),2),"")
A15: 370 | B15: =IFERROR(INDEX('Données '!$C$4:$D$34,MATCH(Resultat!$A15,'Données '!$C$4:$C$34,0),2),"") -> 1644.2848 | C15: =IFERROR(INDEX('Données '!$C$38:$D$71,MATCH(Resultat!$A15,'Données '!$C$38:$C$71,0),2),"") -> 496.53805 | D15: =IFERROR(INDEX('Données '!$C$75:$D$105,MATCH(Resultat!$A15,'Données '!$C$75:$C$105,0),2),"") -> 177.802 | E15: =IFERROR(INDEX('Données '!$C$109:$D$142,MATCH(Resultat!$A15,'Données '!$C$109:$C$142,0),2),"") -> 3.4061344 | F15: =IFERROR(INDEX('Données '!$C$146:$D$176,MATCH(Resultat!$A15,'Données '!$C$146:$C$176,0),2),"") -> 2880 | G15: =IFERROR(INDEX('Données '!$C$180:$D$210,MATCH(Resultat!$A15,'Données '!$C$180:$C$210,0),2),"") -> 108.13333 | H15: =IFERROR(INDEX('Données '!$C$214:$D$244,MATCH(Resultat!$A15,'Données '!$C$214:$C$244,0),2),"") -> 0.83044689
... A37: T45 | B37: =IFERROR(INDEX('Données '!$C$4:$D$34,MATCH(Resultat!$A37,'Données '!$C$4:$C$34,0),2),"") -> 1590.336 | C37: =IFERROR(INDEX('Données '!$C$38:$D$71,MATCH(Resultat!$A37,'Données '!$C$38:$C$71,0),2),"") -> 331.50417 | D37: =IFERROR(INDEX('Données '!$C$75:$D$105,MATCH(Resultat!$A37,'Données '!$C$75:$C$105,0),2),"") -> 0 | E37: =IFERROR(INDEX('Données '!$C$109:$D$142,MATCH(Resultat!$A37,'Données '!$C$109:$C$142,0),2),"") -> 5.1114667 | F37: =IFERROR(INDEX('Données '!$C$146:$D$176,MATCH(Resultat!$A37,'Données '!$C$146:$C$176,0),2),"") -> 2040 | G37: =IFERROR(INDEX('Données '!$C$180:$D$210,MATCH(Resultat!$A37,'Données '!$C$180:$C$210,0),2),"") -> 31.25 | H37: =IFERROR(INDEX('Données '!$C$214:$D$244,MATCH(Resultat!$A37,'Données '!$C$214:$C$244,0),2),"") -> 0
