Workbook

Sheet Feuil1
B1: Date | C1: Colonne1 | D1: Status | E1: Dé | F1: Gé | G1: J | H1: Ié | I1: R | J1: m01 | K1: m02 | L1: 1
B2: 43103 | C2: =CHOOSE(MONTH($B2),"janvier","février","mars","avril","mai","juin","juillet","août","septembre","octobre","novembre","décembre") -> janvier | D2: ROUGE | E2: 1 | F2: 1 | G2: 1 | I2: 1 | J2: 1 | K2: 1
B3: 43104 | C3: =CHOOSE(MONTH($B3),"janvier","février","mars","avril","mai","juin","juillet","août","septembre","octobre","novembre","décembre") -> janvier | D3: ROUGE | E3: 1 | F3: 1 | L3: 1
B4: 43134 | C4: =CHOOSE(MONTH($B4),"janvier","février","mars","avril","mai","juin","juillet","août","septembre","octobre","novembre","décembre") -> février | D4: ORANGE | I4: 1
B5: 43135 | C5: =CHOOSE(MONTH($B5),"janvier","février","mars","avril","mai","juin","juillet","août","septembre","octobre","novembre","décembre") -> février | D5: ROUGE | E5: 1 | H5: 1 | L5: 1
B6: 43163 | C6: =CHOOSE(MONTH($B6),"janvier","février","mars","avril","mai","juin","juillet","août","septembre","octobre","novembre","décembre") -> mars | D6: ROUGE | G6: 1 | K6: 1 | L6: 1
B7: 43164 | C7: =CHOOSE(MONTH($B7),"janvier","février","mars","avril","mai","juin","juillet","août","septembre","octobre","novembre","décembre") -> mars | D7: ROUGE | E7: 1 | I7: 1
B8: 43200 | C8: =CHOOSE(MONTH($B8),"janvier","février","mars","avril","mai","juin","juillet","août","septembre","octobre","novembre","décembre") -> avril | D8: VERT | H8: 1 | J8: 1
B9: 43201 | C9: =CHOOSE(MONTH($B9),"janvier","février","mars","avril","mai","juin","juillet","août","septembre","octobre","novembre","décembre") -> avril | D9: ROUGE | E9: 1 | F9: 1 | L9: 1
B10: 43232 | C10: =CHOOSE(MONTH($B10),"janvier","février","mars","avril","mai","juin","juillet","août","septembre","octobre","novembre","décembre") -> mai | D10: ORANGE | I10: 1 | K10: 1
B11: 43233 | C11: =CHOOSE(MONTH($B11),"janvier","février","mars","avril","mai","juin","juillet","août","septembre","octobre","novembre","décembre") -> mai | D11: ROUGE | E11: 1 | J11: 1 | L11: 1
B12: 43265 | C12: =CHOOSE(MONTH($B12),"janvier","février","mars","avril","mai","juin","juillet","août","septembre","octobre","novembre","décembre") -> juin | D12: avant 2016 | G12: 1 | H12: 1
B13: 43266 | C13: =CHOOSE(MONTH($B13),"janvier","février","mars","avril","mai","juin","juillet","août","septembre","octobre","novembre","décembre") -> juin | D13: avant 2016 | I13: 1 | K13: 1 | L13: 1
B14: 43297 | C14: =CHOOSE(MONTH($B14),"janvier","février","mars","avril","mai","juin","juillet","août","septembre","octobre","novembre","décembre") -> juillet | D14: ORANGE | F14: 1
B15: 43298 | C15: =CHOOSE(MONTH($B15),"janvier","février","mars","avril","mai","juin","juillet","août","septembre","octobre","novembre","décembre") -> juillet | D15: ROUGE | E15: 1 | G15: 1 | H15: 1 | L15: 1
B16: 43330 | C16: =CHOOSE(MONTH($B16),"janvier","février","mars","avril","mai","juin","juillet","août","septembre","octobre","novembre","décembre") -> août | D16: ORANGE | J16: 1 | K16: 1
B17: 43331 | C17: =CHOOSE(MONTH($B17),"janvier","février","mars","avril","mai","juin","juillet","août","septembre","octobre","novembre","décembre") -> août | D17: ROUGE | E17: 1 | F17: 1 | I17: 1
B18: 43363 | C18: =CHOOSE(MONTH($B18),"janvier","février","mars","avril","mai","juin","juillet","août","septembre","octobre","novembre","décembre") -> septembre | D18: ORANGE | G18: 1 | H18: 1 | J18: 1
B19: 43364 | C19: =CHOOSE(MONTH($B19),"janvier","février","mars","avril","mai","juin","juillet","août","septembre","octobre","novembre","décembre") -> septembre | D19: ROUGE | E19: 1
B20: 43395 | C20: =CHOOSE(MONTH($B20),"janvier","février","mars","avril","mai","juin","juillet","août","septembre","octobre","novembre","décembre") -> octobre | D20: ROUGE | E20: 1 | I20: 1 | K20: 1 | L20: 1
B21: 43396 | C21: =CHOOSE(MONTH($B21),"janvier","février","mars","avril","mai","juin","juillet","août","septembre","octobre","novembre","décembre") -> octobre | D21: ORANGE | F21: 1
B22: 43428 | C22: =CHOOSE(MONTH($B22),"janvier","février","mars","avril","mai","juin","juillet","août","septembre","octobre","novembre","décembre") -> novembre | D22: avant 2016 | H22: 1 | J22: 1
B23: 43429 | C23: =CHOOSE(MONTH($B23),"janvier","février","mars","avril","mai","juin","juillet","août","septembre","octobre","novembre","décembre") -> novembre | D23: VERT | E23: 1 | F23: 1 | K23: 1
B24: 43458 | C24: =CHOOSE(MONTH($B24),"janvier","février","mars","avril","mai","juin","juillet","août","septembre","octobre","novembre","décembre") -> décembre | D24: VERT | L24: 1
B25: 43459 | C25: =CHOOSE(MONTH($B25),"janvier","février","mars","avril","mai","juin","juillet","août","septembre","octobre","novembre","décembre") -> décembre | D25: ORANGE | E25: 1 | H25: 1 | J25: 1
B26: Total | E26: =SUBTOTAL(109,Tableau1[Dé]) -> 12 | F26: =SUBTOTAL(109,Tableau1[Gé]) -> 7 | G26: =SUBTOTAL(109,Tableau1[J]) -> 5 | H26: =SUBTOTAL(109,Tableau1[[ Ié]]) -> 7 | I26: =SUBTOTAL(109,Tableau1[R]) -> 7 | J26: =SUBTOTAL(109,Tableau1[m01]) -> 7 | K26: =SUBTOTAL(109,Tableau1[m02]) -> 7 | L26: =SUBTOTAL(109,Tableau1[1]) -> 9

Sheet Feuil2
C4: Janvier | D4: Février | E4: Mars | F4: Avril | G4: Mai | H4: Juin | I4: Juillet | J4: Août | K4: Septembre | L4: Octobre | M4: Novembre | N4: Décembre | O4: Total par ligne | P4: Total %
B5: Dé | C5: =SUMIFS(Feuil1!$E$2:$E$25,Feuil1!$C$2:$C$25,Feuil2!C$4) -> 2 | D5: =SUMIFS(Feuil1!$E$2:$E$25,Feuil1!$C$2:$C$25,Feuil2!D$4) -> 1 | E5: =SUMIFS(Feuil1!$E$2:$E$25,Feuil1!$C$2:$C$25,Feuil2!E$4) -> 1 | F5: =SUMIFS(Feuil1!$E$2:$E$25,Feuil1!$C$2:$C$25,Feuil2!F$4) -> 1 | G5: =SUMIFS(Feuil1!$E$2:$E$25,Feuil1!$C$2:$C$25,Feuil2!G$4) -> 1 | H5: =SUMIFS(Feuil1!$E$2:$E$25,Feuil1!$C$2:$C$25,Feuil2!H$4) -> 0 | I5: =SUMIFS(Feuil1!$E$2:$E$25,Feuil1!$C$2:$C$25,Feuil2!I$4) -> 1 | J5: =SUMIFS(Feuil1!$E$2:$E$25,Feuil1!$C$2:$C$25,Feuil2!J$4) -> 1 | ... N5: =SUMIFS(Feuil1!$E$2:$E$25,Feuil1!$C$2:$C$25,Feuil2!N$4) -> 1 | O5: =SUM(C5:N5) -> 12 | P5: =$O5/$O$13 -> 0.19672131
B6: Gé | C6: =SUMIFS(Feuil1!$F$2:$F$25,Feuil1!$C$2:$C$25,Feuil2!C$4) -> 2 | D6: =SUMIFS(Feuil1!$F$2:$F$25,Feuil1!$C$2:$C$25,Feuil2!D$4) -> 0 | E6: =SUMIFS(Feuil1!$F$2:$F$25,Feuil1!$C$2:$C$25,Feuil2!E$4) -> 0 | F6: =SUMIFS(Feuil1!$F$2:$F$25,Feuil1!$C$2:$C$25,Feuil2!F$4) -> 1 | G6: =SUMIFS(Feuil1!$F$2:$F$25,Feuil1!$C$2:$C$25,Feuil2!G$4) -> 0 | H6: =SUMIFS(Feuil1!$F$2:$F$25,Feuil1!$C$2:$C$25,Feuil2!H$4) -> 0 | I6: =SUMIFS(Feuil1!$F$2:$F$25,Feuil1!$C$2:$C$25,Feuil2!I$4) -> 1 | J6: =SUMIFS(Feuil1!$F$2:$F$25,Feuil1!$C$2:$C$25,Feuil2!J$4) -> 1 | ... N6: =SUMIFS(Feuil1!$F$2:$F$25,Feuil1!$C$2:$C$25,Feuil2!N$4) -> 0 | O6: =SUM(C6:N6) -> 7 | P6: =$O6/$O$13 -> 0.1147541
B7: J | C7: =SUMIFS(Feuil1!$G$2:$G$25,Feuil1!$C$2:$C$25,Feuil2!C$4) -> 1 | D7: =SUMIFS(Feuil1!$G$2:$G$25,Feuil1!$C$2:$C$25,Feuil2!D$4) -> 0 | E7: =SUMIFS(Feuil1!$G$2:$G$25,Feuil1!$C$2:$C$25,Feuil2!E$4) -> 1 | F7: =SUMIFS(Feuil1!$G$2:$G$25,Feuil1!$C$2:$C$25,Feuil2!F$4) -> 0 | G7: =SUMIFS(Feuil1!$G$2:$G$25,Feuil1!$C$2:$C$25,Feuil2!G$4) -> 0 | H7: =SUMIFS(Feuil1!$G$2:$G$25,Feuil1!$C$2:$C$25,Feuil2!H$4) -> 1 | I7: =SUMIFS(Feuil1!$G$2:$G$25,Feuil1!$C$2:$C$25,Feuil2!I$4) -> 1 | J7: =SUMIFS(Feuil1!$G$2:$G$25,Feuil1!$C$2:$C$25,Feuil2!J$4) -> 0 | ... N7: =SUMIFS(Feuil1!$G$2:$G$25,Feuil1!$C$2:$C$25,Feuil2!N$4) -> 0 | O7: =SUM(C7:N7) -> 5 | P7: =$O7/$O$13 -> 0.081967213
B8: Ié | C8: =SUMIFS(Feuil1!$H$2:$H$25,Feuil1!$C$2:$C$25,Feuil2!C$4) -> 0 | D8: =SUMIFS(Feuil1!$H$2:$H$25,Feuil1!$C$2:$C$25,Feuil2!D$4) -> 1 | E8: =SUMIFS(Feuil1!$H$2:$H$25,Feuil1!$C$2:$C$25,Feuil2!E$4) -> 0 | F8: =SUMIFS(Feuil1!$H$2:$H$25,Feuil1!$C$2:$C$25,Feuil2!F$4) -> 1 | G8: =SUMIFS(Feuil1!$H$2:$H$25,Feuil1!$C$2:$C$25,Feuil2!G$4) -> 0 | H8: =SUMIFS(Feuil1!$H$2:$H$25,Feuil1!$C$2:$C$25,Feuil2!H$4) -> 1 | I8: =SUMIFS(Feuil1!$H$2:$H$25,Feuil1!$C$2:$C$25,Feuil2!I$4) -> 1 | J8: =SUMIFS(Feuil1!$H$2:$H$25,Feuil1!$C$2:$C$25,Feuil2!J$4) -> 0 | ... N8: =SUMIFS(Feuil1!$H$2:$H$25,Feuil1!$C$2:$C$25,Feuil2!N$4) -> 1 | O8: =SUM(C8:N8) -> 7 | P8: =$O8/$O$13 -> 0.1147541
B9: R | C9: =SUMIFS(Feuil1!$I$2:$I$25,Feuil1!$C$2:$C$25,Feuil2!C$4) -> 1 | D9: =SUMIFS(Feuil1!$I$2:$I$25,Feuil1!$C$2:$C$25,Feuil2!D$4) -> 1 | E9: =SUMIFS(Feuil1!$I$2:$I$25,Feuil1!$C$2:$C$25,Feuil2!E$4) -> 1 | F9: =SUMIFS(Feuil1!$I$2:$I$25,Feuil1!$C$2:$C$25,Feuil2!F$4) -> 0 | G9: =SUMIFS(Feuil1!$I$2:$I$25,Feuil1!$C$2:$C$25,Feuil2!G$4) -> 1 | H9: =SUMIFS(Feuil1!$I$2:$I$25,Feuil1!$C$2:$C$25,Feuil2!H$4) -> 1 | I9: =SUMIFS(Feuil1!$I$2:$I$25,Feuil1!$C$2:$C$25,Feuil2!I$4) -> 0 | J9: =SUMIFS(Feuil1!$I$2:$I$25,Feuil1!$C$2:$C$25,Feuil2!J$4) -> 1 | ... N9: =SUMIFS(Feuil1!$I$2:$I$25,Feuil1!$C$2:$C$25,Feuil2!N$4) -> 0 | O9: =SUM(C9:N9) -> 7 | P9: =$O9/$O$13 -> 0.1147541
B10: m01 | C10: =SUMIFS(Feuil1!$J$2:$J$25,Feuil1!$C$2:$C$25,Feuil2!C$4) -> 1 | D10: =SUMIFS(Feuil1!$J$2:$J$25,Feuil1!$C$2:$C$25,Feuil2!D$4) -> 0 | E10: =SUMIFS(Feuil1!$J$2:$J$25,Feuil1!$C$2:$C$25,Feuil2!E$4) -> 0 | F10: =SUMIFS(Feuil1!$J$2:$J$25,Feuil1!$C$2:$C$25,Feuil2!F$4) -> 1 | G10: =SUMIFS(Feuil1!$J$2:$J$25,Feuil1!$C$2:$C$25,Feuil2!G$4) -> 1 | H10: =SUMIFS(Feuil1!$J$2:$J$25,Feuil1!$C$2:$C$25,Feuil2!H$4) -> 0 | I10: =SUMIFS(Feuil1!$J$2:$J$25,Feuil1!$C$2:$C$25,Feuil2!I$4) -> 0 | J10: =SUMIFS(Feuil1!$J$2:$J$25,Feuil1!$C$2:$C$25,Feuil2!J$4) -> 1 | ... N10: =SUMIFS(Feuil1!$J$2:$J$25,Feuil1!$C$2:$C$25,Feuil2!N$4) -> 1 | O10: =SUM(C10:N10) -> 7 | P10: =$O10/$O$13 -> 0.1147541
B11: m02 | C11: =SUMIFS(Feuil1!$K$2:$K$25,Feuil1!$C$2:$C$25,Feuil2!C$4) -> 1 | D11: =SUMIFS(Feuil1!$K$2:$K$25,Feuil1!$C$2:$C$25,Feuil2!D$4) -> 0 | E11: =SUMIFS(Feuil1!$K$2:$K$25,Feuil1!$C$2:$C$25,Feuil2!E$4) -> 1 | F11: =SUMIFS(Feuil1!$K$2:$K$25,Feuil1!$C$2:$C$25,Feuil2!F$4) -> 0 | G11: =SUMIFS(Feuil1!$K$2:$K$25,Feuil1!$C$2:$C$25,Feuil2!G$4) -> 1 | H11: =SUMIFS(Feuil1!$K$2:$K$25,Feuil1!$C$2:$C$25,Feuil2!H$4) -> 1 | I11: =SUMIFS(Feuil1!$K$2:$K$25,Feuil1!$C$2:$C$25,Feuil2!I$4) -> 0 | J11: =SUMIFS(Feuil1!$K$2:$K$25,Feuil1!$C$2:$C$25,Feuil2!J$4) -> 1 | ... N11: =SUMIFS(Feuil1!$K$2:$K$25,Feuil1!$C$2:$C$25,Feuil2!N$4) -> 0 | O11: =SUM(C11:N11) -> 7 | P11: =$O11/$O$13 -> 0.1147541
B12: 1 | C12: =SUMIFS(Feuil1!$L$2:$L$25,Feuil1!$C$2:$C$25,Feuil2!C$4) -> 1 | D12: =SUMIFS(Feuil1!$L$2:$L$25,Feuil1!$C$2:$C$25,Feuil2!D$4) -> 1 | E12: =SUMIFS(Feuil1!$L$2:$L$25,Feuil1!$C$2:$C$25,Feuil2!E$4) -> 1 | F12: =SUMIFS(Feuil1!$L$2:$L$25,Feuil1!$C$2:$C$25,Feuil2!F$4) -> 1 | G12: =SUMIFS(Feuil1!$L$2:$L$25,Feuil1!$C$2:$C$25,Feuil2!G$4) -> 1 | H12: =SUMIFS(Feuil1!$L$2:$L$25,Feuil1!$C$2:$C$25,Feuil2!H$4) -> 1 | I12: =SUMIFS(Feuil1!$L$2:$L$25,Feuil1!$C$2:$C$25,Feuil2!I$4) -> 1 | J12: =SUMIFS(Feuil1!$L$2:$L$25,Feuil1!$C$2:$C$25,Feuil2!J$4) -> 0 | ... N12: =SUMIFS(Feuil1!$L$2:$L$25,Feuil1!$C$2:$C$25,Feuil2!N$4) -> 1 | O12: =SUM(C12:N12) -> 9 | P12: =$O12/$O$13 -> 0.14754098
B13: total du mois | C13: =SUM(C$5:C$12) -> 9 | D13: =SUM(D$5:D$12) -> 4 | E13: =SUM(E$5:E$12) -> 5 | F13: =SUM(F$5:F$12) -> 5 | G13: =SUM(G$5:G$12) -> 5 | H13: =SUM(H$5:H$12) -> 5 | I13: =SUM(I$5:I$12) -> 5 | J13: =SUM(J$5:J$12) -> 5 | ... N13: =SUM(N$5:N$12) -> 4 | O13: =SUM(O5:O12) -> 61 | P13: =SUM(P5:P12) -> 1
C14: =C$13/$O$13 -> 0.14754098 | D14: =D$13/$O$13 -> 0.06557377 | E14: =E$13/$O$13 -> 0.081967213 | F14: =F$13/$O$13 -> 0.081967213 | G14: =G$13/$O$13 -> 0.081967213 | H14: =H$13/$O$13 -> 0.081967213 | I14: =I$13/$O$13 -> 0.081967213 | J14: =J$13/$O$13 -> 0.081967213 | ... N14: =N$13/$O$13 -> 0.06557377
