Workbook

Sheet Devis
A1: Désignation | C1: Prix unitaire | D1: Quantité | E1: remise | F1: promo | G1: Valeur remise | H1: valeur remise+ | I1: Montant HT | J1: Remarques
A3: Animation DJ jusqu’à horaire legal | C3: =IFERROR(VLOOKUP($A3,Tarifs!$A$2:$E$6,2,FALSE),"") -> 950 | D3: 2 | E3: =$E$1 -> remise | F3: =IF($E3="remise",$G3,IF($E3="remise+",$H3,"0")) -> 200 | G3: =IFERROR(VLOOKUP($A3,Tarifs!$A$2:$E$6,3,FALSE),"") -> 200 | H3: =IFERROR(VLOOKUP($A3,Tarifs!$A$2:$E$6,4,FALSE),"") -> 230 | I3: =($C3-$F3)*$D3 -> 1500
A4: magie | C4: =IFERROR(VLOOKUP($A4,Tarifs!$A$2:$E$6,2,FALSE),"") -> 350 | D4: 1 | E4: =$E$1 -> remise | F4: =IF($E4="remise",$G4,IF($E4="remise+",$H4,"0")) -> 150 | G4: =IFERROR(VLOOKUP($A4,Tarifs!$A$2:$E$6,3,FALSE),"") -> 150 | H4: =IFERROR(VLOOKUP($A4,Tarifs!$A$2:$E$6,4,FALSE),"") -> 180 | I4: =($C4-$F4)*$D4 -> 200
A5: pendant le repas tour de chant "Les Seb's" | C5: =IFERROR(VLOOKUP($A5,Tarifs!$A$2:$E$6,2,FALSE),"") -> 100 | D5: 1 | E5: =$E$1 -> remise | F5: =IF($E5="remise",$G5,IF($E5="remise+",$H5,"0")) -> 0 | G5: =IFERROR(VLOOKUP($A5,Tarifs!$A$2:$E$6,3,FALSE),"") -> 0 | H5: =IFERROR(VLOOKUP($A5,Tarifs!$A$2:$E$6,4,FALSE),"") -> 0 | I5: =($C5-$F5)*$D5 -> 100
A6: hypnose | C6: =IFERROR(VLOOKUP($A6,Tarifs!$A$2:$E$6,2,FALSE),"") -> 300 | D6: 1 | E6: =$E$1 -> remise | F6: =IF($E6="remise",$G6,IF($E6="remise+",$H6,"0")) -> 100 | G6: =IFERROR(VLOOKUP($A6,Tarifs!$A$2:$E$6,3,FALSE),"") -> 100 | H6: =IFERROR(VLOOKUP($A6,Tarifs!$A$2:$E$6,4,FALSE),"") -> 130 | I6: =($C6-$F6)*$D6 -> 200
A7: karaoké | C7: =IFERROR(VLOOKUP($A7,Tarifs!$A$2:$E$6,2,FALSE),"") -> 450 | D7: 1 | E7: =$E$1 -> remise | F7: =IF($E7="remise",$G7,IF($E7="remise+",$H7,"0")) -> 225 | G7: =IFERROR(VLOOKUP($A7,Tarifs!$A$2:$E$6,3,FALSE),"") -> 225 | H7: =IFERROR(VLOOKUP($A7,Tarifs!$A$2:$E$6,4,FALSE),"") -> 0 | I7: =($C7-$F7)*$D7 -> 225

Sheet Tarifs
A1: type | B1: prix unitaire | C1: remise | D1: remise+ | E1: annotation
A2: Animation DJ jusqu’à horaire legal | B2: 950 | C2: 200 | D2: 230
A3: magie | B3: 350 | C3: 150 | D3: 180
A4: pendant le repas tour de chant "Les Seb's" | B4: 100 | C4: 0 | D4: 0
A5: hypnose | B5: 300 | C5: 100 | D5: 130
A6: karaoké | B6: 450 | C6: 225 | D6: 0
