Workbook

Sheet Feuil1
A1: Septembre
A2: Type de produits | B2: Jaune | C2: Rouge | D2: Vert | E2: Violet
A3: Pomme | B3: =SUMPRODUCT((MONTH(TAB!$C$2:$C$17)=MONTH(DATEVALUE($A$1&"1")))*(TAB!$A$2:$A$17=Feuil1!$A3)*(TAB!$B$2:$B$17=Feuil1!B$2)*(TAB!$D$2:$D$17)) -> 40 | C3: =SUMPRODUCT((MONTH(TAB!$C$2:$C$17)=MONTH(DATEVALUE($A$1&"1")))*(TAB!$A$2:$A$17=Feuil1!$A3)*(TAB!$B$2:$B$17=Feuil1!C$2)*(TAB!$D$2:$D$17)) -> 0 | D3: =SUMPRODUCT((MONTH(TAB!$C$2:$C$17)=MONTH(DATEVALUE($A$1&"1")))*(TAB!$A$2:$A$17=Feuil1!$A3)*(TAB!$B$2:$B$17=Feuil1!D$2)*(TAB!$D$2:$D$17)) -> 0 | E3: =SUMPRODUCT((MONTH(TAB!$C$2:$C$17)=MONTH(DATEVALUE($A$1&"1")))*(TAB!$A$2:$A$17=Feuil1!$A3)*(TAB!$B$2:$B$17=Feuil1!E$2)*(TAB!$D$2:$D$17)) -> 0 | G3: =SOMMEPROD((MOIS(TAB!$C$2:$C$17)=MOIS(DATEVAL($A$1&"1")))*(TAB!$A$2:$A$17=Feuil1!$A3)*(TAB!$B$2:$B$17=Feuil1!B$2)*(TAB!$D$2:$D$17))
A4: Poire | B4: =SUMPRODUCT((MONTH(TAB!$C$2:$C$17)=MONTH(DATEVALUE($A$1&"1")))*(TAB!$A$2:$A$17=Feuil1!$A4)*(TAB!$B$2:$B$17=Feuil1!B$2)*(TAB!$D$2:$D$17)) -> 0 | C4: =SUMPRODUCT((MONTH(TAB!$C$2:$C$17)=MONTH(DATEVALUE($A$1&"1")))*(TAB!$A$2:$A$17=Feuil1!$A4)*(TAB!$B$2:$B$17=Feuil1!C$2)*(TAB!$D$2:$D$17)) -> 0 | D4: =SUMPRODUCT((MONTH(TAB!$C$2:$C$17)=MONTH(DATEVALUE($A$1&"1")))*(TAB!$A$2:$A$17=Feuil1!$A4)*(TAB!$B$2:$B$17=Feuil1!D$2)*(TAB!$D$2:$D$17)) -> 0 | E4: =SUMPRODUCT((MONTH(TAB!$C$2:$C$17)=MONTH(DATEVALUE($A$1&"1")))*(TAB!$A$2:$A$17=Feuil1!$A4)*(TAB!$B$2:$B$17=Feuil1!E$2)*(TAB!$D$2:$D$17)) -> 32
A5: Banane | B5: =SUMPRODUCT((MONTH(TAB!$C$2:$C$17)=MONTH(DATEVALUE($A$1&"1")))*(TAB!$A$2:$A$17=Feuil1!$A5)*(TAB!$B$2:$B$17=Feuil1!B$2)*(TAB!$D$2:$D$17)) -> 12 | C5: =SUMPRODUCT((MONTH(TAB!$C$2:$C$17)=MONTH(DATEVALUE($A$1&"1")))*(TAB!$A$2:$A$17=Feuil1!$A5)*(TAB!$B$2:$B$17=Feuil1!C$2)*(TAB!$D$2:$D$17)) -> 0 | D5: =SUMPRODUCT((MONTH(TAB!$C$2:$C$17)=MONTH(DATEVALUE($A$1&"1")))*(TAB!$A$2:$A$17=Feuil1!$A5)*(TAB!$B$2:$B$17=Feuil1!D$2)*(TAB!$D$2:$D$17)) -> 0 | E5: =SUMPRODUCT((MONTH(TAB!$C$2:$C$17)=MONTH(DATEVALUE($A$1&"1")))*(TAB!$A$2:$A$17=Feuil1!$A5)*(TAB!$B$2:$B$17=Feuil1!E$2)*(TAB!$D$2:$D$17)) -> 0
A6: Salade | B6: =SUMPRODUCT((MONTH(TAB!$C$2:$C$17)=MONTH(DATEVALUE($A$1&"1")))*(TAB!$A$2:$A$17=Feuil1!$A6)*(TAB!$B$2:$B$17=Feuil1!B$2)*(TAB!$D$2:$D$17)) -> 60 | C6: =SUMPRODUCT((MONTH(TAB!$C$2:$C$17)=MONTH(DATEVALUE($A$1&"1")))*(TAB!$A$2:$A$17=Feuil1!$A6)*(TAB!$B$2:$B$17=Feuil1!C$2)*(TAB!$D$2:$D$17)) -> 0 | D6: =SUMPRODUCT((MONTH(TAB!$C$2:$C$17)=MONTH(DATEVALUE($A$1&"1")))*(TAB!$A$2:$A$17=Feuil1!$A6)*(TAB!$B$2:$B$17=Feuil1!D$2)*(TAB!$D$2:$D$17)) -> 0 | E6: =SUMPRODUCT((MONTH(TAB!$C$2:$C$17)=MONTH(DATEVALUE($A$1&"1")))*(TAB!$A$2:$A$17=Feuil1!$A6)*(TAB!$B$2:$B$17=Feuil1!E$2)*(TAB!$D$2:$D$17)) -> 0
A9: Octobre
A10: Type de produits | B10: Jaune | C10: Rouge | D10: Vert | E10: Violet
A11: Pomme | B11: =SUMPRODUCT((MONTH(TAB!$C$2:$C$17)=MONTH(DATEVALUE($A$9&"1")))*(TAB!$A$2:$A$17=Feuil1!$A11)*(TAB!$B$2:$B$17=Feuil1!B$10)*(TAB!$D$2:$D$17)) -> 0 | C11: =SUMPRODUCT((MONTH(TAB!$C$2:$C$17)=MONTH(DATEVALUE($A$9&"1")))*(TAB!$A$2:$A$17=Feuil1!$A11)*(TAB!$B$2:$B$17=Feuil1!C$10)*(TAB!$D$2:$D$17)) -> 0 | D11: =SUMPRODUCT((MONTH(TAB!$C$2:$C$17)=MONTH(DATEVALUE($A$9&"1")))*(TAB!$A$2:$A$17=Feuil1!$A11)*(TAB!$B$2:$B$17=Feuil1!D$10)*(TAB!$D$2:$D$17)) -> 2 | E11: =SUMPRODUCT((MONTH(TAB!$C$2:$C$17)=MONTH(DATEVALUE($A$9&"1")))*(TAB!$A$2:$A$17=Feuil1!$A11)*(TAB!$B$2:$B$17=Feuil1!E$10)*(TAB!$D$2:$D$17)) -> 0
A12: Poire | B12: =SUMPRODUCT((MONTH(TAB!$C$2:$C$17)=MONTH(DATEVALUE($A$9&"1")))*(TAB!$A$2:$A$17=Feuil1!$A12)*(TAB!$B$2:$B$17=Feuil1!B$10)*(TAB!$D$2:$D$17)) -> 0 | C12: =SUMPRODUCT((MONTH(TAB!$C$2:$C$17)=MONTH(DATEVALUE($A$9&"1")))*(TAB!$A$2:$A$17=Feuil1!$A12)*(TAB!$B$2:$B$17=Feuil1!C$10)*(TAB!$D$2:$D$17)) -> 0 | D12: =SUMPRODUCT((MONTH(TAB!$C$2:$C$17)=MONTH(DATEVALUE($A$9&"1")))*(TAB!$A$2:$A$17=Feuil1!$A12)*(TAB!$B$2:$B$17=Feuil1!D$10)*(TAB!$D$2:$D$17)) -> 74 | E12: =SUMPRODUCT((MONTH(TAB!$C$2:$C$17)=MONTH(DATEVALUE($A$9&"1")))*(TAB!$A$2:$A$17=Feuil1!$A12)*(TAB!$B$2:$B$17=Feuil1!E$10)*(TAB!$D$2:$D$17)) -> 0
A13: Banane | B13: =SUMPRODUCT((MONTH(TAB!$C$2:$C$17)=MONTH(DATEVALUE($A$9&"1")))*(TAB!$A$2:$A$17=Feuil1!$A13)*(TAB!$B$2:$B$17=Feuil1!B$10)*(TAB!$D$2:$D$17)) -> 0 | C13: =SUMPRODUCT((MONTH(TAB!$C$2:$C$17)=MONTH(DATEVALUE($A$9&"1")))*(TAB!$A$2:$A$17=Feuil1!$A13)*(TAB!$B$2:$B$17=Feuil1!C$10)*(TAB!$D$2:$D$17)) -> 0 | D13: =SUMPRODUCT((MONTH(TAB!$C$2:$C$17)=MONTH(DATEVALUE($A$9&"1")))*(TAB!$A$2:$A$17=Feuil1!$A13)*(TAB!$B$2:$B$17=Feuil1!D$10)*(TAB!$D$2:$D$17)) -> 58 | E13: =SUMPRODUCT((MONTH(TAB!$C$2:$C$17)=MONTH(DATEVALUE($A$9&"1")))*(TAB!$A$2:$A$17=Feuil1!$A13)*(TAB!$B$2:$B$17=Feuil1!E$10)*(TAB!$D$2:$D$17)) -> 0
A14: Salade | B14: =SUMPRODUCT((MONTH(TAB!$C$2:$C$17)=MONTH(DATEVALUE($A$9&"1")))*(TAB!$A$2:$A$17=Feuil1!$A14)*(TAB!$B$2:$B$17=Feuil1!B$10)*(TAB!$D$2:$D$17)) -> 0 | C14: =SUMPRODUCT((MONTH(TAB!$C$2:$C$17)=MONTH(DATEVALUE($A$9&"1")))*(TAB!$A$2:$A$17=Feuil1!$A14)*(TAB!$B$2:$B$17=Feuil1!C$10)*(TAB!$D$2:$D$17)) -> 0 | D14: =SUMPRODUCT((MONTH(TAB!$C$2:$C$17)=MONTH(DATEVALUE($A$9&"1")))*(TAB!$A$2:$A$17=Feuil1!$A14)*(TAB!$B$2:$B$17=Feuil1!D$10)*(TAB!$D$2:$D$17)) -> 49 | E14: =SUMPRODUCT((MONTH(TAB!$C$2:$C$17)=MONTH(DATEVALUE($A$9&"1")))*(TAB!$A$2:$A$17=Feuil1!$A14)*(TAB!$B$2:$B$17=Feuil1!E$10)*(TAB!$D$2:$D$17)) -> 0
A17: Octobre
A18: Type de produits | B18: Jaune | C18: Rouge | D18: Vert | E18: Violet
A19: Pomme | B19: =SUMPRODUCT((MONTH(TAB!$C$2:$C$17)=MONTH(DATEVALUE($A$17&"1")))*(TAB!$A$2:$A$17=Feuil1!$A19)*(TAB!$B$2:$B$17=Feuil1!B$18)*(TAB!$D$2:$D$17)) -> 0 | C19: =SUMPRODUCT((MONTH(TAB!$C$2:$C$17)=MONTH(DATEVALUE($A$17&"1")))*(TAB!$A$2:$A$17=Feuil1!$A19)*(TAB!$B$2:$B$17=Feuil1!C$18)*(TAB!$D$2:$D$17)) -> 0 | D19: =SUMPRODUCT((MONTH(TAB!$C$2:$C$17)=MONTH(DATEVALUE($A$17&"1")))*(TAB!$A$2:$A$17=Feuil1!$A19)*(TAB!$B$2:$B$17=Feuil1!D$18)*(TAB!$D$2:$D$17)) -> 2 | E19: =SUMPRODUCT((MONTH(TAB!$C$2:$C$17)=MONTH(DATEVALUE($A$17&"1")))*(TAB!$A$2:$A$17=Feuil1!$A19)*(TAB!$B$2:$B$17=Feuil1!E$18)*(TAB!$D$2:$D$17)) -> 0
A20: Poire | B20: =SUMPRODUCT((MONTH(TAB!$C$2:$C$17)=MONTH(DATEVALUE($A$17&"1")))*(TAB!$A$2:$A$17=Feuil1!$A20)*(TAB!$B$2:$B$17=Feuil1!B$18)*(TAB!$D$2:$D$17)) -> 0 | C20: =SUMPRODUCT((MONTH(TAB!$C$2:$C$17)=MONTH(DATEVALUE($A$17&"1")))*(TAB!$A$2:$A$17=Feuil1!$A20)*(TAB!$B$2:$B$17=Feuil1!C$18)*(TAB!$D$2:$D$17)) -> 0 | D20: =SUMPRODUCT((MONTH(TAB!$C$2:$C$17)=MONTH(DATEVALUE($A$17&"1")))*(TAB!$A$2:$A$17=Feuil1!$A20)*(TAB!$B$2:$B$17=Feuil1!D$18)*(TAB!$D$2:$D$17)) -> 74 | E20: =SUMPRODUCT((MONTH(TAB!$C$2:$C$17)=MONTH(DATEVALUE($A$17&"1")))*(TAB!$A$2:$A$17=Feuil1!$A20)*(TAB!$B$2:$B$17=Feuil1!E$18)*(TAB!$D$2:$D$17)) -> 0
A21: Banane | B21: =SUMPRODUCT((MONTH(TAB!$C$2:$C$17)=MONTH(DATEVALUE($A$17&"1")))*(TAB!$A$2:$A$17=Feuil1!$A21)*(TAB!$B$2:$B$17=Feuil1!B$18)*(TAB!$D$2:$D$17)) -> 0 | C21: =SUMPRODUCT((MONTH(TAB!$C$2:$C$17)=MONTH(DATEVALUE($A$17&"1")))*(TAB!$A$2:$A$17=Feuil1!$A21)*(TAB!$B$2:$B$17=Feuil1!C$18)*(TAB!$D$2:$D$17)) -> 0 | D21: =SUMPRODUCT((MONTH(TAB!$C$2:$C$17)=MONTH(DATEVALUE($A$17&"1")))*(TAB!$A$2:$A$17=Feuil1!$A21)*(TAB!$B$2:$B$17=Feuil1!D$18)*(TAB!$D$2:$D$17)) -> 58 | E21: =SUMPRODUCT((MONTH(TAB!$C$2:$C$17)=MONTH(DATEVALUE($A$17&"1")))*(TAB!$A$2:$A$17=Feuil1!$A21)*(TAB!$B$2:$B$17=Feuil1!E$18)*(TAB!$D$2:$D$17)) -> 0
A22: Salade | B22: =SUMPRODUCT((MONTH(TAB!$C$2:$C$17)=MONTH(DATEVALUE($A$17&"1")))*(TAB!$A$2:$A$17=Feuil1!$A22)*(TAB!$B$2:$B$17=Feuil1!B$18)*(TAB!$D$2:$D$17)) -> 0 | C22: =SUMPRODUCT((MONTH(TAB!$C$2:$C$17)=MONTH(DATEVALUE($A$17&"1")))*(TAB!$A$2:$A$17=Feuil1!$A22)*(TAB!$B$2:$B$17=Feuil1!C$18)*(TAB!$D$2:$D$17)) -> 0 | D22: =SUMPRODUCT((MONTH(TAB!$C$2:$C$17)=MONTH(DATEVALUE($A$17&"1")))*(TAB!$A$2:$A$17=Feuil1!$A22)*(TAB!$B$2:$B$17=Feuil1!D$18)*(TAB!$D$2:$D$17)) -> 49 | E22: =SUMPRODUCT((MONTH(TAB!$C$2:$C$17)=MONTH(DATEVALUE($A$17&"1")))*(TAB!$A$2:$A$17=Feuil1!$A22)*(TAB!$B$2:$B$17=Feuil1!E$18)*(TAB!$D$2:$D$17)) -> 0

Sheet TAB
A1: Nœud de Livraison | B1: Type de produit | C1: Mois | D1: Nombre informations
A2: Pomme | B2: Jaune | C2: 9/2023 | D2: 40
A3: Pomme | B3: Rouge | C3: 11/2023 | D3: 20
A4: Pomme | B4: Vert | C4: 10/2023 | D4: 2
A5: Pomme | B5: Violet | C5: 12/2023 | D5: 10
A6: Poire | B6: Jaune | C6: 11/2023 | D6: 65
A7: Poire | B7: Rouge | C7: 12/2023 | D7: 85
A8: Poire | B8: Vert | C8: 10/2023 | D8: 74
A9: Poire | B9: Violet | C9: 9/2023 | D9: 32
A10: Banane | B10: Jaune | C10: 9/2023 | D10: 12
A11: Banane | B11: Rouge | C11: 11/2023 | D11: 39
A12: Banane | B12: Vert | C12: 10/2023 | D12: 58
A13: Banane | B13: Violet | C13: 12/2023 | D13: 72
... A17: Salade | B17: Violet | C17: 12/2023 | D17: 76
