Workbook

Sheet Base de Données
A1: Département | B1: code insee | C1: Population 1968 | D1: Population 1975 | E1: Population 1982 | F1: Population 1990 | G1: Population 1999 | H1: Population 2009 | I1: Population 2014 | J1: Population 2020 | K1: superficie (km2) | L1: Densité (hab./km2)
A2: Nord | B2: 59 | C2: 2418847 | D2: 2511478 | E2: 2520526 | F2: 2531855 | G2: 2555020 | H2: 2571940 | I2: 2603472 | J2: 2607746 | K2: 5 742,8 | L2: 454.1 | N2: =TRIM(SUBSTITUTE(C2,CHAR(160),""))*1 -> 2418847 | O2: =TRIM(SUBSTITUTE(D2,CHAR(160),""))*1 -> 2511478 | P2: =TRIM(SUBSTITUTE(E2,CHAR(160),""))*1 -> 2520526 | Q2: =TRIM(SUBSTITUTE(F2,CHAR(160),""))*1 -> 2531855 | R2: =TRIM(SUBSTITUTE(G2,CHAR(160),""))*1 -> 2555020 | S2: =TRIM(SUBSTITUTE(H2,CHAR(160),""))*1 -> 2571940 | T2: =TRIM(SUBSTITUTE(I2,CHAR(160),""))*1 -> 2603472 | U2: =TRIM(SUBSTITUTE(J2,CHAR(160),""))*1 -> 2607746
A3: Paris | B3: 75 | C3: 2590771 | D3: 2299830 | E3: 2176243 | F3: 2152423 | G3: 2125246 | H3: 2234105 | I3: 2220445 | J3: 2125246 | K3: 105.4 | L3: 20 359,6 | N3: =TRIM(SUBSTITUTE(C3,CHAR(160),""))*1 -> 2590771 | O3: =TRIM(SUBSTITUTE(D3,CHAR(160),""))*1 -> 2299830 | P3: =TRIM(SUBSTITUTE(E3,CHAR(160),""))*1 -> 2176243 | Q3: =TRIM(SUBSTITUTE(F3,CHAR(160),""))*1 -> 2152423 | R3: =TRIM(SUBSTITUTE(G3,CHAR(160),""))*1 -> 2125246 | S3: =TRIM(SUBSTITUTE(H3,CHAR(160),""))*1 -> 2234105 | T3: =TRIM(SUBSTITUTE(I3,CHAR(160),""))*1 -> 2220445 | U3: =TRIM(SUBSTITUTE(J3,CHAR(160),""))*1 -> 2125246
A4: Bouches-du-Rhône | B4: 13 | C4: 1470271 | D4: 1632974 | E4: 1724199 | F4: 1759371 | G4: 1835719 | H4: 1967299 | I4: 2006069 | J4: 1835719 | K4: 5 087,5 | L4: 402.6 | N4: =TRIM(SUBSTITUTE(C4,CHAR(160),""))*1 -> 1470271 | O4: =TRIM(SUBSTITUTE(D4,CHAR(160),""))*1 -> 1632974 | P4: =TRIM(SUBSTITUTE(E4,CHAR(160),""))*1 -> 1724199 | Q4: =TRIM(SUBSTITUTE(F4,CHAR(160),""))*1 -> 1759371 | R4: =TRIM(SUBSTITUTE(G4,CHAR(160),""))*1 -> 1835719 | S4: =TRIM(SUBSTITUTE(H4,CHAR(160),""))*1 -> 1967299 | T4: =TRIM(SUBSTITUTE(I4,CHAR(160),""))*1 -> 2006069 | U4: =TRIM(SUBSTITUTE(J4,CHAR(160),""))*1 -> 1835719
A5: Circonscription départementale du Rhône | B5: 69 | C5: 1326383 | D5: 1429647 | E5: 1445208 | F5: 1508966 | G5: 1578869 | H5: 1708671 | I5: 1801885 | J5: 1578869 | K5: 3 249,1 | L5: 579.7 | N5: =TRIM(SUBSTITUTE(C5,CHAR(160),""))*1 -> 1326383 | O5: =TRIM(SUBSTITUTE(D5,CHAR(160),""))*1 -> 1429647 | P5: =TRIM(SUBSTITUTE(E5,CHAR(160),""))*1 -> 1445208 | Q5: =TRIM(SUBSTITUTE(F5,CHAR(160),""))*1 -> 1508966 | R5: =TRIM(SUBSTITUTE(G5,CHAR(160),""))*1 -> 1578869 | S5: =TRIM(SUBSTITUTE(H5,CHAR(160),""))*1 -> 1708671 | T5: =TRIM(SUBSTITUTE(I5,CHAR(160),""))*1 -> 1801885 | U5: =TRIM(SUBSTITUTE(J5,CHAR(160),""))*1 -> 1578869
A6: Seine-Saint-Denis | B6: 93 | C6: 1249606 | D6: 1322127 | E6: 1324301 | F6: 1381197 | G6: 1382861 | H6: 1515983 | I6: 1571028 | J6: 1382861 | K6: 236.2 | L6: 7 008,6 | N6: =TRIM(SUBSTITUTE(C6,CHAR(160),""))*1 -> 1249606 | O6: =TRIM(SUBSTITUTE(D6,CHAR(160),""))*1 -> 1322127 | P6: =TRIM(SUBSTITUTE(E6,CHAR(160),""))*1 -> 1324301 | Q6: =TRIM(SUBSTITUTE(F6,CHAR(160),""))*1 -> 1381197 | R6: =TRIM(SUBSTITUTE(G6,CHAR(160),""))*1 -> 1382861 | S6: =TRIM(SUBSTITUTE(H6,CHAR(160),""))*1 -> 1515983 | T6: =TRIM(SUBSTITUTE(I6,CHAR(160),""))*1 -> 1571028 | U6: =TRIM(SUBSTITUTE(J6,CHAR(160),""))*1 -> 1382861
A7: Gironde | B7: 33 | C7: 1009390 | D7: #VALUE! | E7: 1127546 | F7: 1213499 | G7: 1287334 | H7: 1434661 | I7: 1526016 | J7: 1287334 | K7: 9 975,6 | L7: 164 | N7: =TRIM(SUBSTITUTE(C7,CHAR(160),""))*1 -> 1009390 | O7: =TRIM(SUBSTITUTE(D7,CHAR(160),""))*1 -> #VALUE! | P7: =TRIM(SUBSTITUTE(E7,CHAR(160),""))*1 -> 1127546 | Q7: =TRIM(SUBSTITUTE(F7,CHAR(160),""))*1 -> 1213499 | R7: =TRIM(SUBSTITUTE(G7,CHAR(160),""))*1 -> 1287334 | S7: =TRIM(SUBSTITUTE(H7,CHAR(160),""))*1 -> 1434661 | T7: =TRIM(SUBSTITUTE(I7,CHAR(160),""))*1 -> 1526016 | U7: =TRIM(SUBSTITUTE(J7,CHAR(160),""))*1 -> 1287334
A8: Hauts-de-Seine | B8: 92 | C8: 1461619 | D8: 1438930 | E8: 1387039 | F8: 1391658 | G8: 1428881 | H8: 1561745 | I8: 1597770 | J8: 1428881 | K8: 175.6 | L8: 9 260,9 | N8: =TRIM(SUBSTITUTE(C8,CHAR(160),""))*1 -> 1461619 | O8: =TRIM(SUBSTITUTE(D8,CHAR(160),""))*1 -> 1438930 | P8: =TRIM(SUBSTITUTE(E8,CHAR(160),""))*1 -> 1387039 | Q8: =TRIM(SUBSTITUTE(F8,CHAR(160),""))*1 -> 1391658 | R8: =TRIM(SUBSTITUTE(G8,CHAR(160),""))*1 -> 1428881 | S8: =TRIM(SUBSTITUTE(H8,CHAR(160),""))*1 -> 1561745 | T8: =TRIM(SUBSTITUTE(I8,CHAR(160),""))*1 -> 1597770 | U8: =TRIM(SUBSTITUTE(J8,CHAR(160),""))*1 -> 1428881
A9: Pas-de-Calais | B9: 62 | C9: 1397099 | D9: 1402295 | E9: 1412413 | F9: 1433203 | G9: 1441568 | H9: 1461257 | I9: 1472589 | J9: 1441568 | K9: 6 671,4 | L9: 219.2 | N9: =TRIM(SUBSTITUTE(C9,CHAR(160),""))*1 -> 1397099 | O9: =TRIM(SUBSTITUTE(D9,CHAR(160),""))*1 -> 1402295 | P9: =TRIM(SUBSTITUTE(E9,CHAR(160),""))*1 -> 1412413 | Q9: =TRIM(SUBSTITUTE(F9,CHAR(160),""))*1 -> 1433203 | R9: =TRIM(SUBSTITUTE(G9,CHAR(160),""))*1 -> 1441568 | S9: =TRIM(SUBSTITUTE(H9,CHAR(160),""))*1 -> 1461257 | T9: =TRIM(SUBSTITUTE(I9,CHAR(160),""))*1 -> 1472589 | U9: =TRIM(SUBSTITUTE(J9,CHAR(160),""))*1 -> 1441568
A10: Yvelines | B10: 78 | C10: 854382 | D10: 1082255 | E10: 1196111 | F10: 1307150 | G10: 1354304 | H10: 1407560 | I10: 1421670 | J10: 1354304 | K10: 2 284,4 | L10: 634.6 | N10: =TRIM(SUBSTITUTE(C10,CHAR(160),""))*1 -> 854382 | O10: =TRIM(SUBSTITUTE(D10,CHAR(160),""))*1 -> 1082255 | P10: =TRIM(SUBSTITUTE(E10,CHAR(160),""))*1 -> 1196111 | Q10: =TRIM(SUBSTITUTE(F10,CHAR(160),""))*1 -> 1307150 | R10: =TRIM(SUBSTITUTE(G10,CHAR(160),""))*1 -> 1354304 | S10: =TRIM(SUBSTITUTE(H10,CHAR(160),""))*1 -> 1407560 | T10: =TRIM(SUBSTITUTE(I10,CHAR(160),""))*1 -> 1421670 | U10: =TRIM(SUBSTITUTE(J10,CHAR(160),""))*1 -> 1354304
A11: Loire-Atlantique | B11: 44 | C11: 862082 | D11: 934882 | E11: 995822 | F11: 1052466 | G11: 1134551 | H11: 1266358 | I11: 1346592 | J11: 1134551 | K11: 6 874,4 | L11: 210.2 | N11: =TRIM(SUBSTITUTE(C11,CHAR(160),""))*1 -> 862082 | O11: =TRIM(SUBSTITUTE(D11,CHAR(160),""))*1 -> 934882 | P11: =TRIM(SUBSTITUTE(E11,CHAR(160),""))*1 -> 995822 | Q11: =TRIM(SUBSTITUTE(F11,CHAR(160),""))*1 -> 1052466 | R11: =TRIM(SUBSTITUTE(G11,CHAR(160),""))*1 -> 1134551 | S11: =TRIM(SUBSTITUTE(H11,CHAR(160),""))*1 -> 1266358 | T11: =TRIM(SUBSTITUTE(I11,CHAR(160),""))*1 -> 1346592 | U11: =TRIM(SUBSTITUTE(J11,CHAR(160),""))*1 -> 1134551
A12: Seine-et-Marne | B12: 77 | C12: 604340 | D12: 755762 | E12: 887112 | F12: 1078166 | G12: 1193767 | H12: 1313414 | I12: 1377846 | J12: 1193767 | K12: 5 915,3 | L12: 241.5 | N12: =TRIM(SUBSTITUTE(C12,CHAR(160),""))*1 -> 604340 | O12: =TRIM(SUBSTITUTE(D12,CHAR(160),""))*1 -> 755762 | P12: =TRIM(SUBSTITUTE(E12,CHAR(160),""))*1 -> 887112 | Q12: =TRIM(SUBSTITUTE(F12,CHAR(160),""))*1 -> 1078166 | R12: =TRIM(SUBSTITUTE(G12,CHAR(160),""))*1 -> 1193767 | S12: =TRIM(SUBSTITUTE(H12,CHAR(160),""))*1 -> 1313414 | T12: =TRIM(SUBSTITUTE(I12,CHAR(160),""))*1 -> 1377846 | U12: =TRIM(SUBSTITUTE(J12,CHAR(160),""))*1 -> 1193767
A13: Haute-Garonne | B13: 31 | C13: 690712 | D13: 777431 | E13: 824501 | F13: 925962 | G13: 1046338 | H13: 1230820 | I13: 1317668 | J13: 1046338 | K13: 6 309,3 | L13: 224.4 | N13: =TRIM(SUBSTITUTE(C13,CHAR(160),""))*1 -> 690712 | O13: =TRIM(SUBSTITUTE(D13,CHAR(160),""))*1 -> 777431 | P13: =TRIM(SUBSTITUTE(E13,CHAR(160),""))*1 -> 824501 | Q13: =TRIM(SUBSTITUTE(F13,CHAR(160),""))*1 -> 925962 | R13: =TRIM(SUBSTITUTE(G13,CHAR(160),""))*1 -> 1046338 | S13: =TRIM(SUBSTITUTE(H13,CHAR(160),""))*1 -> 1230820 | T13: =TRIM(SUBSTITUTE(I13,CHAR(160),""))*1 -> 1317668 | U13: =TRIM(SUBSTITUTE(J13,CHAR(160),""))*1 -> 1046338
A14: Val-de-Marne | B14: 94 | C14: 1121319 | D14: 1215713 | E14: 1193655 | F14: 1215538 | G14: 1227250 | H14: 1318537 | I14: 1365039 | J14: 1227250 | K14: 245 | L14: 5 746,8 | N14: =TRIM(SUBSTITUTE(C14,CHAR(160),""))*1 -> 1121319 | O14: =TRIM(SUBSTITUTE(D14,CHAR(160),""))*1 -> 1215713 | P14: =TRIM(SUBSTITUTE(E14,CHAR(160),""))*1 -> 1193655 | Q14: =TRIM(SUBSTITUTE(F14,CHAR(160),""))*1 -> 1215538 | R14: =TRIM(SUBSTITUTE(G14,CHAR(160),""))*1 -> 1227250 | S14: =TRIM(SUBSTITUTE(H14,CHAR(160),""))*1 -> 1318537 | T14: =TRIM(SUBSTITUTE(I14,CHAR(160),""))*1 -> 1365039 | U14: =TRIM(SUBSTITUTE(J14,CHAR(160),""))*1 -> 1227250
A15: Essonne | B15: 91 | C15: 673325 | D15: 923063 | E15: 988000 | F15: 1084824 | G15: 1134238 | H15: 1208004 | I15: 1268228 | J15: 1134238 | K15: 1 804,4 | L15: 723.9 | N15: =TRIM(SUBSTITUTE(C15,CHAR(160),""))*1 -> 673325 | O15: =TRIM(SUBSTITUTE(D15,CHAR(160),""))*1 -> 923063 | P15: =TRIM(SUBSTITUTE(E15,CHAR(160),""))*1 -> 988000 | Q15: =TRIM(SUBSTITUTE(F15,CHAR(160),""))*1 -> 1084824 | R15: =TRIM(SUBSTITUTE(G15,CHAR(160),""))*1 -> 1134238 | S15: =TRIM(SUBSTITUTE(H15,CHAR(160),""))*1 -> 1208004 | T15: =TRIM(SUBSTITUTE(I15,CHAR(160),""))*1 -> 1268228 | U15: =TRIM(SUBSTITUTE(J15,CHAR(160),""))*1 -> 1134238
A16: Isère | B16: 38 | C16: 767678 | D16: 860339 | E16: 936771 | F16: 1016228 | G16: 1094006 | H16: 1197038 | I16: 1243597 | J16: 1094006 | K16: 7 431,5 | L16: 171.9 | N16: =TRIM(SUBSTITUTE(C16,CHAR(160),""))*1 -> 767678 | O16: =TRIM(SUBSTITUTE(D16,CHAR(160),""))*1 -> 860339 | P16: =TRIM(SUBSTITUTE(E16,CHAR(160),""))*1 -> 936771 | Q16: =TRIM(SUBSTITUTE(F16,CHAR(160),""))*1 -> 1016228 | R16: =TRIM(SUBSTITUTE(G16,CHAR(160),""))*1 -> 1094006 | S16: =TRIM(SUBSTITUTE(H16,CHAR(160),""))*1 -> 1197038 | T16: =TRIM(SUBSTITUTE(I16,CHAR(160),""))*1 -> 1243597 | U16: =TRIM(SUBSTITUTE(J16,CHAR(160),""))*1 -> 1094006
A17: Seine-Maritime | B17: 76 | C17: 1113977 | D17: 1172743 | E17: 1193108 | F17: 1223429 | G17: 1239138 | H17: 1250120 | I17: 1257920 | J17: 1239138 | K17: 6 277,6 | L17: 199.9 | N17: =TRIM(SUBSTITUTE(C17,CHAR(160),""))*1 -> 1113977 | O17: =TRIM(SUBSTITUTE(D17,CHAR(160),""))*1 -> 1172743 | P17: =TRIM(SUBSTITUTE(E17,CHAR(160),""))*1 -> 1193108 | Q17: =TRIM(SUBSTITUTE(F17,CHAR(160),""))*1 -> 1223429 | R17: =TRIM(SUBSTITUTE(G17,CHAR(160),""))*1 -> 1239138 | S17: =TRIM(SUBSTITUTE(H17,CHAR(160),""))*1 -> 1250120 | T17: =TRIM(SUBSTITUTE(I17,CHAR(160),""))*1 -> 1257920 | U17: =TRIM(SUBSTITUTE(J17,CHAR(160),""))*1 -> 1239138
A18: Val-d'Oise | B18: 95 | C18: 693269 | D18: 840885 | E18: 920598 | F18: 1049598 | G18: 1105464 | H18: 1168892 | I18: 1205539 | J18: 1105464 | K18: 1 245,9 | L18: 1 004,7 | N18: =TRIM(SUBSTITUTE(C18,CHAR(160),""))*1 -> 693269 | O18: =TRIM(SUBSTITUTE(D18,CHAR(160),""))*1 -> 840885 | P18: =TRIM(SUBSTITUTE(E18,CHAR(160),""))*1 -> 920598 | Q18: =TRIM(SUBSTITUTE(F18,CHAR(160),""))*1 -> 1049598 | R18: =TRIM(SUBSTITUTE(G18,CHAR(160),""))*1 -> 1105464 | S18: =TRIM(SUBSTITUTE(H18,CHAR(160),""))*1 -> 1168892 | T18: =TRIM(SUBSTITUTE(I18,CHAR(160),""))*1 -> 1205539 | U18: =TRIM(SUBSTITUTE(J18,CHAR(160),""))*1 -> 1105464
A19: Hérault | B19: 34 | C19: 591397 | D19: 648202 | E19: 706499 | F19: 794603 | G19: 896441 | H19: 1031974 | I19: 1107398 | J19: 896441 | K19: 6 101,0 | L19: 194.9 | N19: =TRIM(SUBSTITUTE(C19,CHAR(160),""))*1 -> 591397 | O19: =TRIM(SUBSTITUTE(D19,CHAR(160),""))*1 -> 648202 | P19: =TRIM(SUBSTITUTE(E19,CHAR(160),""))*1 -> 706499 | Q19: =TRIM(SUBSTITUTE(F19,CHAR(160),""))*1 -> 794603 | R19: =TRIM(SUBSTITUTE(G19,CHAR(160),""))*1 -> 896441 | S19: =TRIM(SUBSTITUTE(H19,CHAR(160),""))*1 -> 1031974 | T19: =TRIM(SUBSTITUTE(I19,CHAR(160),""))*1 -> 1107398 | U19: =TRIM(SUBSTITUTE(J19,CHAR(160),""))*1 -> 896441
A20: Bas-Rhin | B20: 67 | C20: 827367 | D20: 882121 | E20: 915676 | F20: 953053 | G20: 1026120 | H20: 1094439 | I20: 1112815 | J20: 1026120 | K20: 4 755,0 | L20: 241.4 | N20: =TRIM(SUBSTITUTE(C20,CHAR(160),""))*1 -> 827367 | O20: =TRIM(SUBSTITUTE(D20,CHAR(160),""))*1 -> 882121 | P20: =TRIM(SUBSTITUTE(E20,CHAR(160),""))*1 -> 915676 | Q20: =TRIM(SUBSTITUTE(F20,CHAR(160),""))*1 -> 953053 | R20: =TRIM(SUBSTITUTE(G20,CHAR(160),""))*1 -> 1026120 | S20: =TRIM(SUBSTITUTE(H20,CHAR(160),""))*1 -> 1094439 | T20: =TRIM(SUBSTITUTE(I20,CHAR(160),""))*1 -> 1112815 | U20: =TRIM(SUBSTITUTE(J20,CHAR(160),""))*1 -> 1026120
A21: Alpes-Maritimes | B21: 6 | C21: 722070 | D21: 816681 | E21: 881198 | F21: 971829 | G21: 1011326 | H21: 1079100 | I21: 1083312 | J21: 1011326 | K21: 4 298,6 | L21: 255.3 | N21: =TRIM(SUBSTITUTE(C21,CHAR(160),""))*1 -> 722070 | O21: =TRIM(SUBSTITUTE(D21,CHAR(160),""))*1 -> 816681 | P21: =TRIM(SUBSTITUTE(E21,CHAR(160),""))*1 -> 881198 | Q21: =TRIM(SUBSTITUTE(F21,CHAR(160),""))*1 -> 971829 | R21: =TRIM(SUBSTITUTE(G21,CHAR(160),""))*1 -> 1011326 | S21: =TRIM(SUBSTITUTE(H21,CHAR(160),""))*1 -> 1079100 | T21: =TRIM(SUBSTITUTE(I21,CHAR(160),""))*1 -> 1083312 | U21: =TRIM(SUBSTITUTE(J21,CHAR(160),""))*1 -> 1011326
A22: Ille-et-Vilaine | B22: 35 | C22: 652722 | D22: 702199 | E22: 749764 | F22: 798718 | G22: 867533 | H22: 977449 | I22: 1032240 | J22: 867533 | K22: 6 774,7 | L22: 160.7 | N22: =TRIM(SUBSTITUTE(C22,CHAR(160),""))*1 -> 652722 | O22: =TRIM(SUBSTITUTE(D22,CHAR(160),""))*1 -> 702199 | P22: =TRIM(SUBSTITUTE(E22,CHAR(160),""))*1 -> 749764 | Q22: =TRIM(SUBSTITUTE(F22,CHAR(160),""))*1 -> 798718 | R22: =TRIM(SUBSTITUTE(G22,CHAR(160),""))*1 -> 867533 | S22: =TRIM(SUBSTITUTE(H22,CHAR(160),""))*1 -> 977449 | T22: =TRIM(SUBSTITUTE(I22,CHAR(160),""))*1 -> 1032240 | U22: =TRIM(SUBSTITUTE(J22,CHAR(160),""))*1 -> 867533
A23: Var | B23: 83 | C23: 555926 | D23: 626093 | E23: 708331 | F23: 815449 | G23: 898441 | H23: 1007303 | I23: 1038212 | J23: 898441 | K23: 5 972,5 | L23: 181.7 | N23: =TRIM(SUBSTITUTE(C23,CHAR(160),""))*1 -> 555926 | O23: =TRIM(SUBSTITUTE(D23,CHAR(160),""))*1 -> 626093 | P23: =TRIM(SUBSTITUTE(E23,CHAR(160),""))*1 -> 708331 | Q23: =TRIM(SUBSTITUTE(F23,CHAR(160),""))*1 -> 815449 | R23: =TRIM(SUBSTITUTE(G23,CHAR(160),""))*1 -> 898441 | S23: =TRIM(SUBSTITUTE(H23,CHAR(160),""))*1 -> 1007303 | T23: =TRIM(SUBSTITUTE(I23,CHAR(160),""))*1 -> 1038212 | U23: =TRIM(SUBSTITUTE(J23,CHAR(160),""))*1 -> 898441
A24: Moselle | B24: 57 | C24: 971314 | D24: 1006373 | E24: 1007189 | F24: 1011302 | G24: 1023447 | H24: 1044898 | I24: 1045154 | J24: 1023447 | K24: 6 216,3 | L24: 168.8 | N24: =TRIM(SUBSTITUTE(C24,CHAR(160),""))*1 -> 971314 | O24: =TRIM(SUBSTITUTE(D24,CHAR(160),""))*1 -> 1006373 | P24: =TRIM(SUBSTITUTE(E24,CHAR(160),""))*1 -> 1007189 | Q24: =TRIM(SUBSTITUTE(F24,CHAR(160),""))*1 -> 1011302 | R24: =TRIM(SUBSTITUTE(G24,CHAR(160),""))*1 -> 1023447 | S24: =TRIM(SUBSTITUTE(H24,CHAR(160),""))*1 -> 1044898 | T24: =TRIM(SUBSTITUTE(I24,CHAR(160),""))*1 -> 1045154 | U24: =TRIM(SUBSTITUTE(J24,CHAR(160),""))*1 -> 1023447
A25: Finistère | B25: 29 | C25: 768929 | D25: 804088 | E25: 828364 | F25: 838687 | G25: 852418 | H25: 893914 | I25: 905855 | J25: 852418 | K25: 6 733,0 | L25: 136.2 | N25: =TRIM(SUBSTITUTE(C25,CHAR(160),""))*1 -> 768929 | O25: =TRIM(SUBSTITUTE(D25,CHAR(160),""))*1 -> 804088 | P25: =TRIM(SUBSTITUTE(E25,CHAR(160),""))*1 -> 828364 | Q25: =TRIM(SUBSTITUTE(F25,CHAR(160),""))*1 -> 838687 | R25: =TRIM(SUBSTITUTE(G25,CHAR(160),""))*1 -> 852418 | S25: =TRIM(SUBSTITUTE(H25,CHAR(160),""))*1 -> 893914 | T25: =TRIM(SUBSTITUTE(I25,CHAR(160),""))*1 -> 905855 | U25: =TRIM(SUBSTITUTE(J25,CHAR(160),""))*1 -> 852418
A26: La Réunion | B26: 974 | C26: 416525 | D26: 476675 | E26: 515814 | F26: 597823 | G26: 706300 | H26: 816364 | I26: 842767 | J26: 706300 | K26: 2 503,7 | L26: 344.7 | N26: =TRIM(SUBSTITUTE(C26,CHAR(160),""))*1 -> 416525 | O26: =TRIM(SUBSTITUTE(D26,CHAR(160),""))*1 -> 476675 | P26: =TRIM(SUBSTITUTE(E26,CHAR(160),""))*1 -> 515814 | Q26: =TRIM(SUBSTITUTE(F26,CHAR(160),""))*1 -> 597823 | R26: =TRIM(SUBSTITUTE(G26,CHAR(160),""))*1 -> 706300 | S26: =TRIM(SUBSTITUTE(H26,CHAR(160),""))*1 -> 816364 | T26: =TRIM(SUBSTITUTE(I26,CHAR(160),""))*1 -> 842767 | U26: =TRIM(SUBSTITUTE(J26,CHAR(160),""))*1 -> 706300
A27: Haute-Savoie | B27: 74 | C27: 378550 | D27: 447795 | E27: 494505 | F27: 568286 | G27: 631679 | H27: 725794 | I27: 783127 | J27: 631679 | K27: 4 387,8 | L27: 190.3 | N27: =TRIM(SUBSTITUTE(C27,CHAR(160),""))*1 -> 378550 | O27: =TRIM(SUBSTITUTE(D27,CHAR(160),""))*1 -> 447795 | P27: =TRIM(SUBSTITUTE(E27,CHAR(160),""))*1 -> 494505 | Q27: =TRIM(SUBSTITUTE(F27,CHAR(160),""))*1 -> 568286 | R27: =TRIM(SUBSTITUTE(G27,CHAR(160),""))*1 -> 631679 | S27: =TRIM(SUBSTITUTE(H27,CHAR(160),""))*1 -> 725794 | T27: =TRIM(SUBSTITUTE(I27,CHAR(160),""))*1 -> 783127 | U27: =TRIM(SUBSTITUTE(J27,CHAR(160),""))*1 -> 631679
A28: Oise | B28: 60 | C28: 540988 | D28: 606320 | E28: 661781 | F28: 725603 | G28: 766441 | H28: 801512 | I28: 818680 | J28: 766441 | K28: 5 860,2 | L28: 141.6 | N28: =TRIM(SUBSTITUTE(C28,CHAR(160),""))*1 -> 540988 | O28: =TRIM(SUBSTITUTE(D28,CHAR(160),""))*1 -> 606320 | P28: =TRIM(SUBSTITUTE(E28,CHAR(160),""))*1 -> 661781 | Q28: =TRIM(SUBSTITUTE(F28,CHAR(160),""))*1 -> 725603 | R28: =TRIM(SUBSTITUTE(G28,CHAR(160),""))*1 -> 766441 | S28: =TRIM(SUBSTITUTE(H28,CHAR(160),""))*1 -> 801512 | T28: =TRIM(SUBSTITUTE(I28,CHAR(160),""))*1 -> 818680 | U28: =TRIM(SUBSTITUTE(J28,CHAR(160),""))*1 -> 766441
A29: Maine-et-Loire | B29: 49 | C29: 584933 | D29: 629466 | E29: 674997 | F29: 705599 | G29: 732657 | H29: 780082 | I29: 805888 | J29: 732657 | K29: 7 106,6 | L29: 115.5 | N29: =TRIM(SUBSTITUTE(C29,CHAR(160),""))*1 -> 584933 | O29: =TRIM(SUBSTITUTE(D29,CHAR(160),""))*1 -> 629466 | P29: =TRIM(SUBSTITUTE(E29,CHAR(160),""))*1 -> 674997 | Q29: =TRIM(SUBSTITUTE(F29,CHAR(160),""))*1 -> 705599 | R29: =TRIM(SUBSTITUTE(G29,CHAR(160),""))*1 -> 732657 | S29: =TRIM(SUBSTITUTE(H29,CHAR(160),""))*1 -> 780082 | T29: =TRIM(SUBSTITUTE(I29,CHAR(160),""))*1 -> 805888 | U29: =TRIM(SUBSTITUTE(J29,CHAR(160),""))*1 -> 732657
A30: Loire | B30: 42 | C30: 722443 | D30: 742396 | E30: 739521 | F30: 746288 | G30: 728524 | H30: 746115 | I30: 757305 | J30: 728524 | K30: 4 780,6 | L30: 160.8 | N30: =TRIM(SUBSTITUTE(C30,CHAR(160),""))*1 -> 722443 | O30: =TRIM(SUBSTITUTE(D30,CHAR(160),""))*1 -> 742396 | P30: =TRIM(SUBSTITUTE(E30,CHAR(160),""))*1 -> 739521 | Q30: =TRIM(SUBSTITUTE(F30,CHAR(160),""))*1 -> 746288 | R30: =TRIM(SUBSTITUTE(G30,CHAR(160),""))*1 -> 728524 | S30: =TRIM(SUBSTITUTE(H30,CHAR(160),""))*1 -> 746115 | T30: =TRIM(SUBSTITUTE(I30,CHAR(160),""))*1 -> 757305 | U30: =TRIM(SUBSTITUTE(J30,CHAR(160),""))*1 -> 728524
... A90: Meuse | B90: 55 | C90: 209372 | D90: 203799 | E90: 199983 | F90: 196223 | G90: 192198 | H90: 194003 | I90: 191530 | J90: 192198 | K90: 6 211,4 | L90: 29.5 | N90: =TRIM(SUBSTITUTE(C90,CHAR(160),""))*1 -> 209372 | O90: =TRIM(SUBSTITUTE(D90,CHAR(160),""))*1 -> 203799 | P90: =TRIM(SUBSTITUTE(E90,CHAR(160),""))*1 -> 199983 | Q90: =TRIM(SUBSTITUTE(F90,CHAR(160),""))*1 -> 196223 | R90: =TRIM(SUBSTITUTE(G90,CHAR(160),""))*1 -> 192198 | S90: =TRIM(SUBSTITUTE(H90,CHAR(160),""))*1 -> 194003 | T90: =TRIM(SUBSTITUTE(I90,CHAR(160),""))*1 -> 191530 | U90: =TRIM(SUBSTITUTE(J90,CHAR(160),""))*1 -> 192198
A91: Haute-Corse | B91: 2B | C91: 115702 | D91: 125284 | E91: 131574 | F91: 131563 | G91: 141603 | H91: 164344 | I91: 172560 | J91: 141603 | K91: 4 665,6 | L91: 39.2 | N91: =TRIM(SUBSTITUTE(C91,CHAR(160),""))*1 -> 115702 | O91: =TRIM(SUBSTITUTE(D91,CHAR(160),""))*1 -> 125284 | P91: =TRIM(SUBSTITUTE(E91,CHAR(160),""))*1 -> 131574 | Q91: =TRIM(SUBSTITUTE(F91,CHAR(160),""))*1 -> 131563 | R91: =TRIM(SUBSTITUTE(G91,CHAR(160),""))*1 -> 141603 | S91: =TRIM(SUBSTITUTE(H91,CHAR(160),""))*1 -> 164344 | T91: =TRIM(SUBSTITUTE(I91,CHAR(160),""))*1 -> 172560 | U91: =TRIM(SUBSTITUTE(J91,CHAR(160),""))*1 -> 141603
A92: Lot | B92: 46 | C92: 151198 | D92: 150778 | E92: 154533 | F92: 155816 | G92: 160197 | H92: 173562 | I92: 173648 | J92: 160197 | K92: 5 216,5 | L92: 33.5 | N92: =TRIM(SUBSTITUTE(C92,CHAR(160),""))*1 -> 151198 | O92: =TRIM(SUBSTITUTE(D92,CHAR(160),""))*1 -> 150778 | P92: =TRIM(SUBSTITUTE(E92,CHAR(160),""))*1 -> 154533 | Q92: =TRIM(SUBSTITUTE(F92,CHAR(160),""))*1 -> 155816 | R92: =TRIM(SUBSTITUTE(G92,CHAR(160),""))*1 -> 160197 | S92: =TRIM(SUBSTITUTE(H92,CHAR(160),""))*1 -> 173562 | T92: =TRIM(SUBSTITUTE(I92,CHAR(160),""))*1 -> 173648 | U92: =TRIM(SUBSTITUTE(J92,CHAR(160),""))*1 -> 160197
A93: Haute-Marne | B93: 52 | C93: 214340 | D93: 212304 | E93: 210670 | F93: 204067 | G93: 194873 | H93: 185214 | I93: 180673 | J93: 194873 | K93: 6 210,6 | L93: 27.7 | N93: =TRIM(SUBSTITUTE(C93,CHAR(160),""))*1 -> 214340 | O93: =TRIM(SUBSTITUTE(D93,CHAR(160),""))*1 -> 212304 | P93: =TRIM(SUBSTITUTE(E93,CHAR(160),""))*1 -> 210670 | Q93: =TRIM(SUBSTITUTE(F93,CHAR(160),""))*1 -> 204067 | R93: =TRIM(SUBSTITUTE(G93,CHAR(160),""))*1 -> 194873 | S93: =TRIM(SUBSTITUTE(H93,CHAR(160),""))*1 -> 185214 | T93: =TRIM(SUBSTITUTE(I93,CHAR(160),""))*1 -> 180673 | U93: =TRIM(SUBSTITUTE(J93,CHAR(160),""))*1 -> 194873
A94: Alpes-de-Haute-Provence | B94: 4 | C94: 104813 | D94: 112178 | E94: 119068 | F94: 130883 | G94: 139561 | H94: 159450 | I94: 161588 | J94: 139561 | K94: 6 925,2 | L94: 23.9 | N94: =TRIM(SUBSTITUTE(C94,CHAR(160),""))*1 -> 104813 | O94: =TRIM(SUBSTITUTE(D94,CHAR(160),""))*1 -> 112178 | P94: =TRIM(SUBSTITUTE(E94,CHAR(160),""))*1 -> 119068 | Q94: =TRIM(SUBSTITUTE(F94,CHAR(160),""))*1 -> 130883 | R94: =TRIM(SUBSTITUTE(G94,CHAR(160),""))*1 -> 139561 | S94: =TRIM(SUBSTITUTE(H94,CHAR(160),""))*1 -> 159450 | T94: =TRIM(SUBSTITUTE(I94,CHAR(160),""))*1 -> 161588 | U94: =TRIM(SUBSTITUTE(J94,CHAR(160),""))*1 -> 139561
A95: Corse-du-Sud | B95: 2A | C95: 89566 | D95: 100278 | E95: 108604 | F95: 118808 | G95: 118593 | H95: 141330 | I95: 151652 | J95: 118593 | K95: 4 014,2 | L95: 40.1 | N95: =TRIM(SUBSTITUTE(C95,CHAR(160),""))*1 -> 89566 | O95: =TRIM(SUBSTITUTE(D95,CHAR(160),""))*1 -> 100278 | P95: =TRIM(SUBSTITUTE(E95,CHAR(160),""))*1 -> 108604 | Q95: =TRIM(SUBSTITUTE(F95,CHAR(160),""))*1 -> 118808 | R95: =TRIM(SUBSTITUTE(G95,CHAR(160),""))*1 -> 118593 | S95: =TRIM(SUBSTITUTE(H95,CHAR(160),""))*1 -> 141330 | T95: =TRIM(SUBSTITUTE(I95,CHAR(160),""))*1 -> 151652 | U95: =TRIM(SUBSTITUTE(J95,CHAR(160),""))*1 -> 118593
A96: Ariège | B96: 9 | C96: 138478 | D96: 137857 | E96: 135725 | F96: 136455 | G96: 137205 | H96: 151117 | I96: 152574 | J96: 137205 | K96: 4 889,9 | L96: 31.5 | N96: =TRIM(SUBSTITUTE(C96,CHAR(160),""))*1 -> 138478 | O96: =TRIM(SUBSTITUTE(D96,CHAR(160),""))*1 -> 137857 | P96: =TRIM(SUBSTITUTE(E96,CHAR(160),""))*1 -> 135725 | Q96: =TRIM(SUBSTITUTE(F96,CHAR(160),""))*1 -> 136455 | R96: =TRIM(SUBSTITUTE(G96,CHAR(160),""))*1 -> 137205 | S96: =TRIM(SUBSTITUTE(H96,CHAR(160),""))*1 -> 151117 | T96: =TRIM(SUBSTITUTE(I96,CHAR(160),""))*1 -> 152574 | U96: =TRIM(SUBSTITUTE(J96,CHAR(160),""))*1 -> 137205
A97: Cantal | B97: 15 | C97: 169330 | D97: 166549 | E97: 162838 | F97: 158723 | G97: 150778 | H97: 148380 | I97: 146618 | J97: 150778 | K97: 5 726,0 | L97: 25.2 | N97: =TRIM(SUBSTITUTE(C97,CHAR(160),""))*1 -> 169330 | O97: =TRIM(SUBSTITUTE(D97,CHAR(160),""))*1 -> 166549 | P97: =TRIM(SUBSTITUTE(E97,CHAR(160),""))*1 -> 162838 | Q97: =TRIM(SUBSTITUTE(F97,CHAR(160),""))*1 -> 158723 | R97: =TRIM(SUBSTITUTE(G97,CHAR(160),""))*1 -> 150778 | S97: =TRIM(SUBSTITUTE(H97,CHAR(160),""))*1 -> 148380 | T97: =TRIM(SUBSTITUTE(I97,CHAR(160),""))*1 -> 146618 | U97: =TRIM(SUBSTITUTE(J97,CHAR(160),""))*1 -> 150778
A98: Hautes-Alpes | B98: 5 | C98: 91790 | D98: 97358 | E98: 105070 | F98: 113300 | G98: 121419 | H98: 135836 | I98: 139883 | J98: 121419 | K98: 5 548,7 | L98: 25.3 | N98: =TRIM(SUBSTITUTE(C98,CHAR(160),""))*1 -> 91790 | O98: =TRIM(SUBSTITUTE(D98,CHAR(160),""))*1 -> 97358 | P98: =TRIM(SUBSTITUTE(E98,CHAR(160),""))*1 -> 105070 | Q98: =TRIM(SUBSTITUTE(F98,CHAR(160),""))*1 -> 113300 | R98: =TRIM(SUBSTITUTE(G98,CHAR(160),""))*1 -> 121419 | S98: =TRIM(SUBSTITUTE(H98,CHAR(160),""))*1 -> 135836 | T98: =TRIM(SUBSTITUTE(I98,CHAR(160),""))*1 -> 139883 | U98: =TRIM(SUBSTITUTE(J98,CHAR(160),""))*1 -> 121419
A99: Territoire de Belfort | B99: 90 | C99: 118450 | D99: 128125 | E99: 131999 | F99: 134097 | G99: 137408 | H99: 142461 | I99: 144334 | J99: 137408 | K99: 609.4 | L99: 229.9 | N99: =TRIM(SUBSTITUTE(C99,CHAR(160),""))*1 -> 118450 | O99: =TRIM(SUBSTITUTE(D99,CHAR(160),""))*1 -> 128125 | P99: =TRIM(SUBSTITUTE(E99,CHAR(160),""))*1 -> 131999 | Q99: =TRIM(SUBSTITUTE(F99,CHAR(160),""))*1 -> 134097 | R99: =TRIM(SUBSTITUTE(G99,CHAR(160),""))*1 -> 137408 | S99: =TRIM(SUBSTITUTE(H99,CHAR(160),""))*1 -> 142461 | T99: =TRIM(SUBSTITUTE(I99,CHAR(160),""))*1 -> 144334 | U99: =TRIM(SUBSTITUTE(J99,CHAR(160),""))*1 -> 137408
...

Sheet Feuil2
A1: Département | B1: Population 2020 | C1: Population 2014 | D1: % croissance / précédent recensement | G1: Population 2020 | H1: Population 2014
A2: Nord | B2: =VLOOKUP(A2,'Base de Données'!$1:$1048576,10,FALSE) -> 2607746 | C2: =VLOOKUP(A2,'Base de Données'!$1:$1048576,9,FALSE) -> 2603472 | D2: =(B2-C2)/C2 -> 0.0016416539 | G2: =IFERROR(INDEX('Base de Données'!$B$2:$U$101,MATCH(Feuil2!$A2,'Base de Données'!$A$2:$A$101,0),MATCH(Feuil2!G$1,'Base de Données'!$B$1:$U$1,0)),"") -> 2607746 | H2: =IFERROR(INDEX('Base de Données'!$B$2:$U$101,MATCH(Feuil2!$A2,'Base de Données'!$A$2:$A$101,0),MATCH(Feuil2!H$1,'Base de Données'!$B$1:$U$1,0)),"") -> 2603472
A3: Paris | B3: =VLOOKUP(A3,'Base de Données'!$1:$1048576,10,FALSE) -> 2125246 | C3: =VLOOKUP(A3,'Base de Données'!$1:$1048576,9,FALSE) -> 2220445 | D3: =(B3-C3)/C3 -> -0.042873838 | G3: =IFERROR(INDEX('Base de Données'!$B$2:$U$101,MATCH(Feuil2!$A3,'Base de Données'!$A$2:$A$101,0),MATCH(Feuil2!G$1,'Base de Données'!$B$1:$U$1,0)),"") -> 2125246 | H3: =IFERROR(INDEX('Base de Données'!$B$2:$U$101,MATCH(Feuil2!$A3,'Base de Données'!$A$2:$A$101,0),MATCH(Feuil2!H$1,'Base de Données'!$B$1:$U$1,0)),"") -> 2220445
A4: Bouches-du-Rhône | B4: =VLOOKUP(A4,'Base de Données'!$1:$1048576,10,FALSE) -> 1835719 | C4: =VLOOKUP(A4,'Base de Données'!$1:$1048576,9,FALSE) -> 2006069 | D4: =(B4-C4)/C4 -> -0.084917318 | G4: =IFERROR(INDEX('Base de Données'!$B$2:$U$101,MATCH(Feuil2!$A4,'Base de Données'!$A$2:$A$101,0),MATCH(Feuil2!G$1,'Base de Données'!$B$1:$U$1,0)),"") -> 1835719 | H4: =IFERROR(INDEX('Base de Données'!$B$2:$U$101,MATCH(Feuil2!$A4,'Base de Données'!$A$2:$A$101,0),MATCH(Feuil2!H$1,'Base de Données'!$B$1:$U$1,0)),"") -> 2006069
A5: Circonscription départementale du Rhône | B5: =VLOOKUP(A5,'Base de Données'!$1:$1048576,10,FALSE) -> 1578869 | C5: =VLOOKUP(A5,'Base de Données'!$1:$1048576,9,FALSE) -> 1801885 | D5: =(B5-C5)/C5 -> -0.12376817 | G5: =IFERROR(INDEX('Base de Données'!$B$2:$U$101,MATCH(Feuil2!$A5,'Base de Données'!$A$2:$A$101,0),MATCH(Feuil2!G$1,'Base de Données'!$B$1:$U$1,0)),"") -> 1578869 | H5: =IFERROR(INDEX('Base de Données'!$B$2:$U$101,MATCH(Feuil2!$A5,'Base de Données'!$A$2:$A$101,0),MATCH(Feuil2!H$1,'Base de Données'!$B$1:$U$1,0)),"") -> 1801885
A6: Seine-Saint-Denis | B6: =VLOOKUP(A6,'Base de Données'!$1:$1048576,10,FALSE) -> 1382861 | C6: =VLOOKUP(A6,'Base de Données'!$1:$1048576,9,FALSE) -> 1571028 | D6: =(B6-C6)/C6 -> -0.11977317 | G6: =IFERROR(INDEX('Base de Données'!$B$2:$U$101,MATCH(Feuil2!$A6,'Base de Données'!$A$2:$A$101,0),MATCH(Feuil2!G$1,'Base de Données'!$B$1:$U$1,0)),"") -> 1382861 | H6: =IFERROR(INDEX('Base de Données'!$B$2:$U$101,MATCH(Feuil2!$A6,'Base de Données'!$A$2:$A$101,0),MATCH(Feuil2!H$1,'Base de Données'!$B$1:$U$1,0)),"") -> 1571028
A7: Gironde | B7: =VLOOKUP(A7,'Base de Données'!$1:$1048576,10,FALSE) -> 1287334 | C7: =VLOOKUP(A7,'Base de Données'!$1:$1048576,9,FALSE) -> 1526016 | D7: =(B7-C7)/C7 -> -0.15640858 | G7: =IFERROR(INDEX('Base de Données'!$B$2:$U$101,MATCH(Feuil2!$A7,'Base de Données'!$A$2:$A$101,0),MATCH(Feuil2!G$1,'Base de Données'!$B$1:$U$1,0)),"") -> 1287334 | H7: =IFERROR(INDEX('Base de Données'!$B$2:$U$101,MATCH(Feuil2!$A7,'Base de Données'!$A$2:$A$101,0),MATCH(Feuil2!H$1,'Base de Données'!$B$1:$U$1,0)),"") -> 1526016
A8: Hauts-de-Seine | B8: =VLOOKUP(A8,'Base de Données'!$1:$1048576,10,FALSE) -> 1428881 | C8: =VLOOKUP(A8,'Base de Données'!$1:$1048576,9,FALSE) -> 1597770 | D8: =(B8-C8)/C8 -> -0.10570295 | G8: =IFERROR(INDEX('Base de Données'!$B$2:$U$101,MATCH(Feuil2!$A8,'Base de Données'!$A$2:$A$101,0),MATCH(Feuil2!G$1,'Base de Données'!$B$1:$U$1,0)),"") -> 1428881 | H8: =IFERROR(INDEX('Base de Données'!$B$2:$U$101,MATCH(Feuil2!$A8,'Base de Données'!$A$2:$A$101,0),MATCH(Feuil2!H$1,'Base de Données'!$B$1:$U$1,0)),"") -> 1597770
A9: Pas-de-Calais | B9: =VLOOKUP(A9,'Base de Données'!$1:$1048576,10,FALSE) -> 1441568 | C9: =VLOOKUP(A9,'Base de Données'!$1:$1048576,9,FALSE) -> 1472589 | D9: =(B9-C9)/C9 -> -0.02106562 | G9: =IFERROR(INDEX('Base de Données'!$B$2:$U$101,MATCH(Feuil2!$A9,'Base de Données'!$A$2:$A$101,0),MATCH(Feuil2!G$1,'Base de Données'!$B$1:$U$1,0)),"") -> 1441568 | H9: =IFERROR(INDEX('Base de Données'!$B$2:$U$101,MATCH(Feuil2!$A9,'Base de Données'!$A$2:$A$101,0),MATCH(Feuil2!H$1,'Base de Données'!$B$1:$U$1,0)),"") -> 1472589
A10: Yvelines | B10: =VLOOKUP(A10,'Base de Données'!$1:$1048576,10,FALSE) -> 1354304 | C10: =VLOOKUP(A10,'Base de Données'!$1:$1048576,9,FALSE) -> 1421670 | D10: =(B10-C10)/C10 -> -0.047385118 | G10: =IFERROR(INDEX('Base de Données'!$B$2:$U$101,MATCH(Feuil2!$A10,'Base de Données'!$A$2:$A$101,0),MATCH(Feuil2!G$1,'Base de Données'!$B$1:$U$1,0)),"") -> 1354304 | H10: =IFERROR(INDEX('Base de Données'!$B$2:$U$101,MATCH(Feuil2!$A10,'Base de Données'!$A$2:$A$101,0),MATCH(Feuil2!H$1,'Base de Données'!$B$1:$U$1,0)),"") -> 1421670
A11: Loire-Atlantique | B11: =VLOOKUP(A11,'Base de Données'!$1:$1048576,10,FALSE) -> 1134551 | C11: =VLOOKUP(A11,'Base de Données'!$1:$1048576,9,FALSE) -> 1346592 | D11: =(B11-C11)/C11 -> -0.15746492 | G11: =IFERROR(INDEX('Base de Données'!$B$2:$U$101,MATCH(Feuil2!$A11,'Base de Données'!$A$2:$A$101,0),MATCH(Feuil2!G$1,'Base de Données'!$B$1:$U$1,0)),"") -> 1134551 | H11: =IFERROR(INDEX('Base de Données'!$B$2:$U$101,MATCH(Feuil2!$A11,'Base de Données'!$A$2:$A$101,0),MATCH(Feuil2!H$1,'Base de Données'!$B$1:$U$1,0)),"") -> 1346592
A12: Seine-et-Marne | B12: =VLOOKUP(A12,'Base de Données'!$1:$1048576,10,FALSE) -> 1193767 | C12: =VLOOKUP(A12,'Base de Données'!$1:$1048576,9,FALSE) -> 1377846 | D12: =(B12-C12)/C12 -> -0.13359911 | G12: =IFERROR(INDEX('Base de Données'!$B$2:$U$101,MATCH(Feuil2!$A12,'Base de Données'!$A$2:$A$101,0),MATCH(Feuil2!G$1,'Base de Données'!$B$1:$U$1,0)),"") -> 1193767 | H12: =IFERROR(INDEX('Base de Données'!$B$2:$U$101,MATCH(Feuil2!$A12,'Base de Données'!$A$2:$A$101,0),MATCH(Feuil2!H$1,'Base de Données'!$B$1:$U$1,0)),"") -> 1377846
A13: Haute-Garonne | B13: =VLOOKUP(A13,'Base de Données'!$1:$1048576,10,FALSE) -> 1046338 | C13: =VLOOKUP(A13,'Base de Données'!$1:$1048576,9,FALSE) -> 1317668 | D13: =(B13-C13)/C13 -> -0.20591682 | G13: =IFERROR(INDEX('Base de Données'!$B$2:$U$101,MATCH(Feuil2!$A13,'Base de Données'!$A$2:$A$101,0),MATCH(Feuil2!G$1,'Base de Données'!$B$1:$U$1,0)),"") -> 1046338 | H13: =IFERROR(INDEX('Base de Données'!$B$2:$U$101,MATCH(Feuil2!$A13,'Base de Données'!$A$2:$A$101,0),MATCH(Feuil2!H$1,'Base de Données'!$B$1:$U$1,0)),"") -> 1317668
... A101: Lozère | B101: =VLOOKUP(A101,'Base de Données'!$1:$1048576,10,FALSE) -> 73509 | C101: =VLOOKUP(A101,'Base de Données'!$1:$1048576,9,FALSE) -> 76360 | D101: =(B101-C101)/C101 -> -0.037336302 | G101: =IFERROR(INDEX('Base de Données'!$B$2:$U$101,MATCH(Feuil2!$A101,'Base de Données'!$A$2:$A$101,0),MATCH(Feuil2!G$1,'Base de Données'!$B$1:$U$1,0)),"") -> 73509 | H101: =IFERROR(INDEX('Base de Données'!$B$2:$U$101,MATCH(Feuil2!$A101,'Base de Données'!$A$2:$A$101,0),MATCH(Feuil2!H$1,'Base de Données'!$B$1:$U$1,0)),"") -> 76360
