Workbook

Sheet BDD
A1: LIBELLE DE COMPTE | B1: COMPTE | C1: INFORMATION | D1: TAUX | E1: TOTAL HT | F1: TVA | H1: LIBELLE DE COMPTE | I1: COMPTE | J1: INFORMATION | K1: TAUX | L1: Total HT | M1: TVA
C2: TVA COLLECTEE | J2: TVA DEDUCTIBLE
A3: TVA collectée sur immos 1 | B3: 445710 | D3: 0.1 | E3: 200 | F3: =TVAcollectee[[#This Row],[TOTAL HT]]*TVAcollectee[[#This Row],[TAUX]] -> 20 | H3: TVA déd sur immos 1 | I3: 445620 | M3: =TVAdeductible[[#This Row],[TAUX]]*TVAdeductible[[#This Row],[Total HT]] -> 0
A4: TVA collectée sur immos 2 | B4: 445710 | C4: Vente d'immos FR | F4: =TVAcollectee[[#This Row],[TOTAL HT]]*TVAcollectee[[#This Row],[TAUX]] -> 0 | H4: TVA déd sur immos 2 | I4: 445620 | J4: Achat d'immo FR | M4: =TVAdeductible[[#This Row],[TAUX]]*TVAdeductible[[#This Row],[Total HT]] -> 0
A5: TVA collectée sur immos 3 | B5: 445710 | F5: =TVAcollectee[[#This Row],[TOTAL HT]]*TVAcollectee[[#This Row],[TAUX]] -> 0 | H5: TVA déd sur immos 3 | I5: 445620 | M5: =TVAdeductible[[#This Row],[TAUX]]*TVAdeductible[[#This Row],[Total HT]] -> 0
A6: TVA collectée sur immos 4 | B6: 445710 | F6: =TVAcollectee[[#This Row],[TOTAL HT]]*TVAcollectee[[#This Row],[TAUX]] -> 0 | H6: TVA déd sur immos 4 | I6: 445620 | M6: =TVAdeductible[[#This Row],[TAUX]]*TVAdeductible[[#This Row],[Total HT]] -> 0
A7: TVA collectée sur ABS 1 | B7: 445711 | F7: =TVAcollectee[[#This Row],[TOTAL HT]]*TVAcollectee[[#This Row],[TAUX]] -> 0 | H7: TVA déd sur ABS 1 | I7: 445660 | M7: =TVAdeductible[[#This Row],[TAUX]]*TVAdeductible[[#This Row],[Total HT]] -> 0
A8: TVA collectée sur ABS 2 | B8: 445711 | C8: Vente d'ABS FR | F8: =TVAcollectee[[#This Row],[TOTAL HT]]*TVAcollectee[[#This Row],[TAUX]] -> 0 | H8: TVA déd sur ABS 2 | I8: 445660 | J8: Achat d'ABS FR | M8: =TVAdeductible[[#This Row],[TAUX]]*TVAdeductible[[#This Row],[Total HT]] -> 0
A9: TVA collectée sur ABS 3 | B9: 445711 | D9: 0.021 | E9: 50 | F9: =TVAcollectee[[#This Row],[TOTAL HT]]*TVAcollectee[[#This Row],[TAUX]] -> 1.05 | H9: TVA déd sur ABS 3 | I9: 445660 | M9: =TVAdeductible[[#This Row],[TAUX]]*TVAdeductible[[#This Row],[Total HT]] -> 0
A10: TVA collectée sur ABS 4 | B10: 445711 | F10: =TVAcollectee[[#This Row],[TOTAL HT]]*TVAcollectee[[#This Row],[TAUX]] -> 0 | H10: TVA déd sur ABS 4 | I10: 445660 | M10: =TVAdeductible[[#This Row],[TAUX]]*TVAdeductible[[#This Row],[Total HT]] -> 0
A11: TVA due intraco immos 1 | B11: 445200 | F11: =TVAcollectee[[#This Row],[TOTAL HT]]*TVAcollectee[[#This Row],[TAUX]] -> 0 | H11: TVA déd intraco sur immos 1 | I11: 445662 | M11: =TVAdeductible[[#This Row],[TAUX]]*TVAdeductible[[#This Row],[Total HT]] -> 0
A12: TVA due intraco immos 2 | B12: 445200 | C12: Vente d'immos EU | F12: =TVAcollectee[[#This Row],[TOTAL HT]]*TVAcollectee[[#This Row],[TAUX]] -> 0 | H12: TVA déd intraco sur immos 2 | I12: 445662 | J12: Achat d'immos EU | M12: =TVAdeductible[[#This Row],[TAUX]]*TVAdeductible[[#This Row],[Total HT]] -> 0
A13: TVA due intraco immos 3 | B13: 445200 | D13: 0.055 | E13: 120 | F13: =TVAcollectee[[#This Row],[TOTAL HT]]*TVAcollectee[[#This Row],[TAUX]] -> 6.6 | H13: TVA déd intraco sur immos 3 | I13: 445662 | M13: =TVAdeductible[[#This Row],[TAUX]]*TVAdeductible[[#This Row],[Total HT]] -> 0
A14: TVA due intraco immos 4 | B14: 445200 | F14: =TVAcollectee[[#This Row],[TOTAL HT]]*TVAcollectee[[#This Row],[TAUX]] -> 0 | H14: TVA déd intraco sur immos 4 | I14: 445662 | M14: =TVAdeductible[[#This Row],[TAUX]]*TVAdeductible[[#This Row],[Total HT]] -> 0
A15: TVA due intraco ABS 1 | B15: 445201 | F15: =TVAcollectee[[#This Row],[TOTAL HT]]*TVAcollectee[[#This Row],[TAUX]] -> 0 | H15: TVA déd intraco sur ABS 1 | I15: 445663 | M15: =TVAdeductible[[#This Row],[TAUX]]*TVAdeductible[[#This Row],[Total HT]] -> 0
A16: TVA due intraco ABS 2 | B16: 445201 | C16: Vente d'ABS EU | F16: =TVAcollectee[[#This Row],[TOTAL HT]]*TVAcollectee[[#This Row],[TAUX]] -> 0 | H16: TVA déd intraco sur ABS 2 | I16: 445663 | J16: Achat d'ABS EU | M16: =TVAdeductible[[#This Row],[TAUX]]*TVAdeductible[[#This Row],[Total HT]] -> 0
A17: TVA due intraco ABS 3 | B17: 445201 | F17: =TVAcollectee[[#This Row],[TOTAL HT]]*TVAcollectee[[#This Row],[TAUX]] -> 0 | H17: TVA déd intraco sur ABS 3 | I17: 445663 | M17: =TVAdeductible[[#This Row],[TAUX]]*TVAdeductible[[#This Row],[Total HT]] -> 0
A18: TVA due intraco ABS 4 | B18: 445201 | D18: 0.1 | E18: 100 | F18: =TVAcollectee[[#This Row],[TOTAL HT]]*TVAcollectee[[#This Row],[TAUX]] -> 10 | H18: TVA déd intraco sur ABS 4 | I18: 445663 | M18: =TVAdeductible[[#This Row],[TAUX]]*TVAdeductible[[#This Row],[Total HT]] -> 0
A19: TVA collectée hors EU immos | C19: Vente d'immos hors EU | F19: =TVAcollectee[[#This Row],[TOTAL HT]]*TVAcollectee[[#This Row],[TAUX]] -> 0 | H19: TVA déd hors EU sur immos | J19: Achat d'immos Hors EU | M19: =TVAdeductible[[#This Row],[TAUX]]*TVAdeductible[[#This Row],[Total HT]] -> 0
A20: TVA collectée hors EU ABS | C20: Vente d'ABS hors EU | F20: =TVAcollectee[[#This Row],[TOTAL HT]]*TVAcollectee[[#This Row],[TAUX]] -> 0 | H20: TVA déd intraco hors EU sur ABS | J20: Achat d'ABS Hors EU | M20: =TVAdeductible[[#This Row],[TAUX]]*TVAdeductible[[#This Row],[Total HT]] -> 0
H21: Crédit de TVA Mois -1 | I21: 445670
C22: CALCUL DE TVA
I23: TAUX
C24: HT | D24: Taux TVA | E24: TVA | F24: TTC | H24: Taux très réduit / particulier | I24: 0.021
D25: 0.2 | E25: =C25*D25 -> 0 | F25: =C25+E25 -> 0 | H25: Taux réduit | I25: 0.055
C26: =F26/(1+D26) -> 0 | D26: 0.2 | E26: =F26-C26 -> 0 | H26: Taux intermédiaire | I26: 0.1
C27: =E27*(1/D27) -> 0 | D27: 0.2 | F27: =C27+E27 -> 0 | H27: Taux normal | I27: 0.2

Sheet Impression
C1: CALCUL TVA | G1: MOIS
C2: LIBELLE | D2: COMPTES | E2: TAUX | F2: REEL | G2: ARRONDI
D3: TVA COLLECTEE
C4: =IFERROR(INDEX(BDD!A$3:A$20,SUMPRODUCT(SMALL((BDD!F$3:F$20>0)*ROW(BDD!F$3:F$20),COUNTIF(BDD!F$3:F$20,"=0")+ROW(A1)))-2),"") -> TVA collectée sur immos 1 | D4: =IFERROR(VLOOKUP($C4,BDD!$A$3:$F$18,2,FALSE),"") -> 445710 | E4: =IFERROR(VLOOKUP(Impression!C4,BDD!$A3:$F18,4,FALSE),"") -> 0.1 | F4: =IFERROR(VLOOKUP($C4,BDD!$A$3:$F$20,6,FALSE),"") -> 20 | G4: =IFERROR(ROUND(F4,0),"") -> 20
C5: =IFERROR(INDEX(BDD!A$3:A$20,SUMPRODUCT(SMALL((BDD!F$3:F$20>0)*ROW(BDD!F$3:F$20),COUNTIF(BDD!F$3:F$20,"=0")+ROW(A2)))-2),"") -> TVA collectée sur ABS 3 | D5: =IFERROR(VLOOKUP($C5,BDD!$A$3:$F$18,2,FALSE),"") -> 445711 | E5: =IFERROR(VLOOKUP(Impression!C5,BDD!$A4:$F19,4,FALSE),"") -> 0.021 | F5: =IFERROR(VLOOKUP($C5,BDD!$A$3:$F$20,6,FALSE),"") -> 1.05 | G5: =IFERROR(ROUND(F5,0),"") -> 1
C6: =IFERROR(INDEX(BDD!A$3:A$20,SUMPRODUCT(SMALL((BDD!F$3:F$20>0)*ROW(BDD!F$3:F$20),COUNTIF(BDD!F$3:F$20,"=0")+ROW(A3)))-2),"") -> TVA due intraco immos 3 | D6: =IFERROR(VLOOKUP($C6,BDD!$A$3:$F$18,2,FALSE),"") -> 445200 | E6: =IFERROR(VLOOKUP(Impression!C6,BDD!$A5:$F20,4,FALSE),"") -> 0.055 | F6: =IFERROR(VLOOKUP($C6,BDD!$A$3:$F$20,6,FALSE),"") -> 6.6 | G6: =IFERROR(ROUND(F6,0),"") -> 7
C7: =IFERROR(INDEX(BDD!A$3:A$20,SUMPRODUCT(SMALL((BDD!F$3:F$20>0)*ROW(BDD!F$3:F$20),COUNTIF(BDD!F$3:F$20,"=0")+ROW(A4)))-2),"") -> TVA due intraco ABS 4 | D7: =IFERROR(VLOOKUP($C7,BDD!$A$3:$F$18,2,FALSE),"") -> 445201 | E7: =IFERROR(VLOOKUP(Impression!C7,BDD!$A6:$F21,4,FALSE),"") -> 0.1 | F7: =IFERROR(VLOOKUP($C7,BDD!$A$3:$F$20,6,FALSE),"") -> 10 | G7: =IFERROR(ROUND(F7,0),"") -> 10
C8: =IFERROR(INDEX(BDD!A$3:A$20,SUMPRODUCT(SMALL((BDD!F$3:F$20>0)*ROW(BDD!F$3:F$20),COUNTIF(BDD!F$3:F$20,"=0")+ROW(A5)))-2),"") | D8: =IFERROR(VLOOKUP($C8,BDD!$A$3:$F$18,2,FALSE),"") | E8: =IFERROR(VLOOKUP(Impression!C8,BDD!$A7:$F22,4,FALSE),"") | F8: =IFERROR(VLOOKUP($C8,BDD!$A$3:$F$20,6,FALSE),"") | G8: =IFERROR(ROUND(F8,0),"")
C9: =IFERROR(INDEX(BDD!A$3:A$20,SUMPRODUCT(SMALL((BDD!F$3:F$20>0)*ROW(BDD!F$3:F$20),COUNTIF(BDD!F$3:F$20,"=0")+ROW(A6)))-2),"") | D9: =IFERROR(VLOOKUP($C9,BDD!$A$3:$F$18,2,FALSE),"") | E9: =IFERROR(VLOOKUP(Impression!C9,BDD!$A8:$F23,4,FALSE),"") | F9: =IFERROR(VLOOKUP($C9,BDD!$A$3:$F$20,6,FALSE),"") | G9: =IFERROR(ROUND(F9,0),"")
C10: =IFERROR(INDEX(BDD!A$3:A$20,SUMPRODUCT(SMALL((BDD!F$3:F$20>0)*ROW(BDD!F$3:F$20),COUNTIF(BDD!F$3:F$20,"=0")+ROW(A7)))-2),"") | D10: =IFERROR(VLOOKUP($C10,BDD!$A$3:$F$18,2,FALSE),"") | E10: =IFERROR(VLOOKUP(Impression!C10,BDD!$A9:$F24,4,FALSE),"") | F10: =IFERROR(VLOOKUP($C10,BDD!$A$3:$F$20,6,FALSE),"") | G10: =IFERROR(ROUND(F10,0),"")
C11: =IFERROR(INDEX(BDD!A$3:A$20,SUMPRODUCT(SMALL((BDD!F$3:F$20>0)*ROW(BDD!F$3:F$20),COUNTIF(BDD!F$3:F$20,"=0")+ROW(A8)))-2),"") | D11: =IFERROR(VLOOKUP($C11,BDD!$A$3:$F$18,2,FALSE),"") | E11: =IFERROR(VLOOKUP(Impression!C11,BDD!$A10:$F25,4,FALSE),"") | F11: =IFERROR(VLOOKUP($C11,BDD!$A$3:$F$20,6,FALSE),"") | G11: =IFERROR(ROUND(F11,0),"")
C12: =IFERROR(INDEX(BDD!A$3:A$20,SUMPRODUCT(SMALL((BDD!F$3:F$20>0)*ROW(BDD!F$3:F$20),COUNTIF(BDD!F$3:F$20,"=0")+ROW(A9)))-2),"") | D12: =IFERROR(VLOOKUP($C12,BDD!$A$3:$F$18,2,FALSE),"") | E12: =IFERROR(VLOOKUP(Impression!C12,BDD!$A11:$F26,4,FALSE),"") | F12: =IFERROR(VLOOKUP($C12,BDD!$A$3:$F$20,6,FALSE),"") | G12: =IFERROR(ROUND(F12,0),"")
C13: =IFERROR(INDEX(BDD!A$3:A$20,SUMPRODUCT(SMALL((BDD!F$3:F$20>0)*ROW(BDD!F$3:F$20),COUNTIF(BDD!F$3:F$20,"=0")+ROW(A10)))-2),"") | D13: =IFERROR(VLOOKUP($C13,BDD!$A$3:$F$18,2,FALSE),"") | E13: =IFERROR(VLOOKUP(Impression!C13,BDD!$A12:$F27,4,FALSE),"") | F13: =IFERROR(VLOOKUP($C13,BDD!$A$3:$F$20,6,FALSE),"") | G13: =IFERROR(ROUND(F13,0),"")
C14: Total TVA coll. | F14: =SUM(F4:F6) -> 27.65 | G14: =SUM(G4:G6) -> 28
C15: TVA DEDUCTIBLE
C16: =IFERROR(INDEX(BDD!H$3:H$20,SUMPRODUCT(SMALL((BDD!M$3:M$20>0)*ROW(BDD!M$3:M$20),COUNTIF(BDD!M$3:M$20,"=0")+ROW(A1)))-2),"") | D16: =IFERROR(VLOOKUP($C16,BDD!$H$3:$M$20,2,FALSE),"") | E16: =IFERROR(VLOOKUP($C16,BDD!H3:M20,4,FALSE),"") | F16: =IFERROR(VLOOKUP($C16,BDD!$H$3:$M$20,6,FALSE),"") | G16: =IFERROR(ROUND(F16,0),"")
C17: =IFERROR(INDEX(BDD!H$3:H$20,SUMPRODUCT(SMALL((BDD!M$3:M$20>0)*ROW(BDD!M$3:M$20),COUNTIF(BDD!M$3:M$20,"=0")+ROW(A2)))-2),"") | D17: =IFERROR(VLOOKUP($C17,BDD!$H$3:$M$20,2,FALSE),"") | E17: =IFERROR(VLOOKUP($C17,BDD!H4:M21,4,FALSE),"") | F17: =IFERROR(VLOOKUP($C17,BDD!$H$3:$M$20,6,FALSE),"") | G17: =IFERROR(ROUND(F17,0),"")
C18: =IFERROR(INDEX(BDD!H$3:H$20,SUMPRODUCT(SMALL((BDD!M$3:M$20>0)*ROW(BDD!M$3:M$20),COUNTIF(BDD!M$3:M$20,"=0")+ROW(A3)))-2),"") | D18: =IFERROR(VLOOKUP($C18,BDD!$H$3:$M$20,2,FALSE),"") | E18: =IFERROR(VLOOKUP($C18,BDD!H5:M22,4,FALSE),"") | F18: =IFERROR(VLOOKUP($C18,BDD!$H$3:$M$20,6,FALSE),"") | G18: =IFERROR(ROUND(F18,0),"")
C19: =IFERROR(INDEX(BDD!H$3:H$20,SUMPRODUCT(SMALL((BDD!M$3:M$20>0)*ROW(BDD!M$3:M$20),COUNTIF(BDD!M$3:M$20,"=0")+ROW(A4)))-2),"") | D19: =IFERROR(VLOOKUP($C19,BDD!$H$3:$M$20,2,FALSE),"") | E19: =IFERROR(VLOOKUP($C19,BDD!H6:M23,4,FALSE),"") | F19: =IFERROR(VLOOKUP($C19,BDD!$H$3:$M$20,6,FALSE),"") | G19: =IFERROR(ROUND(F19,0),"")
C20: =IFERROR(INDEX(BDD!H$3:H$20,SUMPRODUCT(SMALL((BDD!M$3:M$20>0)*ROW(BDD!M$3:M$20),COUNTIF(BDD!M$3:M$20,"=0")+ROW(A5)))-2),"") | D20: =IFERROR(VLOOKUP($C20,BDD!$H$3:$M$20,2,FALSE),"") | E20: =IFERROR(VLOOKUP($C20,BDD!H7:M24,4,FALSE),"") | F20: =IFERROR(VLOOKUP($C20,BDD!$H$3:$M$20,6,FALSE),"") | G20: =IFERROR(ROUND(F20,0),"")
C21: =IFERROR(INDEX(BDD!H$3:H$20,SUMPRODUCT(SMALL((BDD!M$3:M$20>0)*ROW(BDD!M$3:M$20),COUNTIF(BDD!M$3:M$20,"=0")+ROW(A6)))-2),"") | D21: =IFERROR(VLOOKUP($C21,BDD!$H$3:$M$20,2,FALSE),"") | E21: =IFERROR(VLOOKUP($C21,BDD!H8:M25,4,FALSE),"") | F21: =IFERROR(VLOOKUP($C21,BDD!$H$3:$M$20,6,FALSE),"") | G21: =IFERROR(ROUND(F21,0),"")
C22: =IFERROR(INDEX(BDD!H$3:H$20,SUMPRODUCT(SMALL((BDD!M$3:M$20>0)*ROW(BDD!M$3:M$20),COUNTIF(BDD!M$3:M$20,"=0")+ROW(A7)))-2),"") | D22: =IFERROR(VLOOKUP($C22,BDD!$H$3:$M$20,2,FALSE),"") | E22: =IFERROR(VLOOKUP($C22,BDD!H9:M26,4,FALSE),"") | F22: =IFERROR(VLOOKUP($C22,BDD!$H$3:$M$20,6,FALSE),"") | G22: =IFERROR(ROUND(F22,0),"")
C23: =IFERROR(INDEX(BDD!H$3:H$20,SUMPRODUCT(SMALL((BDD!M$3:M$20>0)*ROW(BDD!M$3:M$20),COUNTIF(BDD!M$3:M$20,"=0")+ROW(A8)))-2),"") | D23: =IFERROR(VLOOKUP($C23,BDD!$H$3:$M$20,2,FALSE),"") | E23: =IFERROR(VLOOKUP($C23,BDD!H10:M27,4,FALSE),"") | F23: =IFERROR(VLOOKUP($C23,BDD!$H$3:$M$20,6,FALSE),"") | G23: =IFERROR(ROUND(F23,0),"")
C24: =IFERROR(INDEX(BDD!H$3:H$20,SUMPRODUCT(SMALL((BDD!M$3:M$20>0)*ROW(BDD!M$3:M$20),COUNTIF(BDD!M$3:M$20,"=0")+ROW(A9)))-2),"") | D24: =IFERROR(VLOOKUP($C24,BDD!$H$3:$M$20,2,FALSE),"") | E24: =IFERROR(VLOOKUP($C24,BDD!H11:M28,4,FALSE),"") | F24: =IFERROR(VLOOKUP($C24,BDD!$H$3:$M$20,6,FALSE),"") | G24: =IFERROR(ROUND(F24,0),"")
C25: =IFERROR(INDEX(BDD!H$3:H$20,SUMPRODUCT(SMALL((BDD!M$3:M$20>0)*ROW(BDD!M$3:M$20),COUNTIF(BDD!M$3:M$20,"=0")+ROW(A10)))-2),"") | D25: =IFERROR(VLOOKUP($C25,BDD!$H$3:$M$20,2,FALSE),"") | E25: =IFERROR(VLOOKUP($C25,BDD!H12:M29,4,FALSE),"") | F25: =IFERROR(VLOOKUP($C25,BDD!$H$3:$M$20,6,FALSE),"") | G25: =IFERROR(ROUND(F25,0),"")
C26: Total TVA déductible | F26: =SUM(F16:F20) -> 0 | G26: =SUM(G16:G20) -> 0
C27: =IF(F14-F26>0,"TVA à décaisser","Crédit de TVA") -> TVA à décaisser | D27: =IF(C27="TVA à décaisser","445 510","445 670") -> 445 510 | F27: =F14-F26 -> 27.65 | G27: =ROUND(F27,0) -> 28
C28: 758000 | D28: Produit diverses | F28: =IF(F27-G27<0,F27-G27,0) -> -0.35 | G28: =IF(F27-G27>0,F27-G27,0) -> 0
C29: 658000 | D29: Charges diverses | F29: =IF(G27-F27>0,G27-F27,0) -> 0.35 | G29: =IF(G27-F27<0,G27-F27,0) -> 0
