Workbook
Name CDT: Données!$A$1:$A$6
Name POSEURS: Données!$B$1:$B$10
Name Statut: Données!$C$1:$C$2

Sheet Prime
A1: Référent chantier | B1: NOM DU CHANTIER | C1: N°Chantier | D1: Conducteur | E1: Temps prévu | F1: Temps réalisé | G1: Marge | H1: Colonne1 | I1: Marge € | J1: PRIME
A2: GJOKA Mark | B2: POLE EMPLOI | C2: 7826 | D2: Khady | E2: 151.95 | F2: 74.5 | G2: =E2-F2 -> 77.45 | H2: =G2/E2 -> 0.50970714 | I2: =G2*14 -> 1084.3 | J2: =I2*0.33 -> 357.819
A3: BELGROUI Hakim | B3: ELEMENTAIRE PONT DU LAS | C3: 7806 | D3: Virginie | E3: 18.72 | F3: 28 | G3: =E3-F3 -> -9.28 | H3: =G3/E3 -> -0.4957265 | I3: =G3*14 -> -129.92 | J3: =I3*0.33 -> -42.8736
A4: BESREST Roland | B4: COMPLEXE AQUATIQUE | C4: 7788 | D4: Manon | E4: 75.78 | F4: 49 | G4: =E4-F4 -> 26.78 | H4: =G4/E4 -> 0.3533914 | I4: =G4*14 -> 374.92 | J4: =I4*0.33 -> 123.7236
A5: BESREST Roland | B5: KILOUTOU AIX | C5: 7579 | D5: Antoine | E5: 481.65 | F5: 309 | G5: =E5-F5 -> 172.65 | H5: =G5/E5 -> 0.35845531 | I5: =G5*14 -> 2417.1 | J5: =I5*0.33 -> 797.643
A6: CHATTI Hatem | B6: BUREAU FACIL | C6: 7690 | D6: Virginie | E6: 193.51 | F6: 410.25 | G6: =E6-F6 -> -216.74 | H6: =G6/E6 -> -1.1200455 | I6: =G6*14 -> -3034.36 | J6: =I6*0.33 -> -1001.3388
A7: HMIDA Nasser | B7: CRECHE PITCHOUN | C7: 7898 | D7: Thomas | E7: 87 | F7: 95 | G7: =E7-F7 -> -8 | H7: =G7/E7 -> -0.091954023 | I7: =G7*14 -> -112 | J7: =I7*0.33 -> -36.96
A8: JAOUEN Matthieu | B8: CNMSS | C8: 7417 | D8: Fabrice | E8: 600 | F8: 456 | G8: =E8-F8 -> 144 | H8: =G8/E8 -> 0.24 | I8: =G8*14 -> 2016 | J8: =I8*0.33 -> 665.28
A9: MANCA Michele | B9: NAVAL GROUP | C9: 7878 | D9: Manon | E9: 280 | F9: 160 | G9: =E9-F9 -> 120 | H9: =G9/E9 -> 0.42857143 | I9: =G9*14 -> 1680 | J9: =I9*0.33 -> 554.4
A10: PIZZIMENTI Antonio | B10: ELEMENTAIRE FILIPPI | C10: 7746 | D10: Virginie | E10: 89.49 | F10: 56.75 | G10: =E10-F10 -> 32.74 | H10: =G10/E10 -> 0.36585093 | I10: =G10*14 -> 458.36 | J10: =I10*0.33 -> 151.2588
A11: PIZZIMENTI Antonio | B11: MISSION LOCALE | C11: 7844 | D11: Virginie | E11: 25.69 | F11: 7.5 | G11: =E11-F11 -> 18.19 | H11: =G11/E11 -> 0.70805761 | I11: =G11*14 -> 254.66 | J11: =I11*0.33 -> 84.0378
A12: ROCHE Aurélien | B12: HAAGENDAZS | C12: 7575 | D12: Manon | E12: 206.7 | F12: 197.25 | G12: =E12-F12 -> 9.45 | H12: =G12/E12 -> 0.045718433 | I12: =G12*14 -> 132.3 | J12: =I12*0.33 -> 43.659
A13: TABAMER Karim | B13: HOTEL DE VILLE | C13: 7846 | D13: Virginie | E13: 180 | F13: 95 | G13: =E13-F13 -> 85 | H13: =G13/E13 -> 0.47222222 | I13: =G13*14 -> 1190 | J13: =I13*0.33 -> 392.7
A14: PIZZIMENTI Antonio | B14: LAPOSTE | C14: 7548 | D14: Khady | E14: 562 | F14: 458 | G14: =E14-F14 -> 104 | H14: =G14/E14 -> 0.18505338 | I14: =G14*14 -> 1456 | J14: =I14*0.33 -> 480.48

Sheet Hakim
A1: BELGROUI Hakim | B1: 44470
B2: Affaires | C2: N°Chantier | D2: Marge sur réalisé en heure | E2: Prime
B3: {=IF(ROWS($1:1)<=COUNTIF(Tableau1[[Référent chantier ]],$A$1),INDEX(Tableau1[NOM DU CHANTIER],SMALL(IF(Tableau1[[Référent chantier ]]=$A$1,ROW(INDIRECT("1:"&ROWS(Tableau1[[Référent chantier ]])))),ROWS($1:1))),"")} -> ELEMENTAIRE PONT DU LAS | C3: {=IF(ROWS($1:1)<=COUNTIF(Tableau1[[Référent chantier ]],$A$1),INDEX(Tableau1[N°Chantier],SMALL(IF(Tableau1[[Référent chantier ]]=$A$1,ROW(INDIRECT("1:"&ROWS(Tableau1[[Référent chantier ]])))),ROWS($1:1))),"")} -> 7806 | D3: {=IF(ROWS($1:1)<=COUNTIF(Tableau1[[Référent chantier ]],$A$1),INDEX(Tableau1[Marge],SMALL(IF(Tableau1[[Référent chantier ]]=$A$1,ROW(INDIRECT("1:"&ROWS(Tableau1[[Référent chantier ]])))),ROWS($1:1))),"")} -> -9.28 | E3: {=IF(ROWS($1:1)<=COUNTIF(Tableau1[[Référent chantier ]],$A$1),INDEX(Tableau1[Marge €],SMALL(IF(Tableau1[[Référent chantier ]]=$A$1,ROW(INDIRECT("1:"&ROWS(Tableau1[[Référent chantier ]])))),ROWS($1:1))),"")} -> -129.92
B4: {=IF(ROWS($1:2)<=COUNTIF(Tableau1[[Référent chantier ]],$A$1),INDEX(Tableau1[NOM DU CHANTIER],SMALL(IF(Tableau1[[Référent chantier ]]=$A$1,ROW(INDIRECT("1:"&ROWS(Tableau1[[Référent chantier ]])))),ROWS($1:2))),"")} | C4: {=IF(ROWS($1:2)<=COUNTIF(Tableau1[[Référent chantier ]],$A$1),INDEX(Tableau1[N°Chantier],SMALL(IF(Tableau1[[Référent chantier ]]=$A$1,ROW(INDIRECT("1:"&ROWS(Tableau1[[Référent chantier ]])))),ROWS($1:2))),"")} | D4: {=IF(ROWS($1:2)<=COUNTIF(Tableau1[[Référent chantier ]],$A$1),INDEX(Tableau1[Marge],SMALL(IF(Tableau1[[Référent chantier ]]=$A$1,ROW(INDIRECT("1:"&ROWS(Tableau1[[Référent chantier ]])))),ROWS($1:2))),"")} | E4: {=IF(ROWS($1:2)<=COUNTIF(Tableau1[[Référent chantier ]],$A$1),INDEX(Tableau1[Marge €],SMALL(IF(Tableau1[[Référent chantier ]]=$A$1,ROW(INDIRECT("1:"&ROWS(Tableau1[[Référent chantier ]])))),ROWS($1:2))),"")}
B5: {=IF(ROWS($1:3)<=COUNTIF(Tableau1[[Référent chantier ]],$A$1),INDEX(Tableau1[NOM DU CHANTIER],SMALL(IF(Tableau1[[Référent chantier ]]=$A$1,ROW(INDIRECT("1:"&ROWS(Tableau1[[Référent chantier ]])))),ROWS($1:3))),"")} | C5: {=IF(ROWS($1:3)<=COUNTIF(Tableau1[[Référent chantier ]],$A$1),INDEX(Tableau1[N°Chantier],SMALL(IF(Tableau1[[Référent chantier ]]=$A$1,ROW(INDIRECT("1:"&ROWS(Tableau1[[Référent chantier ]])))),ROWS($1:3))),"")} | D5: {=IF(ROWS($1:3)<=COUNTIF(Tableau1[[Référent chantier ]],$A$1),INDEX(Tableau1[Marge],SMALL(IF(Tableau1[[Référent chantier ]]=$A$1,ROW(INDIRECT("1:"&ROWS(Tableau1[[Référent chantier ]])))),ROWS($1:3))),"")} | E5: {=IF(ROWS($1:3)<=COUNTIF(Tableau1[[Référent chantier ]],$A$1),INDEX(Tableau1[Marge €],SMALL(IF(Tableau1[[Référent chantier ]]=$A$1,ROW(INDIRECT("1:"&ROWS(Tableau1[[Référent chantier ]])))),ROWS($1:3))),"")}
B6: {=IF(ROWS($1:4)<=COUNTIF(Tableau1[[Référent chantier ]],$A$1),INDEX(Tableau1[NOM DU CHANTIER],SMALL(IF(Tableau1[[Référent chantier ]]=$A$1,ROW(INDIRECT("1:"&ROWS(Tableau1[[Référent chantier ]])))),ROWS($1:4))),"")} | C6: {=IF(ROWS($1:4)<=COUNTIF(Tableau1[[Référent chantier ]],$A$1),INDEX(Tableau1[N°Chantier],SMALL(IF(Tableau1[[Référent chantier ]]=$A$1,ROW(INDIRECT("1:"&ROWS(Tableau1[[Référent chantier ]])))),ROWS($1:4))),"")} | D6: {=IF(ROWS($1:4)<=COUNTIF(Tableau1[[Référent chantier ]],$A$1),INDEX(Tableau1[Marge],SMALL(IF(Tableau1[[Référent chantier ]]=$A$1,ROW(INDIRECT("1:"&ROWS(Tableau1[[Référent chantier ]])))),ROWS($1:4))),"")} | E6: {=IF(ROWS($1:4)<=COUNTIF(Tableau1[[Référent chantier ]],$A$1),INDEX(Tableau1[Marge €],SMALL(IF(Tableau1[[Référent chantier ]]=$A$1,ROW(INDIRECT("1:"&ROWS(Tableau1[[Référent chantier ]])))),ROWS($1:4))),"")}
B7: {=IF(ROWS($1:5)<=COUNTIF(Tableau1[[Référent chantier ]],$A$1),INDEX(Tableau1[NOM DU CHANTIER],SMALL(IF(Tableau1[[Référent chantier ]]=$A$1,ROW(INDIRECT("1:"&ROWS(Tableau1[[Référent chantier ]])))),ROWS($1:5))),"")} | C7: {=IF(ROWS($1:5)<=COUNTIF(Tableau1[[Référent chantier ]],$A$1),INDEX(Tableau1[N°Chantier],SMALL(IF(Tableau1[[Référent chantier ]]=$A$1,ROW(INDIRECT("1:"&ROWS(Tableau1[[Référent chantier ]])))),ROWS($1:5))),"")} | D7: {=IF(ROWS($1:5)<=COUNTIF(Tableau1[[Référent chantier ]],$A$1),INDEX(Tableau1[Marge],SMALL(IF(Tableau1[[Référent chantier ]]=$A$1,ROW(INDIRECT("1:"&ROWS(Tableau1[[Référent chantier ]])))),ROWS($1:5))),"")} | E7: {=IF(ROWS($1:5)<=COUNTIF(Tableau1[[Référent chantier ]],$A$1),INDEX(Tableau1[Marge €],SMALL(IF(Tableau1[[Référent chantier ]]=$A$1,ROW(INDIRECT("1:"&ROWS(Tableau1[[Référent chantier ]])))),ROWS($1:5))),"")}
B8: {=IF(ROWS($1:6)<=COUNTIF(Tableau1[[Référent chantier ]],$A$1),INDEX(Tableau1[NOM DU CHANTIER],SMALL(IF(Tableau1[[Référent chantier ]]=$A$1,ROW(INDIRECT("1:"&ROWS(Tableau1[[Référent chantier ]])))),ROWS($1:6))),"")} | C8: {=IF(ROWS($1:6)<=COUNTIF(Tableau1[[Référent chantier ]],$A$1),INDEX(Tableau1[N°Chantier],SMALL(IF(Tableau1[[Référent chantier ]]=$A$1,ROW(INDIRECT("1:"&ROWS(Tableau1[[Référent chantier ]])))),ROWS($1:6))),"")} | D8: {=IF(ROWS($1:6)<=COUNTIF(Tableau1[[Référent chantier ]],$A$1),INDEX(Tableau1[Marge],SMALL(IF(Tableau1[[Référent chantier ]]=$A$1,ROW(INDIRECT("1:"&ROWS(Tableau1[[Référent chantier ]])))),ROWS($1:6))),"")} | E8: {=IF(ROWS($1:6)<=COUNTIF(Tableau1[[Référent chantier ]],$A$1),INDEX(Tableau1[Marge €],SMALL(IF(Tableau1[[Référent chantier ]]=$A$1,ROW(INDIRECT("1:"&ROWS(Tableau1[[Référent chantier ]])))),ROWS($1:6))),"")}
B9: {=IF(ROWS($1:7)<=COUNTIF(Tableau1[[Référent chantier ]],$A$1),INDEX(Tableau1[NOM DU CHANTIER],SMALL(IF(Tableau1[[Référent chantier ]]=$A$1,ROW(INDIRECT("1:"&ROWS(Tableau1[[Référent chantier ]])))),ROWS($1:7))),"")} | C9: {=IF(ROWS($1:7)<=COUNTIF(Tableau1[[Référent chantier ]],$A$1),INDEX(Tableau1[N°Chantier],SMALL(IF(Tableau1[[Référent chantier ]]=$A$1,ROW(INDIRECT("1:"&ROWS(Tableau1[[Référent chantier ]])))),ROWS($1:7))),"")} | D9: {=IF(ROWS($1:7)<=COUNTIF(Tableau1[[Référent chantier ]],$A$1),INDEX(Tableau1[Marge],SMALL(IF(Tableau1[[Référent chantier ]]=$A$1,ROW(INDIRECT("1:"&ROWS(Tableau1[[Référent chantier ]])))),ROWS($1:7))),"")} | E9: {=IF(ROWS($1:7)<=COUNTIF(Tableau1[[Référent chantier ]],$A$1),INDEX(Tableau1[Marge €],SMALL(IF(Tableau1[[Référent chantier ]]=$A$1,ROW(INDIRECT("1:"&ROWS(Tableau1[[Référent chantier ]])))),ROWS($1:7))),"")}
B10: {=IF(ROWS($1:8)<=COUNTIF(Tableau1[[Référent chantier ]],$A$1),INDEX(Tableau1[NOM DU CHANTIER],SMALL(IF(Tableau1[[Référent chantier ]]=$A$1,ROW(INDIRECT("1:"&ROWS(Tableau1[[Référent chantier ]])))),ROWS($1:8))),"")} | C10: {=IF(ROWS($1:8)<=COUNTIF(Tableau1[[Référent chantier ]],$A$1),INDEX(Tableau1[N°Chantier],SMALL(IF(Tableau1[[Référent chantier ]]=$A$1,ROW(INDIRECT("1:"&ROWS(Tableau1[[Référent chantier ]])))),ROWS($1:8))),"")} | D10: {=IF(ROWS($1:8)<=COUNTIF(Tableau1[[Référent chantier ]],$A$1),INDEX(Tableau1[Marge],SMALL(IF(Tableau1[[Référent chantier ]]=$A$1,ROW(INDIRECT("1:"&ROWS(Tableau1[[Référent chantier ]])))),ROWS($1:8))),"")} | E10: {=IF(ROWS($1:8)<=COUNTIF(Tableau1[[Référent chantier ]],$A$1),INDEX(Tableau1[Marge €],SMALL(IF(Tableau1[[Référent chantier ]]=$A$1,ROW(INDIRECT("1:"&ROWS(Tableau1[[Référent chantier ]])))),ROWS($1:8))),"")}
B11: {=IF(ROWS($1:9)<=COUNTIF(Tableau1[[Référent chantier ]],$A$1),INDEX(Tableau1[NOM DU CHANTIER],SMALL(IF(Tableau1[[Référent chantier ]]=$A$1,ROW(INDIRECT("1:"&ROWS(Tableau1[[Référent chantier ]])))),ROWS($1:9))),"")} | C11: {=IF(ROWS($1:9)<=COUNTIF(Tableau1[[Référent chantier ]],$A$1),INDEX(Tableau1[N°Chantier],SMALL(IF(Tableau1[[Référent chantier ]]=$A$1,ROW(INDIRECT("1:"&ROWS(Tableau1[[Référent chantier ]])))),ROWS($1:9))),"")} | D11: {=IF(ROWS($1:9)<=COUNTIF(Tableau1[[Référent chantier ]],$A$1),INDEX(Tableau1[Marge],SMALL(IF(Tableau1[[Référent chantier ]]=$A$1,ROW(INDIRECT("1:"&ROWS(Tableau1[[Référent chantier ]])))),ROWS($1:9))),"")} | E11: {=IF(ROWS($1:9)<=COUNTIF(Tableau1[[Référent chantier ]],$A$1),INDEX(Tableau1[Marge €],SMALL(IF(Tableau1[[Référent chantier ]]=$A$1,ROW(INDIRECT("1:"&ROWS(Tableau1[[Référent chantier ]])))),ROWS($1:9))),"")}
B12: {=IF(ROWS($1:10)<=COUNTIF(Tableau1[[Référent chantier ]],$A$1),INDEX(Tableau1[NOM DU CHANTIER],SMALL(IF(Tableau1[[Référent chantier ]]=$A$1,ROW(INDIRECT("1:"&ROWS(Tableau1[[Référent chantier ]])))),ROWS($1:10))),"")} | C12: {=IF(ROWS($1:10)<=COUNTIF(Tableau1[[Référent chantier ]],$A$1),INDEX(Tableau1[N°Chantier],SMALL(IF(Tableau1[[Référent chantier ]]=$A$1,ROW(INDIRECT("1:"&ROWS(Tableau1[[Référent chantier ]])))),ROWS($1:10))),"")} | D12: {=IF(ROWS($1:10)<=COUNTIF(Tableau1[[Référent chantier ]],$A$1),INDEX(Tableau1[Marge],SMALL(IF(Tableau1[[Référent chantier ]]=$A$1,ROW(INDIRECT("1:"&ROWS(Tableau1[[Référent chantier ]])))),ROWS($1:10))),"")} | E12: {=IF(ROWS($1:10)<=COUNTIF(Tableau1[[Référent chantier ]],$A$1),INDEX(Tableau1[Marge €],SMALL(IF(Tableau1[[Référent chantier ]]=$A$1,ROW(INDIRECT("1:"&ROWS(Tableau1[[Référent chantier ]])))),ROWS($1:10))),"")}
B13: {=IF(ROWS($1:11)<=COUNTIF(Tableau1[[Référent chantier ]],$A$1),INDEX(Tableau1[NOM DU CHANTIER],SMALL(IF(Tableau1[[Référent chantier ]]=$A$1,ROW(INDIRECT("1:"&ROWS(Tableau1[[Référent chantier ]])))),ROWS($1:11))),"")} | C13: {=IF(ROWS($1:11)<=COUNTIF(Tableau1[[Référent chantier ]],$A$1),INDEX(Tableau1[N°Chantier],SMALL(IF(Tableau1[[Référent chantier ]]=$A$1,ROW(INDIRECT("1:"&ROWS(Tableau1[[Référent chantier ]])))),ROWS($1:11))),"")} | D13: {=IF(ROWS($1:11)<=COUNTIF(Tableau1[[Référent chantier ]],$A$1),INDEX(Tableau1[Marge],SMALL(IF(Tableau1[[Référent chantier ]]=$A$1,ROW(INDIRECT("1:"&ROWS(Tableau1[[Référent chantier ]])))),ROWS($1:11))),"")} | E13: {=IF(ROWS($1:11)<=COUNTIF(Tableau1[[Référent chantier ]],$A$1),INDEX(Tableau1[Marge €],SMALL(IF(Tableau1[[Référent chantier ]]=$A$1,ROW(INDIRECT("1:"&ROWS(Tableau1[[Référent chantier ]])))),ROWS($1:11))),"")}
D14: Prime TOTAL | E14: =SUM(E3:E13) -> -129.92

Sheet Roland
A1: BESREST Roland | B1: 44470
B2: Affaires | C2: N°Chantier | D2: Marge sur réalisé en heure | E2: Prime
B3: {=IF(ROWS($1:1)<=COUNTIF(Tableau1[[Référent chantier ]],$A$1),INDEX(Tableau1[NOM DU CHANTIER],SMALL(IF(Tableau1[[Référent chantier ]]=$A$1,ROW(INDIRECT("1:"&ROWS(Tableau1[[Référent chantier ]])))),ROWS($1:1))),"")} -> COMPLEXE AQUATIQUE | C3: {=IF(ROWS($1:1)<=COUNTIF(Tableau1[[Référent chantier ]],$A$1),INDEX(Tableau1[N°Chantier],SMALL(IF(Tableau1[[Référent chantier ]]=$A$1,ROW(INDIRECT("1:"&ROWS(Tableau1[[Référent chantier ]])))),ROWS($1:1))),"")} -> 7788 | D3: {=IF(ROWS($1:1)<=COUNTIF(Tableau1[[Référent chantier ]],$A$1),INDEX(Tableau1[Marge],SMALL(IF(Tableau1[[Référent chantier ]]=$A$1,ROW(INDIRECT("1:"&ROWS(Tableau1[[Référent chantier ]])))),ROWS($1:1))),"")} -> 26.78 | E3: {=IF(ROWS($1:1)<=COUNTIF(Tableau1[[Référent chantier ]],$A$1),INDEX(Tableau1[Marge €],SMALL(IF(Tableau1[[Référent chantier ]]=$A$1,ROW(INDIRECT("1:"&ROWS(Tableau1[[Référent chantier ]])))),ROWS($1:1))),"")} -> 374.92
B4: {=IF(ROWS($1:2)<=COUNTIF(Tableau1[[Référent chantier ]],$A$1),INDEX(Tableau1[NOM DU CHANTIER],SMALL(IF(Tableau1[[Référent chantier ]]=$A$1,ROW(INDIRECT("1:"&ROWS(Tableau1[[Référent chantier ]])))),ROWS($1:2))),"")} -> KILOUTOU AIX | C4: {=IF(ROWS($1:2)<=COUNTIF(Tableau1[[Référent chantier ]],$A$1),INDEX(Tableau1[N°Chantier],SMALL(IF(Tableau1[[Référent chantier ]]=$A$1,ROW(INDIRECT("1:"&ROWS(Tableau1[[Référent chantier ]])))),ROWS($1:2))),"")} -> 7579 | D4: {=IF(ROWS($1:2)<=COUNTIF(Tableau1[[Référent chantier ]],$A$1),INDEX(Tableau1[Marge],SMALL(IF(Tableau1[[Référent chantier ]]=$A$1,ROW(INDIRECT("1:"&ROWS(Tableau1[[Référent chantier ]])))),ROWS($1:2))),"")} -> 172.65 | E4: {=IF(ROWS($1:2)<=COUNTIF(Tableau1[[Référent chantier ]],$A$1),INDEX(Tableau1[Marge €],SMALL(IF(Tableau1[[Référent chantier ]]=$A$1,ROW(INDIRECT("1:"&ROWS(Tableau1[[Référent chantier ]])))),ROWS($1:2))),"")} -> 2417.1
B5: {=IF(ROWS($1:3)<=COUNTIF(Tableau1[[Référent chantier ]],$A$1),INDEX(Tableau1[NOM DU CHANTIER],SMALL(IF(Tableau1[[Référent chantier ]]=$A$1,ROW(INDIRECT("1:"&ROWS(Tableau1[[Référent chantier ]])))),ROWS($1:3))),"")} | C5: {=IF(ROWS($1:3)<=COUNTIF(Tableau1[[Référent chantier ]],$A$1),INDEX(Tableau1[N°Chantier],SMALL(IF(Tableau1[[Référent chantier ]]=$A$1,ROW(INDIRECT("1:"&ROWS(Tableau1[[Référent chantier ]])))),ROWS($1:3))),"")} | D5: {=IF(ROWS($1:3)<=COUNTIF(Tableau1[[Référent chantier ]],$A$1),INDEX(Tableau1[Marge],SMALL(IF(Tableau1[[Référent chantier ]]=$A$1,ROW(INDIRECT("1:"&ROWS(Tableau1[[Référent chantier ]])))),ROWS($1:3))),"")} | E5: {=IF(ROWS($1:3)<=COUNTIF(Tableau1[[Référent chantier ]],$A$1),INDEX(Tableau1[Marge €],SMALL(IF(Tableau1[[Référent chantier ]]=$A$1,ROW(INDIRECT("1:"&ROWS(Tableau1[[Référent chantier ]])))),ROWS($1:3))),"")}
B6: {=IF(ROWS($1:4)<=COUNTIF(Tableau1[[Référent chantier ]],$A$1),INDEX(Tableau1[NOM DU CHANTIER],SMALL(IF(Tableau1[[Référent chantier ]]=$A$1,ROW(INDIRECT("1:"&ROWS(Tableau1[[Référent chantier ]])))),ROWS($1:4))),"")} | C6: {=IF(ROWS($1:4)<=COUNTIF(Tableau1[[Référent chantier ]],$A$1),INDEX(Tableau1[N°Chantier],SMALL(IF(Tableau1[[Référent chantier ]]=$A$1,ROW(INDIRECT("1:"&ROWS(Tableau1[[Référent chantier ]])))),ROWS($1:4))),"")} | D6: {=IF(ROWS($1:4)<=COUNTIF(Tableau1[[Référent chantier ]],$A$1),INDEX(Tableau1[Marge],SMALL(IF(Tableau1[[Référent chantier ]]=$A$1,ROW(INDIRECT("1:"&ROWS(Tableau1[[Référent chantier ]])))),ROWS($1:4))),"")} | E6: {=IF(ROWS($1:4)<=COUNTIF(Tableau1[[Référent chantier ]],$A$1),INDEX(Tableau1[Marge €],SMALL(IF(Tableau1[[Référent chantier ]]=$A$1,ROW(INDIRECT("1:"&ROWS(Tableau1[[Référent chantier ]])))),ROWS($1:4))),"")}
B7: {=IF(ROWS($1:5)<=COUNTIF(Tableau1[[Référent chantier ]],$A$1),INDEX(Tableau1[NOM DU CHANTIER],SMALL(IF(Tableau1[[Référent chantier ]]=$A$1,ROW(INDIRECT("1:"&ROWS(Tableau1[[Référent chantier ]])))),ROWS($1:5))),"")} | C7: {=IF(ROWS($1:5)<=COUNTIF(Tableau1[[Référent chantier ]],$A$1),INDEX(Tableau1[N°Chantier],SMALL(IF(Tableau1[[Référent chantier ]]=$A$1,ROW(INDIRECT("1:"&ROWS(Tableau1[[Référent chantier ]])))),ROWS($1:5))),"")} | D7: {=IF(ROWS($1:5)<=COUNTIF(Tableau1[[Référent chantier ]],$A$1),INDEX(Tableau1[Marge],SMALL(IF(Tableau1[[Référent chantier ]]=$A$1,ROW(INDIRECT("1:"&ROWS(Tableau1[[Référent chantier ]])))),ROWS($1:5))),"")} | E7: {=IF(ROWS($1:5)<=COUNTIF(Tableau1[[Référent chantier ]],$A$1),INDEX(Tableau1[Marge €],SMALL(IF(Tableau1[[Référent chantier ]]=$A$1,ROW(INDIRECT("1:"&ROWS(Tableau1[[Référent chantier ]])))),ROWS($1:5))),"")}
B8: {=IF(ROWS($1:6)<=COUNTIF(Tableau1[[Référent chantier ]],$A$1),INDEX(Tableau1[NOM DU CHANTIER],SMALL(IF(Tableau1[[Référent chantier ]]=$A$1,ROW(INDIRECT("1:"&ROWS(Tableau1[[Référent chantier ]])))),ROWS($1:6))),"")} | C8: {=IF(ROWS($1:6)<=COUNTIF(Tableau1[[Référent chantier ]],$A$1),INDEX(Tableau1[N°Chantier],SMALL(IF(Tableau1[[Référent chantier ]]=$A$1,ROW(INDIRECT("1:"&ROWS(Tableau1[[Référent chantier ]])))),ROWS($1:6))),"")} | D8: {=IF(ROWS($1:6)<=COUNTIF(Tableau1[[Référent chantier ]],$A$1),INDEX(Tableau1[Marge],SMALL(IF(Tableau1[[Référent chantier ]]=$A$1,ROW(INDIRECT("1:"&ROWS(Tableau1[[Référent chantier ]])))),ROWS($1:6))),"")} | E8: {=IF(ROWS($1:6)<=COUNTIF(Tableau1[[Référent chantier ]],$A$1),INDEX(Tableau1[Marge €],SMALL(IF(Tableau1[[Référent chantier ]]=$A$1,ROW(INDIRECT("1:"&ROWS(Tableau1[[Référent chantier ]])))),ROWS($1:6))),"")}
B9: {=IF(ROWS($1:7)<=COUNTIF(Tableau1[[Référent chantier ]],$A$1),INDEX(Tableau1[NOM DU CHANTIER],SMALL(IF(Tableau1[[Référent chantier ]]=$A$1,ROW(INDIRECT("1:"&ROWS(Tableau1[[Référent chantier ]])))),ROWS($1:7))),"")} | C9: {=IF(ROWS($1:7)<=COUNTIF(Tableau1[[Référent chantier ]],$A$1),INDEX(Tableau1[N°Chantier],SMALL(IF(Tableau1[[Référent chantier ]]=$A$1,ROW(INDIRECT("1:"&ROWS(Tableau1[[Référent chantier ]])))),ROWS($1:7))),"")} | D9: {=IF(ROWS($1:7)<=COUNTIF(Tableau1[[Référent chantier ]],$A$1),INDEX(Tableau1[Marge],SMALL(IF(Tableau1[[Référent chantier ]]=$A$1,ROW(INDIRECT("1:"&ROWS(Tableau1[[Référent chantier ]])))),ROWS($1:7))),"")} | E9: {=IF(ROWS($1:7)<=COUNTIF(Tableau1[[Référent chantier ]],$A$1),INDEX(Tableau1[Marge €],SMALL(IF(Tableau1[[Référent chantier ]]=$A$1,ROW(INDIRECT("1:"&ROWS(Tableau1[[Référent chantier ]])))),ROWS($1:7))),"")}
B10: {=IF(ROWS($1:8)<=COUNTIF(Tableau1[[Référent chantier ]],$A$1),INDEX(Tableau1[NOM DU CHANTIER],SMALL(IF(Tableau1[[Référent chantier ]]=$A$1,ROW(INDIRECT("1:"&ROWS(Tableau1[[Référent chantier ]])))),ROWS($1:8))),"")} | C10: {=IF(ROWS($1:8)<=COUNTIF(Tableau1[[Référent chantier ]],$A$1),INDEX(Tableau1[N°Chantier],SMALL(IF(Tableau1[[Référent chantier ]]=$A$1,ROW(INDIRECT("1:"&ROWS(Tableau1[[Référent chantier ]])))),ROWS($1:8))),"")} | D10: {=IF(ROWS($1:8)<=COUNTIF(Tableau1[[Référent chantier ]],$A$1),INDEX(Tableau1[Marge],SMALL(IF(Tableau1[[Référent chantier ]]=$A$1,ROW(INDIRECT("1:"&ROWS(Tableau1[[Référent chantier ]])))),ROWS($1:8))),"")} | E10: {=IF(ROWS($1:8)<=COUNTIF(Tableau1[[Référent chantier ]],$A$1),INDEX(Tableau1[Marge €],SMALL(IF(Tableau1[[Référent chantier ]]=$A$1,ROW(INDIRECT("1:"&ROWS(Tableau1[[Référent chantier ]])))),ROWS($1:8))),"")}
B11: {=IF(ROWS($1:9)<=COUNTIF(Tableau1[[Référent chantier ]],$A$1),INDEX(Tableau1[NOM DU CHANTIER],SMALL(IF(Tableau1[[Référent chantier ]]=$A$1,ROW(INDIRECT("1:"&ROWS(Tableau1[[Référent chantier ]])))),ROWS($1:9))),"")} | C11: {=IF(ROWS($1:9)<=COUNTIF(Tableau1[[Référent chantier ]],$A$1),INDEX(Tableau1[N°Chantier],SMALL(IF(Tableau1[[Référent chantier ]]=$A$1,ROW(INDIRECT("1:"&ROWS(Tableau1[[Référent chantier ]])))),ROWS($1:9))),"")} | D11: {=IF(ROWS($1:9)<=COUNTIF(Tableau1[[Référent chantier ]],$A$1),INDEX(Tableau1[Marge],SMALL(IF(Tableau1[[Référent chantier ]]=$A$1,ROW(INDIRECT("1:"&ROWS(Tableau1[[Référent chantier ]])))),ROWS($1:9))),"")} | E11: {=IF(ROWS($1:9)<=COUNTIF(Tableau1[[Référent chantier ]],$A$1),INDEX(Tableau1[Marge €],SMALL(IF(Tableau1[[Référent chantier ]]=$A$1,ROW(INDIRECT("1:"&ROWS(Tableau1[[Référent chantier ]])))),ROWS($1:9))),"")}
B12: {=IF(ROWS($1:10)<=COUNTIF(Tableau1[[Référent chantier ]],$A$1),INDEX(Tableau1[NOM DU CHANTIER],SMALL(IF(Tableau1[[Référent chantier ]]=$A$1,ROW(INDIRECT("1:"&ROWS(Tableau1[[Référent chantier ]])))),ROWS($1:10))),"")} | C12: {=IF(ROWS($1:10)<=COUNTIF(Tableau1[[Référent chantier ]],$A$1),INDEX(Tableau1[N°Chantier],SMALL(IF(Tableau1[[Référent chantier ]]=$A$1,ROW(INDIRECT("1:"&ROWS(Tableau1[[Référent chantier ]])))),ROWS($1:10))),"")} | D12: {=IF(ROWS($1:10)<=COUNTIF(Tableau1[[Référent chantier ]],$A$1),INDEX(Tableau1[Marge],SMALL(IF(Tableau1[[Référent chantier ]]=$A$1,ROW(INDIRECT("1:"&ROWS(Tableau1[[Référent chantier ]])))),ROWS($1:10))),"")} | E12: {=IF(ROWS($1:10)<=COUNTIF(Tableau1[[Référent chantier ]],$A$1),INDEX(Tableau1[Marge €],SMALL(IF(Tableau1[[Référent chantier ]]=$A$1,ROW(INDIRECT("1:"&ROWS(Tableau1[[Référent chantier ]])))),ROWS($1:10))),"")}
B13: {=IF(ROWS($1:11)<=COUNTIF(Tableau1[[Référent chantier ]],$A$1),INDEX(Tableau1[NOM DU CHANTIER],SMALL(IF(Tableau1[[Référent chantier ]]=$A$1,ROW(INDIRECT("1:"&ROWS(Tableau1[[Référent chantier ]])))),ROWS($1:11))),"")} | C13: {=IF(ROWS($1:11)<=COUNTIF(Tableau1[[Référent chantier ]],$A$1),INDEX(Tableau1[N°Chantier],SMALL(IF(Tableau1[[Référent chantier ]]=$A$1,ROW(INDIRECT("1:"&ROWS(Tableau1[[Référent chantier ]])))),ROWS($1:11))),"")} | D13: {=IF(ROWS($1:11)<=COUNTIF(Tableau1[[Référent chantier ]],$A$1),INDEX(Tableau1[Marge],SMALL(IF(Tableau1[[Référent chantier ]]=$A$1,ROW(INDIRECT("1:"&ROWS(Tableau1[[Référent chantier ]])))),ROWS($1:11))),"")} | E13: {=IF(ROWS($1:11)<=COUNTIF(Tableau1[[Référent chantier ]],$A$1),INDEX(Tableau1[Marge €],SMALL(IF(Tableau1[[Référent chantier ]]=$A$1,ROW(INDIRECT("1:"&ROWS(Tableau1[[Référent chantier ]])))),ROWS($1:11))),"")}
B14: {=IF(ROWS($1:12)<=COUNTIF(Prime!$A$2:$A$18,$A$1),INDEX(Prime!$B$2:$B$18,SMALL(IF(Prime!$A$2:$A$18=$A$1,ROW(INDIRECT("1:"&ROWS(Prime!$A$2:$A$18)))),ROWS($1:12))),"")} | C14: {=IF(ROWS($1:12)<=COUNTIF(Prime!$A$2:$A$18,$A$1),INDEX(Prime!$C$2:$C$18,SMALL(IF(Prime!$A$2:$A$18=$A$1,ROW(INDIRECT("1:"&ROWS(Prime!$A$2:$A$18)))),ROWS($1:12))),"")} | D14: {=IF(ROWS($1:12)<=COUNTIF(Prime!$A$2:$A$18,$A$1),INDEX(Prime!$G$2:$G$18,SMALL(IF(Prime!$A$2:$A$18=$A$1,ROW(INDIRECT("1:"&ROWS(Prime!$A$2:$A$18)))),ROWS($1:12))),"")} | E14: {=IF(ROWS($1:12)<=COUNTIF(Prime!$A$2:$A$18,$A$1),INDEX(Prime!$I$2:$I$18,SMALL(IF(Prime!$A$2:$A$18=$A$1,ROW(INDIRECT("1:"&ROWS(Prime!$A$2:$A$18)))),ROWS($1:12))),"")}
B15: {=IF(ROWS($1:13)<=COUNTIF(Prime!$A$2:$A$18,$A$1),INDEX(Prime!$B$2:$B$18,SMALL(IF(Prime!$A$2:$A$18=$A$1,ROW(INDIRECT("1:"&ROWS(Prime!$A$2:$A$18)))),ROWS($1:13))),"")} | C15: {=IF(ROWS($1:13)<=COUNTIF(Prime!$A$2:$A$18,$A$1),INDEX(Prime!$C$2:$C$18,SMALL(IF(Prime!$A$2:$A$18=$A$1,ROW(INDIRECT("1:"&ROWS(Prime!$A$2:$A$18)))),ROWS($1:13))),"")} | D15: {=IF(ROWS($1:13)<=COUNTIF(Prime!$A$2:$A$18,$A$1),INDEX(Prime!$G$2:$G$18,SMALL(IF(Prime!$A$2:$A$18=$A$1,ROW(INDIRECT("1:"&ROWS(Prime!$A$2:$A$18)))),ROWS($1:13))),"")} | E15: {=IF(ROWS($1:13)<=COUNTIF(Prime!$A$2:$A$18,$A$1),INDEX(Prime!$I$2:$I$18,SMALL(IF(Prime!$A$2:$A$18=$A$1,ROW(INDIRECT("1:"&ROWS(Prime!$A$2:$A$18)))),ROWS($1:13))),"")}
B16: {=IF(ROWS($1:14)<=COUNTIF(Prime!$A$2:$A$18,$A$1),INDEX(Prime!$B$2:$B$18,SMALL(IF(Prime!$A$2:$A$18=$A$1,ROW(INDIRECT("1:"&ROWS(Prime!$A$2:$A$18)))),ROWS($1:14))),"")} | C16: {=IF(ROWS($1:14)<=COUNTIF(Prime!$A$2:$A$18,$A$1),INDEX(Prime!$C$2:$C$18,SMALL(IF(Prime!$A$2:$A$18=$A$1,ROW(INDIRECT("1:"&ROWS(Prime!$A$2:$A$18)))),ROWS($1:14))),"")} | D16: {=IF(ROWS($1:14)<=COUNTIF(Prime!$A$2:$A$18,$A$1),INDEX(Prime!$G$2:$G$18,SMALL(IF(Prime!$A$2:$A$18=$A$1,ROW(INDIRECT("1:"&ROWS(Prime!$A$2:$A$18)))),ROWS($1:14))),"")} | E16: {=IF(ROWS($1:14)<=COUNTIF(Prime!$A$2:$A$18,$A$1),INDEX(Prime!$I$2:$I$18,SMALL(IF(Prime!$A$2:$A$18=$A$1,ROW(INDIRECT("1:"&ROWS(Prime!$A$2:$A$18)))),ROWS($1:14))),"")}
D17: Prime TOTAL | E17: =SUM(E3:E16) -> 2792.02

Sheet Hatem
A1: CHATTI Hatem | B1: 44470
B2: Affaires | C2: N°Chantier | D2: Marge sur réalisé en heure | E2: Prime
B3: {=IF(ROWS($1:1)<=COUNTIF(Tableau1[[Référent chantier ]],$A$1),INDEX(Tableau1[NOM DU CHANTIER],SMALL(IF(Tableau1[[Référent chantier ]]=$A$1,ROW(INDIRECT("1:"&ROWS(Tableau1[[Référent chantier ]])))),ROWS($1:1))),"")} -> BUREAU FACIL | C3: {=IF(ROWS($1:1)<=COUNTIF(Tableau1[[Référent chantier ]],$A$1),INDEX(Tableau1[N°Chantier],SMALL(IF(Tableau1[[Référent chantier ]]=$A$1,ROW(INDIRECT("1:"&ROWS(Tableau1[[Référent chantier ]])))),ROWS($1:1))),"")} -> 7690 | D3: {=IF(ROWS($1:1)<=COUNTIF(Tableau1[[Référent chantier ]],$A$1),INDEX(Tableau1[Marge],SMALL(IF(Tableau1[[Référent chantier ]]=$A$1,ROW(INDIRECT("1:"&ROWS(Tableau1[[Référent chantier ]])))),ROWS($1:1))),"")} -> -216.74 | E3: {=IF(ROWS($1:1)<=COUNTIF(Tableau1[[Référent chantier ]],$A$1),INDEX(Tableau1[Marge €],SMALL(IF(Tableau1[[Référent chantier ]]=$A$1,ROW(INDIRECT("1:"&ROWS(Tableau1[[Référent chantier ]])))),ROWS($1:1))),"")} -> -3034.36
B4: {=IF(ROWS($1:2)<=COUNTIF(Tableau1[[Référent chantier ]],$A$1),INDEX(Tableau1[NOM DU CHANTIER],SMALL(IF(Tableau1[[Référent chantier ]]=$A$1,ROW(INDIRECT("1:"&ROWS(Tableau1[[Référent chantier ]])))),ROWS($1:2))),"")} | C4: {=IF(ROWS($1:2)<=COUNTIF(Tableau1[[Référent chantier ]],$A$1),INDEX(Tableau1[N°Chantier],SMALL(IF(Tableau1[[Référent chantier ]]=$A$1,ROW(INDIRECT("1:"&ROWS(Tableau1[[Référent chantier ]])))),ROWS($1:2))),"")} | D4: {=IF(ROWS($1:2)<=COUNTIF(Tableau1[[Référent chantier ]],$A$1),INDEX(Tableau1[Marge],SMALL(IF(Tableau1[[Référent chantier ]]=$A$1,ROW(INDIRECT("1:"&ROWS(Tableau1[[Référent chantier ]])))),ROWS($1:2))),"")} | E4: {=IF(ROWS($1:2)<=COUNTIF(Tableau1[[Référent chantier ]],$A$1),INDEX(Tableau1[Marge €],SMALL(IF(Tableau1[[Référent chantier ]]=$A$1,ROW(INDIRECT("1:"&ROWS(Tableau1[[Référent chantier ]])))),ROWS($1:2))),"")}
B5: {=IF(ROWS($1:3)<=COUNTIF(Tableau1[[Référent chantier ]],$A$1),INDEX(Tableau1[NOM DU CHANTIER],SMALL(IF(Tableau1[[Référent chantier ]]=$A$1,ROW(INDIRECT("1:"&ROWS(Tableau1[[Référent chantier ]])))),ROWS($1:3))),"")} | C5: {=IF(ROWS($1:3)<=COUNTIF(Tableau1[[Référent chantier ]],$A$1),INDEX(Tableau1[N°Chantier],SMALL(IF(Tableau1[[Référent chantier ]]=$A$1,ROW(INDIRECT("1:"&ROWS(Tableau1[[Référent chantier ]])))),ROWS($1:3))),"")} | D5: {=IF(ROWS($1:3)<=COUNTIF(Tableau1[[Référent chantier ]],$A$1),INDEX(Tableau1[Marge],SMALL(IF(Tableau1[[Référent chantier ]]=$A$1,ROW(INDIRECT("1:"&ROWS(Tableau1[[Référent chantier ]])))),ROWS($1:3))),"")} | E5: {=IF(ROWS($1:3)<=COUNTIF(Tableau1[[Référent chantier ]],$A$1),INDEX(Tableau1[Marge €],SMALL(IF(Tableau1[[Référent chantier ]]=$A$1,ROW(INDIRECT("1:"&ROWS(Tableau1[[Référent chantier ]])))),ROWS($1:3))),"")}
B6: {=IF(ROWS($1:4)<=COUNTIF(Tableau1[[Référent chantier ]],$A$1),INDEX(Tableau1[NOM DU CHANTIER],SMALL(IF(Tableau1[[Référent chantier ]]=$A$1,ROW(INDIRECT("1:"&ROWS(Tableau1[[Référent chantier ]])))),ROWS($1:4))),"")} | C6: {=IF(ROWS($1:4)<=COUNTIF(Tableau1[[Référent chantier ]],$A$1),INDEX(Tableau1[N°Chantier],SMALL(IF(Tableau1[[Référent chantier ]]=$A$1,ROW(INDIRECT("1:"&ROWS(Tableau1[[Référent chantier ]])))),ROWS($1:4))),"")} | D6: {=IF(ROWS($1:4)<=COUNTIF(Tableau1[[Référent chantier ]],$A$1),INDEX(Tableau1[Marge],SMALL(IF(Tableau1[[Référent chantier ]]=$A$1,ROW(INDIRECT("1:"&ROWS(Tableau1[[Référent chantier ]])))),ROWS($1:4))),"")} | E6: {=IF(ROWS($1:4)<=COUNTIF(Tableau1[[Référent chantier ]],$A$1),INDEX(Tableau1[Marge €],SMALL(IF(Tableau1[[Référent chantier ]]=$A$1,ROW(INDIRECT("1:"&ROWS(Tableau1[[Référent chantier ]])))),ROWS($1:4))),"")}
B7: {=IF(ROWS($1:5)<=COUNTIF(Tableau1[[Référent chantier ]],$A$1),INDEX(Tableau1[NOM DU CHANTIER],SMALL(IF(Tableau1[[Référent chantier ]]=$A$1,ROW(INDIRECT("1:"&ROWS(Tableau1[[Référent chantier ]])))),ROWS($1:5))),"")} | C7: {=IF(ROWS($1:5)<=COUNTIF(Tableau1[[Référent chantier ]],$A$1),INDEX(Tableau1[N°Chantier],SMALL(IF(Tableau1[[Référent chantier ]]=$A$1,ROW(INDIRECT("1:"&ROWS(Tableau1[[Référent chantier ]])))),ROWS($1:5))),"")} | D7: {=IF(ROWS($1:5)<=COUNTIF(Tableau1[[Référent chantier ]],$A$1),INDEX(Tableau1[Marge],SMALL(IF(Tableau1[[Référent chantier ]]=$A$1,ROW(INDIRECT("1:"&ROWS(Tableau1[[Référent chantier ]])))),ROWS($1:5))),"")} | E7: {=IF(ROWS($1:5)<=COUNTIF(Tableau1[[Référent chantier ]],$A$1),INDEX(Tableau1[Marge €],SMALL(IF(Tableau1[[Référent chantier ]]=$A$1,ROW(INDIRECT("1:"&ROWS(Tableau1[[Référent chantier ]])))),ROWS($1:5))),"")}
B8: {=IF(ROWS($1:6)<=COUNTIF(Tableau1[[Référent chantier ]],$A$1),INDEX(Tableau1[NOM DU CHANTIER],SMALL(IF(Tableau1[[Référent chantier ]]=$A$1,ROW(INDIRECT("1:"&ROWS(Tableau1[[Référent chantier ]])))),ROWS($1:6))),"")} | C8: {=IF(ROWS($1:6)<=COUNTIF(Tableau1[[Référent chantier ]],$A$1),INDEX(Tableau1[N°Chantier],SMALL(IF(Tableau1[[Référent chantier ]]=$A$1,ROW(INDIRECT("1:"&ROWS(Tableau1[[Référent chantier ]])))),ROWS($1:6))),"")} | D8: {=IF(ROWS($1:6)<=COUNTIF(Tableau1[[Référent chantier ]],$A$1),INDEX(Tableau1[Marge],SMALL(IF(Tableau1[[Référent chantier ]]=$A$1,ROW(INDIRECT("1:"&ROWS(Tableau1[[Référent chantier ]])))),ROWS($1:6))),"")} | E8: {=IF(ROWS($1:6)<=COUNTIF(Tableau1[[Référent chantier ]],$A$1),INDEX(Tableau1[Marge €],SMALL(IF(Tableau1[[Référent chantier ]]=$A$1,ROW(INDIRECT("1:"&ROWS(Tableau1[[Référent chantier ]])))),ROWS($1:6))),"")}
B9: {=IF(ROWS($1:7)<=COUNTIF(Tableau1[[Référent chantier ]],$A$1),INDEX(Tableau1[NOM DU CHANTIER],SMALL(IF(Tableau1[[Référent chantier ]]=$A$1,ROW(INDIRECT("1:"&ROWS(Tableau1[[Référent chantier ]])))),ROWS($1:7))),"")} | C9: {=IF(ROWS($1:7)<=COUNTIF(Tableau1[[Référent chantier ]],$A$1),INDEX(Tableau1[N°Chantier],SMALL(IF(Tableau1[[Référent chantier ]]=$A$1,ROW(INDIRECT("1:"&ROWS(Tableau1[[Référent chantier ]])))),ROWS($1:7))),"")} | D9: {=IF(ROWS($1:7)<=COUNTIF(Tableau1[[Référent chantier ]],$A$1),INDEX(Tableau1[Marge],SMALL(IF(Tableau1[[Référent chantier ]]=$A$1,ROW(INDIRECT("1:"&ROWS(Tableau1[[Référent chantier ]])))),ROWS($1:7))),"")} | E9: {=IF(ROWS($1:7)<=COUNTIF(Tableau1[[Référent chantier ]],$A$1),INDEX(Tableau1[Marge €],SMALL(IF(Tableau1[[Référent chantier ]]=$A$1,ROW(INDIRECT("1:"&ROWS(Tableau1[[Référent chantier ]])))),ROWS($1:7))),"")}
B10: {=IF(ROWS($1:8)<=COUNTIF(Tableau1[[Référent chantier ]],$A$1),INDEX(Tableau1[NOM DU CHANTIER],SMALL(IF(Tableau1[[Référent chantier ]]=$A$1,ROW(INDIRECT("1:"&ROWS(Tableau1[[Référent chantier ]])))),ROWS($1:8))),"")} | C10: {=IF(ROWS($1:8)<=COUNTIF(Tableau1[[Référent chantier ]],$A$1),INDEX(Tableau1[N°Chantier],SMALL(IF(Tableau1[[Référent chantier ]]=$A$1,ROW(INDIRECT("1:"&ROWS(Tableau1[[Référent chantier ]])))),ROWS($1:8))),"")} | D10: {=IF(ROWS($1:8)<=COUNTIF(Tableau1[[Référent chantier ]],$A$1),INDEX(Tableau1[Marge],SMALL(IF(Tableau1[[Référent chantier ]]=$A$1,ROW(INDIRECT("1:"&ROWS(Tableau1[[Référent chantier ]])))),ROWS($1:8))),"")} | E10: {=IF(ROWS($1:8)<=COUNTIF(Tableau1[[Référent chantier ]],$A$1),INDEX(Tableau1[Marge €],SMALL(IF(Tableau1[[Référent chantier ]]=$A$1,ROW(INDIRECT("1:"&ROWS(Tableau1[[Référent chantier ]])))),ROWS($1:8))),"")}
B11: {=IF(ROWS($1:9)<=COUNTIF(Tableau1[[Référent chantier ]],$A$1),INDEX(Tableau1[NOM DU CHANTIER],SMALL(IF(Tableau1[[Référent chantier ]]=$A$1,ROW(INDIRECT("1:"&ROWS(Tableau1[[Référent chantier ]])))),ROWS($1:9))),"")} | C11: {=IF(ROWS($1:9)<=COUNTIF(Tableau1[[Référent chantier ]],$A$1),INDEX(Tableau1[N°Chantier],SMALL(IF(Tableau1[[Référent chantier ]]=$A$1,ROW(INDIRECT("1:"&ROWS(Tableau1[[Référent chantier ]])))),ROWS($1:9))),"")} | D11: {=IF(ROWS($1:9)<=COUNTIF(Tableau1[[Référent chantier ]],$A$1),INDEX(Tableau1[Marge],SMALL(IF(Tableau1[[Référent chantier ]]=$A$1,ROW(INDIRECT("1:"&ROWS(Tableau1[[Référent chantier ]])))),ROWS($1:9))),"")} | E11: {=IF(ROWS($1:9)<=COUNTIF(Tableau1[[Référent chantier ]],$A$1),INDEX(Tableau1[Marge €],SMALL(IF(Tableau1[[Référent chantier ]]=$A$1,ROW(INDIRECT("1:"&ROWS(Tableau1[[Référent chantier ]])))),ROWS($1:9))),"")}
B12: {=IF(ROWS($1:10)<=COUNTIF(Tableau1[[Référent chantier ]],$A$1),INDEX(Tableau1[NOM DU CHANTIER],SMALL(IF(Tableau1[[Référent chantier ]]=$A$1,ROW(INDIRECT("1:"&ROWS(Tableau1[[Référent chantier ]])))),ROWS($1:10))),"")} | C12: {=IF(ROWS($1:10)<=COUNTIF(Tableau1[[Référent chantier ]],$A$1),INDEX(Tableau1[N°Chantier],SMALL(IF(Tableau1[[Référent chantier ]]=$A$1,ROW(INDIRECT("1:"&ROWS(Tableau1[[Référent chantier ]])))),ROWS($1:10))),"")} | D12: {=IF(ROWS($1:10)<=COUNTIF(Tableau1[[Référent chantier ]],$A$1),INDEX(Tableau1[Marge],SMALL(IF(Tableau1[[Référent chantier ]]=$A$1,ROW(INDIRECT("1:"&ROWS(Tableau1[[Référent chantier ]])))),ROWS($1:10))),"")} | E12: {=IF(ROWS($1:10)<=COUNTIF(Tableau1[[Référent chantier ]],$A$1),INDEX(Tableau1[Marge €],SMALL(IF(Tableau1[[Référent chantier ]]=$A$1,ROW(INDIRECT("1:"&ROWS(Tableau1[[Référent chantier ]])))),ROWS($1:10))),"")}
B13: {=IF(ROWS($1:11)<=COUNTIF(Tableau1[[Référent chantier ]],$A$1),INDEX(Tableau1[NOM DU CHANTIER],SMALL(IF(Tableau1[[Référent chantier ]]=$A$1,ROW(INDIRECT("1:"&ROWS(Tableau1[[Référent chantier ]])))),ROWS($1:11))),"")} | C13: {=IF(ROWS($1:11)<=COUNTIF(Tableau1[[Référent chantier ]],$A$1),INDEX(Tableau1[N°Chantier],SMALL(IF(Tableau1[[Référent chantier ]]=$A$1,ROW(INDIRECT("1:"&ROWS(Tableau1[[Référent chantier ]])))),ROWS($1:11))),"")} | D13: {=IF(ROWS($1:11)<=COUNTIF(Tableau1[[Référent chantier ]],$A$1),INDEX(Tableau1[Marge],SMALL(IF(Tableau1[[Référent chantier ]]=$A$1,ROW(INDIRECT("1:"&ROWS(Tableau1[[Référent chantier ]])))),ROWS($1:11))),"")} | E13: {=IF(ROWS($1:11)<=COUNTIF(Tableau1[[Référent chantier ]],$A$1),INDEX(Tableau1[Marge €],SMALL(IF(Tableau1[[Référent chantier ]]=$A$1,ROW(INDIRECT("1:"&ROWS(Tableau1[[Référent chantier ]])))),ROWS($1:11))),"")}
B14: {=IF(ROWS($1:12)<=COUNTIF(Prime!$A$2:$A$18,$A$1),INDEX(Prime!$B$2:$B$18,SMALL(IF(Prime!$A$2:$A$18=$A$1,ROW(INDIRECT("1:"&ROWS(Prime!$A$2:$A$18)))),ROWS($1:12))),"")} | C14: {=IF(ROWS($1:12)<=COUNTIF(Prime!$A$2:$A$18,$A$1),INDEX(Prime!$C$2:$C$18,SMALL(IF(Prime!$A$2:$A$18=$A$1,ROW(INDIRECT("1:"&ROWS(Prime!$A$2:$A$18)))),ROWS($1:12))),"")} | D14: {=IF(ROWS($1:12)<=COUNTIF(Prime!$A$2:$A$18,$A$1),INDEX(Prime!$G$2:$G$18,SMALL(IF(Prime!$A$2:$A$18=$A$1,ROW(INDIRECT("1:"&ROWS(Prime!$A$2:$A$18)))),ROWS($1:12))),"")} | E14: {=IF(ROWS($1:12)<=COUNTIF(Prime!$A$2:$A$18,$A$1),INDEX(Prime!$I$2:$I$18,SMALL(IF(Prime!$A$2:$A$18=$A$1,ROW(INDIRECT("1:"&ROWS(Prime!$A$2:$A$18)))),ROWS($1:12))),"")}
B15: {=IF(ROWS($1:13)<=COUNTIF(Prime!$A$2:$A$18,$A$1),INDEX(Prime!$B$2:$B$18,SMALL(IF(Prime!$A$2:$A$18=$A$1,ROW(INDIRECT("1:"&ROWS(Prime!$A$2:$A$18)))),ROWS($1:13))),"")} | C15: {=IF(ROWS($1:13)<=COUNTIF(Prime!$A$2:$A$18,$A$1),INDEX(Prime!$C$2:$C$18,SMALL(IF(Prime!$A$2:$A$18=$A$1,ROW(INDIRECT("1:"&ROWS(Prime!$A$2:$A$18)))),ROWS($1:13))),"")} | D15: {=IF(ROWS($1:13)<=COUNTIF(Prime!$A$2:$A$18,$A$1),INDEX(Prime!$G$2:$G$18,SMALL(IF(Prime!$A$2:$A$18=$A$1,ROW(INDIRECT("1:"&ROWS(Prime!$A$2:$A$18)))),ROWS($1:13))),"")} | E15: {=IF(ROWS($1:13)<=COUNTIF(Prime!$A$2:$A$18,$A$1),INDEX(Prime!$I$2:$I$18,SMALL(IF(Prime!$A$2:$A$18=$A$1,ROW(INDIRECT("1:"&ROWS(Prime!$A$2:$A$18)))),ROWS($1:13))),"")}
B16: {=IF(ROWS($1:14)<=COUNTIF(Prime!$A$2:$A$18,$A$1),INDEX(Prime!$B$2:$B$18,SMALL(IF(Prime!$A$2:$A$18=$A$1,ROW(INDIRECT("1:"&ROWS(Prime!$A$2:$A$18)))),ROWS($1:14))),"")} | C16: {=IF(ROWS($1:14)<=COUNTIF(Prime!$A$2:$A$18,$A$1),INDEX(Prime!$C$2:$C$18,SMALL(IF(Prime!$A$2:$A$18=$A$1,ROW(INDIRECT("1:"&ROWS(Prime!$A$2:$A$18)))),ROWS($1:14))),"")} | D16: {=IF(ROWS($1:14)<=COUNTIF(Prime!$A$2:$A$18,$A$1),INDEX(Prime!$G$2:$G$18,SMALL(IF(Prime!$A$2:$A$18=$A$1,ROW(INDIRECT("1:"&ROWS(Prime!$A$2:$A$18)))),ROWS($1:14))),"")} | E16: {=IF(ROWS($1:14)<=COUNTIF(Prime!$A$2:$A$18,$A$1),INDEX(Prime!$I$2:$I$18,SMALL(IF(Prime!$A$2:$A$18=$A$1,ROW(INDIRECT("1:"&ROWS(Prime!$A$2:$A$18)))),ROWS($1:14))),"")}
D17: Prime TOTAL | E17: =SUM(E3:E16) -> -3034.36

Sheet Mark
A1: GJOKA Mark | B1: 44470
B2: Affaires | C2: N°Chantier | D2: Marge sur réalisé en heure | E2: Prime
B3: {=IF(ROWS($1:1)<=COUNTIF(Tableau1[[Référent chantier ]],$A$1),INDEX(Tableau1[NOM DU CHANTIER],SMALL(IF(Tableau1[[Référent chantier ]]=$A$1,ROW(INDIRECT("1:"&ROWS(Tableau1[[Référent chantier ]])))),ROWS($1:1))),"")} -> POLE EMPLOI | C3: {=IF(ROWS($1:1)<=COUNTIF(Tableau1[[Référent chantier ]],$A$1),INDEX(Tableau1[N°Chantier],SMALL(IF(Tableau1[[Référent chantier ]]=$A$1,ROW(INDIRECT("1:"&ROWS(Tableau1[[Référent chantier ]])))),ROWS($1:1))),"")} -> 7826 | D3: {=IF(ROWS($1:1)<=COUNTIF(Tableau1[[Référent chantier ]],$A$1),INDEX(Tableau1[Marge],SMALL(IF(Tableau1[[Référent chantier ]]=$A$1,ROW(INDIRECT("1:"&ROWS(Tableau1[[Référent chantier ]])))),ROWS($1:1))),"")} -> 77.45 | E3: {=IF(ROWS($1:1)<=COUNTIF(Tableau1[[Référent chantier ]],$A$1),INDEX(Tableau1[Marge €],SMALL(IF(Tableau1[[Référent chantier ]]=$A$1,ROW(INDIRECT("1:"&ROWS(Tableau1[[Référent chantier ]])))),ROWS($1:1))),"")} -> 1084.3
B4: {=IF(ROWS($1:2)<=COUNTIF(Tableau1[[Référent chantier ]],$A$1),INDEX(Tableau1[NOM DU CHANTIER],SMALL(IF(Tableau1[[Référent chantier ]]=$A$1,ROW(INDIRECT("1:"&ROWS(Tableau1[[Référent chantier ]])))),ROWS($1:2))),"")} | C4: {=IF(ROWS($1:1)<=COUNTIF(Tableau1[[Référent chantier ]],#REF!),INDEX(Tableau1[N°Chantier],SMALL(IF(Tableau1[[Référent chantier ]]=#REF!,ROW(INDIRECT("1:"&ROWS(Tableau1[[Référent chantier ]])))),ROWS($1:1))),"")} | D4: {=IF(ROWS($1:2)<=COUNTIF(Tableau1[[Référent chantier ]],$A$1),INDEX(Tableau1[Marge],SMALL(IF(Tableau1[[Référent chantier ]]=$A$1,ROW(INDIRECT("1:"&ROWS(Tableau1[[Référent chantier ]])))),ROWS($1:2))),"")} | E4: {=IF(ROWS($1:2)<=COUNTIF(Tableau1[[Référent chantier ]],$A$1),INDEX(Tableau1[Marge €],SMALL(IF(Tableau1[[Référent chantier ]]=$A$1,ROW(INDIRECT("1:"&ROWS(Tableau1[[Référent chantier ]])))),ROWS($1:2))),"")}
B5: {=IF(ROWS($1:3)<=COUNTIF(Tableau1[[Référent chantier ]],$A$1),INDEX(Tableau1[NOM DU CHANTIER],SMALL(IF(Tableau1[[Référent chantier ]]=$A$1,ROW(INDIRECT("1:"&ROWS(Tableau1[[Référent chantier ]])))),ROWS($1:3))),"")} | C5: {=IF(ROWS($1:2)<=COUNTIF(Tableau1[[Référent chantier ]],#REF!),INDEX(Tableau1[N°Chantier],SMALL(IF(Tableau1[[Référent chantier ]]=#REF!,ROW(INDIRECT("1:"&ROWS(Tableau1[[Référent chantier ]])))),ROWS($1:2))),"")} | D5: {=IF(ROWS($1:3)<=COUNTIF(Tableau1[[Référent chantier ]],$A$1),INDEX(Tableau1[Marge],SMALL(IF(Tableau1[[Référent chantier ]]=$A$1,ROW(INDIRECT("1:"&ROWS(Tableau1[[Référent chantier ]])))),ROWS($1:3))),"")} | E5: {=IF(ROWS($1:3)<=COUNTIF(Tableau1[[Référent chantier ]],$A$1),INDEX(Tableau1[Marge €],SMALL(IF(Tableau1[[Référent chantier ]]=$A$1,ROW(INDIRECT("1:"&ROWS(Tableau1[[Référent chantier ]])))),ROWS($1:3))),"")}
B6: {=IF(ROWS($1:4)<=COUNTIF(Tableau1[[Référent chantier ]],$A$1),INDEX(Tableau1[NOM DU CHANTIER],SMALL(IF(Tableau1[[Référent chantier ]]=$A$1,ROW(INDIRECT("1:"&ROWS(Tableau1[[Référent chantier ]])))),ROWS($1:4))),"")} | C6: {=IF(ROWS($1:3)<=COUNTIF(Tableau1[[Référent chantier ]],#REF!),INDEX(Tableau1[N°Chantier],SMALL(IF(Tableau1[[Référent chantier ]]=#REF!,ROW(INDIRECT("1:"&ROWS(Tableau1[[Référent chantier ]])))),ROWS($1:3))),"")} | D6: {=IF(ROWS($1:4)<=COUNTIF(Tableau1[[Référent chantier ]],$A$1),INDEX(Tableau1[Marge],SMALL(IF(Tableau1[[Référent chantier ]]=$A$1,ROW(INDIRECT("1:"&ROWS(Tableau1[[Référent chantier ]])))),ROWS($1:4))),"")} | E6: {=IF(ROWS($1:4)<=COUNTIF(Tableau1[[Référent chantier ]],$A$1),INDEX(Tableau1[Marge €],SMALL(IF(Tableau1[[Référent chantier ]]=$A$1,ROW(INDIRECT("1:"&ROWS(Tableau1[[Référent chantier ]])))),ROWS($1:4))),"")}
B7: {=IF(ROWS($1:5)<=COUNTIF(Tableau1[[Référent chantier ]],$A$1),INDEX(Tableau1[NOM DU CHANTIER],SMALL(IF(Tableau1[[Référent chantier ]]=$A$1,ROW(INDIRECT("1:"&ROWS(Tableau1[[Référent chantier ]])))),ROWS($1:5))),"")} | C7: {=IF(ROWS($1:4)<=COUNTIF(Tableau1[[Référent chantier ]],#REF!),INDEX(Tableau1[N°Chantier],SMALL(IF(Tableau1[[Référent chantier ]]=#REF!,ROW(INDIRECT("1:"&ROWS(Tableau1[[Référent chantier ]])))),ROWS($1:4))),"")} | D7: {=IF(ROWS($1:5)<=COUNTIF(Tableau1[[Référent chantier ]],$A$1),INDEX(Tableau1[Marge],SMALL(IF(Tableau1[[Référent chantier ]]=$A$1,ROW(INDIRECT("1:"&ROWS(Tableau1[[Référent chantier ]])))),ROWS($1:5))),"")} | E7: {=IF(ROWS($1:5)<=COUNTIF(Tableau1[[Référent chantier ]],$A$1),INDEX(Tableau1[Marge €],SMALL(IF(Tableau1[[Référent chantier ]]=$A$1,ROW(INDIRECT("1:"&ROWS(Tableau1[[Référent chantier ]])))),ROWS($1:5))),"")}
B8: {=IF(ROWS($1:6)<=COUNTIF(Tableau1[[Référent chantier ]],$A$1),INDEX(Tableau1[NOM DU CHANTIER],SMALL(IF(Tableau1[[Référent chantier ]]=$A$1,ROW(INDIRECT("1:"&ROWS(Tableau1[[Référent chantier ]])))),ROWS($1:6))),"")} | C8: {=IF(ROWS($1:5)<=COUNTIF(Tableau1[[Référent chantier ]],#REF!),INDEX(Tableau1[N°Chantier],SMALL(IF(Tableau1[[Référent chantier ]]=#REF!,ROW(INDIRECT("1:"&ROWS(Tableau1[[Référent chantier ]])))),ROWS($1:5))),"")} | D8: {=IF(ROWS($1:6)<=COUNTIF(Tableau1[[Référent chantier ]],$A$1),INDEX(Tableau1[Marge],SMALL(IF(Tableau1[[Référent chantier ]]=$A$1,ROW(INDIRECT("1:"&ROWS(Tableau1[[Référent chantier ]])))),ROWS($1:6))),"")} | E8: {=IF(ROWS($1:6)<=COUNTIF(Tableau1[[Référent chantier ]],$A$1),INDEX(Tableau1[Marge €],SMALL(IF(Tableau1[[Référent chantier ]]=$A$1,ROW(INDIRECT("1:"&ROWS(Tableau1[[Référent chantier ]])))),ROWS($1:6))),"")}
B9: {=IF(ROWS($1:7)<=COUNTIF(Tableau1[[Référent chantier ]],$A$1),INDEX(Tableau1[NOM DU CHANTIER],SMALL(IF(Tableau1[[Référent chantier ]]=$A$1,ROW(INDIRECT("1:"&ROWS(Tableau1[[Référent chantier ]])))),ROWS($1:7))),"")} | C9: {=IF(ROWS($1:6)<=COUNTIF(Tableau1[[Référent chantier ]],#REF!),INDEX(Tableau1[N°Chantier],SMALL(IF(Tableau1[[Référent chantier ]]=#REF!,ROW(INDIRECT("1:"&ROWS(Tableau1[[Référent chantier ]])))),ROWS($1:6))),"")} | D9: {=IF(ROWS($1:7)<=COUNTIF(Tableau1[[Référent chantier ]],$A$1),INDEX(Tableau1[Marge],SMALL(IF(Tableau1[[Référent chantier ]]=$A$1,ROW(INDIRECT("1:"&ROWS(Tableau1[[Référent chantier ]])))),ROWS($1:7))),"")} | E9: {=IF(ROWS($1:7)<=COUNTIF(Tableau1[[Référent chantier ]],$A$1),INDEX(Tableau1[Marge €],SMALL(IF(Tableau1[[Référent chantier ]]=$A$1,ROW(INDIRECT("1:"&ROWS(Tableau1[[Référent chantier ]])))),ROWS($1:7))),"")}
B10: {=IF(ROWS($1:8)<=COUNTIF(Tableau1[[Référent chantier ]],$A$1),INDEX(Tableau1[NOM DU CHANTIER],SMALL(IF(Tableau1[[Référent chantier ]]=$A$1,ROW(INDIRECT("1:"&ROWS(Tableau1[[Référent chantier ]])))),ROWS($1:8))),"")} | C10: {=IF(ROWS($1:7)<=COUNTIF(Tableau1[[Référent chantier ]],#REF!),INDEX(Tableau1[N°Chantier],SMALL(IF(Tableau1[[Référent chantier ]]=#REF!,ROW(INDIRECT("1:"&ROWS(Tableau1[[Référent chantier ]])))),ROWS($1:7))),"")} | D10: {=IF(ROWS($1:8)<=COUNTIF(Tableau1[[Référent chantier ]],$A$1),INDEX(Tableau1[Marge],SMALL(IF(Tableau1[[Référent chantier ]]=$A$1,ROW(INDIRECT("1:"&ROWS(Tableau1[[Référent chantier ]])))),ROWS($1:8))),"")} | E10: {=IF(ROWS($1:8)<=COUNTIF(Tableau1[[Référent chantier ]],$A$1),INDEX(Tableau1[Marge €],SMALL(IF(Tableau1[[Référent chantier ]]=$A$1,ROW(INDIRECT("1:"&ROWS(Tableau1[[Référent chantier ]])))),ROWS($1:8))),"")}
B11: {=IF(ROWS($1:9)<=COUNTIF(Tableau1[[Référent chantier ]],$A$1),INDEX(Tableau1[NOM DU CHANTIER],SMALL(IF(Tableau1[[Référent chantier ]]=$A$1,ROW(INDIRECT("1:"&ROWS(Tableau1[[Référent chantier ]])))),ROWS($1:9))),"")} | C11: {=IF(ROWS($1:8)<=COUNTIF(Tableau1[[Référent chantier ]],#REF!),INDEX(Tableau1[N°Chantier],SMALL(IF(Tableau1[[Référent chantier ]]=#REF!,ROW(INDIRECT("1:"&ROWS(Tableau1[[Référent chantier ]])))),ROWS($1:8))),"")} | D11: {=IF(ROWS($1:9)<=COUNTIF(Tableau1[[Référent chantier ]],$A$1),INDEX(Tableau1[Marge],SMALL(IF(Tableau1[[Référent chantier ]]=$A$1,ROW(INDIRECT("1:"&ROWS(Tableau1[[Référent chantier ]])))),ROWS($1:9))),"")} | E11: {=IF(ROWS($1:9)<=COUNTIF(Tableau1[[Référent chantier ]],$A$1),INDEX(Tableau1[Marge €],SMALL(IF(Tableau1[[Référent chantier ]]=$A$1,ROW(INDIRECT("1:"&ROWS(Tableau1[[Référent chantier ]])))),ROWS($1:9))),"")}
B12: {=IF(ROWS($1:10)<=COUNTIF(Tableau1[[Référent chantier ]],$A$1),INDEX(Tableau1[NOM DU CHANTIER],SMALL(IF(Tableau1[[Référent chantier ]]=$A$1,ROW(INDIRECT("1:"&ROWS(Tableau1[[Référent chantier ]])))),ROWS($1:10))),"")} | C12: {=IF(ROWS($1:9)<=COUNTIF(Tableau1[[Référent chantier ]],#REF!),INDEX(Tableau1[N°Chantier],SMALL(IF(Tableau1[[Référent chantier ]]=#REF!,ROW(INDIRECT("1:"&ROWS(Tableau1[[Référent chantier ]])))),ROWS($1:9))),"")} | D12: {=IF(ROWS($1:10)<=COUNTIF(Tableau1[[Référent chantier ]],$A$1),INDEX(Tableau1[Marge],SMALL(IF(Tableau1[[Référent chantier ]]=$A$1,ROW(INDIRECT("1:"&ROWS(Tableau1[[Référent chantier ]])))),ROWS($1:10))),"")} | E12: {=IF(ROWS($1:10)<=COUNTIF(Tableau1[[Référent chantier ]],$A$1),INDEX(Tableau1[Marge €],SMALL(IF(Tableau1[[Référent chantier ]]=$A$1,ROW(INDIRECT("1:"&ROWS(Tableau1[[Référent chantier ]])))),ROWS($1:10))),"")}
B13: {=IF(ROWS($1:11)<=COUNTIF(Tableau1[[Référent chantier ]],$A$1),INDEX(Tableau1[NOM DU CHANTIER],SMALL(IF(Tableau1[[Référent chantier ]]=$A$1,ROW(INDIRECT("1:"&ROWS(Tableau1[[Référent chantier ]])))),ROWS($1:11))),"")} | C13: {=IF(ROWS($1:10)<=COUNTIF(Tableau1[[Référent chantier ]],#REF!),INDEX(Tableau1[N°Chantier],SMALL(IF(Tableau1[[Référent chantier ]]=#REF!,ROW(INDIRECT("1:"&ROWS(Tableau1[[Référent chantier ]])))),ROWS($1:10))),"")} | D13: {=IF(ROWS($1:11)<=COUNTIF(Tableau1[[Référent chantier ]],$A$1),INDEX(Tableau1[Marge],SMALL(IF(Tableau1[[Référent chantier ]]=$A$1,ROW(INDIRECT("1:"&ROWS(Tableau1[[Référent chantier ]])))),ROWS($1:11))),"")} | E13: {=IF(ROWS($1:11)<=COUNTIF(Tableau1[[Référent chantier ]],$A$1),INDEX(Tableau1[Marge €],SMALL(IF(Tableau1[[Référent chantier ]]=$A$1,ROW(INDIRECT("1:"&ROWS(Tableau1[[Référent chantier ]])))),ROWS($1:11))),"")}
B14: {=IF(ROWS($1:12)<=COUNTIF(Tableau1[[Référent chantier ]],$A$1),INDEX(Tableau1[NOM DU CHANTIER],SMALL(IF(Tableau1[[Référent chantier ]]=$A$1,ROW(INDIRECT("1:"&ROWS(Tableau1[[Référent chantier ]])))),ROWS($1:12))),"")} | C14: {=IF(ROWS($1:11)<=COUNTIF(Tableau1[[Référent chantier ]],#REF!),INDEX(Tableau1[N°Chantier],SMALL(IF(Tableau1[[Référent chantier ]]=#REF!,ROW(INDIRECT("1:"&ROWS(Tableau1[[Référent chantier ]])))),ROWS($1:11))),"")} | D14: {=IF(ROWS($1:12)<=COUNTIF(Tableau1[[Référent chantier ]],$A$1),INDEX(Tableau1[Marge],SMALL(IF(Tableau1[[Référent chantier ]]=$A$1,ROW(INDIRECT("1:"&ROWS(Tableau1[[Référent chantier ]])))),ROWS($1:12))),"")} | E14: {=IF(ROWS($1:12)<=COUNTIF(Tableau1[[Référent chantier ]],$A$1),INDEX(Tableau1[Marge €],SMALL(IF(Tableau1[[Référent chantier ]]=$A$1,ROW(INDIRECT("1:"&ROWS(Tableau1[[Référent chantier ]])))),ROWS($1:12))),"")}
B15: {=IF(ROWS($1:13)<=COUNTIF(Tableau1[[Référent chantier ]],$A$1),INDEX(Tableau1[NOM DU CHANTIER],SMALL(IF(Tableau1[[Référent chantier ]]=$A$1,ROW(INDIRECT("1:"&ROWS(Tableau1[[Référent chantier ]])))),ROWS($1:13))),"")} | C15: {=IF(ROWS($1:12)<=COUNTIF(Tableau1[[Référent chantier ]],#REF!),INDEX(Tableau1[N°Chantier],SMALL(IF(Tableau1[[Référent chantier ]]=#REF!,ROW(INDIRECT("1:"&ROWS(Tableau1[[Référent chantier ]])))),ROWS($1:12))),"")} | D15: {=IF(ROWS($1:13)<=COUNTIF(Tableau1[[Référent chantier ]],$A$1),INDEX(Tableau1[Marge],SMALL(IF(Tableau1[[Référent chantier ]]=$A$1,ROW(INDIRECT("1:"&ROWS(Tableau1[[Référent chantier ]])))),ROWS($1:13))),"")} | E15: {=IF(ROWS($1:13)<=COUNTIF(Tableau1[[Référent chantier ]],$A$1),INDEX(Tableau1[Marge €],SMALL(IF(Tableau1[[Référent chantier ]]=$A$1,ROW(INDIRECT("1:"&ROWS(Tableau1[[Référent chantier ]])))),ROWS($1:13))),"")}
B16: {=IF(ROWS($1:14)<=COUNTIF(Tableau1[[Référent chantier ]],$A$1),INDEX(Tableau1[NOM DU CHANTIER],SMALL(IF(Tableau1[[Référent chantier ]]=$A$1,ROW(INDIRECT("1:"&ROWS(Tableau1[[Référent chantier ]])))),ROWS($1:14))),"")} | C16: {=IF(ROWS($1:13)<=COUNTIF(Tableau1[[Référent chantier ]],#REF!),INDEX(Tableau1[N°Chantier],SMALL(IF(Tableau1[[Référent chantier ]]=#REF!,ROW(INDIRECT("1:"&ROWS(Tableau1[[Référent chantier ]])))),ROWS($1:13))),"")} | D16: {=IF(ROWS($1:14)<=COUNTIF(Tableau1[[Référent chantier ]],$A$1),INDEX(Tableau1[Marge],SMALL(IF(Tableau1[[Référent chantier ]]=$A$1,ROW(INDIRECT("1:"&ROWS(Tableau1[[Référent chantier ]])))),ROWS($1:14))),"")} | E16: {=IF(ROWS($1:14)<=COUNTIF(Tableau1[[Référent chantier ]],$A$1),INDEX(Tableau1[Marge €],SMALL(IF(Tableau1[[Référent chantier ]]=$A$1,ROW(INDIRECT("1:"&ROWS(Tableau1[[Référent chantier ]])))),ROWS($1:14))),"")}
D17: Prime TOTAL | E17: =SUM(E3:E16) -> 1084.3

Sheet Nasser
A1: HMIDA Nasser | B1: 44470
B2: Affaires | C2: N°Chantier | D2: Marge sur réalisé en heure | E2: Prime
B3: {=IF(ROWS($1:1)<=COUNTIF(Tableau1[[Référent chantier ]],$A$1),INDEX(Tableau1[NOM DU CHANTIER],SMALL(IF(Tableau1[[Référent chantier ]]=$A$1,ROW(INDIRECT("1:"&ROWS(Tableau1[[Référent chantier ]])))),ROWS($1:1))),"")} -> CRECHE PITCHOUN | C3: {=IF(ROWS($1:1)<=COUNTIF(Tableau1[[Référent chantier ]],$A$1),INDEX(Tableau1[N°Chantier],SMALL(IF(Tableau1[[Référent chantier ]]=$A$1,ROW(INDIRECT("1:"&ROWS(Tableau1[[Référent chantier ]])))),ROWS($1:1))),"")} -> 7898 | D3: {=IF(ROWS($1:1)<=COUNTIF(Tableau1[[Référent chantier ]],$A$1),INDEX(Tableau1[Marge],SMALL(IF(Tableau1[[Référent chantier ]]=$A$1,ROW(INDIRECT("1:"&ROWS(Tableau1[[Référent chantier ]])))),ROWS($1:1))),"")} -> -8 | E3: {=IF(ROWS($1:1)<=COUNTIF(Tableau1[[Référent chantier ]],$A$1),INDEX(Tableau1[Marge €],SMALL(IF(Tableau1[[Référent chantier ]]=$A$1,ROW(INDIRECT("1:"&ROWS(Tableau1[[Référent chantier ]])))),ROWS($1:1))),"")} -> -112
B4: {=IF(ROWS($1:2)<=COUNTIF(Tableau1[[Référent chantier ]],$A$1),INDEX(Tableau1[NOM DU CHANTIER],SMALL(IF(Tableau1[[Référent chantier ]]=$A$1,ROW(INDIRECT("1:"&ROWS(Tableau1[[Référent chantier ]])))),ROWS($1:2))),"")} | C4: {=IF(ROWS($1:2)<=COUNTIF(Tableau1[[Référent chantier ]],$A$1),INDEX(Tableau1[N°Chantier],SMALL(IF(Tableau1[[Référent chantier ]]=$A$1,ROW(INDIRECT("1:"&ROWS(Tableau1[[Référent chantier ]])))),ROWS($1:2))),"")} | D4: {=IF(ROWS($1:2)<=COUNTIF(Tableau1[[Référent chantier ]],$A$1),INDEX(Tableau1[Marge],SMALL(IF(Tableau1[[Référent chantier ]]=$A$1,ROW(INDIRECT("1:"&ROWS(Tableau1[[Référent chantier ]])))),ROWS($1:2))),"")} | E4: {=IF(ROWS($1:2)<=COUNTIF(Tableau1[[Référent chantier ]],$A$1),INDEX(Tableau1[Marge €],SMALL(IF(Tableau1[[Référent chantier ]]=$A$1,ROW(INDIRECT("1:"&ROWS(Tableau1[[Référent chantier ]])))),ROWS($1:2))),"")}
B5: {=IF(ROWS($1:3)<=COUNTIF(Tableau1[[Référent chantier ]],$A$1),INDEX(Tableau1[NOM DU CHANTIER],SMALL(IF(Tableau1[[Référent chantier ]]=$A$1,ROW(INDIRECT("1:"&ROWS(Tableau1[[Référent chantier ]])))),ROWS($1:3))),"")} | C5: {=IF(ROWS($1:3)<=COUNTIF(Tableau1[[Référent chantier ]],$A$1),INDEX(Tableau1[N°Chantier],SMALL(IF(Tableau1[[Référent chantier ]]=$A$1,ROW(INDIRECT("1:"&ROWS(Tableau1[[Référent chantier ]])))),ROWS($1:3))),"")} | D5: {=IF(ROWS($1:3)<=COUNTIF(Tableau1[[Référent chantier ]],$A$1),INDEX(Tableau1[Marge],SMALL(IF(Tableau1[[Référent chantier ]]=$A$1,ROW(INDIRECT("1:"&ROWS(Tableau1[[Référent chantier ]])))),ROWS($1:3))),"")} | E5: {=IF(ROWS($1:3)<=COUNTIF(Tableau1[[Référent chantier ]],$A$1),INDEX(Tableau1[Marge €],SMALL(IF(Tableau1[[Référent chantier ]]=$A$1,ROW(INDIRECT("1:"&ROWS(Tableau1[[Référent chantier ]])))),ROWS($1:3))),"")}
B6: {=IF(ROWS($1:4)<=COUNTIF(Tableau1[[Référent chantier ]],$A$1),INDEX(Tableau1[NOM DU CHANTIER],SMALL(IF(Tableau1[[Référent chantier ]]=$A$1,ROW(INDIRECT("1:"&ROWS(Tableau1[[Référent chantier ]])))),ROWS($1:4))),"")} | C6: {=IF(ROWS($1:4)<=COUNTIF(Tableau1[[Référent chantier ]],$A$1),INDEX(Tableau1[N°Chantier],SMALL(IF(Tableau1[[Référent chantier ]]=$A$1,ROW(INDIRECT("1:"&ROWS(Tableau1[[Référent chantier ]])))),ROWS($1:4))),"")} | D6: {=IF(ROWS($1:4)<=COUNTIF(Tableau1[[Référent chantier ]],$A$1),INDEX(Tableau1[Marge],SMALL(IF(Tableau1[[Référent chantier ]]=$A$1,ROW(INDIRECT("1:"&ROWS(Tableau1[[Référent chantier ]])))),ROWS($1:4))),"")} | E6: {=IF(ROWS($1:4)<=COUNTIF(Tableau1[[Référent chantier ]],$A$1),INDEX(Tableau1[Marge €],SMALL(IF(Tableau1[[Référent chantier ]]=$A$1,ROW(INDIRECT("1:"&ROWS(Tableau1[[Référent chantier ]])))),ROWS($1:4))),"")}
B7: {=IF(ROWS($1:5)<=COUNTIF(Tableau1[[Référent chantier ]],$A$1),INDEX(Tableau1[NOM DU CHANTIER],SMALL(IF(Tableau1[[Référent chantier ]]=$A$1,ROW(INDIRECT("1:"&ROWS(Tableau1[[Référent chantier ]])))),ROWS($1:5))),"")} | C7: {=IF(ROWS($1:5)<=COUNTIF(Tableau1[[Référent chantier ]],$A$1),INDEX(Tableau1[N°Chantier],SMALL(IF(Tableau1[[Référent chantier ]]=$A$1,ROW(INDIRECT("1:"&ROWS(Tableau1[[Référent chantier ]])))),ROWS($1:5))),"")} | D7: {=IF(ROWS($1:5)<=COUNTIF(Tableau1[[Référent chantier ]],$A$1),INDEX(Tableau1[Marge],SMALL(IF(Tableau1[[Référent chantier ]]=$A$1,ROW(INDIRECT("1:"&ROWS(Tableau1[[Référent chantier ]])))),ROWS($1:5))),"")} | E7: {=IF(ROWS($1:5)<=COUNTIF(Tableau1[[Référent chantier ]],$A$1),INDEX(Tableau1[Marge €],SMALL(IF(Tableau1[[Référent chantier ]]=$A$1,ROW(INDIRECT("1:"&ROWS(Tableau1[[Référent chantier ]])))),ROWS($1:5))),"")}
B8: {=IF(ROWS($1:6)<=COUNTIF(Tableau1[[Référent chantier ]],$A$1),INDEX(Tableau1[NOM DU CHANTIER],SMALL(IF(Tableau1[[Référent chantier ]]=$A$1,ROW(INDIRECT("1:"&ROWS(Tableau1[[Référent chantier ]])))),ROWS($1:6))),"")} | C8: {=IF(ROWS($1:6)<=COUNTIF(Tableau1[[Référent chantier ]],$A$1),INDEX(Tableau1[N°Chantier],SMALL(IF(Tableau1[[Référent chantier ]]=$A$1,ROW(INDIRECT("1:"&ROWS(Tableau1[[Référent chantier ]])))),ROWS($1:6))),"")} | D8: {=IF(ROWS($1:6)<=COUNTIF(Tableau1[[Référent chantier ]],$A$1),INDEX(Tableau1[Marge],SMALL(IF(Tableau1[[Référent chantier ]]=$A$1,ROW(INDIRECT("1:"&ROWS(Tableau1[[Référent chantier ]])))),ROWS($1:6))),"")} | E8: {=IF(ROWS($1:6)<=COUNTIF(Tableau1[[Référent chantier ]],$A$1),INDEX(Tableau1[Marge €],SMALL(IF(Tableau1[[Référent chantier ]]=$A$1,ROW(INDIRECT("1:"&ROWS(Tableau1[[Référent chantier ]])))),ROWS($1:6))),"")}
B9: {=IF(ROWS($1:7)<=COUNTIF(Tableau1[[Référent chantier ]],$A$1),INDEX(Tableau1[NOM DU CHANTIER],SMALL(IF(Tableau1[[Référent chantier ]]=$A$1,ROW(INDIRECT("1:"&ROWS(Tableau1[[Référent chantier ]])))),ROWS($1:7))),"")} | C9: {=IF(ROWS($1:7)<=COUNTIF(Tableau1[[Référent chantier ]],$A$1),INDEX(Tableau1[N°Chantier],SMALL(IF(Tableau1[[Référent chantier ]]=$A$1,ROW(INDIRECT("1:"&ROWS(Tableau1[[Référent chantier ]])))),ROWS($1:7))),"")} | D9: {=IF(ROWS($1:7)<=COUNTIF(Tableau1[[Référent chantier ]],$A$1),INDEX(Tableau1[Marge],SMALL(IF(Tableau1[[Référent chantier ]]=$A$1,ROW(INDIRECT("1:"&ROWS(Tableau1[[Référent chantier ]])))),ROWS($1:7))),"")} | E9: {=IF(ROWS($1:7)<=COUNTIF(Tableau1[[Référent chantier ]],$A$1),INDEX(Tableau1[Marge €],SMALL(IF(Tableau1[[Référent chantier ]]=$A$1,ROW(INDIRECT("1:"&ROWS(Tableau1[[Référent chantier ]])))),ROWS($1:7))),"")}
B10: {=IF(ROWS($1:8)<=COUNTIF(Tableau1[[Référent chantier ]],$A$1),INDEX(Tableau1[NOM DU CHANTIER],SMALL(IF(Tableau1[[Référent chantier ]]=$A$1,ROW(INDIRECT("1:"&ROWS(Tableau1[[Référent chantier ]])))),ROWS($1:8))),"")} | C10: {=IF(ROWS($1:8)<=COUNTIF(Tableau1[[Référent chantier ]],$A$1),INDEX(Tableau1[N°Chantier],SMALL(IF(Tableau1[[Référent chantier ]]=$A$1,ROW(INDIRECT("1:"&ROWS(Tableau1[[Référent chantier ]])))),ROWS($1:8))),"")} | D10: {=IF(ROWS($1:8)<=COUNTIF(Tableau1[[Référent chantier ]],$A$1),INDEX(Tableau1[Marge],SMALL(IF(Tableau1[[Référent chantier ]]=$A$1,ROW(INDIRECT("1:"&ROWS(Tableau1[[Référent chantier ]])))),ROWS($1:8))),"")} | E10: {=IF(ROWS($1:8)<=COUNTIF(Tableau1[[Référent chantier ]],$A$1),INDEX(Tableau1[Marge €],SMALL(IF(Tableau1[[Référent chantier ]]=$A$1,ROW(INDIRECT("1:"&ROWS(Tableau1[[Référent chantier ]])))),ROWS($1:8))),"")}
B11: {=IF(ROWS($1:9)<=COUNTIF(Tableau1[[Référent chantier ]],$A$1),INDEX(Tableau1[NOM DU CHANTIER],SMALL(IF(Tableau1[[Référent chantier ]]=$A$1,ROW(INDIRECT("1:"&ROWS(Tableau1[[Référent chantier ]])))),ROWS($1:9))),"")} | C11: {=IF(ROWS($1:9)<=COUNTIF(Tableau1[[Référent chantier ]],$A$1),INDEX(Tableau1[N°Chantier],SMALL(IF(Tableau1[[Référent chantier ]]=$A$1,ROW(INDIRECT("1:"&ROWS(Tableau1[[Référent chantier ]])))),ROWS($1:9))),"")} | D11: {=IF(ROWS($1:9)<=COUNTIF(Tableau1[[Référent chantier ]],$A$1),INDEX(Tableau1[Marge],SMALL(IF(Tableau1[[Référent chantier ]]=$A$1,ROW(INDIRECT("1:"&ROWS(Tableau1[[Référent chantier ]])))),ROWS($1:9))),"")} | E11: {=IF(ROWS($1:9)<=COUNTIF(Tableau1[[Référent chantier ]],$A$1),INDEX(Tableau1[Marge €],SMALL(IF(Tableau1[[Référent chantier ]]=$A$1,ROW(INDIRECT("1:"&ROWS(Tableau1[[Référent chantier ]])))),ROWS($1:9))),"")}
B12: {=IF(ROWS($1:10)<=COUNTIF(Tableau1[[Référent chantier ]],$A$1),INDEX(Tableau1[NOM DU CHANTIER],SMALL(IF(Tableau1[[Référent chantier ]]=$A$1,ROW(INDIRECT("1:"&ROWS(Tableau1[[Référent chantier ]])))),ROWS($1:10))),"")} | C12: {=IF(ROWS($1:10)<=COUNTIF(Tableau1[[Référent chantier ]],$A$1),INDEX(Tableau1[N°Chantier],SMALL(IF(Tableau1[[Référent chantier ]]=$A$1,ROW(INDIRECT("1:"&ROWS(Tableau1[[Référent chantier ]])))),ROWS($1:10))),"")} | D12: {=IF(ROWS($1:10)<=COUNTIF(Tableau1[[Référent chantier ]],$A$1),INDEX(Tableau1[Marge],SMALL(IF(Tableau1[[Référent chantier ]]=$A$1,ROW(INDIRECT("1:"&ROWS(Tableau1[[Référent chantier ]])))),ROWS($1:10))),"")} | E12: {=IF(ROWS($1:10)<=COUNTIF(Tableau1[[Référent chantier ]],$A$1),INDEX(Tableau1[Marge €],SMALL(IF(Tableau1[[Référent chantier ]]=$A$1,ROW(INDIRECT("1:"&ROWS(Tableau1[[Référent chantier ]])))),ROWS($1:10))),"")}
B13: {=IF(ROWS($1:11)<=COUNTIF(Tableau1[[Référent chantier ]],$A$1),INDEX(Tableau1[NOM DU CHANTIER],SMALL(IF(Tableau1[[Référent chantier ]]=$A$1,ROW(INDIRECT("1:"&ROWS(Tableau1[[Référent chantier ]])))),ROWS($1:11))),"")} | C13: {=IF(ROWS($1:11)<=COUNTIF(Tableau1[[Référent chantier ]],$A$1),INDEX(Tableau1[N°Chantier],SMALL(IF(Tableau1[[Référent chantier ]]=$A$1,ROW(INDIRECT("1:"&ROWS(Tableau1[[Référent chantier ]])))),ROWS($1:11))),"")} | D13: {=IF(ROWS($1:11)<=COUNTIF(Tableau1[[Référent chantier ]],$A$1),INDEX(Tableau1[Marge],SMALL(IF(Tableau1[[Référent chantier ]]=$A$1,ROW(INDIRECT("1:"&ROWS(Tableau1[[Référent chantier ]])))),ROWS($1:11))),"")} | E13: {=IF(ROWS($1:11)<=COUNTIF(Tableau1[[Référent chantier ]],$A$1),INDEX(Tableau1[Marge €],SMALL(IF(Tableau1[[Référent chantier ]]=$A$1,ROW(INDIRECT("1:"&ROWS(Tableau1[[Référent chantier ]])))),ROWS($1:11))),"")}
B14: {=IF(ROWS($1:12)<=COUNTIF(Prime!$A$2:$A$18,$A$1),INDEX(Prime!$B$2:$B$18,SMALL(IF(Prime!$A$2:$A$18=$A$1,ROW(INDIRECT("1:"&ROWS(Prime!$A$2:$A$18)))),ROWS($1:12))),"")} | D14: {=IF(ROWS($1:12)<=COUNTIF(Prime!$A$2:$A$18,$A$1),INDEX(Prime!$G$2:$G$18,SMALL(IF(Prime!$A$2:$A$18=$A$1,ROW(INDIRECT("1:"&ROWS(Prime!$A$2:$A$18)))),ROWS($1:12))),"")} | E14: {=IF(ROWS($1:12)<=COUNTIF(Prime!$A$2:$A$18,$A$1),INDEX(Prime!$I$2:$I$18,SMALL(IF(Prime!$A$2:$A$18=$A$1,ROW(INDIRECT("1:"&ROWS(Prime!$A$2:$A$18)))),ROWS($1:12))),"")}
B15: {=IF(ROWS($1:13)<=COUNTIF(Prime!$A$2:$A$18,$A$1),INDEX(Prime!$B$2:$B$18,SMALL(IF(Prime!$A$2:$A$18=$A$1,ROW(INDIRECT("1:"&ROWS(Prime!$A$2:$A$18)))),ROWS($1:13))),"")} | D15: {=IF(ROWS($1:13)<=COUNTIF(Prime!$A$2:$A$18,$A$1),INDEX(Prime!$G$2:$G$18,SMALL(IF(Prime!$A$2:$A$18=$A$1,ROW(INDIRECT("1:"&ROWS(Prime!$A$2:$A$18)))),ROWS($1:13))),"")} | E15: {=IF(ROWS($1:13)<=COUNTIF(Prime!$A$2:$A$18,$A$1),INDEX(Prime!$I$2:$I$18,SMALL(IF(Prime!$A$2:$A$18=$A$1,ROW(INDIRECT("1:"&ROWS(Prime!$A$2:$A$18)))),ROWS($1:13))),"")}
B16: {=IF(ROWS($1:14)<=COUNTIF(Prime!$A$2:$A$18,$A$1),INDEX(Prime!$B$2:$B$18,SMALL(IF(Prime!$A$2:$A$18=$A$1,ROW(INDIRECT("1:"&ROWS(Prime!$A$2:$A$18)))),ROWS($1:14))),"")} | D16: {=IF(ROWS($1:14)<=COUNTIF(Prime!$A$2:$A$18,$A$1),INDEX(Prime!$G$2:$G$18,SMALL(IF(Prime!$A$2:$A$18=$A$1,ROW(INDIRECT("1:"&ROWS(Prime!$A$2:$A$18)))),ROWS($1:14))),"")} | E16: {=IF(ROWS($1:14)<=COUNTIF(Prime!$A$2:$A$18,$A$1),INDEX(Prime!$I$2:$I$18,SMALL(IF(Prime!$A$2:$A$18=$A$1,ROW(INDIRECT("1:"&ROWS(Prime!$A$2:$A$18)))),ROWS($1:14))),"")}
D17: Prime TOTAL | E17: =SUM(E3:E16) -> -112

Sheet Mathieu
A1: JAOUEN Matthieu | B1: 44470
B2: Affaires | C2: N°Chantier | D2: Marge sur réalisé en heure | E2: Prime
