Workbook

Sheet Données
A2: asset_tag | B2: sys_class_name | C2: model_id | D2: company | E2: assigned_to
A3: WKS-017997 | B3: Ordinateur de bureau | C3: LENOVO 10TAS03200 | D3: Bordeaux-Métropole | E3: TOTO
A4: WKS-009167 | B4: Ordinateur de bureau | C4: LENOVO 10JNS06800 | D4: Ville de Floirac | E4: TATA
A5: WKS-018520 | B5: Ordinateur de bureau | C5: LENOVO 10TAS03200 | D5: Ville de Bègles | E5: TITI
A6: WKS-023945 | B6: Ordinateur de bureau | C6: LENOVO 30CES1H00 | D6: Ville de Bègles | E6: TITI
A7: WKS-006534 | B7: Ordinateur de bureau | C7: LENOVO 10JNS02Y00 | D7: Bordeaux-Métropole | E7: TOTO
A8: PTB-007859 | B8: Ordinateur portable | C8: HP ProBook 640 G2 | D8: Bordeaux-Métropole | E8: TOTO
A9: PTB-013907 | B9: Ordinateur portable | C9: LENOVO ThinkPad T480 | D9: Bordeaux-Métropole | E9: TOTO
A10: WKS-014192 | B10: Ordinateur de bureau | C10: LENOVO 10MSS01C00 | D10: Ville de Blanquefort | E10: TITI
A11: WKS-018101 | B11: Ordinateur de bureau | C11: LENOVO 10TAS03200 | D11: Ville de Bordeaux | E11: TOTO
A12: WKS-013614 | B12: Ordinateur de bureau | C12: LENOVO 10MSS0G300 | D12: Bordeaux-Métropole | E12: TOTO
A13: WKS-014221 | B13: Ordinateur de bureau | C13: LENOVO 10MSS01C00 | D13: Bordeaux-Métropole | E13: TATA
A14: wks-06304 | B14: Ordinateur de bureau | C14: DELL Optiplex DT 3020 SFF G3250 | D14: CCAS de la Ville de Bordeaux | E14: TATA
A15: TEST1 | E15: TUTU
A16: TEST2 | E16: TUTU
A17: TEST3 | E17: TUTU
A18: TEST4 | E18: TUTU
A19: TEST5 | E19: TUTU
A20: TEST6 | E20: TUTU
A21: TEST7 | E21: TUTU
A22: TEST8 | E22: TUTU
A23: TEST9 | E23: TUTU
A24: TEST10 | E24: TUTU

Sheet Résultats attendus
A1: assigned_to | B1: asset_tag 1 | C1: asset_tag 2 | D1: asset_tag 3 | E1: asset_tag 4 | F1: asset_tag 5 | G1: asset_tag 6 | H1: asset_tag 7
A2: {=IFERROR(INDEX(Données!$E$3:$E$100,SMALL(IFERROR(IF(MATCH(Données!$E$3:$E$100,Données!$E$3:$E$100,0)=ROW(Données!$E$3:$E$100)-2,ROW(Données!$E$3:$E$100)-2,""),""),ROW(A1))),"")} -> TOTO | B2: {=INDEX(Données!$A$1:$A$100,MIN(IF(Données!$E$3:$E$100=$A2,IF(COUNTIF($A$2:A2,Données!$A$3:$A$100)=0,ROW(Données!$A$3:$A$100)))))&""} -> WKS-017997 | C2: {=INDEX(Données!$A$1:$A$100,MIN(IF(Données!$E$3:$E$100=$A2,IF(COUNTIF($A$2:B2,Données!$A$3:$A$100)=0,ROW(Données!$A$3:$A$100)))))&""} -> WKS-006534 | D2: {=INDEX(Données!$A$1:$A$100,MIN(IF(Données!$E$3:$E$100=$A2,IF(COUNTIF($A$2:C2,Données!$A$3:$A$100)=0,ROW(Données!$A$3:$A$100)))))&""} -> PTB-007859 | E2: {=INDEX(Données!$A$1:$A$100,MIN(IF(Données!$E$3:$E$100=$A2,IF(COUNTIF($A$2:D2,Données!$A$3:$A$100)=0,ROW(Données!$A$3:$A$100)))))&""} -> PTB-013907 | F2: {=INDEX(Données!$A$1:$A$100,MIN(IF(Données!$E$3:$E$100=$A2,IF(COUNTIF($A$2:E2,Données!$A$3:$A$100)=0,ROW(Données!$A$3:$A$100)))))&""} -> WKS-018101 | G2: {=INDEX(Données!$A$1:$A$100,MIN(IF(Données!$E$3:$E$100=$A2,IF(COUNTIF($A$2:F2,Données!$A$3:$A$100)=0,ROW(Données!$A$3:$A$100)))))&""} -> WKS-013614 | H2: {=INDEX(Données!$A$1:$A$100,MIN(IF(Données!$E$3:$E$100=$A2,IF(COUNTIF($A$2:G2,Données!$A$3:$A$100)=0,ROW(Données!$A$3:$A$100)))))&""} | I2: {=INDEX(Données!$A$1:$A$100,MIN(IF(Données!$E$3:$E$100=$A2,IF(COUNTIF($A$2:H2,Données!$A$3:$A$100)=0,ROW(Données!$A$3:$A$100)))))&""} | ... M2: {=INDEX(Données!$A$1:$A$100,MIN(IF(Données!$E$3:$E$100=$A2,IF(COUNTIF($A$2:L2,Données!$A$3:$A$100)=0,ROW(Données!$A$3:$A$100)))))&""}
A3: {=IFERROR(INDEX(Données!$E$3:$E$100,SMALL(IFERROR(IF(MATCH(Données!$E$3:$E$100,Données!$E$3:$E$100,0)=ROW(Données!$E$3:$E$100)-2,ROW(Données!$E$3:$E$100)-2,""),""),ROW(A2))),"")} -> TATA | B3: {=INDEX(Données!$A$1:$A$100,MIN(IF(Données!$E$3:$E$100=$A3,IF(COUNTIF($A$2:A3,Données!$A$3:$A$100)=0,ROW(Données!$A$3:$A$100)))))&""} -> WKS-009167 | C3: {=INDEX(Données!$A$1:$A$100,MIN(IF(Données!$E$3:$E$100=$A3,IF(COUNTIF($A$2:B3,Données!$A$3:$A$100)=0,ROW(Données!$A$3:$A$100)))))&""} -> WKS-014221 | D3: {=INDEX(Données!$A$1:$A$100,MIN(IF(Données!$E$3:$E$100=$A3,IF(COUNTIF($A$2:C3,Données!$A$3:$A$100)=0,ROW(Données!$A$3:$A$100)))))&""} -> wks-06304 | E3: {=INDEX(Données!$A$1:$A$100,MIN(IF(Données!$E$3:$E$100=$A3,IF(COUNTIF($A$2:D3,Données!$A$3:$A$100)=0,ROW(Données!$A$3:$A$100)))))&""} | F3: {=INDEX(Données!$A$1:$A$100,MIN(IF(Données!$E$3:$E$100=$A3,IF(COUNTIF($A$2:E3,Données!$A$3:$A$100)=0,ROW(Données!$A$3:$A$100)))))&""} | G3: {=INDEX(Données!$A$1:$A$100,MIN(IF(Données!$E$3:$E$100=$A3,IF(COUNTIF($A$2:F3,Données!$A$3:$A$100)=0,ROW(Données!$A$3:$A$100)))))&""} | H3: {=INDEX(Données!$A$1:$A$100,MIN(IF(Données!$E$3:$E$100=$A3,IF(COUNTIF($A$2:G3,Données!$A$3:$A$100)=0,ROW(Données!$A$3:$A$100)))))&""} | I3: {=INDEX(Données!$A$1:$A$100,MIN(IF(Données!$E$3:$E$100=$A3,IF(COUNTIF($A$2:H3,Données!$A$3:$A$100)=0,ROW(Données!$A$3:$A$100)))))&""} | ... M3: {=INDEX(Données!$A$1:$A$100,MIN(IF(Données!$E$3:$E$100=$A3,IF(COUNTIF($A$2:L3,Données!$A$3:$A$100)=0,ROW(Données!$A$3:$A$100)))))&""}
A4: {=IFERROR(INDEX(Données!$E$3:$E$100,SMALL(IFERROR(IF(MATCH(Données!$E$3:$E$100,Données!$E$3:$E$100,0)=ROW(Données!$E$3:$E$100)-2,ROW(Données!$E$3:$E$100)-2,""),""),ROW(A3))),"")} -> TITI | B4: {=INDEX(Données!$A$1:$A$100,MIN(IF(Données!$E$3:$E$100=$A4,IF(COUNTIF($A$2:A4,Données!$A$3:$A$100)=0,ROW(Données!$A$3:$A$100)))))&""} -> WKS-018520 | C4: {=INDEX(Données!$A$1:$A$100,MIN(IF(Données!$E$3:$E$100=$A4,IF(COUNTIF($A$2:B4,Données!$A$3:$A$100)=0,ROW(Données!$A$3:$A$100)))))&""} -> WKS-023945 | D4: {=INDEX(Données!$A$1:$A$100,MIN(IF(Données!$E$3:$E$100=$A4,IF(COUNTIF($A$2:C4,Données!$A$3:$A$100)=0,ROW(Données!$A$3:$A$100)))))&""} -> WKS-014192 | E4: {=INDEX(Données!$A$1:$A$100,MIN(IF(Données!$E$3:$E$100=$A4,IF(COUNTIF($A$2:D4,Données!$A$3:$A$100)=0,ROW(Données!$A$3:$A$100)))))&""} | F4: {=INDEX(Données!$A$1:$A$100,MIN(IF(Données!$E$3:$E$100=$A4,IF(COUNTIF($A$2:E4,Données!$A$3:$A$100)=0,ROW(Données!$A$3:$A$100)))))&""} | G4: {=INDEX(Données!$A$1:$A$100,MIN(IF(Données!$E$3:$E$100=$A4,IF(COUNTIF($A$2:F4,Données!$A$3:$A$100)=0,ROW(Données!$A$3:$A$100)))))&""} | H4: {=INDEX(Données!$A$1:$A$100,MIN(IF(Données!$E$3:$E$100=$A4,IF(COUNTIF($A$2:G4,Données!$A$3:$A$100)=0,ROW(Données!$A$3:$A$100)))))&""} | I4: {=INDEX(Données!$A$1:$A$100,MIN(IF(Données!$E$3:$E$100=$A4,IF(COUNTIF($A$2:H4,Données!$A$3:$A$100)=0,ROW(Données!$A$3:$A$100)))))&""} | ... M4: {=INDEX(Données!$A$1:$A$100,MIN(IF(Données!$E$3:$E$100=$A4,IF(COUNTIF($A$2:L4,Données!$A$3:$A$100)=0,ROW(Données!$A$3:$A$100)))))&""}
A5: {=IFERROR(INDEX(Données!$E$3:$E$100,SMALL(IFERROR(IF(MATCH(Données!$E$3:$E$100,Données!$E$3:$E$100,0)=ROW(Données!$E$3:$E$100)-2,ROW(Données!$E$3:$E$100)-2,""),""),ROW(A4))),"")} -> TUTU | B5: {=INDEX(Données!$A$1:$A$100,MIN(IF(Données!$E$3:$E$100=$A5,IF(COUNTIF($A$2:A5,Données!$A$3:$A$100)=0,ROW(Données!$A$3:$A$100)))))&""} -> TEST1 | C5: {=INDEX(Données!$A$1:$A$100,MIN(IF(Données!$E$3:$E$100=$A5,IF(COUNTIF($A$2:B5,Données!$A$3:$A$100)=0,ROW(Données!$A$3:$A$100)))))&""} -> TEST2 | D5: {=INDEX(Données!$A$1:$A$100,MIN(IF(Données!$E$3:$E$100=$A5,IF(COUNTIF($A$2:C5,Données!$A$3:$A$100)=0,ROW(Données!$A$3:$A$100)))))&""} -> TEST3 | E5: {=INDEX(Données!$A$1:$A$100,MIN(IF(Données!$E$3:$E$100=$A5,IF(COUNTIF($A$2:D5,Données!$A$3:$A$100)=0,ROW(Données!$A$3:$A$100)))))&""} -> TEST4 | F5: {=INDEX(Données!$A$1:$A$100,MIN(IF(Données!$E$3:$E$100=$A5,IF(COUNTIF($A$2:E5,Données!$A$3:$A$100)=0,ROW(Données!$A$3:$A$100)))))&""} -> TEST5 | G5: {=INDEX(Données!$A$1:$A$100,MIN(IF(Données!$E$3:$E$100=$A5,IF(COUNTIF($A$2:F5,Données!$A$3:$A$100)=0,ROW(Données!$A$3:$A$100)))))&""} -> TEST6 | H5: {=INDEX(Données!$A$1:$A$100,MIN(IF(Données!$E$3:$E$100=$A5,IF(COUNTIF($A$2:G5,Données!$A$3:$A$100)=0,ROW(Données!$A$3:$A$100)))))&""} -> TEST7 | I5: {=INDEX(Données!$A$1:$A$100,MIN(IF(Données!$E$3:$E$100=$A5,IF(COUNTIF($A$2:H5,Données!$A$3:$A$100)=0,ROW(Données!$A$3:$A$100)))))&""} -> TEST8 | ... M5: {=INDEX(Données!$A$1:$A$100,MIN(IF(Données!$E$3:$E$100=$A5,IF(COUNTIF($A$2:L5,Données!$A$3:$A$100)=0,ROW(Données!$A$3:$A$100)))))&""}
A6: {=IFERROR(INDEX(Données!$E$3:$E$100,SMALL(IFERROR(IF(MATCH(Données!$E$3:$E$100,Données!$E$3:$E$100,0)=ROW(Données!$E$3:$E$100)-2,ROW(Données!$E$3:$E$100)-2,""),""),ROW(A5))),"")} | B6: {=INDEX(Données!$A$1:$A$100,MIN(IF(Données!$E$3:$E$100=$A6,IF(COUNTIF($A$2:A6,Données!$A$3:$A$100)=0,ROW(Données!$A$3:$A$100)))))&""} | C6: {=INDEX(Données!$A$1:$A$100,MIN(IF(Données!$E$3:$E$100=$A6,IF(COUNTIF($A$2:B6,Données!$A$3:$A$100)=0,ROW(Données!$A$3:$A$100)))))&""} | D6: {=INDEX(Données!$A$1:$A$100,MIN(IF(Données!$E$3:$E$100=$A6,IF(COUNTIF($A$2:C6,Données!$A$3:$A$100)=0,ROW(Données!$A$3:$A$100)))))&""} | E6: {=INDEX(Données!$A$1:$A$100,MIN(IF(Données!$E$3:$E$100=$A6,IF(COUNTIF($A$2:D6,Données!$A$3:$A$100)=0,ROW(Données!$A$3:$A$100)))))&""} | F6: {=INDEX(Données!$A$1:$A$100,MIN(IF(Données!$E$3:$E$100=$A6,IF(COUNTIF($A$2:E6,Données!$A$3:$A$100)=0,ROW(Données!$A$3:$A$100)))))&""} | G6: {=INDEX(Données!$A$1:$A$100,MIN(IF(Données!$E$3:$E$100=$A6,IF(COUNTIF($A$2:F6,Données!$A$3:$A$100)=0,ROW(Données!$A$3:$A$100)))))&""} | H6: {=INDEX(Données!$A$1:$A$100,MIN(IF(Données!$E$3:$E$100=$A6,IF(COUNTIF($A$2:G6,Données!$A$3:$A$100)=0,ROW(Données!$A$3:$A$100)))))&""} | I6: {=INDEX(Données!$A$1:$A$100,MIN(IF(Données!$E$3:$E$100=$A6,IF(COUNTIF($A$2:H6,Données!$A$3:$A$100)=0,ROW(Données!$A$3:$A$100)))))&""} | ... M6: {=INDEX(Données!$A$1:$A$100,MIN(IF(Données!$E$3:$E$100=$A6,IF(COUNTIF($A$2:L6,Données!$A$3:$A$100)=0,ROW(Données!$A$3:$A$100)))))&""}
A7: {=IFERROR(INDEX(Données!$E$3:$E$100,SMALL(IFERROR(IF(MATCH(Données!$E$3:$E$100,Données!$E$3:$E$100,0)=ROW(Données!$E$3:$E$100)-2,ROW(Données!$E$3:$E$100)-2,""),""),ROW(A6))),"")} | B7: {=INDEX(Données!$A$1:$A$100,MIN(IF(Données!$E$3:$E$100=$A7,IF(COUNTIF($A$2:A7,Données!$A$3:$A$100)=0,ROW(Données!$A$3:$A$100)))))&""} | C7: {=INDEX(Données!$A$1:$A$100,MIN(IF(Données!$E$3:$E$100=$A7,IF(COUNTIF($A$2:B7,Données!$A$3:$A$100)=0,ROW(Données!$A$3:$A$100)))))&""} | D7: {=INDEX(Données!$A$1:$A$100,MIN(IF(Données!$E$3:$E$100=$A7,IF(COUNTIF($A$2:C7,Données!$A$3:$A$100)=0,ROW(Données!$A$3:$A$100)))))&""} | E7: {=INDEX(Données!$A$1:$A$100,MIN(IF(Données!$E$3:$E$100=$A7,IF(COUNTIF($A$2:D7,Données!$A$3:$A$100)=0,ROW(Données!$A$3:$A$100)))))&""} | F7: {=INDEX(Données!$A$1:$A$100,MIN(IF(Données!$E$3:$E$100=$A7,IF(COUNTIF($A$2:E7,Données!$A$3:$A$100)=0,ROW(Données!$A$3:$A$100)))))&""} | G7: {=INDEX(Données!$A$1:$A$100,MIN(IF(Données!$E$3:$E$100=$A7,IF(COUNTIF($A$2:F7,Données!$A$3:$A$100)=0,ROW(Données!$A$3:$A$100)))))&""} | H7: {=INDEX(Données!$A$1:$A$100,MIN(IF(Données!$E$3:$E$100=$A7,IF(COUNTIF($A$2:G7,Données!$A$3:$A$100)=0,ROW(Données!$A$3:$A$100)))))&""} | I7: {=INDEX(Données!$A$1:$A$100,MIN(IF(Données!$E$3:$E$100=$A7,IF(COUNTIF($A$2:H7,Données!$A$3:$A$100)=0,ROW(Données!$A$3:$A$100)))))&""} | ... M7: {=INDEX(Données!$A$1:$A$100,MIN(IF(Données!$E$3:$E$100=$A7,IF(COUNTIF($A$2:L7,Données!$A$3:$A$100)=0,ROW(Données!$A$3:$A$100)))))&""}
A8: {=IFERROR(INDEX(Données!$E$3:$E$100,SMALL(IFERROR(IF(MATCH(Données!$E$3:$E$100,Données!$E$3:$E$100,0)=ROW(Données!$E$3:$E$100)-2,ROW(Données!$E$3:$E$100)-2,""),""),ROW(A7))),"")} | B8: {=INDEX(Données!$A$1:$A$100,MIN(IF(Données!$E$3:$E$100=$A8,IF(COUNTIF($A$2:A8,Données!$A$3:$A$100)=0,ROW(Données!$A$3:$A$100)))))&""} | C8: {=INDEX(Données!$A$1:$A$100,MIN(IF(Données!$E$3:$E$100=$A8,IF(COUNTIF($A$2:B8,Données!$A$3:$A$100)=0,ROW(Données!$A$3:$A$100)))))&""} | D8: {=INDEX(Données!$A$1:$A$100,MIN(IF(Données!$E$3:$E$100=$A8,IF(COUNTIF($A$2:C8,Données!$A$3:$A$100)=0,ROW(Données!$A$3:$A$100)))))&""} | E8: {=INDEX(Données!$A$1:$A$100,MIN(IF(Données!$E$3:$E$100=$A8,IF(COUNTIF($A$2:D8,Données!$A$3:$A$100)=0,ROW(Données!$A$3:$A$100)))))&""} | F8: {=INDEX(Données!$A$1:$A$100,MIN(IF(Données!$E$3:$E$100=$A8,IF(COUNTIF($A$2:E8,Données!$A$3:$A$100)=0,ROW(Données!$A$3:$A$100)))))&""} | G8: {=INDEX(Données!$A$1:$A$100,MIN(IF(Données!$E$3:$E$100=$A8,IF(COUNTIF($A$2:F8,Données!$A$3:$A$100)=0,ROW(Données!$A$3:$A$100)))))&""} | H8: {=INDEX(Données!$A$1:$A$100,MIN(IF(Données!$E$3:$E$100=$A8,IF(COUNTIF($A$2:G8,Données!$A$3:$A$100)=0,ROW(Données!$A$3:$A$100)))))&""} | I8: {=INDEX(Données!$A$1:$A$100,MIN(IF(Données!$E$3:$E$100=$A8,IF(COUNTIF($A$2:H8,Données!$A$3:$A$100)=0,ROW(Données!$A$3:$A$100)))))&""} | ... M8: {=INDEX(Données!$A$1:$A$100,MIN(IF(Données!$E$3:$E$100=$A8,IF(COUNTIF($A$2:L8,Données!$A$3:$A$100)=0,ROW(Données!$A$3:$A$100)))))&""}
A9: {=IFERROR(INDEX(Données!$E$3:$E$100,SMALL(IFERROR(IF(MATCH(Données!$E$3:$E$100,Données!$E$3:$E$100,0)=ROW(Données!$E$3:$E$100)-2,ROW(Données!$E$3:$E$100)-2,""),""),ROW(A8))),"")} | B9: {=INDEX(Données!$A$1:$A$100,MIN(IF(Données!$E$3:$E$100=$A9,IF(COUNTIF($A$2:A9,Données!$A$3:$A$100)=0,ROW(Données!$A$3:$A$100)))))&""} | C9: {=INDEX(Données!$A$1:$A$100,MIN(IF(Données!$E$3:$E$100=$A9,IF(COUNTIF($A$2:B9,Données!$A$3:$A$100)=0,ROW(Données!$A$3:$A$100)))))&""} | D9: {=INDEX(Données!$A$1:$A$100,MIN(IF(Données!$E$3:$E$100=$A9,IF(COUNTIF($A$2:C9,Données!$A$3:$A$100)=0,ROW(Données!$A$3:$A$100)))))&""} | E9: {=INDEX(Données!$A$1:$A$100,MIN(IF(Données!$E$3:$E$100=$A9,IF(COUNTIF($A$2:D9,Données!$A$3:$A$100)=0,ROW(Données!$A$3:$A$100)))))&""} | F9: {=INDEX(Données!$A$1:$A$100,MIN(IF(Données!$E$3:$E$100=$A9,IF(COUNTIF($A$2:E9,Données!$A$3:$A$100)=0,ROW(Données!$A$3:$A$100)))))&""} | G9: {=INDEX(Données!$A$1:$A$100,MIN(IF(Données!$E$3:$E$100=$A9,IF(COUNTIF($A$2:F9,Données!$A$3:$A$100)=0,ROW(Données!$A$3:$A$100)))))&""} | H9: {=INDEX(Données!$A$1:$A$100,MIN(IF(Données!$E$3:$E$100=$A9,IF(COUNTIF($A$2:G9,Données!$A$3:$A$100)=0,ROW(Données!$A$3:$A$100)))))&""} | I9: {=INDEX(Données!$A$1:$A$100,MIN(IF(Données!$E$3:$E$100=$A9,IF(COUNTIF($A$2:H9,Données!$A$3:$A$100)=0,ROW(Données!$A$3:$A$100)))))&""} | ... M9: {=INDEX(Données!$A$1:$A$100,MIN(IF(Données!$E$3:$E$100=$A9,IF(COUNTIF($A$2:L9,Données!$A$3:$A$100)=0,ROW(Données!$A$3:$A$100)))))&""}
A10: {=IFERROR(INDEX(Données!$E$3:$E$100,SMALL(IFERROR(IF(MATCH(Données!$E$3:$E$100,Données!$E$3:$E$100,0)=ROW(Données!$E$3:$E$100)-2,ROW(Données!$E$3:$E$100)-2,""),""),ROW(A9))),"")} | B10: {=INDEX(Données!$A$1:$A$100,MIN(IF(Données!$E$3:$E$100=$A10,IF(COUNTIF($A$2:A10,Données!$A$3:$A$100)=0,ROW(Données!$A$3:$A$100)))))&""} | C10: {=INDEX(Données!$A$1:$A$100,MIN(IF(Données!$E$3:$E$100=$A10,IF(COUNTIF($A$2:B10,Données!$A$3:$A$100)=0,ROW(Données!$A$3:$A$100)))))&""} | D10: {=INDEX(Données!$A$1:$A$100,MIN(IF(Données!$E$3:$E$100=$A10,IF(COUNTIF($A$2:C10,Données!$A$3:$A$100)=0,ROW(Données!$A$3:$A$100)))))&""} | E10: {=INDEX(Données!$A$1:$A$100,MIN(IF(Données!$E$3:$E$100=$A10,IF(COUNTIF($A$2:D10,Données!$A$3:$A$100)=0,ROW(Données!$A$3:$A$100)))))&""} | F10: {=INDEX(Données!$A$1:$A$100,MIN(IF(Données!$E$3:$E$100=$A10,IF(COUNTIF($A$2:E10,Données!$A$3:$A$100)=0,ROW(Données!$A$3:$A$100)))))&""} | G10: {=INDEX(Données!$A$1:$A$100,MIN(IF(Données!$E$3:$E$100=$A10,IF(COUNTIF($A$2:F10,Données!$A$3:$A$100)=0,ROW(Données!$A$3:$A$100)))))&""} | H10: {=INDEX(Données!$A$1:$A$100,MIN(IF(Données!$E$3:$E$100=$A10,IF(COUNTIF($A$2:G10,Données!$A$3:$A$100)=0,ROW(Données!$A$3:$A$100)))))&""} | I10: {=INDEX(Données!$A$1:$A$100,MIN(IF(Données!$E$3:$E$100=$A10,IF(COUNTIF($A$2:H10,Données!$A$3:$A$100)=0,ROW(Données!$A$3:$A$100)))))&""} | ... M10: {=INDEX(Données!$A$1:$A$100,MIN(IF(Données!$E$3:$E$100=$A10,IF(COUNTIF($A$2:L10,Données!$A$3:$A$100)=0,ROW(Données!$A$3:$A$100)))))&""}
