Workbook

Sheet Suivi
A1: Nom | B1: Prénom | C1: Centre
A2: A | B2: Léa | C2: Centre 1
A3: B | B3: Louiza | C3: Centre 2
A4: C | B4: Téo
A5: D | B5: Alexandre | C5: Centre 4
A6: E | B6: Sarah
A7: F | B7: Hyptissem | C7: Centre 5
A8: G | B8: Martine
A9: H | B9: Laldja
A10: I | B10: Chamyl | C10: Centre 3
A11: J | B11: Alexandra | C11: Centre 2
A12: K | B12: Sidalia
A13: L | B13: Amanda | C13: Centre 1
A14: M | B14: Sarah | C14: Centre 4
A15: N | B15: Amélie-Léa | C15: Centre 2
A16: O | B16: Marvin | C16: Centre 2
A17: P | B17: Léandre
A18: Q | B18: Lucas | C18: Centre 4
A19: R | B19: Muima | C19: Centre 5
A20: S | B20: Guillaume | C20: Centre 1
A21: T | B21: Malvin
A22: U | B22: Romenca
A23: V | B23: Mohammed

Sheet BDD
A1: Centre 1 | D1: Centre 2 | G1: Centre 3 | J1: Centre 4 | M1: Centre 5
A2: Nom | B2: Prénom | D2: Nom | E2: Prénom | G2: Nom | H2: Prénom | J2: Nom | K2: Prénom | M2: Nom | N2: Prénom
A3: =IF(ROWS(Suivi!$1:1)<=COUNTIF(Tableau1[Centre],BDD!$A$1),INDEX(Tableau1[Nom],SMALL(IF(Tableau1[Centre]=BDD!$A$1,ROW(INDIRECT("1:"&ROWS(Tableau1[Centre])))),ROWS($1:1))),"") -> B | B3: {=IF(ROWS(Suivi!$1:1)<=COUNTIF(Tableau1[Centre],BDD!$A$1),INDEX(Tableau1[Prénom],SMALL(IF(Tableau1[Centre]=BDD!$A$1,ROW(INDIRECT("1:"&ROWS(Tableau1[Centre])))),ROWS($1:1))),"")} -> Léa | D3: {=IF(ROWS(Suivi!$1:1)<=COUNTIF(Tableau1[Centre],BDD!$D$1),INDEX(Tableau1[Nom],SMALL(IF(Tableau1[Centre]=BDD!$D$1,ROW(INDIRECT("1:"&ROWS(Tableau1[Centre])))),ROWS($1:1))),"")} -> B | E3: {=IF(ROWS(Suivi!$1:1)<=COUNTIF(Tableau1[Centre],BDD!$D$1),INDEX(Tableau1[Prénom],SMALL(IF(Tableau1[Centre]=BDD!$D$1,ROW(INDIRECT("1:"&ROWS(Tableau1[Centre])))),ROWS($1:1))),"")} -> Louiza | G3: {=IF(ROWS(Suivi!$1:1)<=COUNTIF(Tableau1[Centre],BDD!$G$1),INDEX(Tableau1[Nom],SMALL(IF(Tableau1[Centre]=BDD!$G$1,ROW(INDIRECT("1:"&ROWS(Tableau1[Centre])))),ROWS($1:1))),"")} -> I | H3: {=IF(ROWS(Suivi!$1:1)<=COUNTIF(Tableau1[Centre],BDD!$G$1),INDEX(Tableau1[Prénom],SMALL(IF(Tableau1[Centre]=BDD!$G$1,ROW(INDIRECT("1:"&ROWS(Tableau1[Centre])))),ROWS($1:1))),"")} -> Chamyl | J3: {=IF(ROWS(Suivi!$1:1)<=COUNTIF(Tableau1[Centre],BDD!$J$1),INDEX(Tableau1[Nom],SMALL(IF(Tableau1[Centre]=BDD!$J$1,ROW(INDIRECT("1:"&ROWS(Tableau1[Centre])))),ROWS($1:1))),"")} -> D | K3: {=IF(ROWS(Suivi!$1:1)<=COUNTIF(Tableau1[Centre],BDD!$J$1),INDEX(Tableau1[Prénom],SMALL(IF(Tableau1[Centre]=BDD!$J$1,ROW(INDIRECT("1:"&ROWS(Tableau1[Centre])))),ROWS($1:1))),"")} -> Alexandre | M3: {=IF(ROWS(Suivi!$1:1)<=COUNTIF(Tableau1[Centre],BDD!$M$1),INDEX(Tableau1[Nom],SMALL(IF(Tableau1[Centre]=BDD!$M$1,ROW(INDIRECT("1:"&ROWS(Tableau1[Centre])))),ROWS($1:1))),"")} -> F | N3: {=IF(ROWS(Suivi!$1:1)<=COUNTIF(Tableau1[Centre],BDD!$M$1),INDEX(Tableau1[Prénom],SMALL(IF(Tableau1[Centre]=BDD!$M$1,ROW(INDIRECT("1:"&ROWS(Tableau1[Centre])))),ROWS($1:1))),"")} -> Hyptissem
A4: {=IF(ROWS(Suivi!$1:2)<=COUNTIF(Tableau1[Centre],BDD!$A$1),INDEX(Tableau1[Nom],SMALL(IF(Tableau1[Centre]=BDD!$A$1,ROW(INDIRECT("1:"&ROWS(Tableau1[Centre])))),ROWS($1:2))),"")} -> L | B4: {=IF(ROWS(Suivi!$1:2)<=COUNTIF(Tableau1[Centre],BDD!$A$1),INDEX(Tableau1[Prénom],SMALL(IF(Tableau1[Centre]=BDD!$A$1,ROW(INDIRECT("1:"&ROWS(Tableau1[Centre])))),ROWS($1:2))),"")} -> Amanda | D4: {=IF(ROWS(Suivi!$1:2)<=COUNTIF(Tableau1[Centre],BDD!$D$1),INDEX(Tableau1[Nom],SMALL(IF(Tableau1[Centre]=BDD!$D$1,ROW(INDIRECT("1:"&ROWS(Tableau1[Centre])))),ROWS($1:2))),"")} -> J | E4: {=IF(ROWS(Suivi!$1:2)<=COUNTIF(Tableau1[Centre],BDD!$D$1),INDEX(Tableau1[Prénom],SMALL(IF(Tableau1[Centre]=BDD!$D$1,ROW(INDIRECT("1:"&ROWS(Tableau1[Centre])))),ROWS($1:2))),"")} -> Alexandra | G4: {=IF(ROWS(Suivi!$1:2)<=COUNTIF(Tableau1[Centre],BDD!$G$1),INDEX(Tableau1[Nom],SMALL(IF(Tableau1[Centre]=BDD!$G$1,ROW(INDIRECT("1:"&ROWS(Tableau1[Centre])))),ROWS($1:2))),"")} | H4: {=IF(ROWS(Suivi!$1:2)<=COUNTIF(Tableau1[Centre],BDD!$G$1),INDEX(Tableau1[Prénom],SMALL(IF(Tableau1[Centre]=BDD!$G$1,ROW(INDIRECT("1:"&ROWS(Tableau1[Centre])))),ROWS($1:2))),"")} | J4: {=IF(ROWS(Suivi!$1:2)<=COUNTIF(Tableau1[Centre],BDD!$J$1),INDEX(Tableau1[Nom],SMALL(IF(Tableau1[Centre]=BDD!$J$1,ROW(INDIRECT("1:"&ROWS(Tableau1[Centre])))),ROWS($1:2))),"")} -> M | K4: {=IF(ROWS(Suivi!$1:2)<=COUNTIF(Tableau1[Centre],BDD!$J$1),INDEX(Tableau1[Prénom],SMALL(IF(Tableau1[Centre]=BDD!$J$1,ROW(INDIRECT("1:"&ROWS(Tableau1[Centre])))),ROWS($1:2))),"")} -> Sarah | M4: {=IF(ROWS(Suivi!$1:2)<=COUNTIF(Tableau1[Centre],BDD!$M$1),INDEX(Tableau1[Nom],SMALL(IF(Tableau1[Centre]=BDD!$M$1,ROW(INDIRECT("1:"&ROWS(Tableau1[Centre])))),ROWS($1:2))),"")} -> R | N4: {=IF(ROWS(Suivi!$1:2)<=COUNTIF(Tableau1[Centre],BDD!$M$1),INDEX(Tableau1[Prénom],SMALL(IF(Tableau1[Centre]=BDD!$M$1,ROW(INDIRECT("1:"&ROWS(Tableau1[Centre])))),ROWS($1:2))),"")} -> Muima
A5: {=IF(ROWS(Suivi!$1:3)<=COUNTIF(Tableau1[Centre],BDD!$A$1),INDEX(Tableau1[Nom],SMALL(IF(Tableau1[Centre]=BDD!$A$1,ROW(INDIRECT("1:"&ROWS(Tableau1[Centre])))),ROWS($1:3))),"")} -> S | B5: {=IF(ROWS(Suivi!$1:3)<=COUNTIF(Tableau1[Centre],BDD!$A$1),INDEX(Tableau1[Prénom],SMALL(IF(Tableau1[Centre]=BDD!$A$1,ROW(INDIRECT("1:"&ROWS(Tableau1[Centre])))),ROWS($1:3))),"")} -> Guillaume | D5: {=IF(ROWS(Suivi!$1:3)<=COUNTIF(Tableau1[Centre],BDD!$D$1),INDEX(Tableau1[Nom],SMALL(IF(Tableau1[Centre]=BDD!$D$1,ROW(INDIRECT("1:"&ROWS(Tableau1[Centre])))),ROWS($1:3))),"")} -> N | E5: {=IF(ROWS(Suivi!$1:3)<=COUNTIF(Tableau1[Centre],BDD!$D$1),INDEX(Tableau1[Prénom],SMALL(IF(Tableau1[Centre]=BDD!$D$1,ROW(INDIRECT("1:"&ROWS(Tableau1[Centre])))),ROWS($1:3))),"")} -> Amélie-Léa | G5: {=IF(ROWS(Suivi!$1:3)<=COUNTIF(Tableau1[Centre],BDD!$G$1),INDEX(Tableau1[Nom],SMALL(IF(Tableau1[Centre]=BDD!$G$1,ROW(INDIRECT("1:"&ROWS(Tableau1[Centre])))),ROWS($1:3))),"")} | H5: {=IF(ROWS(Suivi!$1:3)<=COUNTIF(Tableau1[Centre],BDD!$G$1),INDEX(Tableau1[Prénom],SMALL(IF(Tableau1[Centre]=BDD!$G$1,ROW(INDIRECT("1:"&ROWS(Tableau1[Centre])))),ROWS($1:3))),"")} | J5: {=IF(ROWS(Suivi!$1:3)<=COUNTIF(Tableau1[Centre],BDD!$J$1),INDEX(Tableau1[Nom],SMALL(IF(Tableau1[Centre]=BDD!$J$1,ROW(INDIRECT("1:"&ROWS(Tableau1[Centre])))),ROWS($1:3))),"")} -> Q | K5: {=IF(ROWS(Suivi!$1:3)<=COUNTIF(Tableau1[Centre],BDD!$J$1),INDEX(Tableau1[Prénom],SMALL(IF(Tableau1[Centre]=BDD!$J$1,ROW(INDIRECT("1:"&ROWS(Tableau1[Centre])))),ROWS($1:3))),"")} -> Lucas | M5: {=IF(ROWS(Suivi!$1:3)<=COUNTIF(Tableau1[Centre],BDD!$M$1),INDEX(Tableau1[Nom],SMALL(IF(Tableau1[Centre]=BDD!$M$1,ROW(INDIRECT("1:"&ROWS(Tableau1[Centre])))),ROWS($1:3))),"")} | N5: {=IF(ROWS(Suivi!$1:3)<=COUNTIF(Tableau1[Centre],BDD!$M$1),INDEX(Tableau1[Prénom],SMALL(IF(Tableau1[Centre]=BDD!$M$1,ROW(INDIRECT("1:"&ROWS(Tableau1[Centre])))),ROWS($1:3))),"")}
A6: {=IF(ROWS(Suivi!$1:4)<=COUNTIF(Tableau1[Centre],BDD!$A$1),INDEX(Tableau1[Nom],SMALL(IF(Tableau1[Centre]=BDD!$A$1,ROW(INDIRECT("1:"&ROWS(Tableau1[Centre])))),ROWS($1:4))),"")} | B6: {=IF(ROWS(Suivi!$1:4)<=COUNTIF(Tableau1[Centre],BDD!$A$1),INDEX(Tableau1[Prénom],SMALL(IF(Tableau1[Centre]=BDD!$A$1,ROW(INDIRECT("1:"&ROWS(Tableau1[Centre])))),ROWS($1:4))),"")} | D6: {=IF(ROWS(Suivi!$1:4)<=COUNTIF(Tableau1[Centre],BDD!$D$1),INDEX(Tableau1[Nom],SMALL(IF(Tableau1[Centre]=BDD!$D$1,ROW(INDIRECT("1:"&ROWS(Tableau1[Centre])))),ROWS($1:4))),"")} -> O | E6: {=IF(ROWS(Suivi!$1:4)<=COUNTIF(Tableau1[Centre],BDD!$D$1),INDEX(Tableau1[Prénom],SMALL(IF(Tableau1[Centre]=BDD!$D$1,ROW(INDIRECT("1:"&ROWS(Tableau1[Centre])))),ROWS($1:4))),"")} -> Marvin | G6: {=IF(ROWS(Suivi!$1:4)<=COUNTIF(Tableau1[Centre],BDD!$G$1),INDEX(Tableau1[Nom],SMALL(IF(Tableau1[Centre]=BDD!$G$1,ROW(INDIRECT("1:"&ROWS(Tableau1[Centre])))),ROWS($1:4))),"")} | H6: {=IF(ROWS(Suivi!$1:4)<=COUNTIF(Tableau1[Centre],BDD!$G$1),INDEX(Tableau1[Prénom],SMALL(IF(Tableau1[Centre]=BDD!$G$1,ROW(INDIRECT("1:"&ROWS(Tableau1[Centre])))),ROWS($1:4))),"")} | J6: {=IF(ROWS(Suivi!$1:4)<=COUNTIF(Tableau1[Centre],BDD!$J$1),INDEX(Tableau1[Nom],SMALL(IF(Tableau1[Centre]=BDD!$J$1,ROW(INDIRECT("1:"&ROWS(Tableau1[Centre])))),ROWS($1:4))),"")} | K6: {=IF(ROWS(Suivi!$1:4)<=COUNTIF(Tableau1[Centre],BDD!$J$1),INDEX(Tableau1[Prénom],SMALL(IF(Tableau1[Centre]=BDD!$J$1,ROW(INDIRECT("1:"&ROWS(Tableau1[Centre])))),ROWS($1:4))),"")} | M6: {=IF(ROWS(Suivi!$1:4)<=COUNTIF(Tableau1[Centre],BDD!$M$1),INDEX(Tableau1[Nom],SMALL(IF(Tableau1[Centre]=BDD!$M$1,ROW(INDIRECT("1:"&ROWS(Tableau1[Centre])))),ROWS($1:4))),"")} | N6: {=IF(ROWS(Suivi!$1:4)<=COUNTIF(Tableau1[Centre],BDD!$M$1),INDEX(Tableau1[Prénom],SMALL(IF(Tableau1[Centre]=BDD!$M$1,ROW(INDIRECT("1:"&ROWS(Tableau1[Centre])))),ROWS($1:4))),"")}
A7: {=IF(ROWS(Suivi!$1:5)<=COUNTIF(Tableau1[Centre],BDD!$A$1),INDEX(Tableau1[Nom],SMALL(IF(Tableau1[Centre]=BDD!$A$1,ROW(INDIRECT("1:"&ROWS(Tableau1[Centre])))),ROWS($1:5))),"")} | B7: {=IF(ROWS(Suivi!$1:5)<=COUNTIF(Tableau1[Centre],BDD!$A$1),INDEX(Tableau1[Prénom],SMALL(IF(Tableau1[Centre]=BDD!$A$1,ROW(INDIRECT("1:"&ROWS(Tableau1[Centre])))),ROWS($1:5))),"")} | D7: {=IF(ROWS(Suivi!$1:5)<=COUNTIF(Tableau1[Centre],BDD!$D$1),INDEX(Tableau1[Nom],SMALL(IF(Tableau1[Centre]=BDD!$D$1,ROW(INDIRECT("1:"&ROWS(Tableau1[Centre])))),ROWS($1:5))),"")} | E7: {=IF(ROWS(Suivi!$1:5)<=COUNTIF(Tableau1[Centre],BDD!$D$1),INDEX(Tableau1[Prénom],SMALL(IF(Tableau1[Centre]=BDD!$D$1,ROW(INDIRECT("1:"&ROWS(Tableau1[Centre])))),ROWS($1:5))),"")} | G7: {=IF(ROWS(Suivi!$1:5)<=COUNTIF(Tableau1[Centre],BDD!$G$1),INDEX(Tableau1[Nom],SMALL(IF(Tableau1[Centre]=BDD!$G$1,ROW(INDIRECT("1:"&ROWS(Tableau1[Centre])))),ROWS($1:5))),"")} | H7: {=IF(ROWS(Suivi!$1:5)<=COUNTIF(Tableau1[Centre],BDD!$G$1),INDEX(Tableau1[Prénom],SMALL(IF(Tableau1[Centre]=BDD!$G$1,ROW(INDIRECT("1:"&ROWS(Tableau1[Centre])))),ROWS($1:5))),"")} | J7: {=IF(ROWS(Suivi!$1:5)<=COUNTIF(Tableau1[Centre],BDD!$J$1),INDEX(Tableau1[Nom],SMALL(IF(Tableau1[Centre]=BDD!$J$1,ROW(INDIRECT("1:"&ROWS(Tableau1[Centre])))),ROWS($1:5))),"")} | K7: {=IF(ROWS(Suivi!$1:5)<=COUNTIF(Tableau1[Centre],BDD!$J$1),INDEX(Tableau1[Prénom],SMALL(IF(Tableau1[Centre]=BDD!$J$1,ROW(INDIRECT("1:"&ROWS(Tableau1[Centre])))),ROWS($1:5))),"")} | M7: {=IF(ROWS(Suivi!$1:5)<=COUNTIF(Tableau1[Centre],BDD!$M$1),INDEX(Tableau1[Nom],SMALL(IF(Tableau1[Centre]=BDD!$M$1,ROW(INDIRECT("1:"&ROWS(Tableau1[Centre])))),ROWS($1:5))),"")} | N7: {=IF(ROWS(Suivi!$1:5)<=COUNTIF(Tableau1[Centre],BDD!$M$1),INDEX(Tableau1[Prénom],SMALL(IF(Tableau1[Centre]=BDD!$M$1,ROW(INDIRECT("1:"&ROWS(Tableau1[Centre])))),ROWS($1:5))),"")}
A8: {=IF(ROWS(Suivi!$1:6)<=COUNTIF(Tableau1[Centre],BDD!$A$1),INDEX(Tableau1[Nom],SMALL(IF(Tableau1[Centre]=BDD!$A$1,ROW(INDIRECT("1:"&ROWS(Tableau1[Centre])))),ROWS($1:6))),"")} | B8: {=IF(ROWS(Suivi!$1:6)<=COUNTIF(Tableau1[Centre],BDD!$A$1),INDEX(Tableau1[Prénom],SMALL(IF(Tableau1[Centre]=BDD!$A$1,ROW(INDIRECT("1:"&ROWS(Tableau1[Centre])))),ROWS($1:6))),"")} | D8: {=IF(ROWS(Suivi!$1:6)<=COUNTIF(Tableau1[Centre],BDD!$D$1),INDEX(Tableau1[Nom],SMALL(IF(Tableau1[Centre]=BDD!$D$1,ROW(INDIRECT("1:"&ROWS(Tableau1[Centre])))),ROWS($1:6))),"")} | E8: {=IF(ROWS(Suivi!$1:6)<=COUNTIF(Tableau1[Centre],BDD!$D$1),INDEX(Tableau1[Prénom],SMALL(IF(Tableau1[Centre]=BDD!$D$1,ROW(INDIRECT("1:"&ROWS(Tableau1[Centre])))),ROWS($1:6))),"")} | G8: {=IF(ROWS(Suivi!$1:6)<=COUNTIF(Tableau1[Centre],BDD!$G$1),INDEX(Tableau1[Nom],SMALL(IF(Tableau1[Centre]=BDD!$G$1,ROW(INDIRECT("1:"&ROWS(Tableau1[Centre])))),ROWS($1:6))),"")} | H8: {=IF(ROWS(Suivi!$1:6)<=COUNTIF(Tableau1[Centre],BDD!$G$1),INDEX(Tableau1[Prénom],SMALL(IF(Tableau1[Centre]=BDD!$G$1,ROW(INDIRECT("1:"&ROWS(Tableau1[Centre])))),ROWS($1:6))),"")} | J8: {=IF(ROWS(Suivi!$1:6)<=COUNTIF(Tableau1[Centre],BDD!$J$1),INDEX(Tableau1[Nom],SMALL(IF(Tableau1[Centre]=BDD!$J$1,ROW(INDIRECT("1:"&ROWS(Tableau1[Centre])))),ROWS($1:6))),"")} | K8: {=IF(ROWS(Suivi!$1:6)<=COUNTIF(Tableau1[Centre],BDD!$J$1),INDEX(Tableau1[Prénom],SMALL(IF(Tableau1[Centre]=BDD!$J$1,ROW(INDIRECT("1:"&ROWS(Tableau1[Centre])))),ROWS($1:6))),"")} | M8: {=IF(ROWS(Suivi!$1:6)<=COUNTIF(Tableau1[Centre],BDD!$M$1),INDEX(Tableau1[Nom],SMALL(IF(Tableau1[Centre]=BDD!$M$1,ROW(INDIRECT("1:"&ROWS(Tableau1[Centre])))),ROWS($1:6))),"")} | N8: {=IF(ROWS(Suivi!$1:6)<=COUNTIF(Tableau1[Centre],BDD!$M$1),INDEX(Tableau1[Prénom],SMALL(IF(Tableau1[Centre]=BDD!$M$1,ROW(INDIRECT("1:"&ROWS(Tableau1[Centre])))),ROWS($1:6))),"")}
A9: {=IF(ROWS(Suivi!$1:7)<=COUNTIF(Tableau1[Centre],BDD!$A$1),INDEX(Tableau1[Nom],SMALL(IF(Tableau1[Centre]=BDD!$A$1,ROW(INDIRECT("1:"&ROWS(Tableau1[Centre])))),ROWS($1:7))),"")} | B9: {=IF(ROWS(Suivi!$1:7)<=COUNTIF(Tableau1[Centre],BDD!$A$1),INDEX(Tableau1[Prénom],SMALL(IF(Tableau1[Centre]=BDD!$A$1,ROW(INDIRECT("1:"&ROWS(Tableau1[Centre])))),ROWS($1:7))),"")} | D9: {=IF(ROWS(Suivi!$1:7)<=COUNTIF(Tableau1[Centre],BDD!$D$1),INDEX(Tableau1[Nom],SMALL(IF(Tableau1[Centre]=BDD!$D$1,ROW(INDIRECT("1:"&ROWS(Tableau1[Centre])))),ROWS($1:7))),"")} | E9: {=IF(ROWS(Suivi!$1:7)<=COUNTIF(Tableau1[Centre],BDD!$D$1),INDEX(Tableau1[Prénom],SMALL(IF(Tableau1[Centre]=BDD!$D$1,ROW(INDIRECT("1:"&ROWS(Tableau1[Centre])))),ROWS($1:7))),"")} | G9: {=IF(ROWS(Suivi!$1:7)<=COUNTIF(Tableau1[Centre],BDD!$G$1),INDEX(Tableau1[Nom],SMALL(IF(Tableau1[Centre]=BDD!$G$1,ROW(INDIRECT("1:"&ROWS(Tableau1[Centre])))),ROWS($1:7))),"")} | H9: {=IF(ROWS(Suivi!$1:7)<=COUNTIF(Tableau1[Centre],BDD!$G$1),INDEX(Tableau1[Prénom],SMALL(IF(Tableau1[Centre]=BDD!$G$1,ROW(INDIRECT("1:"&ROWS(Tableau1[Centre])))),ROWS($1:7))),"")} | J9: {=IF(ROWS(Suivi!$1:7)<=COUNTIF(Tableau1[Centre],BDD!$J$1),INDEX(Tableau1[Nom],SMALL(IF(Tableau1[Centre]=BDD!$J$1,ROW(INDIRECT("1:"&ROWS(Tableau1[Centre])))),ROWS($1:7))),"")} | K9: {=IF(ROWS(Suivi!$1:7)<=COUNTIF(Tableau1[Centre],BDD!$J$1),INDEX(Tableau1[Prénom],SMALL(IF(Tableau1[Centre]=BDD!$J$1,ROW(INDIRECT("1:"&ROWS(Tableau1[Centre])))),ROWS($1:7))),"")} | M9: {=IF(ROWS(Suivi!$1:7)<=COUNTIF(Tableau1[Centre],BDD!$M$1),INDEX(Tableau1[Nom],SMALL(IF(Tableau1[Centre]=BDD!$M$1,ROW(INDIRECT("1:"&ROWS(Tableau1[Centre])))),ROWS($1:7))),"")} | N9: {=IF(ROWS(Suivi!$1:7)<=COUNTIF(Tableau1[Centre],BDD!$M$1),INDEX(Tableau1[Prénom],SMALL(IF(Tableau1[Centre]=BDD!$M$1,ROW(INDIRECT("1:"&ROWS(Tableau1[Centre])))),ROWS($1:7))),"")}
A10: {=IF(ROWS(Suivi!$1:8)<=COUNTIF(Tableau1[Centre],BDD!$A$1),INDEX(Tableau1[Nom],SMALL(IF(Tableau1[Centre]=BDD!$A$1,ROW(INDIRECT("1:"&ROWS(Tableau1[Centre])))),ROWS($1:8))),"")} | B10: {=IF(ROWS(Suivi!$1:8)<=COUNTIF(Tableau1[Centre],BDD!$A$1),INDEX(Tableau1[Prénom],SMALL(IF(Tableau1[Centre]=BDD!$A$1,ROW(INDIRECT("1:"&ROWS(Tableau1[Centre])))),ROWS($1:8))),"")} | D10: {=IF(ROWS(Suivi!$1:8)<=COUNTIF(Tableau1[Centre],BDD!$D$1),INDEX(Tableau1[Nom],SMALL(IF(Tableau1[Centre]=BDD!$D$1,ROW(INDIRECT("1:"&ROWS(Tableau1[Centre])))),ROWS($1:8))),"")} | E10: {=IF(ROWS(Suivi!$1:8)<=COUNTIF(Tableau1[Centre],BDD!$D$1),INDEX(Tableau1[Prénom],SMALL(IF(Tableau1[Centre]=BDD!$D$1,ROW(INDIRECT("1:"&ROWS(Tableau1[Centre])))),ROWS($1:8))),"")} | G10: {=IF(ROWS(Suivi!$1:8)<=COUNTIF(Tableau1[Centre],BDD!$G$1),INDEX(Tableau1[Nom],SMALL(IF(Tableau1[Centre]=BDD!$G$1,ROW(INDIRECT("1:"&ROWS(Tableau1[Centre])))),ROWS($1:8))),"")} | H10: {=IF(ROWS(Suivi!$1:8)<=COUNTIF(Tableau1[Centre],BDD!$G$1),INDEX(Tableau1[Prénom],SMALL(IF(Tableau1[Centre]=BDD!$G$1,ROW(INDIRECT("1:"&ROWS(Tableau1[Centre])))),ROWS($1:8))),"")} | J10: {=IF(ROWS(Suivi!$1:8)<=COUNTIF(Tableau1[Centre],BDD!$J$1),INDEX(Tableau1[Nom],SMALL(IF(Tableau1[Centre]=BDD!$J$1,ROW(INDIRECT("1:"&ROWS(Tableau1[Centre])))),ROWS($1:8))),"")} | K10: {=IF(ROWS(Suivi!$1:8)<=COUNTIF(Tableau1[Centre],BDD!$J$1),INDEX(Tableau1[Prénom],SMALL(IF(Tableau1[Centre]=BDD!$J$1,ROW(INDIRECT("1:"&ROWS(Tableau1[Centre])))),ROWS($1:8))),"")} | M10: {=IF(ROWS(Suivi!$1:8)<=COUNTIF(Tableau1[Centre],BDD!$M$1),INDEX(Tableau1[Nom],SMALL(IF(Tableau1[Centre]=BDD!$M$1,ROW(INDIRECT("1:"&ROWS(Tableau1[Centre])))),ROWS($1:8))),"")} | N10: {=IF(ROWS(Suivi!$1:8)<=COUNTIF(Tableau1[Centre],BDD!$M$1),INDEX(Tableau1[Prénom],SMALL(IF(Tableau1[Centre]=BDD!$M$1,ROW(INDIRECT("1:"&ROWS(Tableau1[Centre])))),ROWS($1:8))),"")}
A11: {=IF(ROWS(Suivi!$1:9)<=COUNTIF(Tableau1[Centre],BDD!$A$1),INDEX(Tableau1[Nom],SMALL(IF(Tableau1[Centre]=BDD!$A$1,ROW(INDIRECT("1:"&ROWS(Tableau1[Centre])))),ROWS($1:9))),"")} | B11: {=IF(ROWS(Suivi!$1:9)<=COUNTIF(Tableau1[Centre],BDD!$A$1),INDEX(Tableau1[Prénom],SMALL(IF(Tableau1[Centre]=BDD!$A$1,ROW(INDIRECT("1:"&ROWS(Tableau1[Centre])))),ROWS($1:9))),"")} | D11: {=IF(ROWS(Suivi!$1:9)<=COUNTIF(Tableau1[Centre],BDD!$D$1),INDEX(Tableau1[Nom],SMALL(IF(Tableau1[Centre]=BDD!$D$1,ROW(INDIRECT("1:"&ROWS(Tableau1[Centre])))),ROWS($1:9))),"")} | E11: {=IF(ROWS(Suivi!$1:9)<=COUNTIF(Tableau1[Centre],BDD!$D$1),INDEX(Tableau1[Prénom],SMALL(IF(Tableau1[Centre]=BDD!$D$1,ROW(INDIRECT("1:"&ROWS(Tableau1[Centre])))),ROWS($1:9))),"")} | G11: {=IF(ROWS(Suivi!$1:9)<=COUNTIF(Tableau1[Centre],BDD!$G$1),INDEX(Tableau1[Nom],SMALL(IF(Tableau1[Centre]=BDD!$G$1,ROW(INDIRECT("1:"&ROWS(Tableau1[Centre])))),ROWS($1:9))),"")} | H11: {=IF(ROWS(Suivi!$1:9)<=COUNTIF(Tableau1[Centre],BDD!$G$1),INDEX(Tableau1[Prénom],SMALL(IF(Tableau1[Centre]=BDD!$G$1,ROW(INDIRECT("1:"&ROWS(Tableau1[Centre])))),ROWS($1:9))),"")} | J11: {=IF(ROWS(Suivi!$1:9)<=COUNTIF(Tableau1[Centre],BDD!$J$1),INDEX(Tableau1[Nom],SMALL(IF(Tableau1[Centre]=BDD!$J$1,ROW(INDIRECT("1:"&ROWS(Tableau1[Centre])))),ROWS($1:9))),"")} | K11: {=IF(ROWS(Suivi!$1:9)<=COUNTIF(Tableau1[Centre],BDD!$J$1),INDEX(Tableau1[Prénom],SMALL(IF(Tableau1[Centre]=BDD!$J$1,ROW(INDIRECT("1:"&ROWS(Tableau1[Centre])))),ROWS($1:9))),"")} | M11: {=IF(ROWS(Suivi!$1:9)<=COUNTIF(Tableau1[Centre],BDD!$M$1),INDEX(Tableau1[Nom],SMALL(IF(Tableau1[Centre]=BDD!$M$1,ROW(INDIRECT("1:"&ROWS(Tableau1[Centre])))),ROWS($1:9))),"")} | N11: {=IF(ROWS(Suivi!$1:9)<=COUNTIF(Tableau1[Centre],BDD!$M$1),INDEX(Tableau1[Prénom],SMALL(IF(Tableau1[Centre]=BDD!$M$1,ROW(INDIRECT("1:"&ROWS(Tableau1[Centre])))),ROWS($1:9))),"")}
A12: {=IF(ROWS(Suivi!$1:10)<=COUNTIF(Tableau1[Centre],BDD!$A$1),INDEX(Tableau1[Nom],SMALL(IF(Tableau1[Centre]=BDD!$A$1,ROW(INDIRECT("1:"&ROWS(Tableau1[Centre])))),ROWS($1:10))),"")} | B12: {=IF(ROWS(Suivi!$1:10)<=COUNTIF(Tableau1[Centre],BDD!$A$1),INDEX(Tableau1[Prénom],SMALL(IF(Tableau1[Centre]=BDD!$A$1,ROW(INDIRECT("1:"&ROWS(Tableau1[Centre])))),ROWS($1:10))),"")} | D12: {=IF(ROWS(Suivi!$1:10)<=COUNTIF(Tableau1[Centre],BDD!$D$1),INDEX(Tableau1[Nom],SMALL(IF(Tableau1[Centre]=BDD!$D$1,ROW(INDIRECT("1:"&ROWS(Tableau1[Centre])))),ROWS($1:10))),"")} | E12: {=IF(ROWS(Suivi!$1:10)<=COUNTIF(Tableau1[Centre],BDD!$D$1),INDEX(Tableau1[Prénom],SMALL(IF(Tableau1[Centre]=BDD!$D$1,ROW(INDIRECT("1:"&ROWS(Tableau1[Centre])))),ROWS($1:10))),"")} | G12: {=IF(ROWS(Suivi!$1:10)<=COUNTIF(Tableau1[Centre],BDD!$G$1),INDEX(Tableau1[Nom],SMALL(IF(Tableau1[Centre]=BDD!$G$1,ROW(INDIRECT("1:"&ROWS(Tableau1[Centre])))),ROWS($1:10))),"")} | H12: {=IF(ROWS(Suivi!$1:10)<=COUNTIF(Tableau1[Centre],BDD!$G$1),INDEX(Tableau1[Prénom],SMALL(IF(Tableau1[Centre]=BDD!$G$1,ROW(INDIRECT("1:"&ROWS(Tableau1[Centre])))),ROWS($1:10))),"")} | J12: {=IF(ROWS(Suivi!$1:10)<=COUNTIF(Tableau1[Centre],BDD!$J$1),INDEX(Tableau1[Nom],SMALL(IF(Tableau1[Centre]=BDD!$J$1,ROW(INDIRECT("1:"&ROWS(Tableau1[Centre])))),ROWS($1:10))),"")} | K12: {=IF(ROWS(Suivi!$1:10)<=COUNTIF(Tableau1[Centre],BDD!$J$1),INDEX(Tableau1[Prénom],SMALL(IF(Tableau1[Centre]=BDD!$J$1,ROW(INDIRECT("1:"&ROWS(Tableau1[Centre])))),ROWS($1:10))),"")} | M12: {=IF(ROWS(Suivi!$1:10)<=COUNTIF(Tableau1[Centre],BDD!$M$1),INDEX(Tableau1[Nom],SMALL(IF(Tableau1[Centre]=BDD!$M$1,ROW(INDIRECT("1:"&ROWS(Tableau1[Centre])))),ROWS($1:10))),"")} | N12: {=IF(ROWS(Suivi!$1:10)<=COUNTIF(Tableau1[Centre],BDD!$M$1),INDEX(Tableau1[Prénom],SMALL(IF(Tableau1[Centre]=BDD!$M$1,ROW(INDIRECT("1:"&ROWS(Tableau1[Centre])))),ROWS($1:10))),"")}
A13: {=IF(ROWS(Suivi!$1:11)<=COUNTIF(Tableau1[Centre],BDD!$A$1),INDEX(Tableau1[Nom],SMALL(IF(Tableau1[Centre]=BDD!$A$1,ROW(INDIRECT("1:"&ROWS(Tableau1[Centre])))),ROWS($1:11))),"")} | B13: {=IF(ROWS(Suivi!$1:11)<=COUNTIF(Tableau1[Centre],BDD!$A$1),INDEX(Tableau1[Prénom],SMALL(IF(Tableau1[Centre]=BDD!$A$1,ROW(INDIRECT("1:"&ROWS(Tableau1[Centre])))),ROWS($1:11))),"")} | D13: {=IF(ROWS(Suivi!$1:11)<=COUNTIF(Tableau1[Centre],BDD!$D$1),INDEX(Tableau1[Nom],SMALL(IF(Tableau1[Centre]=BDD!$D$1,ROW(INDIRECT("1:"&ROWS(Tableau1[Centre])))),ROWS($1:11))),"")} | E13: {=IF(ROWS(Suivi!$1:11)<=COUNTIF(Tableau1[Centre],BDD!$D$1),INDEX(Tableau1[Prénom],SMALL(IF(Tableau1[Centre]=BDD!$D$1,ROW(INDIRECT("1:"&ROWS(Tableau1[Centre])))),ROWS($1:11))),"")} | G13: {=IF(ROWS(Suivi!$1:11)<=COUNTIF(Tableau1[Centre],BDD!$G$1),INDEX(Tableau1[Nom],SMALL(IF(Tableau1[Centre]=BDD!$G$1,ROW(INDIRECT("1:"&ROWS(Tableau1[Centre])))),ROWS($1:11))),"")} | H13: {=IF(ROWS(Suivi!$1:11)<=COUNTIF(Tableau1[Centre],BDD!$G$1),INDEX(Tableau1[Prénom],SMALL(IF(Tableau1[Centre]=BDD!$G$1,ROW(INDIRECT("1:"&ROWS(Tableau1[Centre])))),ROWS($1:11))),"")} | J13: {=IF(ROWS(Suivi!$1:11)<=COUNTIF(Tableau1[Centre],BDD!$J$1),INDEX(Tableau1[Nom],SMALL(IF(Tableau1[Centre]=BDD!$J$1,ROW(INDIRECT("1:"&ROWS(Tableau1[Centre])))),ROWS($1:11))),"")} | K13: {=IF(ROWS(Suivi!$1:11)<=COUNTIF(Tableau1[Centre],BDD!$J$1),INDEX(Tableau1[Prénom],SMALL(IF(Tableau1[Centre]=BDD!$J$1,ROW(INDIRECT("1:"&ROWS(Tableau1[Centre])))),ROWS($1:11))),"")} | M13: {=IF(ROWS(Suivi!$1:11)<=COUNTIF(Tableau1[Centre],BDD!$M$1),INDEX(Tableau1[Nom],SMALL(IF(Tableau1[Centre]=BDD!$M$1,ROW(INDIRECT("1:"&ROWS(Tableau1[Centre])))),ROWS($1:11))),"")} | N13: {=IF(ROWS(Suivi!$1:11)<=COUNTIF(Tableau1[Centre],BDD!$M$1),INDEX(Tableau1[Prénom],SMALL(IF(Tableau1[Centre]=BDD!$M$1,ROW(INDIRECT("1:"&ROWS(Tableau1[Centre])))),ROWS($1:11))),"")}
A14: {=IF(ROWS(Suivi!$1:12)<=COUNTIF(Tableau1[Centre],BDD!$A$1),INDEX(Tableau1[Nom],SMALL(IF(Tableau1[Centre]=BDD!$A$1,ROW(INDIRECT("1:"&ROWS(Tableau1[Centre])))),ROWS($1:12))),"")} | B14: {=IF(ROWS(Suivi!$1:12)<=COUNTIF(Tableau1[Centre],BDD!$A$1),INDEX(Tableau1[Prénom],SMALL(IF(Tableau1[Centre]=BDD!$A$1,ROW(INDIRECT("1:"&ROWS(Tableau1[Centre])))),ROWS($1:12))),"")} | D14: {=IF(ROWS(Suivi!$1:12)<=COUNTIF(Tableau1[Centre],BDD!$D$1),INDEX(Tableau1[Nom],SMALL(IF(Tableau1[Centre]=BDD!$D$1,ROW(INDIRECT("1:"&ROWS(Tableau1[Centre])))),ROWS($1:12))),"")} | E14: {=IF(ROWS(Suivi!$1:12)<=COUNTIF(Tableau1[Centre],BDD!$D$1),INDEX(Tableau1[Prénom],SMALL(IF(Tableau1[Centre]=BDD!$D$1,ROW(INDIRECT("1:"&ROWS(Tableau1[Centre])))),ROWS($1:12))),"")} | G14: {=IF(ROWS(Suivi!$1:12)<=COUNTIF(Tableau1[Centre],BDD!$G$1),INDEX(Tableau1[Nom],SMALL(IF(Tableau1[Centre]=BDD!$G$1,ROW(INDIRECT("1:"&ROWS(Tableau1[Centre])))),ROWS($1:12))),"")} | H14: {=IF(ROWS(Suivi!$1:12)<=COUNTIF(Tableau1[Centre],BDD!$G$1),INDEX(Tableau1[Prénom],SMALL(IF(Tableau1[Centre]=BDD!$G$1,ROW(INDIRECT("1:"&ROWS(Tableau1[Centre])))),ROWS($1:12))),"")} | J14: {=IF(ROWS(Suivi!$1:12)<=COUNTIF(Tableau1[Centre],BDD!$J$1),INDEX(Tableau1[Nom],SMALL(IF(Tableau1[Centre]=BDD!$J$1,ROW(INDIRECT("1:"&ROWS(Tableau1[Centre])))),ROWS($1:12))),"")} | K14: {=IF(ROWS(Suivi!$1:12)<=COUNTIF(Tableau1[Centre],BDD!$J$1),INDEX(Tableau1[Prénom],SMALL(IF(Tableau1[Centre]=BDD!$J$1,ROW(INDIRECT("1:"&ROWS(Tableau1[Centre])))),ROWS($1:12))),"")} | M14: {=IF(ROWS(Suivi!$1:12)<=COUNTIF(Tableau1[Centre],BDD!$M$1),INDEX(Tableau1[Nom],SMALL(IF(Tableau1[Centre]=BDD!$M$1,ROW(INDIRECT("1:"&ROWS(Tableau1[Centre])))),ROWS($1:12))),"")} | N14: {=IF(ROWS(Suivi!$1:12)<=COUNTIF(Tableau1[Centre],BDD!$M$1),INDEX(Tableau1[Prénom],SMALL(IF(Tableau1[Centre]=BDD!$M$1,ROW(INDIRECT("1:"&ROWS(Tableau1[Centre])))),ROWS($1:12))),"")}
A15: {=IF(ROWS(Suivi!$1:13)<=COUNTIF(Tableau1[Centre],BDD!$A$1),INDEX(Tableau1[Nom],SMALL(IF(Tableau1[Centre]=BDD!$A$1,ROW(INDIRECT("1:"&ROWS(Tableau1[Centre])))),ROWS($1:13))),"")} | B15: {=IF(ROWS(Suivi!$1:13)<=COUNTIF(Tableau1[Centre],BDD!$A$1),INDEX(Tableau1[Prénom],SMALL(IF(Tableau1[Centre]=BDD!$A$1,ROW(INDIRECT("1:"&ROWS(Tableau1[Centre])))),ROWS($1:13))),"")} | D15: {=IF(ROWS(Suivi!$1:13)<=COUNTIF(Tableau1[Centre],BDD!$D$1),INDEX(Tableau1[Nom],SMALL(IF(Tableau1[Centre]=BDD!$D$1,ROW(INDIRECT("1:"&ROWS(Tableau1[Centre])))),ROWS($1:13))),"")} | E15: {=IF(ROWS(Suivi!$1:13)<=COUNTIF(Tableau1[Centre],BDD!$D$1),INDEX(Tableau1[Prénom],SMALL(IF(Tableau1[Centre]=BDD!$D$1,ROW(INDIRECT("1:"&ROWS(Tableau1[Centre])))),ROWS($1:13))),"")} | G15: {=IF(ROWS(Suivi!$1:13)<=COUNTIF(Tableau1[Centre],BDD!$G$1),INDEX(Tableau1[Nom],SMALL(IF(Tableau1[Centre]=BDD!$G$1,ROW(INDIRECT("1:"&ROWS(Tableau1[Centre])))),ROWS($1:13))),"")} | H15: {=IF(ROWS(Suivi!$1:13)<=COUNTIF(Tableau1[Centre],BDD!$G$1),INDEX(Tableau1[Prénom],SMALL(IF(Tableau1[Centre]=BDD!$G$1,ROW(INDIRECT("1:"&ROWS(Tableau1[Centre])))),ROWS($1:13))),"")} | J15: {=IF(ROWS(Suivi!$1:13)<=COUNTIF(Tableau1[Centre],BDD!$J$1),INDEX(Tableau1[Nom],SMALL(IF(Tableau1[Centre]=BDD!$J$1,ROW(INDIRECT("1:"&ROWS(Tableau1[Centre])))),ROWS($1:13))),"")} | K15: {=IF(ROWS(Suivi!$1:13)<=COUNTIF(Tableau1[Centre],BDD!$J$1),INDEX(Tableau1[Prénom],SMALL(IF(Tableau1[Centre]=BDD!$J$1,ROW(INDIRECT("1:"&ROWS(Tableau1[Centre])))),ROWS($1:13))),"")} | M15: {=IF(ROWS(Suivi!$1:13)<=COUNTIF(Tableau1[Centre],BDD!$M$1),INDEX(Tableau1[Nom],SMALL(IF(Tableau1[Centre]=BDD!$M$1,ROW(INDIRECT("1:"&ROWS(Tableau1[Centre])))),ROWS($1:13))),"")} | N15: {=IF(ROWS(Suivi!$1:13)<=COUNTIF(Tableau1[Centre],BDD!$M$1),INDEX(Tableau1[Prénom],SMALL(IF(Tableau1[Centre]=BDD!$M$1,ROW(INDIRECT("1:"&ROWS(Tableau1[Centre])))),ROWS($1:13))),"")}
A16: {=IF(ROWS(Suivi!$1:14)<=COUNTIF(Tableau1[Centre],BDD!$A$1),INDEX(Tableau1[Nom],SMALL(IF(Tableau1[Centre]=BDD!$A$1,ROW(INDIRECT("1:"&ROWS(Tableau1[Centre])))),ROWS($1:14))),"")} | B16: {=IF(ROWS(Suivi!$1:14)<=COUNTIF(Tableau1[Centre],BDD!$A$1),INDEX(Tableau1[Prénom],SMALL(IF(Tableau1[Centre]=BDD!$A$1,ROW(INDIRECT("1:"&ROWS(Tableau1[Centre])))),ROWS($1:14))),"")} | D16: {=IF(ROWS(Suivi!$1:14)<=COUNTIF(Tableau1[Centre],BDD!$D$1),INDEX(Tableau1[Nom],SMALL(IF(Tableau1[Centre]=BDD!$D$1,ROW(INDIRECT("1:"&ROWS(Tableau1[Centre])))),ROWS($1:14))),"")} | E16: {=IF(ROWS(Suivi!$1:14)<=COUNTIF(Tableau1[Centre],BDD!$D$1),INDEX(Tableau1[Prénom],SMALL(IF(Tableau1[Centre]=BDD!$D$1,ROW(INDIRECT("1:"&ROWS(Tableau1[Centre])))),ROWS($1:14))),"")} | G16: {=IF(ROWS(Suivi!$1:14)<=COUNTIF(Tableau1[Centre],BDD!$G$1),INDEX(Tableau1[Nom],SMALL(IF(Tableau1[Centre]=BDD!$G$1,ROW(INDIRECT("1:"&ROWS(Tableau1[Centre])))),ROWS($1:14))),"")} | H16: {=IF(ROWS(Suivi!$1:14)<=COUNTIF(Tableau1[Centre],BDD!$G$1),INDEX(Tableau1[Prénom],SMALL(IF(Tableau1[Centre]=BDD!$G$1,ROW(INDIRECT("1:"&ROWS(Tableau1[Centre])))),ROWS($1:14))),"")} | J16: {=IF(ROWS(Suivi!$1:14)<=COUNTIF(Tableau1[Centre],BDD!$J$1),INDEX(Tableau1[Nom],SMALL(IF(Tableau1[Centre]=BDD!$J$1,ROW(INDIRECT("1:"&ROWS(Tableau1[Centre])))),ROWS($1:14))),"")} | K16: {=IF(ROWS(Suivi!$1:14)<=COUNTIF(Tableau1[Centre],BDD!$J$1),INDEX(Tableau1[Prénom],SMALL(IF(Tableau1[Centre]=BDD!$J$1,ROW(INDIRECT("1:"&ROWS(Tableau1[Centre])))),ROWS($1:14))),"")} | M16: {=IF(ROWS(Suivi!$1:14)<=COUNTIF(Tableau1[Centre],BDD!$M$1),INDEX(Tableau1[Nom],SMALL(IF(Tableau1[Centre]=BDD!$M$1,ROW(INDIRECT("1:"&ROWS(Tableau1[Centre])))),ROWS($1:14))),"")} | N16: {=IF(ROWS(Suivi!$1:14)<=COUNTIF(Tableau1[Centre],BDD!$M$1),INDEX(Tableau1[Prénom],SMALL(IF(Tableau1[Centre]=BDD!$M$1,ROW(INDIRECT("1:"&ROWS(Tableau1[Centre])))),ROWS($1:14))),"")}
A17: {=IF(ROWS(Suivi!$1:15)<=COUNTIF(Tableau1[Centre],BDD!$A$1),INDEX(Tableau1[Nom],SMALL(IF(Tableau1[Centre]=BDD!$A$1,ROW(INDIRECT("1:"&ROWS(Tableau1[Centre])))),ROWS($1:15))),"")} | B17: {=IF(ROWS(Suivi!$1:15)<=COUNTIF(Tableau1[Centre],BDD!$A$1),INDEX(Tableau1[Prénom],SMALL(IF(Tableau1[Centre]=BDD!$A$1,ROW(INDIRECT("1:"&ROWS(Tableau1[Centre])))),ROWS($1:15))),"")} | D17: {=IF(ROWS(Suivi!$1:15)<=COUNTIF(Tableau1[Centre],BDD!$D$1),INDEX(Tableau1[Nom],SMALL(IF(Tableau1[Centre]=BDD!$D$1,ROW(INDIRECT("1:"&ROWS(Tableau1[Centre])))),ROWS($1:15))),"")} | E17: {=IF(ROWS(Suivi!$1:15)<=COUNTIF(Tableau1[Centre],BDD!$D$1),INDEX(Tableau1[Prénom],SMALL(IF(Tableau1[Centre]=BDD!$D$1,ROW(INDIRECT("1:"&ROWS(Tableau1[Centre])))),ROWS($1:15))),"")} | G17: {=IF(ROWS(Suivi!$1:15)<=COUNTIF(Tableau1[Centre],BDD!$G$1),INDEX(Tableau1[Nom],SMALL(IF(Tableau1[Centre]=BDD!$G$1,ROW(INDIRECT("1:"&ROWS(Tableau1[Centre])))),ROWS($1:15))),"")} | H17: {=IF(ROWS(Suivi!$1:15)<=COUNTIF(Tableau1[Centre],BDD!$G$1),INDEX(Tableau1[Prénom],SMALL(IF(Tableau1[Centre]=BDD!$G$1,ROW(INDIRECT("1:"&ROWS(Tableau1[Centre])))),ROWS($1:15))),"")} | J17: {=IF(ROWS(Suivi!$1:15)<=COUNTIF(Tableau1[Centre],BDD!$J$1),INDEX(Tableau1[Nom],SMALL(IF(Tableau1[Centre]=BDD!$J$1,ROW(INDIRECT("1:"&ROWS(Tableau1[Centre])))),ROWS($1:15))),"")} | K17: {=IF(ROWS(Suivi!$1:15)<=COUNTIF(Tableau1[Centre],BDD!$J$1),INDEX(Tableau1[Prénom],SMALL(IF(Tableau1[Centre]=BDD!$J$1,ROW(INDIRECT("1:"&ROWS(Tableau1[Centre])))),ROWS($1:15))),"")} | M17: {=IF(ROWS(Suivi!$1:15)<=COUNTIF(Tableau1[Centre],BDD!$M$1),INDEX(Tableau1[Nom],SMALL(IF(Tableau1[Centre]=BDD!$M$1,ROW(INDIRECT("1:"&ROWS(Tableau1[Centre])))),ROWS($1:15))),"")} | N17: {=IF(ROWS(Suivi!$1:15)<=COUNTIF(Tableau1[Centre],BDD!$M$1),INDEX(Tableau1[Prénom],SMALL(IF(Tableau1[Centre]=BDD!$M$1,ROW(INDIRECT("1:"&ROWS(Tableau1[Centre])))),ROWS($1:15))),"")}
A18: {=IF(ROWS(Suivi!$1:16)<=COUNTIF(Tableau1[Centre],BDD!$A$1),INDEX(Tableau1[Nom],SMALL(IF(Tableau1[Centre]=BDD!$A$1,ROW(INDIRECT("1:"&ROWS(Tableau1[Centre])))),ROWS($1:16))),"")} | B18: {=IF(ROWS(Suivi!$1:16)<=COUNTIF(Tableau1[Centre],BDD!$A$1),INDEX(Tableau1[Prénom],SMALL(IF(Tableau1[Centre]=BDD!$A$1,ROW(INDIRECT("1:"&ROWS(Tableau1[Centre])))),ROWS($1:16))),"")} | D18: {=IF(ROWS(Suivi!$1:16)<=COUNTIF(Tableau1[Centre],BDD!$D$1),INDEX(Tableau1[Nom],SMALL(IF(Tableau1[Centre]=BDD!$D$1,ROW(INDIRECT("1:"&ROWS(Tableau1[Centre])))),ROWS($1:16))),"")} | E18: {=IF(ROWS(Suivi!$1:16)<=COUNTIF(Tableau1[Centre],BDD!$D$1),INDEX(Tableau1[Prénom],SMALL(IF(Tableau1[Centre]=BDD!$D$1,ROW(INDIRECT("1:"&ROWS(Tableau1[Centre])))),ROWS($1:16))),"")} | G18: {=IF(ROWS(Suivi!$1:16)<=COUNTIF(Tableau1[Centre],BDD!$G$1),INDEX(Tableau1[Nom],SMALL(IF(Tableau1[Centre]=BDD!$G$1,ROW(INDIRECT("1:"&ROWS(Tableau1[Centre])))),ROWS($1:16))),"")} | H18: {=IF(ROWS(Suivi!$1:16)<=COUNTIF(Tableau1[Centre],BDD!$G$1),INDEX(Tableau1[Prénom],SMALL(IF(Tableau1[Centre]=BDD!$G$1,ROW(INDIRECT("1:"&ROWS(Tableau1[Centre])))),ROWS($1:16))),"")} | J18: {=IF(ROWS(Suivi!$1:16)<=COUNTIF(Tableau1[Centre],BDD!$J$1),INDEX(Tableau1[Nom],SMALL(IF(Tableau1[Centre]=BDD!$J$1,ROW(INDIRECT("1:"&ROWS(Tableau1[Centre])))),ROWS($1:16))),"")} | K18: {=IF(ROWS(Suivi!$1:16)<=COUNTIF(Tableau1[Centre],BDD!$J$1),INDEX(Tableau1[Prénom],SMALL(IF(Tableau1[Centre]=BDD!$J$1,ROW(INDIRECT("1:"&ROWS(Tableau1[Centre])))),ROWS($1:16))),"")} | M18: {=IF(ROWS(Suivi!$1:16)<=COUNTIF(Tableau1[Centre],BDD!$M$1),INDEX(Tableau1[Nom],SMALL(IF(Tableau1[Centre]=BDD!$M$1,ROW(INDIRECT("1:"&ROWS(Tableau1[Centre])))),ROWS($1:16))),"")} | N18: {=IF(ROWS(Suivi!$1:16)<=COUNTIF(Tableau1[Centre],BDD!$M$1),INDEX(Tableau1[Prénom],SMALL(IF(Tableau1[Centre]=BDD!$M$1,ROW(INDIRECT("1:"&ROWS(Tableau1[Centre])))),ROWS($1:16))),"")}
A19: {=IF(ROWS(Suivi!$1:17)<=COUNTIF(Tableau1[Centre],BDD!$A$1),INDEX(Tableau1[Nom],SMALL(IF(Tableau1[Centre]=BDD!$A$1,ROW(INDIRECT("1:"&ROWS(Tableau1[Centre])))),ROWS($1:17))),"")} | B19: {=IF(ROWS(Suivi!$1:17)<=COUNTIF(Tableau1[Centre],BDD!$A$1),INDEX(Tableau1[Prénom],SMALL(IF(Tableau1[Centre]=BDD!$A$1,ROW(INDIRECT("1:"&ROWS(Tableau1[Centre])))),ROWS($1:17))),"")} | D19: {=IF(ROWS(Suivi!$1:17)<=COUNTIF(Tableau1[Centre],BDD!$D$1),INDEX(Tableau1[Nom],SMALL(IF(Tableau1[Centre]=BDD!$D$1,ROW(INDIRECT("1:"&ROWS(Tableau1[Centre])))),ROWS($1:17))),"")} | E19: {=IF(ROWS(Suivi!$1:17)<=COUNTIF(Tableau1[Centre],BDD!$D$1),INDEX(Tableau1[Prénom],SMALL(IF(Tableau1[Centre]=BDD!$D$1,ROW(INDIRECT("1:"&ROWS(Tableau1[Centre])))),ROWS($1:17))),"")} | G19: {=IF(ROWS(Suivi!$1:17)<=COUNTIF(Tableau1[Centre],BDD!$G$1),INDEX(Tableau1[Nom],SMALL(IF(Tableau1[Centre]=BDD!$G$1,ROW(INDIRECT("1:"&ROWS(Tableau1[Centre])))),ROWS($1:17))),"")} | H19: {=IF(ROWS(Suivi!$1:17)<=COUNTIF(Tableau1[Centre],BDD!$G$1),INDEX(Tableau1[Prénom],SMALL(IF(Tableau1[Centre]=BDD!$G$1,ROW(INDIRECT("1:"&ROWS(Tableau1[Centre])))),ROWS($1:17))),"")} | J19: {=IF(ROWS(Suivi!$1:17)<=COUNTIF(Tableau1[Centre],BDD!$J$1),INDEX(Tableau1[Nom],SMALL(IF(Tableau1[Centre]=BDD!$J$1,ROW(INDIRECT("1:"&ROWS(Tableau1[Centre])))),ROWS($1:17))),"")} | K19: {=IF(ROWS(Suivi!$1:17)<=COUNTIF(Tableau1[Centre],BDD!$J$1),INDEX(Tableau1[Prénom],SMALL(IF(Tableau1[Centre]=BDD!$J$1,ROW(INDIRECT("1:"&ROWS(Tableau1[Centre])))),ROWS($1:17))),"")} | M19: {=IF(ROWS(Suivi!$1:17)<=COUNTIF(Tableau1[Centre],BDD!$M$1),INDEX(Tableau1[Nom],SMALL(IF(Tableau1[Centre]=BDD!$M$1,ROW(INDIRECT("1:"&ROWS(Tableau1[Centre])))),ROWS($1:17))),"")} | N19: {=IF(ROWS(Suivi!$1:17)<=COUNTIF(Tableau1[Centre],BDD!$M$1),INDEX(Tableau1[Prénom],SMALL(IF(Tableau1[Centre]=BDD!$M$1,ROW(INDIRECT("1:"&ROWS(Tableau1[Centre])))),ROWS($1:17))),"")}
A20: {=IF(ROWS(Suivi!$1:18)<=COUNTIF(Tableau1[Centre],BDD!$A$1),INDEX(Tableau1[Nom],SMALL(IF(Tableau1[Centre]=BDD!$A$1,ROW(INDIRECT("1:"&ROWS(Tableau1[Centre])))),ROWS($1:18))),"")} | B20: {=IF(ROWS(Suivi!$1:18)<=COUNTIF(Tableau1[Centre],BDD!$A$1),INDEX(Tableau1[Prénom],SMALL(IF(Tableau1[Centre]=BDD!$A$1,ROW(INDIRECT("1:"&ROWS(Tableau1[Centre])))),ROWS($1:18))),"")} | D20: {=IF(ROWS(Suivi!$1:18)<=COUNTIF(Tableau1[Centre],BDD!$D$1),INDEX(Tableau1[Nom],SMALL(IF(Tableau1[Centre]=BDD!$D$1,ROW(INDIRECT("1:"&ROWS(Tableau1[Centre])))),ROWS($1:18))),"")} | E20: {=IF(ROWS(Suivi!$1:18)<=COUNTIF(Tableau1[Centre],BDD!$D$1),INDEX(Tableau1[Prénom],SMALL(IF(Tableau1[Centre]=BDD!$D$1,ROW(INDIRECT("1:"&ROWS(Tableau1[Centre])))),ROWS($1:18))),"")} | G20: {=IF(ROWS(Suivi!$1:18)<=COUNTIF(Tableau1[Centre],BDD!$G$1),INDEX(Tableau1[Nom],SMALL(IF(Tableau1[Centre]=BDD!$G$1,ROW(INDIRECT("1:"&ROWS(Tableau1[Centre])))),ROWS($1:18))),"")} | H20: {=IF(ROWS(Suivi!$1:18)<=COUNTIF(Tableau1[Centre],BDD!$G$1),INDEX(Tableau1[Prénom],SMALL(IF(Tableau1[Centre]=BDD!$G$1,ROW(INDIRECT("1:"&ROWS(Tableau1[Centre])))),ROWS($1:18))),"")} | J20: {=IF(ROWS(Suivi!$1:18)<=COUNTIF(Tableau1[Centre],BDD!$J$1),INDEX(Tableau1[Nom],SMALL(IF(Tableau1[Centre]=BDD!$J$1,ROW(INDIRECT("1:"&ROWS(Tableau1[Centre])))),ROWS($1:18))),"")} | K20: {=IF(ROWS(Suivi!$1:18)<=COUNTIF(Tableau1[Centre],BDD!$J$1),INDEX(Tableau1[Prénom],SMALL(IF(Tableau1[Centre]=BDD!$J$1,ROW(INDIRECT("1:"&ROWS(Tableau1[Centre])))),ROWS($1:18))),"")} | M20: {=IF(ROWS(Suivi!$1:18)<=COUNTIF(Tableau1[Centre],BDD!$M$1),INDEX(Tableau1[Nom],SMALL(IF(Tableau1[Centre]=BDD!$M$1,ROW(INDIRECT("1:"&ROWS(Tableau1[Centre])))),ROWS($1:18))),"")} | N20: {=IF(ROWS(Suivi!$1:18)<=COUNTIF(Tableau1[Centre],BDD!$M$1),INDEX(Tableau1[Prénom],SMALL(IF(Tableau1[Centre]=BDD!$M$1,ROW(INDIRECT("1:"&ROWS(Tableau1[Centre])))),ROWS($1:18))),"")}
