Workbook

Sheet Référentiel
A1: Produit | B1: PU
A2: P1 | B2: 1
A3: P5 | B3: 2
A4: P8 | B4: 3
A5: P4 | B5: 2
A6: P3 | B6: 5
A7: P2 | B7: 4

Sheet Liste
A1: Produit | B1: Qté | C1: Export | D1: Coût total | E1: où | H1: PU (RechercheV | I1: Total
A2: P1 | B2: 2 | C2: O | D2: =SUMPRODUCT((Référentiel!$A$2:$A$7=Liste!A2)*(Référentiel!$B$2:$B$7))*B2 -> 2 | E2: =IFERROR(INDEX(Référentiel!$B$2:$B$7,MATCH(Liste!A2,Référentiel!$A$2:$A$7,0))*Liste!B2,"") -> 2 | H2: =VLOOKUP(A2,Référentiel!$A$2:$B$7,2,FALSE) -> 1 | I2: =H2*B2 -> 2
A3: P2 | B3: 8 | C3: N | D3: =SUMPRODUCT((Référentiel!$A$2:$A$7=Liste!A3)*(Référentiel!$B$2:$B$7))*B3 -> 32 | E3: =IFERROR(INDEX(Référentiel!$B$2:$B$7,MATCH(Liste!A3,Référentiel!$A$2:$A$7,0))*Liste!B3,"") -> 32 | H3: =VLOOKUP(A3,Référentiel!$A$2:$B$7,2,FALSE) -> 4 | I3: =H3*B3 -> 32
A4: P4 | B4: 4 | C4: N | D4: =SUMPRODUCT((Référentiel!$A$2:$A$7=Liste!A4)*(Référentiel!$B$2:$B$7))*B4 -> 8 | E4: =IFERROR(INDEX(Référentiel!$B$2:$B$7,MATCH(Liste!A4,Référentiel!$A$2:$A$7,0))*Liste!B4,"") -> 8 | H4: =VLOOKUP(A4,Référentiel!$A$2:$B$7,2,FALSE) -> 2 | I4: =H4*B4 -> 8
A5: P3 | B5: 1 | C5: O | D5: =SUMPRODUCT((Référentiel!$A$2:$A$7=Liste!A5)*(Référentiel!$B$2:$B$7))*B5 -> 5 | E5: =IFERROR(INDEX(Référentiel!$B$2:$B$7,MATCH(Liste!A5,Référentiel!$A$2:$A$7,0))*Liste!B5,"") -> 5 | H5: =VLOOKUP(A5,Référentiel!$A$2:$B$7,2,FALSE) -> 5 | I5: =H5*B5 -> 5
A6: P5 | B6: 2 | C6: O | D6: =SUMPRODUCT((Référentiel!$A$2:$A$7=Liste!A6)*(Référentiel!$B$2:$B$7))*B6 -> 4 | E6: =IFERROR(INDEX(Référentiel!$B$2:$B$7,MATCH(Liste!A6,Référentiel!$A$2:$A$7,0))*Liste!B6,"") -> 4 | H6: =VLOOKUP(A6,Référentiel!$A$2:$B$7,2,FALSE) -> 2 | I6: =H6*B6 -> 4
A7: P8 | B7: 16 | C7: O | D7: =SUMPRODUCT((Référentiel!$A$2:$A$7=Liste!A7)*(Référentiel!$B$2:$B$7))*B7 -> 48 | E7: =IFERROR(INDEX(Référentiel!$B$2:$B$7,MATCH(Liste!A7,Référentiel!$A$2:$A$7,0))*Liste!B7,"") -> 48 | H7: =VLOOKUP(A7,Référentiel!$A$2:$B$7,2,FALSE) -> 3 | I7: =H7*B7 -> 48
D9: =SUM(D2:D7) -> 99
