Workbook

Sheet Sélection
B3: Trimestriel | C3: x
B4: Mensuel
C8: CTP | D8: Libellé | E8: taux | F8: 2015 | G8: 2016 | H8: 2017 | I8: 2018 | J8: 2019
C9: 508 | D9: A | E9: 0.05 | F9: X | I9: X
C10: 518 | D10: B | E10: 0.06 | G10: X | J10: X
C11: 528 | D11: C | E11: 0.07 | F11: X | I11: X
C12: 538 | D12: D | E12: 0.08 | H12: X
C13: 688 | D13: E | E13: 0.09 | G13: X
C14: 630 | D14: F | E14: 0.1 | H14: X | I14: X | J14: X
C15: 645 | D15: G | E15: 0.11 | H15: X
C16: 684 | D16: H | E16: 0.12 | G16: X
C17: 631 | D17: I | E17: 0.13 | J17: X
C18: 646 | D18: J | E18: 0.14 | J18: X
C19: 685 | D19: K | E19: 0.15 | G19: X
C20: 689 | D20: L | E20: 0.16 | G20: X

Sheet Mensuel
B2: 2015
B3: CTP | C3: Libellé | D3: Taux | E3: Janvier | F3: Février | G3: Mars | H3: Avril | I3: Mai | J3: Juin | K3: Juillet | L3: Août | M3: Septembre | N3: Octobre | O3: Novembre | P3: Décembre
B4: {=IF(Sélection!$C$4="X",IFERROR(INDEX(Sélection!$C$9:$C$20,SMALL(IF(Sélection!$F$9:$F$20="x",ROW(Sélection!$F$9:$F$20)-8,""),ROW($A1))),""),"")} | C4: {=IF(Sélection!$C$4="X",IFERROR(INDEX(Sélection!$D$9:$D$20,SMALL(IF(Sélection!$F$9:$F$20="x",ROW(Sélection!$F$9:$F$20)-8,""),ROW($A1))),""),"")} | D4: {=IF(Sélection!$C$4="X",IFERROR(INDEX(Sélection!$E$9:$E$20,SMALL(IF(Sélection!$F$9:$F$20="x",ROW(Sélection!$F$9:$F$20)-8,""),ROW($A1))),""),"")}
B5: {=IF(Sélection!$C$4="X",IFERROR(INDEX(Sélection!$C$9:$C$20,SMALL(IF(Sélection!$F$9:$F$20="x",ROW(Sélection!$F$9:$F$20)-8,""),ROW($A2))),""),"")} | C5: {=IF(Sélection!$C$4="X",IFERROR(INDEX(Sélection!$D$9:$D$20,SMALL(IF(Sélection!$F$9:$F$20="x",ROW(Sélection!$F$9:$F$20)-8,""),ROW($A2))),""),"")} | D5: {=IF(Sélection!$C$4="X",IFERROR(INDEX(Sélection!$E$9:$E$20,SMALL(IF(Sélection!$F$9:$F$20="x",ROW(Sélection!$F$9:$F$20)-8,""),ROW($A2))),""),"")}
B6: {=IF(Sélection!$C$4="X",IFERROR(INDEX(Sélection!$C$9:$C$20,SMALL(IF(Sélection!$F$9:$F$20="x",ROW(Sélection!$F$9:$F$20)-8,""),ROW($A3))),""),"")} | C6: {=IF(Sélection!$C$4="X",IFERROR(INDEX(Sélection!$D$9:$D$20,SMALL(IF(Sélection!$F$9:$F$20="x",ROW(Sélection!$F$9:$F$20)-8,""),ROW($A3))),""),"")} | D6: {=IF(Sélection!$C$4="X",IFERROR(INDEX(Sélection!$E$9:$E$20,SMALL(IF(Sélection!$F$9:$F$20="x",ROW(Sélection!$F$9:$F$20)-8,""),ROW($A3))),""),"")}
B7: {=IF(Sélection!$C$4="X",IFERROR(INDEX(Sélection!$C$9:$C$20,SMALL(IF(Sélection!$F$9:$F$20="x",ROW(Sélection!$F$9:$F$20)-8,""),ROW($A4))),""),"")} | C7: {=IF(Sélection!$C$4="X",IFERROR(INDEX(Sélection!$D$9:$D$20,SMALL(IF(Sélection!$F$9:$F$20="x",ROW(Sélection!$F$9:$F$20)-8,""),ROW($A4))),""),"")} | D7: {=IF(Sélection!$C$4="X",IFERROR(INDEX(Sélection!$E$9:$E$20,SMALL(IF(Sélection!$F$9:$F$20="x",ROW(Sélection!$F$9:$F$20)-8,""),ROW($A4))),""),"")}
B8: {=IF(Sélection!$C$4="X",IFERROR(INDEX(Sélection!$C$9:$C$20,SMALL(IF(Sélection!$F$9:$F$20="x",ROW(Sélection!$F$9:$F$20)-8,""),ROW($A5))),""),"")} | C8: {=IF(Sélection!$C$4="X",IFERROR(INDEX(Sélection!$D$9:$D$20,SMALL(IF(Sélection!$F$9:$F$20="x",ROW(Sélection!$F$9:$F$20)-8,""),ROW($A5))),""),"")} | D8: {=IF(Sélection!$C$4="X",IFERROR(INDEX(Sélection!$E$9:$E$20,SMALL(IF(Sélection!$F$9:$F$20="x",ROW(Sélection!$F$9:$F$20)-8,""),ROW($A5))),""),"")}
B9: {=IF(Sélection!$C$4="X",IFERROR(INDEX(Sélection!$C$9:$C$20,SMALL(IF(Sélection!$F$9:$F$20="x",ROW(Sélection!$F$9:$F$20)-8,""),ROW($A6))),""),"")} | C9: {=IF(Sélection!$C$4="X",IFERROR(INDEX(Sélection!$D$9:$D$20,SMALL(IF(Sélection!$F$9:$F$20="x",ROW(Sélection!$F$9:$F$20)-8,""),ROW($A6))),""),"")} | D9: {=IF(Sélection!$C$4="X",IFERROR(INDEX(Sélection!$E$9:$E$20,SMALL(IF(Sélection!$F$9:$F$20="x",ROW(Sélection!$F$9:$F$20)-8,""),ROW($A6))),""),"")}
B10: {=IF(Sélection!$C$4="X",IFERROR(INDEX(Sélection!$C$9:$C$20,SMALL(IF(Sélection!$F$9:$F$20="x",ROW(Sélection!$F$9:$F$20)-8,""),ROW($A7))),""),"")} | C10: {=IF(Sélection!$C$4="X",IFERROR(INDEX(Sélection!$D$9:$D$20,SMALL(IF(Sélection!$F$9:$F$20="x",ROW(Sélection!$F$9:$F$20)-8,""),ROW($A7))),""),"")} | D10: {=IF(Sélection!$C$4="X",IFERROR(INDEX(Sélection!$E$9:$E$20,SMALL(IF(Sélection!$F$9:$F$20="x",ROW(Sélection!$F$9:$F$20)-8,""),ROW($A7))),""),"")}
B11: {=IF(Sélection!$C$4="X",IFERROR(INDEX(Sélection!$C$9:$C$20,SMALL(IF(Sélection!$F$9:$F$20="x",ROW(Sélection!$F$9:$F$20)-8,""),ROW($A8))),""),"")} | C11: {=IF(Sélection!$C$4="X",IFERROR(INDEX(Sélection!$D$9:$D$20,SMALL(IF(Sélection!$F$9:$F$20="x",ROW(Sélection!$F$9:$F$20)-8,""),ROW($A8))),""),"")} | D11: {=IF(Sélection!$C$4="X",IFERROR(INDEX(Sélection!$E$9:$E$20,SMALL(IF(Sélection!$F$9:$F$20="x",ROW(Sélection!$F$9:$F$20)-8,""),ROW($A8))),""),"")}
B12: {=IF(Sélection!$C$4="X",IFERROR(INDEX(Sélection!$C$9:$C$20,SMALL(IF(Sélection!$F$9:$F$20="x",ROW(Sélection!$F$9:$F$20)-8,""),ROW($A9))),""),"")} | C12: {=IF(Sélection!$C$4="X",IFERROR(INDEX(Sélection!$D$9:$D$20,SMALL(IF(Sélection!$F$9:$F$20="x",ROW(Sélection!$F$9:$F$20)-8,""),ROW($A9))),""),"")} | D12: {=IF(Sélection!$C$4="X",IFERROR(INDEX(Sélection!$E$9:$E$20,SMALL(IF(Sélection!$F$9:$F$20="x",ROW(Sélection!$F$9:$F$20)-8,""),ROW($A9))),""),"")}
B13: {=IF(Sélection!$C$4="X",IFERROR(INDEX(Sélection!$C$9:$C$20,SMALL(IF(Sélection!$F$9:$F$20="x",ROW(Sélection!$F$9:$F$20)-8,""),ROW($A10))),""),"")} | C13: {=IF(Sélection!$C$4="X",IFERROR(INDEX(Sélection!$D$9:$D$20,SMALL(IF(Sélection!$F$9:$F$20="x",ROW(Sélection!$F$9:$F$20)-8,""),ROW($A10))),""),"")} | D13: {=IF(Sélection!$C$4="X",IFERROR(INDEX(Sélection!$E$9:$E$20,SMALL(IF(Sélection!$F$9:$F$20="x",ROW(Sélection!$F$9:$F$20)-8,""),ROW($A10))),""),"")}
B14: {=IF(Sélection!$C$4="X",IFERROR(INDEX(Sélection!$C$9:$C$20,SMALL(IF(Sélection!$F$9:$F$20="x",ROW(Sélection!$F$9:$F$20)-8,""),ROW($A11))),""),"")} | C14: {=IF(Sélection!$C$4="X",IFERROR(INDEX(Sélection!$D$9:$D$20,SMALL(IF(Sélection!$F$9:$F$20="x",ROW(Sélection!$F$9:$F$20)-8,""),ROW($A11))),""),"")} | D14: {=IF(Sélection!$C$4="X",IFERROR(INDEX(Sélection!$E$9:$E$20,SMALL(IF(Sélection!$F$9:$F$20="x",ROW(Sélection!$F$9:$F$20)-8,""),ROW($A11))),""),"")}
B15: {=IF(Sélection!$C$4="X",IFERROR(INDEX(Sélection!$C$9:$C$20,SMALL(IF(Sélection!$F$9:$F$20="x",ROW(Sélection!$F$9:$F$20)-8,""),ROW($A12))),""),"")} | C15: {=IF(Sélection!$C$4="X",IFERROR(INDEX(Sélection!$D$9:$D$20,SMALL(IF(Sélection!$F$9:$F$20="x",ROW(Sélection!$F$9:$F$20)-8,""),ROW($A12))),""),"")} | D15: {=IF(Sélection!$C$4="X",IFERROR(INDEX(Sélection!$E$9:$E$20,SMALL(IF(Sélection!$F$9:$F$20="x",ROW(Sélection!$F$9:$F$20)-8,""),ROW($A12))),""),"")}
B17: 2016
B18: CTP | C18: Libellé | D18: Taux | E18: Janvier | F18: Février | G18: Mars | H18: Avril | I18: Mai | J18: Juin | K18: Juillet | L18: Août | M18: Septembre | N18: Octobre | O18: Novembre | P18: Décembre
B19: {=IF(Sélection!$C$4="X",IFERROR(INDEX(Sélection!$C$9:$C$20,SMALL(IF(Sélection!$G$9:$G$20="x",ROW(Sélection!$G$9:$G$20)-8,""),ROW($A1))),""),"")} | C19: {=IF(Sélection!$C$4="X",IFERROR(INDEX(Sélection!$D$9:$D$20,SMALL(IF(Sélection!$G$9:$G$20="x",ROW(Sélection!$G$9:$G$20)-8,""),ROW($A1))),""),"")} | D19: {=IF(Sélection!$C$4="X",IFERROR(INDEX(Sélection!$E$9:$E$20,SMALL(IF(Sélection!$G$9:$G$20="x",ROW(Sélection!$G$9:$G$20)-8,""),ROW($A1))),""),"")}
B20: {=IF(Sélection!$C$4="X",IFERROR(INDEX(Sélection!$C$9:$C$20,SMALL(IF(Sélection!$G$9:$G$20="x",ROW(Sélection!$G$9:$G$20)-8,""),ROW($A2))),""),"")} | C20: {=IF(Sélection!$C$4="X",IFERROR(INDEX(Sélection!$D$9:$D$20,SMALL(IF(Sélection!$G$9:$G$20="x",ROW(Sélection!$G$9:$G$20)-8,""),ROW($A2))),""),"")} | D20: {=IF(Sélection!$C$4="X",IFERROR(INDEX(Sélection!$E$9:$E$20,SMALL(IF(Sélection!$G$9:$G$20="x",ROW(Sélection!$G$9:$G$20)-8,""),ROW($A2))),""),"")}
B21: {=IF(Sélection!$C$4="X",IFERROR(INDEX(Sélection!$C$9:$C$20,SMALL(IF(Sélection!$G$9:$G$20="x",ROW(Sélection!$G$9:$G$20)-8,""),ROW($A3))),""),"")} | C21: {=IF(Sélection!$C$4="X",IFERROR(INDEX(Sélection!$D$9:$D$20,SMALL(IF(Sélection!$G$9:$G$20="x",ROW(Sélection!$G$9:$G$20)-8,""),ROW($A3))),""),"")} | D21: {=IF(Sélection!$C$4="X",IFERROR(INDEX(Sélection!$E$9:$E$20,SMALL(IF(Sélection!$G$9:$G$20="x",ROW(Sélection!$G$9:$G$20)-8,""),ROW($A3))),""),"")}
B22: {=IF(Sélection!$C$4="X",IFERROR(INDEX(Sélection!$C$9:$C$20,SMALL(IF(Sélection!$G$9:$G$20="x",ROW(Sélection!$G$9:$G$20)-8,""),ROW($A4))),""),"")} | C22: {=IF(Sélection!$C$4="X",IFERROR(INDEX(Sélection!$D$9:$D$20,SMALL(IF(Sélection!$G$9:$G$20="x",ROW(Sélection!$G$9:$G$20)-8,""),ROW($A4))),""),"")} | D22: {=IF(Sélection!$C$4="X",IFERROR(INDEX(Sélection!$E$9:$E$20,SMALL(IF(Sélection!$G$9:$G$20="x",ROW(Sélection!$G$9:$G$20)-8,""),ROW($A4))),""),"")}
B23: {=IF(Sélection!$C$4="X",IFERROR(INDEX(Sélection!$C$9:$C$20,SMALL(IF(Sélection!$G$9:$G$20="x",ROW(Sélection!$G$9:$G$20)-8,""),ROW($A5))),""),"")} | C23: {=IF(Sélection!$C$4="X",IFERROR(INDEX(Sélection!$D$9:$D$20,SMALL(IF(Sélection!$G$9:$G$20="x",ROW(Sélection!$G$9:$G$20)-8,""),ROW($A5))),""),"")} | D23: {=IF(Sélection!$C$4="X",IFERROR(INDEX(Sélection!$E$9:$E$20,SMALL(IF(Sélection!$G$9:$G$20="x",ROW(Sélection!$G$9:$G$20)-8,""),ROW($A5))),""),"")}
B24: {=IF(Sélection!$C$4="X",IFERROR(INDEX(Sélection!$C$9:$C$20,SMALL(IF(Sélection!$G$9:$G$20="x",ROW(Sélection!$G$9:$G$20)-8,""),ROW($A6))),""),"")} | C24: {=IF(Sélection!$C$4="X",IFERROR(INDEX(Sélection!$D$9:$D$20,SMALL(IF(Sélection!$G$9:$G$20="x",ROW(Sélection!$G$9:$G$20)-8,""),ROW($A6))),""),"")} | D24: {=IF(Sélection!$C$4="X",IFERROR(INDEX(Sélection!$E$9:$E$20,SMALL(IF(Sélection!$G$9:$G$20="x",ROW(Sélection!$G$9:$G$20)-8,""),ROW($A6))),""),"")}
B25: {=IF(Sélection!$C$4="X",IFERROR(INDEX(Sélection!$C$9:$C$20,SMALL(IF(Sélection!$G$9:$G$20="x",ROW(Sélection!$G$9:$G$20)-8,""),ROW($A7))),""),"")} | C25: {=IF(Sélection!$C$4="X",IFERROR(INDEX(Sélection!$D$9:$D$20,SMALL(IF(Sélection!$G$9:$G$20="x",ROW(Sélection!$G$9:$G$20)-8,""),ROW($A7))),""),"")} | D25: {=IF(Sélection!$C$4="X",IFERROR(INDEX(Sélection!$E$9:$E$20,SMALL(IF(Sélection!$G$9:$G$20="x",ROW(Sélection!$G$9:$G$20)-8,""),ROW($A7))),""),"")}
B26: {=IF(Sélection!$C$4="X",IFERROR(INDEX(Sélection!$C$9:$C$20,SMALL(IF(Sélection!$G$9:$G$20="x",ROW(Sélection!$G$9:$G$20)-8,""),ROW($A8))),""),"")} | C26: {=IF(Sélection!$C$4="X",IFERROR(INDEX(Sélection!$D$9:$D$20,SMALL(IF(Sélection!$G$9:$G$20="x",ROW(Sélection!$G$9:$G$20)-8,""),ROW($A8))),""),"")} | D26: {=IF(Sélection!$C$4="X",IFERROR(INDEX(Sélection!$E$9:$E$20,SMALL(IF(Sélection!$G$9:$G$20="x",ROW(Sélection!$G$9:$G$20)-8,""),ROW($A8))),""),"")}
B27: {=IF(Sélection!$C$4="X",IFERROR(INDEX(Sélection!$C$9:$C$20,SMALL(IF(Sélection!$G$9:$G$20="x",ROW(Sélection!$G$9:$G$20)-8,""),ROW($A9))),""),"")} | C27: {=IF(Sélection!$C$4="X",IFERROR(INDEX(Sélection!$D$9:$D$20,SMALL(IF(Sélection!$G$9:$G$20="x",ROW(Sélection!$G$9:$G$20)-8,""),ROW($A9))),""),"")} | D27: {=IF(Sélection!$C$4="X",IFERROR(INDEX(Sélection!$E$9:$E$20,SMALL(IF(Sélection!$G$9:$G$20="x",ROW(Sélection!$G$9:$G$20)-8,""),ROW($A9))),""),"")}
B28: {=IF(Sélection!$C$4="X",IFERROR(INDEX(Sélection!$C$9:$C$20,SMALL(IF(Sélection!$G$9:$G$20="x",ROW(Sélection!$G$9:$G$20)-8,""),ROW($A10))),""),"")} | C28: {=IF(Sélection!$C$4="X",IFERROR(INDEX(Sélection!$D$9:$D$20,SMALL(IF(Sélection!$G$9:$G$20="x",ROW(Sélection!$G$9:$G$20)-8,""),ROW($A10))),""),"")} | D28: {=IF(Sélection!$C$4="X",IFERROR(INDEX(Sélection!$E$9:$E$20,SMALL(IF(Sélection!$G$9:$G$20="x",ROW(Sélection!$G$9:$G$20)-8,""),ROW($A10))),""),"")}
B29: {=IF(Sélection!$C$4="X",IFERROR(INDEX(Sélection!$C$9:$C$20,SMALL(IF(Sélection!$G$9:$G$20="x",ROW(Sélection!$G$9:$G$20)-8,""),ROW($A11))),""),"")} | C29: {=IF(Sélection!$C$4="X",IFERROR(INDEX(Sélection!$D$9:$D$20,SMALL(IF(Sélection!$G$9:$G$20="x",ROW(Sélection!$G$9:$G$20)-8,""),ROW($A11))),""),"")} | D29: {=IF(Sélection!$C$4="X",IFERROR(INDEX(Sélection!$E$9:$E$20,SMALL(IF(Sélection!$G$9:$G$20="x",ROW(Sélection!$G$9:$G$20)-8,""),ROW($A11))),""),"")}
B30: {=IF(Sélection!$C$4="X",IFERROR(INDEX(Sélection!$C$9:$C$20,SMALL(IF(Sélection!$G$9:$G$20="x",ROW(Sélection!$G$9:$G$20)-8,""),ROW($A12))),""),"")} | C30: {=IF(Sélection!$C$4="X",IFERROR(INDEX(Sélection!$D$9:$D$20,SMALL(IF(Sélection!$G$9:$G$20="x",ROW(Sélection!$G$9:$G$20)-8,""),ROW($A12))),""),"")} | D30: {=IF(Sélection!$C$4="X",IFERROR(INDEX(Sélection!$E$9:$E$20,SMALL(IF(Sélection!$G$9:$G$20="x",ROW(Sélection!$G$9:$G$20)-8,""),ROW($A12))),""),"")}

Sheet Trimestriel
B3: 2015
B4: CTP | C4: Libellé | D4: Taux | E4: 1er trim | F4: 2e trim | G4: 3e trim | H4: 4e trim
B5: {=IF(Sélection!$C$3="X",IFERROR(INDEX(Sélection!$C$9:$C$20,SMALL(IF(Sélection!$F$9:$F$20="x",ROW(Sélection!$F$9:$F$20)-8,""),ROW($A1))),""),"")} -> 508 | C5: {=IF(Sélection!$C$3="X",IFERROR(INDEX(Sélection!$D$9:$D$20,SMALL(IF(Sélection!$F$9:$F$20="x",ROW(Sélection!$F$9:$F$20)-8,""),ROW($A1))),""),"")} -> A | D5: {=IF(Sélection!$C$3="X",IFERROR(INDEX(Sélection!$E$9:$E$20,SMALL(IF(Sélection!$F$9:$F$20="x",ROW(Sélection!$F$9:$F$20)-8,""),ROW($A1))),""),"")} -> 0.05
B6: {=IF(Sélection!$C$3="X",IFERROR(INDEX(Sélection!$C$9:$C$20,SMALL(IF(Sélection!$F$9:$F$20="x",ROW(Sélection!$F$9:$F$20)-8,""),ROW($A2))),""),"")} -> 528 | C6: {=IF(Sélection!$C$3="X",IFERROR(INDEX(Sélection!$D$9:$D$20,SMALL(IF(Sélection!$F$9:$F$20="x",ROW(Sélection!$F$9:$F$20)-8,""),ROW($A2))),""),"")} -> C | D6: {=IF(Sélection!$C$3="X",IFERROR(INDEX(Sélection!$E$9:$E$20,SMALL(IF(Sélection!$F$9:$F$20="x",ROW(Sélection!$F$9:$F$20)-8,""),ROW($A2))),""),"")} -> 0.07
B7: {=IF(Sélection!$C$3="X",IFERROR(INDEX(Sélection!$C$9:$C$20,SMALL(IF(Sélection!$F$9:$F$20="x",ROW(Sélection!$F$9:$F$20)-8,""),ROW($A3))),""),"")} | C7: {=IF(Sélection!$C$3="X",IFERROR(INDEX(Sélection!$D$9:$D$20,SMALL(IF(Sélection!$F$9:$F$20="x",ROW(Sélection!$F$9:$F$20)-8,""),ROW($A3))),""),"")} | D7: {=IF(Sélection!$C$3="X",IFERROR(INDEX(Sélection!$E$9:$E$20,SMALL(IF(Sélection!$F$9:$F$20="x",ROW(Sélection!$F$9:$F$20)-8,""),ROW($A3))),""),"")}
B8: {=IF(Sélection!$C$3="X",IFERROR(INDEX(Sélection!$C$9:$C$20,SMALL(IF(Sélection!$F$9:$F$20="x",ROW(Sélection!$F$9:$F$20)-8,""),ROW($A4))),""),"")} | C8: {=IF(Sélection!$C$3="X",IFERROR(INDEX(Sélection!$D$9:$D$20,SMALL(IF(Sélection!$F$9:$F$20="x",ROW(Sélection!$F$9:$F$20)-8,""),ROW($A4))),""),"")} | D8: {=IF(Sélection!$C$3="X",IFERROR(INDEX(Sélection!$E$9:$E$20,SMALL(IF(Sélection!$F$9:$F$20="x",ROW(Sélection!$F$9:$F$20)-8,""),ROW($A4))),""),"")}
B9: {=IF(Sélection!$C$3="X",IFERROR(INDEX(Sélection!$C$9:$C$20,SMALL(IF(Sélection!$F$9:$F$20="x",ROW(Sélection!$F$9:$F$20)-8,""),ROW($A5))),""),"")} | C9: {=IF(Sélection!$C$3="X",IFERROR(INDEX(Sélection!$D$9:$D$20,SMALL(IF(Sélection!$F$9:$F$20="x",ROW(Sélection!$F$9:$F$20)-8,""),ROW($A5))),""),"")} | D9: {=IF(Sélection!$C$3="X",IFERROR(INDEX(Sélection!$E$9:$E$20,SMALL(IF(Sélection!$F$9:$F$20="x",ROW(Sélection!$F$9:$F$20)-8,""),ROW($A5))),""),"")}
B10: {=IF(Sélection!$C$3="X",IFERROR(INDEX(Sélection!$C$9:$C$20,SMALL(IF(Sélection!$F$9:$F$20="x",ROW(Sélection!$F$9:$F$20)-8,""),ROW($A6))),""),"")} | C10: {=IF(Sélection!$C$3="X",IFERROR(INDEX(Sélection!$D$9:$D$20,SMALL(IF(Sélection!$F$9:$F$20="x",ROW(Sélection!$F$9:$F$20)-8,""),ROW($A6))),""),"")} | D10: {=IF(Sélection!$C$3="X",IFERROR(INDEX(Sélection!$E$9:$E$20,SMALL(IF(Sélection!$F$9:$F$20="x",ROW(Sélection!$F$9:$F$20)-8,""),ROW($A6))),""),"")}
B11: {=IF(Sélection!$C$3="X",IFERROR(INDEX(Sélection!$C$9:$C$20,SMALL(IF(Sélection!$F$9:$F$20="x",ROW(Sélection!$F$9:$F$20)-8,""),ROW($A7))),""),"")} | C11: {=IF(Sélection!$C$3="X",IFERROR(INDEX(Sélection!$D$9:$D$20,SMALL(IF(Sélection!$F$9:$F$20="x",ROW(Sélection!$F$9:$F$20)-8,""),ROW($A7))),""),"")} | D11: {=IF(Sélection!$C$3="X",IFERROR(INDEX(Sélection!$E$9:$E$20,SMALL(IF(Sélection!$F$9:$F$20="x",ROW(Sélection!$F$9:$F$20)-8,""),ROW($A7))),""),"")}
B12: {=IF(Sélection!$C$3="X",IFERROR(INDEX(Sélection!$C$9:$C$20,SMALL(IF(Sélection!$F$9:$F$20="x",ROW(Sélection!$F$9:$F$20)-8,""),ROW($A8))),""),"")} | C12: {=IF(Sélection!$C$3="X",IFERROR(INDEX(Sélection!$D$9:$D$20,SMALL(IF(Sélection!$F$9:$F$20="x",ROW(Sélection!$F$9:$F$20)-8,""),ROW($A8))),""),"")} | D12: {=IF(Sélection!$C$3="X",IFERROR(INDEX(Sélection!$E$9:$E$20,SMALL(IF(Sélection!$F$9:$F$20="x",ROW(Sélection!$F$9:$F$20)-8,""),ROW($A8))),""),"")}
B13: {=IF(Sélection!$C$3="X",IFERROR(INDEX(Sélection!$C$9:$C$20,SMALL(IF(Sélection!$F$9:$F$20="x",ROW(Sélection!$F$9:$F$20)-8,""),ROW($A9))),""),"")} | C13: {=IF(Sélection!$C$3="X",IFERROR(INDEX(Sélection!$D$9:$D$20,SMALL(IF(Sélection!$F$9:$F$20="x",ROW(Sélection!$F$9:$F$20)-8,""),ROW($A9))),""),"")} | D13: {=IF(Sélection!$C$3="X",IFERROR(INDEX(Sélection!$E$9:$E$20,SMALL(IF(Sélection!$F$9:$F$20="x",ROW(Sélection!$F$9:$F$20)-8,""),ROW($A9))),""),"")}
B14: {=IF(Sélection!$C$3="X",IFERROR(INDEX(Sélection!$C$9:$C$20,SMALL(IF(Sélection!$F$9:$F$20="x",ROW(Sélection!$F$9:$F$20)-8,""),ROW($A10))),""),"")} | C14: {=IF(Sélection!$C$3="X",IFERROR(INDEX(Sélection!$D$9:$D$20,SMALL(IF(Sélection!$F$9:$F$20="x",ROW(Sélection!$F$9:$F$20)-8,""),ROW($A10))),""),"")} | D14: {=IF(Sélection!$C$3="X",IFERROR(INDEX(Sélection!$E$9:$E$20,SMALL(IF(Sélection!$F$9:$F$20="x",ROW(Sélection!$F$9:$F$20)-8,""),ROW($A10))),""),"")}
B15: {=IF(Sélection!$C$3="X",IFERROR(INDEX(Sélection!$C$9:$C$20,SMALL(IF(Sélection!$F$9:$F$20="x",ROW(Sélection!$F$9:$F$20)-8,""),ROW($A11))),""),"")} | C15: {=IF(Sélection!$C$3="X",IFERROR(INDEX(Sélection!$D$9:$D$20,SMALL(IF(Sélection!$F$9:$F$20="x",ROW(Sélection!$F$9:$F$20)-8,""),ROW($A11))),""),"")} | D15: {=IF(Sélection!$C$3="X",IFERROR(INDEX(Sélection!$E$9:$E$20,SMALL(IF(Sélection!$F$9:$F$20="x",ROW(Sélection!$F$9:$F$20)-8,""),ROW($A11))),""),"")}
B16: {=IF(Sélection!$C$3="X",IFERROR(INDEX(Sélection!$C$9:$C$20,SMALL(IF(Sélection!$F$9:$F$20="x",ROW(Sélection!$F$9:$F$20)-8,""),ROW($A12))),""),"")} | C16: {=IF(Sélection!$C$3="X",IFERROR(INDEX(Sélection!$D$9:$D$20,SMALL(IF(Sélection!$F$9:$F$20="x",ROW(Sélection!$F$9:$F$20)-8,""),ROW($A12))),""),"")} | D16: {=IF(Sélection!$C$3="X",IFERROR(INDEX(Sélection!$E$9:$E$20,SMALL(IF(Sélection!$F$9:$F$20="x",ROW(Sélection!$F$9:$F$20)-8,""),ROW($A12))),""),"")}
B18: 2016
B19: CTP | C19: Libellé | D19: Taux | E19: 1er trim | F19: 2e trim | G19: 3e trim | H19: 4e trim
B20: {=IF(Sélection!$C$3="X",IFERROR(INDEX(Sélection!$C$9:$C$20,SMALL(IF(Sélection!$G$9:$G$20="x",ROW(Sélection!$G$9:$G$20)-8,""),ROW($A1))),""),"")} -> 518 | C20: {=IF(Sélection!$C$3="X",IFERROR(INDEX(Sélection!$D$9:$D$20,SMALL(IF(Sélection!$G$9:$G$20="x",ROW(Sélection!$G$9:$G$20)-8,""),ROW($A1))),""),"")} -> B | D20: {=IF(Sélection!$C$3="X",IFERROR(INDEX(Sélection!$E$9:$E$20,SMALL(IF(Sélection!$G$9:$G$20="x",ROW(Sélection!$G$9:$G$20)-8,""),ROW($A1))),""),"")} -> 0.06
B21: {=IF(Sélection!$C$3="X",IFERROR(INDEX(Sélection!$C$9:$C$20,SMALL(IF(Sélection!$G$9:$G$20="x",ROW(Sélection!$G$9:$G$20)-8,""),ROW($A2))),""),"")} -> 688 | C21: {=IF(Sélection!$C$3="X",IFERROR(INDEX(Sélection!$D$9:$D$20,SMALL(IF(Sélection!$G$9:$G$20="x",ROW(Sélection!$G$9:$G$20)-8,""),ROW($A2))),""),"")} -> E | D21: {=IF(Sélection!$C$3="X",IFERROR(INDEX(Sélection!$E$9:$E$20,SMALL(IF(Sélection!$G$9:$G$20="x",ROW(Sélection!$G$9:$G$20)-8,""),ROW($A2))),""),"")} -> 0.09
B22: {=IF(Sélection!$C$3="X",IFERROR(INDEX(Sélection!$C$9:$C$20,SMALL(IF(Sélection!$G$9:$G$20="x",ROW(Sélection!$G$9:$G$20)-8,""),ROW($A3))),""),"")} -> 684 | C22: {=IF(Sélection!$C$3="X",IFERROR(INDEX(Sélection!$D$9:$D$20,SMALL(IF(Sélection!$G$9:$G$20="x",ROW(Sélection!$G$9:$G$20)-8,""),ROW($A3))),""),"")} -> H | D22: {=IF(Sélection!$C$3="X",IFERROR(INDEX(Sélection!$E$9:$E$20,SMALL(IF(Sélection!$G$9:$G$20="x",ROW(Sélection!$G$9:$G$20)-8,""),ROW($A3))),""),"")} -> 0.12
B23: {=IF(Sélection!$C$3="X",IFERROR(INDEX(Sélection!$C$9:$C$20,SMALL(IF(Sélection!$G$9:$G$20="x",ROW(Sélection!$G$9:$G$20)-8,""),ROW($A4))),""),"")} -> 685 | C23: {=IF(Sélection!$C$3="X",IFERROR(INDEX(Sélection!$D$9:$D$20,SMALL(IF(Sélection!$G$9:$G$20="x",ROW(Sélection!$G$9:$G$20)-8,""),ROW($A4))),""),"")} -> K | D23: {=IF(Sélection!$C$3="X",IFERROR(INDEX(Sélection!$E$9:$E$20,SMALL(IF(Sélection!$G$9:$G$20="x",ROW(Sélection!$G$9:$G$20)-8,""),ROW($A4))),""),"")} -> 0.15
B24: {=IF(Sélection!$C$3="X",IFERROR(INDEX(Sélection!$C$9:$C$20,SMALL(IF(Sélection!$G$9:$G$20="x",ROW(Sélection!$G$9:$G$20)-8,""),ROW($A5))),""),"")} -> 689 | C24: {=IF(Sélection!$C$3="X",IFERROR(INDEX(Sélection!$D$9:$D$20,SMALL(IF(Sélection!$G$9:$G$20="x",ROW(Sélection!$G$9:$G$20)-8,""),ROW($A5))),""),"")} -> L | D24: {=IF(Sélection!$C$3="X",IFERROR(INDEX(Sélection!$E$9:$E$20,SMALL(IF(Sélection!$G$9:$G$20="x",ROW(Sélection!$G$9:$G$20)-8,""),ROW($A5))),""),"")} -> 0.16
B25: {=IF(Sélection!$C$3="X",IFERROR(INDEX(Sélection!$C$9:$C$20,SMALL(IF(Sélection!$G$9:$G$20="x",ROW(Sélection!$G$9:$G$20)-8,""),ROW($A6))),""),"")} | C25: {=IF(Sélection!$C$3="X",IFERROR(INDEX(Sélection!$D$9:$D$20,SMALL(IF(Sélection!$G$9:$G$20="x",ROW(Sélection!$G$9:$G$20)-8,""),ROW($A6))),""),"")} | D25: {=IF(Sélection!$C$3="X",IFERROR(INDEX(Sélection!$E$9:$E$20,SMALL(IF(Sélection!$G$9:$G$20="x",ROW(Sélection!$G$9:$G$20)-8,""),ROW($A6))),""),"")}
B26: {=IF(Sélection!$C$3="X",IFERROR(INDEX(Sélection!$C$9:$C$20,SMALL(IF(Sélection!$G$9:$G$20="x",ROW(Sélection!$G$9:$G$20)-8,""),ROW($A7))),""),"")} | C26: {=IF(Sélection!$C$3="X",IFERROR(INDEX(Sélection!$D$9:$D$20,SMALL(IF(Sélection!$G$9:$G$20="x",ROW(Sélection!$G$9:$G$20)-8,""),ROW($A7))),""),"")} | D26: {=IF(Sélection!$C$3="X",IFERROR(INDEX(Sélection!$E$9:$E$20,SMALL(IF(Sélection!$G$9:$G$20="x",ROW(Sélection!$G$9:$G$20)-8,""),ROW($A7))),""),"")}
B27: {=IF(Sélection!$C$3="X",IFERROR(INDEX(Sélection!$C$9:$C$20,SMALL(IF(Sélection!$G$9:$G$20="x",ROW(Sélection!$G$9:$G$20)-8,""),ROW($A8))),""),"")} | C27: {=IF(Sélection!$C$3="X",IFERROR(INDEX(Sélection!$D$9:$D$20,SMALL(IF(Sélection!$G$9:$G$20="x",ROW(Sélection!$G$9:$G$20)-8,""),ROW($A8))),""),"")} | D27: {=IF(Sélection!$C$3="X",IFERROR(INDEX(Sélection!$E$9:$E$20,SMALL(IF(Sélection!$G$9:$G$20="x",ROW(Sélection!$G$9:$G$20)-8,""),ROW($A8))),""),"")}
B28: {=IF(Sélection!$C$3="X",IFERROR(INDEX(Sélection!$C$9:$C$20,SMALL(IF(Sélection!$G$9:$G$20="x",ROW(Sélection!$G$9:$G$20)-8,""),ROW($A9))),""),"")} | C28: {=IF(Sélection!$C$3="X",IFERROR(INDEX(Sélection!$D$9:$D$20,SMALL(IF(Sélection!$G$9:$G$20="x",ROW(Sélection!$G$9:$G$20)-8,""),ROW($A9))),""),"")} | D28: {=IF(Sélection!$C$3="X",IFERROR(INDEX(Sélection!$E$9:$E$20,SMALL(IF(Sélection!$G$9:$G$20="x",ROW(Sélection!$G$9:$G$20)-8,""),ROW($A9))),""),"")}
B29: {=IF(Sélection!$C$3="X",IFERROR(INDEX(Sélection!$C$9:$C$20,SMALL(IF(Sélection!$G$9:$G$20="x",ROW(Sélection!$G$9:$G$20)-8,""),ROW($A10))),""),"")} | C29: {=IF(Sélection!$C$3="X",IFERROR(INDEX(Sélection!$D$9:$D$20,SMALL(IF(Sélection!$G$9:$G$20="x",ROW(Sélection!$G$9:$G$20)-8,""),ROW($A10))),""),"")} | D29: {=IF(Sélection!$C$3="X",IFERROR(INDEX(Sélection!$E$9:$E$20,SMALL(IF(Sélection!$G$9:$G$20="x",ROW(Sélection!$G$9:$G$20)-8,""),ROW($A10))),""),"")}
B30: {=IF(Sélection!$C$3="X",IFERROR(INDEX(Sélection!$C$9:$C$20,SMALL(IF(Sélection!$G$9:$G$20="x",ROW(Sélection!$G$9:$G$20)-8,""),ROW($A11))),""),"")} | C30: {=IF(Sélection!$C$3="X",IFERROR(INDEX(Sélection!$D$9:$D$20,SMALL(IF(Sélection!$G$9:$G$20="x",ROW(Sélection!$G$9:$G$20)-8,""),ROW($A11))),""),"")} | D30: {=IF(Sélection!$C$3="X",IFERROR(INDEX(Sélection!$E$9:$E$20,SMALL(IF(Sélection!$G$9:$G$20="x",ROW(Sélection!$G$9:$G$20)-8,""),ROW($A11))),""),"")}
B31: {=IF(Sélection!$C$3="X",IFERROR(INDEX(Sélection!$C$9:$C$20,SMALL(IF(Sélection!$G$9:$G$20="x",ROW(Sélection!$G$9:$G$20)-8,""),ROW($A12))),""),"")} | C31: {=IF(Sélection!$C$3="X",IFERROR(INDEX(Sélection!$D$9:$D$20,SMALL(IF(Sélection!$G$9:$G$20="x",ROW(Sélection!$G$9:$G$20)-8,""),ROW($A12))),""),"")} | D31: {=IF(Sélection!$C$3="X",IFERROR(INDEX(Sélection!$E$9:$E$20,SMALL(IF(Sélection!$G$9:$G$20="x",ROW(Sélection!$G$9:$G$20)-8,""),ROW($A12))),""),"")}
