Workbook

Sheet BASE DE DONNEES ARTICLE
A1: BASE DE DONNÉES ARTICLES
C2: Date du jour : | D2: =TODAY() -> 43286
A3: Réf. | B3: Article | C3: Packaging | D3: Prix unitaire au 01/01/2018
A4: 1 | B4: anti fouling | C4: touque
A5: 2 | B5: assiettes | C5: 1 unité | D5: 4.56
A6: 3 | B6: balance à poisson | C6: 1 unité
A7: 4 | B7: balise de pêche api | C7: 1 unité
A8: 5 | B8: balise nautisport | C8: 1 unité
A9: 6 | B9: bas de ligne 1.8 | C9: rouleau | D9: 33
A10: 7 | B10: bas de ligne 2.00 | C10: rouleau | D10: 60
A11: 8 | B11: batterie balise court | C11: 1 unité
A12: 9 | B12: batterie balise long | C12: 1 unité
A13: 10 | B13: bobine 5 NM line | C13: 5 nautiques = 9 260m | D13: 1281
A14: 11 | B14: bouée de pêche | C14: 1 unité | D14: 33
A15: 12 | B15: bols | C15: 1 unité | D15: 2.65
A16: 13 | B16: corde balise | C16: rouleau | D16: 80
A17: 14 | B17: corrosion block (WD 40) | C17: 1 unité | D17: 15
A18: 15 | B18: courroie shooter | C18: 1 unité | D18: 21
A19: 16 | B19: couteau à dent | C19: 1 unité | D19: 74
A20: 17 | B20: crochet pour poisson | C20: 1 unité
A21: 18 | B21: essuie-tout(mécanique) | C21: 1 unité | D21: 15
A22: 19 | B22: filtre à air ISUZU | C22: 1 unité | D22: 60
A23: 20 | B23: filtre à air MP | C23: 1 unité | D23: 61
A24: 21 | B24: filtre à gasoil G.E ISUZU | C24: 1 unité | D24: 10
A25: 22 | B25: filtre à gasoil M.P BAUDOUIN | C25: 1 unité | D25: 25
A26: 23 | B26: filtre à gasoil MP YANMAR | C26: 1 unité | D26: 36
A27: 24 | B27: filtre à huile G.E ISUZU | C27: 1 unité | D27: 13
A28: 25 | B28: filtre à huile M.P BAUDOUIN | C28: 1 unité | D28: 20
A29: 26 | B29: filtre à huile M.P YANMAR | C29: 1 unité | D29: 20
A30: 27 | B30: filtre caisse huile barre | C30: 1 unité | D30: 15
A31: 28 | B31: filtre hydraulique (pour les 13 m) | C31: 1 unité
A32: 29 | B32: filtre hydraulique (pour les 15 m) | C32: 1 unité | D32: 15
A33: 30 | B33: filtre raccord (petit modèle) | C33: 1 unité | D33: 15
A34: 31 | B34: filtre raccord (moyen modèle) | C34: 1 unité | D34: 15
A35: 32 | B35: filtre raccord (grand modèle) | C35: 1 unité | D35: 15
A36: 33 | B36: fourchette guide | C36: 1 unité
A37: 34 | B37: four éléctrique | C37: 1 unité
A38: 35 | B38: gaffe à poisson | C38: 1 unité
A39: 36 | B39: gaine blanc (snap) | C39: rouleau | D39: 25
A40: 37 | B40: gaine vert (hameçons) | C40: rouleau | D40: 24
...

Sheet JOURNAL DES ENTREES
A1: JOURNAL DES ENTRÉES
E2: Date du jour : | H2: =TODAY() -> 43286
A3: Acheteur | B3: Navire | C3: Date | D3: N° Facture | E3: Fournisseur | F3: Réf. Article | G3: Qté | H3: Prix unitaire | I3: Montant
F4: 2 | G4: 35 | H4: 5 | I4: =IF(G4="","",G4*H4) -> 175
F5: 10 | G5: 1 | H5: 1200 | I5: =IF(G5="","",G5*H5) -> 1200
F6: 13 | G6: 8 | H6: 80 | I6: =IF(G6="","",G6*H6) -> 640
I7: =IF(G7="","",G7*H7)
I8: =IF(G8="","",G8*H8)
I9: =IF(G9="","",G9*H9)
I10: =IF(G10="","",G10*H10)
I11: =IF(G11="","",G11*H11)
I12: =IF(G12="","",G12*H12)
I13: =IF(G13="","",G13*H13)
I14: =IF(G14="","",G14*H14)
I15: =IF(G15="","",G15*H15)
I16: =IF(G16="","",G16*H16)
I17: =IF(G17="","",G17*H17)
I18: =IF(G18="","",G18*H18)
... I78: =IF(G78="","",G78*H78)
F79: Valeure totale des entrées | I79: =+SUM(I4:I78) -> 2015

Sheet JOURNAL DES SORTIES
A1: JOURNAL DES SORTIES
F2: Date du jour : | G2: =TODAY() -> 43286
A3: Société | B3: Navire | C3: Date | D3: Réf. Article | E3: Qté | F3: Prix unitaire | G3: Montant
A4: SNC RAVA'AI RAU 1 | B4: VAIPAHU | C4: 43204 | D4: 2 | E4: 1 | F4: =(IF(D4="","",SUMIFS('JOURNAL DES ENTREES'!H4:H78,'JOURNAL DES ENTREES'!F4:F78,D4))) -> 5 | G4: =+IF(E4="","",E4*F4) -> 5
A5: SCP EDDY | B5: EDDY 5 | C5: 43205 | D5: 10 | E5: 1 | F5: =(IF(D5="","",SUMIFS('JOURNAL DES ENTREES'!H4:H78,'JOURNAL DES ENTREES'!F4:F78,D5))) -> 1200 | G5: =+IF(E5="","",E5*F5) -> 1200
A6: SCA VAIANAHOA | B6: VAIANAHOA | C6: 43206 | D6: 13 | E6: 1 | F6: =(IF(D6="","",SUMIFS('JOURNAL DES ENTREES'!H4:H79,'JOURNAL DES ENTREES'!F4:F79,D6))) -> 80 | G6: =+IF(E6="","",E6*F6) -> 80
G7: =+IF(E7="","",E7*F7)
G8: =+IF(E8="","",E8*F8)
G45: =+IF(E45="","",E45*F45)
G46: =+IF(E46="","",E46*F46)
G47: =+IF(E47="","",E47*F47)
G55: =+IF(E55="","",E55*F55)
G56: =+IF(E56="","",E56*F56)
G57: =+IF(E57="","",E57*F57)
G58: =+IF(E58="","",E58*F58)
G59: =+IF(E59="","",E59*F59)
G62: =+IF(E62="","",E62*F62)
G63: =+IF(E63="","",E63*F63)
... G69: =+IF(E69="","",E69*F69)
D70: Valeure totale des sorties | G70: =+SUM(G4:G69) -> 1285

Sheet ETAT STOCK
A1: ÉTAT DU STOCK
G2: =TODAY() -> 43286
A3: Réf. Article | B3: Article | C3: Quantité initiale au 08/01/2018 | D3: Entrées | E3: Sorties | F3: Quantité Finale | G3: Montant du stock final | H3: Prix unitaire
A4: 1 | B4: anti fouling | C4: 3 | D4: =IF(A4="","",SUMIFS('JOURNAL DES ENTREES'!G$4:G$200,'JOURNAL DES ENTREES'!F$4:F$200,'ETAT STOCK'!A4)) -> 0 | E4: =IF(A4="","",SUMIFS('JOURNAL DES SORTIES'!E$4:E$190,'JOURNAL DES SORTIES'!D$4:D$190,'ETAT STOCK'!A4)) -> 0 | F4: =IF(A4="","",C4+D4-E4) -> 3 | G4: =IF($H4<>"",$H4*$F4,"") | H4: {=IF(ISERROR(INDEX('JOURNAL DES ENTREES'!$A$3:$I$78,MATCH('ETAT STOCK'!$A4,'JOURNAL DES ENTREES'!F$3:F$78,0),8)),"",INDEX('JOURNAL DES ENTREES'!$A$3:$I$78,MATCH('ETAT STOCK'!$A4,'JOURNAL DES ENTREES'!F$3:F$78,0),8))}
A5: 2 | B5: assiettes | C5: 0 | D5: =IF(A5="","",SUMIFS('JOURNAL DES ENTREES'!G$4:G$199,'JOURNAL DES ENTREES'!F$4:F$199,'ETAT STOCK'!A5)) -> 35 | E5: =IF(A5="","",SUMIFS('JOURNAL DES SORTIES'!E$4:E$190,'JOURNAL DES SORTIES'!D$4:D$190,'ETAT STOCK'!A5)) -> 1 | F5: =IF(A5="","",C5+D5-E5) -> 34 | G5: =IF($H5<>"",$H5*$F5,"") -> 170 | H5: {=IF(ISERROR(INDEX('JOURNAL DES ENTREES'!$A$3:$I$78,MATCH('ETAT STOCK'!$A5,'JOURNAL DES ENTREES'!F$3:F$78,0),8)),"",INDEX('JOURNAL DES ENTREES'!$A$3:$I$78,MATCH('ETAT STOCK'!$A5,'JOURNAL DES ENTREES'!F$3:F$78,0),8))} -> 5
A6: 3 | B6: balance à poisson | C6: 1 | D6: =IF(A6="","",SUMIFS('JOURNAL DES ENTREES'!G$4:G$199,'JOURNAL DES ENTREES'!F$4:F$199,'ETAT STOCK'!A6)) -> 0 | E6: =IF(A6="","",SUMIFS('JOURNAL DES SORTIES'!E$4:E$190,'JOURNAL DES SORTIES'!D$4:D$190,'ETAT STOCK'!A6)) -> 0 | F6: =IF(A6="","",C6+D6-E6) -> 1 | G6: =IF($H6<>"",$H6*$F6,"") | H6: {=IF(ISERROR(INDEX('JOURNAL DES ENTREES'!$A$3:$I$78,MATCH('ETAT STOCK'!$A6,'JOURNAL DES ENTREES'!F$3:F$78,0),8)),"",INDEX('JOURNAL DES ENTREES'!$A$3:$I$78,MATCH('ETAT STOCK'!$A6,'JOURNAL DES ENTREES'!F$3:F$78,0),8))}
A7: 4 | B7: balise de pêche api | C7: 1 | D7: =IF(A7="","",SUMIFS('JOURNAL DES ENTREES'!G$4:G$199,'JOURNAL DES ENTREES'!F$4:F$199,'ETAT STOCK'!A7)) -> 0 | E7: =IF(A7="","",SUMIFS('JOURNAL DES SORTIES'!E$4:E$190,'JOURNAL DES SORTIES'!D$4:D$190,'ETAT STOCK'!A7)) -> 0 | F7: =IF(A7="","",C7+D7-E7) -> 1 | G7: =IF($H7<>"",$H7*$F7,"") | H7: {=IF(ISERROR(INDEX('JOURNAL DES ENTREES'!$A$3:$I$78,MATCH('ETAT STOCK'!$A7,'JOURNAL DES ENTREES'!F$3:F$78,0),8)),"",INDEX('JOURNAL DES ENTREES'!$A$3:$I$78,MATCH('ETAT STOCK'!$A7,'JOURNAL DES ENTREES'!F$3:F$78,0),8))}
A8: 5 | B8: balise nautisport | C8: 16 | D8: =IF(A8="","",SUMIFS('JOURNAL DES ENTREES'!G$4:G$199,'JOURNAL DES ENTREES'!F$4:F$199,'ETAT STOCK'!A8)) -> 0 | E8: =IF(A8="","",SUMIFS('JOURNAL DES SORTIES'!E$4:E$190,'JOURNAL DES SORTIES'!D$4:D$190,'ETAT STOCK'!A8)) -> 0 | F8: =IF(A8="","",C8+D8-E8) -> 16 | G8: =IF($H8<>"",$H8*$F8,"") | H8: {=IF(ISERROR(INDEX('JOURNAL DES ENTREES'!$A$3:$I$78,MATCH('ETAT STOCK'!$A8,'JOURNAL DES ENTREES'!F$3:F$78,0),8)),"",INDEX('JOURNAL DES ENTREES'!$A$3:$I$78,MATCH('ETAT STOCK'!$A8,'JOURNAL DES ENTREES'!F$3:F$78,0),8))}
A9: 6 | B9: bas de ligne 1.8 | C9: 29 | D9: =IF(A9="","",SUMIFS('JOURNAL DES ENTREES'!G$4:G$199,'JOURNAL DES ENTREES'!F$4:F$199,'ETAT STOCK'!A9)) -> 0 | E9: =IF(A9="","",SUMIFS('JOURNAL DES SORTIES'!E$4:E$190,'JOURNAL DES SORTIES'!D$4:D$190,'ETAT STOCK'!A9)) -> 0 | F9: =IF(A9="","",C9+D9-E9) -> 29 | G9: =IF($H9<>"",$H9*$F9,"") | H9: {=IF(ISERROR(INDEX('JOURNAL DES ENTREES'!$A$3:$I$78,MATCH('ETAT STOCK'!$A9,'JOURNAL DES ENTREES'!F$3:F$78,0),8)),"",INDEX('JOURNAL DES ENTREES'!$A$3:$I$78,MATCH('ETAT STOCK'!$A9,'JOURNAL DES ENTREES'!F$3:F$78,0),8))}
A10: 7 | B10: bas de ligne 2.00 | C10: 57 | D10: =IF('ETAT STOCK'!A10="","",SUMIFS('JOURNAL DES ENTREES'!G$4:G$199,'JOURNAL DES ENTREES'!F$4:F$199,'ETAT STOCK'!A10)) -> 0 | E10: =IF(A10="","",SUMIFS('JOURNAL DES SORTIES'!E$4:E$190,'JOURNAL DES SORTIES'!D$4:D$190,'ETAT STOCK'!A10)) -> 0 | F10: =IF(A10="","",C10+D10-E10) -> 57 | G10: =IF($H10<>"",$H10*$F10,"") | H10: {=IF(ISERROR(INDEX('JOURNAL DES ENTREES'!$A$3:$I$78,MATCH('ETAT STOCK'!$A10,'JOURNAL DES ENTREES'!F$3:F$78,0),8)),"",INDEX('JOURNAL DES ENTREES'!$A$3:$I$78,MATCH('ETAT STOCK'!$A10,'JOURNAL DES ENTREES'!F$3:F$78,0),8))}
A11: 8 | B11: batterie balise court | C11: 3 | D11: =IF(A11="","",SUMIFS('JOURNAL DES ENTREES'!G$4:G$199,'JOURNAL DES ENTREES'!F$4:F$199,'ETAT STOCK'!A11)) -> 0 | E11: =IF(A11="","",SUMIFS('JOURNAL DES SORTIES'!E$4:E$190,'JOURNAL DES SORTIES'!D$4:D$190,'ETAT STOCK'!A11)) -> 0 | F11: =IF(A11="","",C11+D11-E11) -> 3 | G11: =IF($H11<>"",$H11*$F11,"") | H11: {=IF(ISERROR(INDEX('JOURNAL DES ENTREES'!$A$3:$I$78,MATCH('ETAT STOCK'!$A11,'JOURNAL DES ENTREES'!F$3:F$78,0),8)),"",INDEX('JOURNAL DES ENTREES'!$A$3:$I$78,MATCH('ETAT STOCK'!$A11,'JOURNAL DES ENTREES'!F$3:F$78,0),8))}
A12: 9 | B12: batterie balise long | C12: 0 | D12: =IF(A12="","",SUMIFS('JOURNAL DES ENTREES'!G$4:G$199,'JOURNAL DES ENTREES'!F$4:F$199,'ETAT STOCK'!A12)) -> 0 | E12: =IF(A12="","",SUMIFS('JOURNAL DES SORTIES'!E$4:E$190,'JOURNAL DES SORTIES'!D$4:D$190,'ETAT STOCK'!A12)) -> 0 | F12: =IF(A12="","",C12+D12-E12) -> 0 | G12: =IF($H12<>"",$H12*$F12,"") | H12: {=IF(ISERROR(INDEX('JOURNAL DES ENTREES'!$A$3:$I$78,MATCH('ETAT STOCK'!$A12,'JOURNAL DES ENTREES'!F$3:F$78,0),8)),"",INDEX('JOURNAL DES ENTREES'!$A$3:$I$78,MATCH('ETAT STOCK'!$A12,'JOURNAL DES ENTREES'!F$3:F$78,0),8))}
A13: 10 | B13: bobine 5 NM line | C13: 2 | D13: =IF(A13="","",SUMIFS('JOURNAL DES ENTREES'!G$4:G$199,'JOURNAL DES ENTREES'!F$4:F$199,'ETAT STOCK'!A13)) -> 1 | E13: =IF(A13="","",SUMIFS('JOURNAL DES SORTIES'!E$4:E$190,'JOURNAL DES SORTIES'!D$4:D$190,'ETAT STOCK'!A13)) -> 1 | F13: =IF(A13="","",C13+D13-E13) -> 2 | G13: =IF($H13<>"",$H13*$F13,"") -> 2400 | H13: {=IF(ISERROR(INDEX('JOURNAL DES ENTREES'!$A$3:$I$78,MATCH('ETAT STOCK'!$A13,'JOURNAL DES ENTREES'!F$3:F$78,0),8)),"",INDEX('JOURNAL DES ENTREES'!$A$3:$I$78,MATCH('ETAT STOCK'!$A13,'JOURNAL DES ENTREES'!F$3:F$78,0),8))} -> 1200
A14: 11 | B14: bouée de pêche | C14: 6 | D14: =IF(A14="","",SUMIFS('JOURNAL DES ENTREES'!G$4:G$199,'JOURNAL DES ENTREES'!F$4:F$199,'ETAT STOCK'!A14)) -> 0 | E14: =IF(A14="","",SUMIFS('JOURNAL DES SORTIES'!E$4:E$190,'JOURNAL DES SORTIES'!D$4:D$190,'ETAT STOCK'!A14)) -> 0 | F14: =IF(A14="","",C14+D14-E14) -> 6 | G14: =IF($H14<>"",$H14*$F14,"") | H14: {=IF(ISERROR(INDEX('JOURNAL DES ENTREES'!$A$3:$I$78,MATCH('ETAT STOCK'!$A14,'JOURNAL DES ENTREES'!F$3:F$78,0),8)),"",INDEX('JOURNAL DES ENTREES'!$A$3:$I$78,MATCH('ETAT STOCK'!$A14,'JOURNAL DES ENTREES'!F$3:F$78,0),8))}
A15: 12 | B15: bols | C15: 0 | D15: =IF(A15="","",SUMIFS('JOURNAL DES ENTREES'!G$4:G$199,'JOURNAL DES ENTREES'!F$4:F$199,'ETAT STOCK'!A15)) -> 0 | E15: =IF(A15="","",SUMIFS('JOURNAL DES SORTIES'!E$4:E$190,'JOURNAL DES SORTIES'!D$4:D$190,'ETAT STOCK'!A15)) -> 0 | F15: =IF(A15="","",C15+D15-E15) -> 0 | G15: =IF($H15<>"",$H15*$F15,"") | H15: {=IF(ISERROR(INDEX('JOURNAL DES ENTREES'!$A$3:$I$78,MATCH('ETAT STOCK'!$A15,'JOURNAL DES ENTREES'!F$3:F$78,0),8)),"",INDEX('JOURNAL DES ENTREES'!$A$3:$I$78,MATCH('ETAT STOCK'!$A15,'JOURNAL DES ENTREES'!F$3:F$78,0),8))}
A16: 13 | B16: corde balise | C16: 4 | D16: =IF(A16="","",SUMIFS('JOURNAL DES ENTREES'!G$4:G$199,'JOURNAL DES ENTREES'!F$4:F$199,'ETAT STOCK'!A16)) -> 8 | E16: =IF(A16="","",SUMIFS('JOURNAL DES SORTIES'!E$4:E$190,'JOURNAL DES SORTIES'!D$4:D$190,'ETAT STOCK'!A16)) -> 1 | F16: =IF(A16="","",C16+D16-E16) -> 11 | G16: =IF($H16<>"",$H16*$F16,"") -> 880 | H16: {=IF(ISERROR(INDEX('JOURNAL DES ENTREES'!$A$3:$I$78,MATCH('ETAT STOCK'!$A16,'JOURNAL DES ENTREES'!F$3:F$78,0),8)),"",INDEX('JOURNAL DES ENTREES'!$A$3:$I$78,MATCH('ETAT STOCK'!$A16,'JOURNAL DES ENTREES'!F$3:F$78,0),8))} -> 80
A17: 14 | B17: corrosion block (WD 40) | C17: 3 | D17: =IF(A17="","",SUMIFS('JOURNAL DES ENTREES'!G$4:G$199,'JOURNAL DES ENTREES'!F$4:F$199,'ETAT STOCK'!A17)) -> 0 | E17: =IF(A17="","",SUMIFS('JOURNAL DES SORTIES'!E$4:E$190,'JOURNAL DES SORTIES'!D$4:D$190,'ETAT STOCK'!A17)) -> 0 | F17: =IF(A17="","",C17+D17-E17) -> 3 | G17: =IF($H17<>"",$H17*$F17,"") | H17: {=IF(ISERROR(INDEX('JOURNAL DES ENTREES'!$A$3:$I$78,MATCH('ETAT STOCK'!$A17,'JOURNAL DES ENTREES'!F$3:F$78,0),8)),"",INDEX('JOURNAL DES ENTREES'!$A$3:$I$78,MATCH('ETAT STOCK'!$A17,'JOURNAL DES ENTREES'!F$3:F$78,0),8))}
A18: 15 | B18: courroie shooter | C18: 1 | D18: =IF(A18="","",SUMIFS('JOURNAL DES ENTREES'!G$4:G$199,'JOURNAL DES ENTREES'!F$4:F$199,'ETAT STOCK'!A18)) -> 0 | E18: =IF(A18="","",SUMIFS('JOURNAL DES SORTIES'!E$4:E$190,'JOURNAL DES SORTIES'!D$4:D$190,'ETAT STOCK'!A18)) -> 0 | F18: =IF(A18="","",C18+D18-E18) -> 1 | G18: =IF($H18<>"",$H18*$F18,"") | H18: {=IF(ISERROR(INDEX('JOURNAL DES ENTREES'!$A$3:$I$78,MATCH('ETAT STOCK'!$A18,'JOURNAL DES ENTREES'!F$3:F$78,0),8)),"",INDEX('JOURNAL DES ENTREES'!$A$3:$I$78,MATCH('ETAT STOCK'!$A18,'JOURNAL DES ENTREES'!F$3:F$78,0),8))}
A19: 16 | B19: couteau à dent | C19: 2 | D19: =IF(A19="","",SUMIFS('JOURNAL DES ENTREES'!G$4:G$199,'JOURNAL DES ENTREES'!F$4:F$199,'ETAT STOCK'!A19)) -> 0 | E19: =IF(A19="","",SUMIFS('JOURNAL DES SORTIES'!E$4:E$190,'JOURNAL DES SORTIES'!D$4:D$190,'ETAT STOCK'!A19)) -> 0 | F19: =IF(A19="","",C19+D19-E19) -> 2 | G19: =IF($H19<>"",$H19*$F19,"") | H19: {=IF(ISERROR(INDEX('JOURNAL DES ENTREES'!$A$3:$I$78,MATCH('ETAT STOCK'!$A19,'JOURNAL DES ENTREES'!F$3:F$78,0),8)),"",INDEX('JOURNAL DES ENTREES'!$A$3:$I$78,MATCH('ETAT STOCK'!$A19,'JOURNAL DES ENTREES'!F$3:F$78,0),8))}
A20: 17 | B20: crochet pour poisson | C20: 0 | D20: =IF(A20="","",SUMIFS('JOURNAL DES ENTREES'!G$4:G$199,'JOURNAL DES ENTREES'!F$4:F$199,'ETAT STOCK'!A20)) -> 0 | E20: =IF(A20="","",SUMIFS('JOURNAL DES SORTIES'!E$4:E$190,'JOURNAL DES SORTIES'!D$4:D$190,'ETAT STOCK'!A20)) -> 0 | F20: =IF(A20="","",C20+D20-E20) -> 0 | G20: =IF($H20<>"",$H20*$F20,"") | H20: {=IF(ISERROR(INDEX('JOURNAL DES ENTREES'!$A$3:$I$78,MATCH('ETAT STOCK'!$A20,'JOURNAL DES ENTREES'!F$3:F$78,0),8)),"",INDEX('JOURNAL DES ENTREES'!$A$3:$I$78,MATCH('ETAT STOCK'!$A20,'JOURNAL DES ENTREES'!F$3:F$78,0),8))}
A21: 18 | B21: essuie-tout(mécanique) | C21: 0 | D21: =IF(A21="","",SUMIFS('JOURNAL DES ENTREES'!G$4:G$199,'JOURNAL DES ENTREES'!F$4:F$199,'ETAT STOCK'!A21)) -> 0 | E21: =IF(A21="","",SUMIFS('JOURNAL DES SORTIES'!E$4:E$190,'JOURNAL DES SORTIES'!D$4:D$190,'ETAT STOCK'!A21)) -> 0 | F21: =IF(A21="","",C21+D21-E21) -> 0 | G21: =IF($H21<>"",$H21*$F21,"") | H21: {=IF(ISERROR(INDEX('JOURNAL DES ENTREES'!$A$3:$I$78,MATCH('ETAT STOCK'!$A21,'JOURNAL DES ENTREES'!F$3:F$78,0),8)),"",INDEX('JOURNAL DES ENTREES'!$A$3:$I$78,MATCH('ETAT STOCK'!$A21,'JOURNAL DES ENTREES'!F$3:F$78,0),8))}
A22: 19 | B22: filtre à air ISUZU | C22: 4 | D22: =IF(A22="","",SUMIFS('JOURNAL DES ENTREES'!G$4:G$199,'JOURNAL DES ENTREES'!F$4:F$199,'ETAT STOCK'!A22)) -> 0 | E22: =IF(A22="","",SUMIFS('JOURNAL DES SORTIES'!E$4:E$190,'JOURNAL DES SORTIES'!D$4:D$190,'ETAT STOCK'!A22)) -> 0 | F22: =IF(A22="","",C22+D22-E22) -> 4 | G22: =IF($H22<>"",$H22*$F22,"") | H22: {=IF(ISERROR(INDEX('JOURNAL DES ENTREES'!$A$3:$I$78,MATCH('ETAT STOCK'!$A22,'JOURNAL DES ENTREES'!F$3:F$78,0),8)),"",INDEX('JOURNAL DES ENTREES'!$A$3:$I$78,MATCH('ETAT STOCK'!$A22,'JOURNAL DES ENTREES'!F$3:F$78,0),8))}
... A65: 62 | B65: zinc M.P | C65: 16 | D65: =IF(A65="","",SUMIFS('JOURNAL DES ENTREES'!G$4:G$199,'JOURNAL DES ENTREES'!F$4:F$199,'ETAT STOCK'!A65)) -> 0 | E65: =IF(A65="","",SUMIFS('JOURNAL DES SORTIES'!E$4:E$190,'JOURNAL DES SORTIES'!D$4:D$190,'ETAT STOCK'!A65)) -> 0 | F65: =IF(A65="","",C65+D65-E65) -> 16 | G65: =IF($H65<>"",$H65*$F65,"") | H65: {=IF(ISERROR(INDEX('JOURNAL DES ENTREES'!$A$3:$I$78,MATCH('ETAT STOCK'!$A65,'JOURNAL DES ENTREES'!F$3:F$78,0),8)),"",INDEX('JOURNAL DES ENTREES'!$A$3:$I$78,MATCH('ETAT STOCK'!$A65,'JOURNAL DES ENTREES'!F$3:F$78,0),8))}
E66: Valeure total du stock Final | G66: =+SUM(G4:G65) -> 3450

Sheet REAPROVISIONNEMENT
A1: REAPPROVISIONNEMENT
D2: Date du jour : | E2: =TODAY() -> 43286
A3: Réf. | B3: Article | C3: Stock de sécurité | D3: Stock Final | E3: Quantité d'article à acheter
A4: 1 | B4: anti fouling | C4: 3 | D4: =+'ETAT STOCK'!F4 -> 3 | E4: =+C4-D4 -> 0
A5: 2 | B5: assiettes | C5: 20 | D5: =+'ETAT STOCK'!F5 -> 34 | E5: =+C5-D5 -> -14
A6: 3 | B6: balance à poisson | C6: 1 | D6: =+'ETAT STOCK'!F6 -> 1 | E6: =+C6-D6 -> 0
A7: 4 | B7: balise de pêche api | C7: 2 | D7: =+'ETAT STOCK'!F7 -> 1 | E7: =+C7-D7 -> 1
A8: 5 | B8: balise nautisport | C8: 16 | D8: =+'ETAT STOCK'!F8 -> 16 | E8: =+C8-D8 -> 0
A9: 6 | B9: bas de ligne 1.8 (en rouleaux) | C9: 12 | D9: =+'ETAT STOCK'!F9 -> 29 | E9: =+C9-D9 -> -17
A10: 7 | B10: bas de ligne 2.00 (en rouleaux) | C10: 30 | D10: =+'ETAT STOCK'!F10 -> 57 | E10: =+C10-D10 -> -27
A11: 8 | B11: batterie balise court | C11: 4 | D11: =+'ETAT STOCK'!F11 -> 3 | E11: =+C11-D11 -> 1
A12: 9 | B12: batterie balise long | C12: 5 | D12: =+'ETAT STOCK'!F12 -> 0 | E12: =+C12-D12 -> 5
A13: 10 | B13: bobine 5 NM line | C13: 2 | D13: =+'ETAT STOCK'!F13 -> 2 | E13: =+C13-D13 -> 0
A14: 11 | B14: bouée de pêche | C14: 6 | D14: =+'ETAT STOCK'!F14 -> 6 | E14: =+C14-D14 -> 0
A15: 12 | B15: bols | C15: 20 | D15: =+'ETAT STOCK'!F15 -> 0 | E15: =+C15-D15 -> 20
... A65: 62 | B65: zinc M.P | C65: 13 | D65: =+'ETAT STOCK'!F65 -> 16 | E65: =+C65-D65 -> -3
