Workbook
Name DatesRlt: '[1]Report Rlt Global'!$F$4:$BB$4
Name ListePersonnel: '[1]Liste Personnel'!$C$3:$C$111

Sheet Feuil1
E1: Semaine 38 | L1: Semaine 39
E2: L | F2: ma | G2: me | H2: J | I2: V | J2: S | K2: Di | L2: L | M2: ma | N2: me | O2: J | P2: V | Q2: S | R2: Di
E3: 43752 | F3: =IF(E3="","",E3+1) -> 43753 | G3: =IF(F3="","",F3+1) -> 43754 | H3: =IF(G3="","",G3+1) -> 43755 | I3: =IF(H3="","",H3+1) -> 43756 | J3: =IF(I3="","",I3+1) -> 43757 | K3: =IF(J3="","",J3+1) -> 43758 | L3: =IF(K3="","",K3+1) -> 43759 | M3: =IF(L3="","",L3+1) -> 43760 | ... R3: =IF(Q3="","",Q3+1) -> 43765
B4: A | C4: 2170 | D4: 1 | E4: D | F4: D | G4: D | H4: D | I4: D | J4: R | K4: RH | L4: D | M4: FC | N4: A10 | O4: A8 | P4: N2 | Q4: R | R4: RH
B5: B | C5: 3057 | D5: 2 | E5: D | F5: D | G5: D | H5: D | I5: D | J5: R | K5: RH | L5: D | M5: FC | N5: RLT | O5: A0 | P5: N0 | Q5: R | R5: RH
B6: C | C6: 4290 | D6: 3 | E6: D | F6: D | G6: D | H6: D | I6: D | J6: R | K6: RH | L6: D | M6: FC | N6: D | O6: A6 | P6: RLT | Q6: R | R6: RH
A7: A | B7: D | C7: 1946 | D7: 4 | E7: D | F7: D | G7: D | H7: D | I7: D | J7: R | K7: RH | L7: D | M7: D | N7: FC | O7: A5 | P7: N5 | Q7: R | R7: RH
B8: E | C8: 3423 | D8: 5 | E8: D | F8: D | G8: D | H8: D | I8: D | J8: R | K8: RH | L8: RLT | M8: D | N8: FC | O8: A1 | P8: N1 | Q8: R | R8: RH
B9: F | C9: 2409 | D9: 6 | E9: D | F9: D | G9: D | H9: D | I9: D | J9: R | K9: RH | L9: D | M9: FC | N9: D | O9: M9 | P9: RLT | Q9: R | R9: RH
B10: G | C10: 2336 | D10: 1 | E10: D | F10: D | G10: D | H10: D | I10: D | J10: R | K10: RH | L10: RLT | M10: FC | N10: D | O10: A3 | P10: N3 | Q10: R | R10: RH
B11: H | C11: 4499 | D11: 2 | E11: D | F11: D | G11: D | H11: D | I11: D | J11: R | K11: RH | L11: RLT | M11: D | N11: FC | O11: A4 | P11: N4 | Q11: R | R11: RH
B12: I | C12: 1673 | E12: A5 | F12: A5 | G12: R | H12: A10 | I12: A10 | J12: A10 | K12: RH | L12: A2 | M12: A2 | N12: FC | O12: A2 | P12: A8 | Q12: R | R12: RH
E13: L | F13: ma | G13: me | H13: J | I13: V | J13: S | K13: Di | L13: L | M13: ma | N13: me | O13: J | P13: V | Q13: S | R13: Di
E14: =IF(E$3="","",E$3) -> 43752 | F14: =IF(E$14="","",E$14+1) -> 43753 | G14: =IF(F$14="","",F$14+1) -> 43754 | H14: =IF(G$14="","",G$14+1) -> 43755 | I14: =IF(H$14="","",H$14+1) -> 43756 | J14: =IF(I$14="","",I$14+1) -> 43757 | K14: =IF(J$14="","",J$14+1) -> 43758 | L14: =IF(K$14="","",K$14+1) -> 43759 | M14: =IF(L$14="","",L$14+1) -> 43760 | ... R14: =IF(Q$14="","",Q$14+1) -> 43765
B15: J | C15: 2749 | D15: 1 | E15: M9 | F15: M6 | G15: A6 | H15: D | I15: RLT | J15: R | K15: RH | L15: D | M15: D | N15: D | O15: D | P15: D | Q15: R | R15: RH
B16: K | C16: 2108 | D16: 2 | E16: M1 | F16: M1 | G16: A1 | H16: N1 | I16: RLT | J16: R | K16: RH | L16: D | M16: D | N16: D | O16: D | P16: D | Q16: R | R16: RH
B17: L | C17: 2437 | D17: 3 | E17: M4 | F17: M4 | G17: A4 | H17: N4 | I17: RLT | J17: R | K17: RH | L17: D | M17: D | N17: D | O17: D | P17: D | Q17: R | R17: RH
A18: B | B18: M | C18: 1661 | D18: 4 | E18: M5 | F18: M5 | G18: A5 | H18: N5 | I18: RLT | J18: R | K18: RH | L18: D | M18: D | N18: D | O18: D | P18: D | Q18: R | R18: RH
B19: N | C19: 3356 | D19: 5 | E19: D | F19: D | G19: D | H19: D | I19: D | J19: R | K19: RH | L19: D | M19: D | N19: D | O19: D | P19: D | Q19: R | R19: RH
B20: O | C20: 2905 | D20: 6 | E20: M0 | F20: M0 | G20: A0 | H20: N0 | I20: RLT | J20: R | K20: RH | L20: D | M20: D | N20: D | O20: D | P20: D | Q20: R | R20: RH
B21: P | C21: 2511 | D21: 1 | E21: M10 | F21: M2 | G21: A2 | H21: N2 | I21: RLT | J21: R | K21: RH | L21: D | M21: D | N21: D | O21: D | P21: D | Q21: R | R21: RH
B22: Q | C22: 4858 | D22: 2 | E22: M3 | F22: M9 | G22: A3 | H22: N3 | I22: RLT | J22: R | K22: RH | L22: D | M22: D | N22: D | O22: D | P22: D | Q22: R | R22: RH
B23: R | C23: 1901 | E23: M7 | F23: M7 | G23: M7 | H23: M7 | I23: M3 | J23: R | K23: RH | L23: A5 | M23: A5 | N23: R | O23: A10 | P23: A10 | Q23: A10 | R23: RH

Sheet Feuil4
D4: =Feuil1!E3 -> 43752 | E4: =D4+1 -> 43753 | F4: =E4+1 -> 43754 | G4: =F4+1 -> 43755 | H4: =G4+1 -> 43756 | I4: =H4+1 -> 43757 | J4: =I4+1 -> 43758
B6: Nom | C6: Mat.
B7: A | C7: 2170 | D7: {=IFERROR(INDEX(Feuil1!$E$4:$R$23,MATCH(Feuil4!$C7,Feuil1!$C$4:$C$23,0),MATCH(Feuil4!D$4,Feuil1!$E$3:$R$3,0)),"")} -> D | E7: {=IFERROR(INDEX(Feuil1!$E$4:$R$23,MATCH(Feuil4!$C7,Feuil1!$C$4:$C$23,0),MATCH(Feuil4!E$4,Feuil1!$E$3:$R$3,0)),"")} -> D | F7: {=IFERROR(INDEX(Feuil1!$E$4:$R$23,MATCH(Feuil4!$C7,Feuil1!$C$4:$C$23,0),MATCH(Feuil4!F$4,Feuil1!$E$3:$R$3,0)),"")} -> D | G7: {=IFERROR(INDEX(Feuil1!$E$4:$R$23,MATCH(Feuil4!$C7,Feuil1!$C$4:$C$23,0),MATCH(Feuil4!G$4,Feuil1!$E$3:$R$3,0)),"")} -> D | H7: {=IFERROR(INDEX(Feuil1!$E$4:$R$23,MATCH(Feuil4!$C7,Feuil1!$C$4:$C$23,0),MATCH(Feuil4!H$4,Feuil1!$E$3:$R$3,0)),"")} -> D | I7: {=IFERROR(INDEX(Feuil1!$E$4:$R$23,MATCH(Feuil4!$C7,Feuil1!$C$4:$C$23,0),MATCH(Feuil4!I$4,Feuil1!$E$3:$R$3,0)),"")} -> R | J7: {=IFERROR(INDEX(Feuil1!$E$4:$R$23,MATCH(Feuil4!$C7,Feuil1!$C$4:$C$23,0),MATCH(Feuil4!J$4,Feuil1!$E$3:$R$3,0)),"")} -> RH
B8: B | C8: 3057 | D8: {=IFERROR(INDEX(Feuil1!$E$4:$R$23,MATCH(Feuil4!$C8,Feuil1!$C$4:$C$23,0),MATCH(Feuil4!D$4,Feuil1!$E$3:$R$3,0)),"")} -> D | E8: {=IFERROR(INDEX(Feuil1!$E$4:$R$23,MATCH(Feuil4!$C8,Feuil1!$C$4:$C$23,0),MATCH(Feuil4!E$4,Feuil1!$E$3:$R$3,0)),"")} -> D | F8: {=IFERROR(INDEX(Feuil1!$E$4:$R$23,MATCH(Feuil4!$C8,Feuil1!$C$4:$C$23,0),MATCH(Feuil4!F$4,Feuil1!$E$3:$R$3,0)),"")} -> D | G8: {=IFERROR(INDEX(Feuil1!$E$4:$R$23,MATCH(Feuil4!$C8,Feuil1!$C$4:$C$23,0),MATCH(Feuil4!G$4,Feuil1!$E$3:$R$3,0)),"")} -> D | H8: {=IFERROR(INDEX(Feuil1!$E$4:$R$23,MATCH(Feuil4!$C8,Feuil1!$C$4:$C$23,0),MATCH(Feuil4!H$4,Feuil1!$E$3:$R$3,0)),"")} -> D | I8: {=IFERROR(INDEX(Feuil1!$E$4:$R$23,MATCH(Feuil4!$C8,Feuil1!$C$4:$C$23,0),MATCH(Feuil4!I$4,Feuil1!$E$3:$R$3,0)),"")} -> R | J8: {=IFERROR(INDEX(Feuil1!$E$4:$R$23,MATCH(Feuil4!$C8,Feuil1!$C$4:$C$23,0),MATCH(Feuil4!J$4,Feuil1!$E$3:$R$3,0)),"")} -> RH
B9: C | C9: 4290 | D9: {=IFERROR(INDEX(Feuil1!$E$4:$R$23,MATCH(Feuil4!$C9,Feuil1!$C$4:$C$23,0),MATCH(Feuil4!D$4,Feuil1!$E$3:$R$3,0)),"")} -> D | E9: {=IFERROR(INDEX(Feuil1!$E$4:$R$23,MATCH(Feuil4!$C9,Feuil1!$C$4:$C$23,0),MATCH(Feuil4!E$4,Feuil1!$E$3:$R$3,0)),"")} -> D | F9: {=IFERROR(INDEX(Feuil1!$E$4:$R$23,MATCH(Feuil4!$C9,Feuil1!$C$4:$C$23,0),MATCH(Feuil4!F$4,Feuil1!$E$3:$R$3,0)),"")} -> D | G9: {=IFERROR(INDEX(Feuil1!$E$4:$R$23,MATCH(Feuil4!$C9,Feuil1!$C$4:$C$23,0),MATCH(Feuil4!G$4,Feuil1!$E$3:$R$3,0)),"")} -> D | H9: {=IFERROR(INDEX(Feuil1!$E$4:$R$23,MATCH(Feuil4!$C9,Feuil1!$C$4:$C$23,0),MATCH(Feuil4!H$4,Feuil1!$E$3:$R$3,0)),"")} -> D | I9: {=IFERROR(INDEX(Feuil1!$E$4:$R$23,MATCH(Feuil4!$C9,Feuil1!$C$4:$C$23,0),MATCH(Feuil4!I$4,Feuil1!$E$3:$R$3,0)),"")} -> R | J9: {=IFERROR(INDEX(Feuil1!$E$4:$R$23,MATCH(Feuil4!$C9,Feuil1!$C$4:$C$23,0),MATCH(Feuil4!J$4,Feuil1!$E$3:$R$3,0)),"")} -> RH
B10: D | C10: 1946 | D10: {=IFERROR(INDEX(Feuil1!$E$4:$R$23,MATCH(Feuil4!$C10,Feuil1!$C$4:$C$23,0),MATCH(Feuil4!D$4,Feuil1!$E$3:$R$3,0)),"")} -> D | E10: {=IFERROR(INDEX(Feuil1!$E$4:$R$23,MATCH(Feuil4!$C10,Feuil1!$C$4:$C$23,0),MATCH(Feuil4!E$4,Feuil1!$E$3:$R$3,0)),"")} -> D | F10: {=IFERROR(INDEX(Feuil1!$E$4:$R$23,MATCH(Feuil4!$C10,Feuil1!$C$4:$C$23,0),MATCH(Feuil4!F$4,Feuil1!$E$3:$R$3,0)),"")} -> D | G10: {=IFERROR(INDEX(Feuil1!$E$4:$R$23,MATCH(Feuil4!$C10,Feuil1!$C$4:$C$23,0),MATCH(Feuil4!G$4,Feuil1!$E$3:$R$3,0)),"")} -> D | H10: {=IFERROR(INDEX(Feuil1!$E$4:$R$23,MATCH(Feuil4!$C10,Feuil1!$C$4:$C$23,0),MATCH(Feuil4!H$4,Feuil1!$E$3:$R$3,0)),"")} -> D | I10: {=IFERROR(INDEX(Feuil1!$E$4:$R$23,MATCH(Feuil4!$C10,Feuil1!$C$4:$C$23,0),MATCH(Feuil4!I$4,Feuil1!$E$3:$R$3,0)),"")} -> R | J10: {=IFERROR(INDEX(Feuil1!$E$4:$R$23,MATCH(Feuil4!$C10,Feuil1!$C$4:$C$23,0),MATCH(Feuil4!J$4,Feuil1!$E$3:$R$3,0)),"")} -> RH
B11: E | C11: 3423 | D11: {=IFERROR(INDEX(Feuil1!$E$4:$R$23,MATCH(Feuil4!$C11,Feuil1!$C$4:$C$23,0),MATCH(Feuil4!D$4,Feuil1!$E$3:$R$3,0)),"")} -> D | E11: {=IFERROR(INDEX(Feuil1!$E$4:$R$23,MATCH(Feuil4!$C11,Feuil1!$C$4:$C$23,0),MATCH(Feuil4!E$4,Feuil1!$E$3:$R$3,0)),"")} -> D | F11: {=IFERROR(INDEX(Feuil1!$E$4:$R$23,MATCH(Feuil4!$C11,Feuil1!$C$4:$C$23,0),MATCH(Feuil4!F$4,Feuil1!$E$3:$R$3,0)),"")} -> D | G11: {=IFERROR(INDEX(Feuil1!$E$4:$R$23,MATCH(Feuil4!$C11,Feuil1!$C$4:$C$23,0),MATCH(Feuil4!G$4,Feuil1!$E$3:$R$3,0)),"")} -> D | H11: {=IFERROR(INDEX(Feuil1!$E$4:$R$23,MATCH(Feuil4!$C11,Feuil1!$C$4:$C$23,0),MATCH(Feuil4!H$4,Feuil1!$E$3:$R$3,0)),"")} -> D | I11: {=IFERROR(INDEX(Feuil1!$E$4:$R$23,MATCH(Feuil4!$C11,Feuil1!$C$4:$C$23,0),MATCH(Feuil4!I$4,Feuil1!$E$3:$R$3,0)),"")} -> R | J11: {=IFERROR(INDEX(Feuil1!$E$4:$R$23,MATCH(Feuil4!$C11,Feuil1!$C$4:$C$23,0),MATCH(Feuil4!J$4,Feuil1!$E$3:$R$3,0)),"")} -> RH
B12: F | C12: 2409 | D12: {=IFERROR(INDEX(Feuil1!$E$4:$R$23,MATCH(Feuil4!$C12,Feuil1!$C$4:$C$23,0),MATCH(Feuil4!D$4,Feuil1!$E$3:$R$3,0)),"")} -> D | E12: {=IFERROR(INDEX(Feuil1!$E$4:$R$23,MATCH(Feuil4!$C12,Feuil1!$C$4:$C$23,0),MATCH(Feuil4!E$4,Feuil1!$E$3:$R$3,0)),"")} -> D | F12: {=IFERROR(INDEX(Feuil1!$E$4:$R$23,MATCH(Feuil4!$C12,Feuil1!$C$4:$C$23,0),MATCH(Feuil4!F$4,Feuil1!$E$3:$R$3,0)),"")} -> D | G12: {=IFERROR(INDEX(Feuil1!$E$4:$R$23,MATCH(Feuil4!$C12,Feuil1!$C$4:$C$23,0),MATCH(Feuil4!G$4,Feuil1!$E$3:$R$3,0)),"")} -> D | H12: {=IFERROR(INDEX(Feuil1!$E$4:$R$23,MATCH(Feuil4!$C12,Feuil1!$C$4:$C$23,0),MATCH(Feuil4!H$4,Feuil1!$E$3:$R$3,0)),"")} -> D | I12: {=IFERROR(INDEX(Feuil1!$E$4:$R$23,MATCH(Feuil4!$C12,Feuil1!$C$4:$C$23,0),MATCH(Feuil4!I$4,Feuil1!$E$3:$R$3,0)),"")} -> R | J12: {=IFERROR(INDEX(Feuil1!$E$4:$R$23,MATCH(Feuil4!$C12,Feuil1!$C$4:$C$23,0),MATCH(Feuil4!J$4,Feuil1!$E$3:$R$3,0)),"")} -> RH
B13: G | C13: 2336 | D13: {=IFERROR(INDEX(Feuil1!$E$4:$R$23,MATCH(Feuil4!$C13,Feuil1!$C$4:$C$23,0),MATCH(Feuil4!D$4,Feuil1!$E$3:$R$3,0)),"")} -> D | E13: {=IFERROR(INDEX(Feuil1!$E$4:$R$23,MATCH(Feuil4!$C13,Feuil1!$C$4:$C$23,0),MATCH(Feuil4!E$4,Feuil1!$E$3:$R$3,0)),"")} -> D | F13: {=IFERROR(INDEX(Feuil1!$E$4:$R$23,MATCH(Feuil4!$C13,Feuil1!$C$4:$C$23,0),MATCH(Feuil4!F$4,Feuil1!$E$3:$R$3,0)),"")} -> D | G13: {=IFERROR(INDEX(Feuil1!$E$4:$R$23,MATCH(Feuil4!$C13,Feuil1!$C$4:$C$23,0),MATCH(Feuil4!G$4,Feuil1!$E$3:$R$3,0)),"")} -> D | H13: {=IFERROR(INDEX(Feuil1!$E$4:$R$23,MATCH(Feuil4!$C13,Feuil1!$C$4:$C$23,0),MATCH(Feuil4!H$4,Feuil1!$E$3:$R$3,0)),"")} -> D | I13: {=IFERROR(INDEX(Feuil1!$E$4:$R$23,MATCH(Feuil4!$C13,Feuil1!$C$4:$C$23,0),MATCH(Feuil4!I$4,Feuil1!$E$3:$R$3,0)),"")} -> R | J13: {=IFERROR(INDEX(Feuil1!$E$4:$R$23,MATCH(Feuil4!$C13,Feuil1!$C$4:$C$23,0),MATCH(Feuil4!J$4,Feuil1!$E$3:$R$3,0)),"")} -> RH
B14: H | C14: 4499 | D14: {=IFERROR(INDEX(Feuil1!$E$4:$R$23,MATCH(Feuil4!$C14,Feuil1!$C$4:$C$23,0),MATCH(Feuil4!D$4,Feuil1!$E$3:$R$3,0)),"")} -> D | E14: {=IFERROR(INDEX(Feuil1!$E$4:$R$23,MATCH(Feuil4!$C14,Feuil1!$C$4:$C$23,0),MATCH(Feuil4!E$4,Feuil1!$E$3:$R$3,0)),"")} -> D | F14: {=IFERROR(INDEX(Feuil1!$E$4:$R$23,MATCH(Feuil4!$C14,Feuil1!$C$4:$C$23,0),MATCH(Feuil4!F$4,Feuil1!$E$3:$R$3,0)),"")} -> D | G14: {=IFERROR(INDEX(Feuil1!$E$4:$R$23,MATCH(Feuil4!$C14,Feuil1!$C$4:$C$23,0),MATCH(Feuil4!G$4,Feuil1!$E$3:$R$3,0)),"")} -> D | H14: {=IFERROR(INDEX(Feuil1!$E$4:$R$23,MATCH(Feuil4!$C14,Feuil1!$C$4:$C$23,0),MATCH(Feuil4!H$4,Feuil1!$E$3:$R$3,0)),"")} -> D | I14: {=IFERROR(INDEX(Feuil1!$E$4:$R$23,MATCH(Feuil4!$C14,Feuil1!$C$4:$C$23,0),MATCH(Feuil4!I$4,Feuil1!$E$3:$R$3,0)),"")} -> R | J14: {=IFERROR(INDEX(Feuil1!$E$4:$R$23,MATCH(Feuil4!$C14,Feuil1!$C$4:$C$23,0),MATCH(Feuil4!J$4,Feuil1!$E$3:$R$3,0)),"")} -> RH
B15: I | C15: 1673 | D15: {=IFERROR(INDEX(Feuil1!$E$4:$R$23,MATCH(Feuil4!$C15,Feuil1!$C$4:$C$23,0),MATCH(Feuil4!D$4,Feuil1!$E$3:$R$3,0)),"")} -> A5 | E15: {=IFERROR(INDEX(Feuil1!$E$4:$R$23,MATCH(Feuil4!$C15,Feuil1!$C$4:$C$23,0),MATCH(Feuil4!E$4,Feuil1!$E$3:$R$3,0)),"")} -> A5 | F15: {=IFERROR(INDEX(Feuil1!$E$4:$R$23,MATCH(Feuil4!$C15,Feuil1!$C$4:$C$23,0),MATCH(Feuil4!F$4,Feuil1!$E$3:$R$3,0)),"")} -> R | G15: {=IFERROR(INDEX(Feuil1!$E$4:$R$23,MATCH(Feuil4!$C15,Feuil1!$C$4:$C$23,0),MATCH(Feuil4!G$4,Feuil1!$E$3:$R$3,0)),"")} -> A10 | H15: {=IFERROR(INDEX(Feuil1!$E$4:$R$23,MATCH(Feuil4!$C15,Feuil1!$C$4:$C$23,0),MATCH(Feuil4!H$4,Feuil1!$E$3:$R$3,0)),"")} -> A10 | I15: {=IFERROR(INDEX(Feuil1!$E$4:$R$23,MATCH(Feuil4!$C15,Feuil1!$C$4:$C$23,0),MATCH(Feuil4!I$4,Feuil1!$E$3:$R$3,0)),"")} -> A10 | J15: {=IFERROR(INDEX(Feuil1!$E$4:$R$23,MATCH(Feuil4!$C15,Feuil1!$C$4:$C$23,0),MATCH(Feuil4!J$4,Feuil1!$E$3:$R$3,0)),"")} -> RH
D16: {=IFERROR(INDEX(Feuil1!$E$4:$R$23,MATCH(Feuil4!$C16,Feuil1!$C$4:$C$23,0),MATCH(Feuil4!D$4,Feuil1!$E$3:$R$3,0)),"")} | E16: {=IFERROR(INDEX(Feuil1!$E$4:$R$23,MATCH(Feuil4!$C16,Feuil1!$C$4:$C$23,0),MATCH(Feuil4!E$4,Feuil1!$E$3:$R$3,0)),"")} | F16: {=IFERROR(INDEX(Feuil1!$E$4:$R$23,MATCH(Feuil4!$C16,Feuil1!$C$4:$C$23,0),MATCH(Feuil4!F$4,Feuil1!$E$3:$R$3,0)),"")} | G16: {=IFERROR(INDEX(Feuil1!$E$4:$R$23,MATCH(Feuil4!$C16,Feuil1!$C$4:$C$23,0),MATCH(Feuil4!G$4,Feuil1!$E$3:$R$3,0)),"")} | H16: {=IFERROR(INDEX(Feuil1!$E$4:$R$23,MATCH(Feuil4!$C16,Feuil1!$C$4:$C$23,0),MATCH(Feuil4!H$4,Feuil1!$E$3:$R$3,0)),"")} | I16: {=IFERROR(INDEX(Feuil1!$E$4:$R$23,MATCH(Feuil4!$C16,Feuil1!$C$4:$C$23,0),MATCH(Feuil4!I$4,Feuil1!$E$3:$R$3,0)),"")} | J16: {=IFERROR(INDEX(Feuil1!$E$4:$R$23,MATCH(Feuil4!$C16,Feuil1!$C$4:$C$23,0),MATCH(Feuil4!J$4,Feuil1!$E$3:$R$3,0)),"")}
D17: {=IFERROR(INDEX(Feuil1!$E$4:$R$23,MATCH(Feuil4!$C17,Feuil1!$C$4:$C$23,0),MATCH(Feuil4!D$4,Feuil1!$E$3:$R$3,0)),"")} | E17: {=IFERROR(INDEX(Feuil1!$E$4:$R$23,MATCH(Feuil4!$C17,Feuil1!$C$4:$C$23,0),MATCH(Feuil4!E$4,Feuil1!$E$3:$R$3,0)),"")} | F17: {=IFERROR(INDEX(Feuil1!$E$4:$R$23,MATCH(Feuil4!$C17,Feuil1!$C$4:$C$23,0),MATCH(Feuil4!F$4,Feuil1!$E$3:$R$3,0)),"")} | G17: {=IFERROR(INDEX(Feuil1!$E$4:$R$23,MATCH(Feuil4!$C17,Feuil1!$C$4:$C$23,0),MATCH(Feuil4!G$4,Feuil1!$E$3:$R$3,0)),"")} | H17: {=IFERROR(INDEX(Feuil1!$E$4:$R$23,MATCH(Feuil4!$C17,Feuil1!$C$4:$C$23,0),MATCH(Feuil4!H$4,Feuil1!$E$3:$R$3,0)),"")} | I17: {=IFERROR(INDEX(Feuil1!$E$4:$R$23,MATCH(Feuil4!$C17,Feuil1!$C$4:$C$23,0),MATCH(Feuil4!I$4,Feuil1!$E$3:$R$3,0)),"")} | J17: {=IFERROR(INDEX(Feuil1!$E$4:$R$23,MATCH(Feuil4!$C17,Feuil1!$C$4:$C$23,0),MATCH(Feuil4!J$4,Feuil1!$E$3:$R$3,0)),"")}
B18: J | C18: 2749 | D18: {=IFERROR(INDEX(Feuil1!$E$4:$R$23,MATCH(Feuil4!$C18,Feuil1!$C$4:$C$23,0),MATCH(Feuil4!D$4,Feuil1!$E$3:$R$3,0)),"")} -> M9 | E18: {=IFERROR(INDEX(Feuil1!$E$4:$R$23,MATCH(Feuil4!$C18,Feuil1!$C$4:$C$23,0),MATCH(Feuil4!E$4,Feuil1!$E$3:$R$3,0)),"")} -> M6 | F18: {=IFERROR(INDEX(Feuil1!$E$4:$R$23,MATCH(Feuil4!$C18,Feuil1!$C$4:$C$23,0),MATCH(Feuil4!F$4,Feuil1!$E$3:$R$3,0)),"")} -> A6 | G18: {=IFERROR(INDEX(Feuil1!$E$4:$R$23,MATCH(Feuil4!$C18,Feuil1!$C$4:$C$23,0),MATCH(Feuil4!G$4,Feuil1!$E$3:$R$3,0)),"")} -> D | H18: {=IFERROR(INDEX(Feuil1!$E$4:$R$23,MATCH(Feuil4!$C18,Feuil1!$C$4:$C$23,0),MATCH(Feuil4!H$4,Feuil1!$E$3:$R$3,0)),"")} -> RLT | I18: {=IFERROR(INDEX(Feuil1!$E$4:$R$23,MATCH(Feuil4!$C18,Feuil1!$C$4:$C$23,0),MATCH(Feuil4!I$4,Feuil1!$E$3:$R$3,0)),"")} -> R | J18: {=IFERROR(INDEX(Feuil1!$E$4:$R$23,MATCH(Feuil4!$C18,Feuil1!$C$4:$C$23,0),MATCH(Feuil4!J$4,Feuil1!$E$3:$R$3,0)),"")} -> RH
B19: K | C19: 2108 | D19: {=IFERROR(INDEX(Feuil1!$E$4:$R$23,MATCH(Feuil4!$C19,Feuil1!$C$4:$C$23,0),MATCH(Feuil4!D$4,Feuil1!$E$3:$R$3,0)),"")} -> M1 | E19: {=IFERROR(INDEX(Feuil1!$E$4:$R$23,MATCH(Feuil4!$C19,Feuil1!$C$4:$C$23,0),MATCH(Feuil4!E$4,Feuil1!$E$3:$R$3,0)),"")} -> M1 | F19: {=IFERROR(INDEX(Feuil1!$E$4:$R$23,MATCH(Feuil4!$C19,Feuil1!$C$4:$C$23,0),MATCH(Feuil4!F$4,Feuil1!$E$3:$R$3,0)),"")} -> A1 | G19: {=IFERROR(INDEX(Feuil1!$E$4:$R$23,MATCH(Feuil4!$C19,Feuil1!$C$4:$C$23,0),MATCH(Feuil4!G$4,Feuil1!$E$3:$R$3,0)),"")} -> N1 | H19: {=IFERROR(INDEX(Feuil1!$E$4:$R$23,MATCH(Feuil4!$C19,Feuil1!$C$4:$C$23,0),MATCH(Feuil4!H$4,Feuil1!$E$3:$R$3,0)),"")} -> RLT | I19: {=IFERROR(INDEX(Feuil1!$E$4:$R$23,MATCH(Feuil4!$C19,Feuil1!$C$4:$C$23,0),MATCH(Feuil4!I$4,Feuil1!$E$3:$R$3,0)),"")} -> R | J19: {=IFERROR(INDEX(Feuil1!$E$4:$R$23,MATCH(Feuil4!$C19,Feuil1!$C$4:$C$23,0),MATCH(Feuil4!J$4,Feuil1!$E$3:$R$3,0)),"")} -> RH
B20: L | C20: 2437 | D20: {=IFERROR(INDEX(Feuil1!$E$4:$R$23,MATCH(Feuil4!$C20,Feuil1!$C$4:$C$23,0),MATCH(Feuil4!D$4,Feuil1!$E$3:$R$3,0)),"")} -> M4 | E20: {=IFERROR(INDEX(Feuil1!$E$4:$R$23,MATCH(Feuil4!$C20,Feuil1!$C$4:$C$23,0),MATCH(Feuil4!E$4,Feuil1!$E$3:$R$3,0)),"")} -> M4 | F20: {=IFERROR(INDEX(Feuil1!$E$4:$R$23,MATCH(Feuil4!$C20,Feuil1!$C$4:$C$23,0),MATCH(Feuil4!F$4,Feuil1!$E$3:$R$3,0)),"")} -> A4 | G20: {=IFERROR(INDEX(Feuil1!$E$4:$R$23,MATCH(Feuil4!$C20,Feuil1!$C$4:$C$23,0),MATCH(Feuil4!G$4,Feuil1!$E$3:$R$3,0)),"")} -> N4 | H20: {=IFERROR(INDEX(Feuil1!$E$4:$R$23,MATCH(Feuil4!$C20,Feuil1!$C$4:$C$23,0),MATCH(Feuil4!H$4,Feuil1!$E$3:$R$3,0)),"")} -> RLT | I20: {=IFERROR(INDEX(Feuil1!$E$4:$R$23,MATCH(Feuil4!$C20,Feuil1!$C$4:$C$23,0),MATCH(Feuil4!I$4,Feuil1!$E$3:$R$3,0)),"")} -> R | J20: {=IFERROR(INDEX(Feuil1!$E$4:$R$23,MATCH(Feuil4!$C20,Feuil1!$C$4:$C$23,0),MATCH(Feuil4!J$4,Feuil1!$E$3:$R$3,0)),"")} -> RH
B21: M | C21: 1661 | D21: {=IFERROR(INDEX(Feuil1!$E$4:$R$23,MATCH(Feuil4!$C21,Feuil1!$C$4:$C$23,0),MATCH(Feuil4!D$4,Feuil1!$E$3:$R$3,0)),"")} -> M5 | E21: {=IFERROR(INDEX(Feuil1!$E$4:$R$23,MATCH(Feuil4!$C21,Feuil1!$C$4:$C$23,0),MATCH(Feuil4!E$4,Feuil1!$E$3:$R$3,0)),"")} -> M5 | F21: {=IFERROR(INDEX(Feuil1!$E$4:$R$23,MATCH(Feuil4!$C21,Feuil1!$C$4:$C$23,0),MATCH(Feuil4!F$4,Feuil1!$E$3:$R$3,0)),"")} -> A5 | G21: {=IFERROR(INDEX(Feuil1!$E$4:$R$23,MATCH(Feuil4!$C21,Feuil1!$C$4:$C$23,0),MATCH(Feuil4!G$4,Feuil1!$E$3:$R$3,0)),"")} -> N5 | H21: {=IFERROR(INDEX(Feuil1!$E$4:$R$23,MATCH(Feuil4!$C21,Feuil1!$C$4:$C$23,0),MATCH(Feuil4!H$4,Feuil1!$E$3:$R$3,0)),"")} -> RLT | I21: {=IFERROR(INDEX(Feuil1!$E$4:$R$23,MATCH(Feuil4!$C21,Feuil1!$C$4:$C$23,0),MATCH(Feuil4!I$4,Feuil1!$E$3:$R$3,0)),"")} -> R | J21: {=IFERROR(INDEX(Feuil1!$E$4:$R$23,MATCH(Feuil4!$C21,Feuil1!$C$4:$C$23,0),MATCH(Feuil4!J$4,Feuil1!$E$3:$R$3,0)),"")} -> RH
B22: N | C22: 3356 | D22: {=IFERROR(INDEX(Feuil1!$E$4:$R$23,MATCH(Feuil4!$C22,Feuil1!$C$4:$C$23,0),MATCH(Feuil4!D$4,Feuil1!$E$3:$R$3,0)),"")} -> D | E22: {=IFERROR(INDEX(Feuil1!$E$4:$R$23,MATCH(Feuil4!$C22,Feuil1!$C$4:$C$23,0),MATCH(Feuil4!E$4,Feuil1!$E$3:$R$3,0)),"")} -> D | F22: {=IFERROR(INDEX(Feuil1!$E$4:$R$23,MATCH(Feuil4!$C22,Feuil1!$C$4:$C$23,0),MATCH(Feuil4!F$4,Feuil1!$E$3:$R$3,0)),"")} -> D | G22: {=IFERROR(INDEX(Feuil1!$E$4:$R$23,MATCH(Feuil4!$C22,Feuil1!$C$4:$C$23,0),MATCH(Feuil4!G$4,Feuil1!$E$3:$R$3,0)),"")} -> D | H22: {=IFERROR(INDEX(Feuil1!$E$4:$R$23,MATCH(Feuil4!$C22,Feuil1!$C$4:$C$23,0),MATCH(Feuil4!H$4,Feuil1!$E$3:$R$3,0)),"")} -> D | I22: {=IFERROR(INDEX(Feuil1!$E$4:$R$23,MATCH(Feuil4!$C22,Feuil1!$C$4:$C$23,0),MATCH(Feuil4!I$4,Feuil1!$E$3:$R$3,0)),"")} -> R | J22: {=IFERROR(INDEX(Feuil1!$E$4:$R$23,MATCH(Feuil4!$C22,Feuil1!$C$4:$C$23,0),MATCH(Feuil4!J$4,Feuil1!$E$3:$R$3,0)),"")} -> RH
B23: O | C23: 2905 | D23: {=IFERROR(INDEX(Feuil1!$E$4:$R$23,MATCH(Feuil4!$C23,Feuil1!$C$4:$C$23,0),MATCH(Feuil4!D$4,Feuil1!$E$3:$R$3,0)),"")} -> M0 | E23: {=IFERROR(INDEX(Feuil1!$E$4:$R$23,MATCH(Feuil4!$C23,Feuil1!$C$4:$C$23,0),MATCH(Feuil4!E$4,Feuil1!$E$3:$R$3,0)),"")} -> M0 | F23: {=IFERROR(INDEX(Feuil1!$E$4:$R$23,MATCH(Feuil4!$C23,Feuil1!$C$4:$C$23,0),MATCH(Feuil4!F$4,Feuil1!$E$3:$R$3,0)),"")} -> A0 | G23: {=IFERROR(INDEX(Feuil1!$E$4:$R$23,MATCH(Feuil4!$C23,Feuil1!$C$4:$C$23,0),MATCH(Feuil4!G$4,Feuil1!$E$3:$R$3,0)),"")} -> N0 | H23: {=IFERROR(INDEX(Feuil1!$E$4:$R$23,MATCH(Feuil4!$C23,Feuil1!$C$4:$C$23,0),MATCH(Feuil4!H$4,Feuil1!$E$3:$R$3,0)),"")} -> RLT | I23: {=IFERROR(INDEX(Feuil1!$E$4:$R$23,MATCH(Feuil4!$C23,Feuil1!$C$4:$C$23,0),MATCH(Feuil4!I$4,Feuil1!$E$3:$R$3,0)),"")} -> R | J23: {=IFERROR(INDEX(Feuil1!$E$4:$R$23,MATCH(Feuil4!$C23,Feuil1!$C$4:$C$23,0),MATCH(Feuil4!J$4,Feuil1!$E$3:$R$3,0)),"")} -> RH
B24: P | C24: 2511 | D24: {=IFERROR(INDEX(Feuil1!$E$4:$R$23,MATCH(Feuil4!$C24,Feuil1!$C$4:$C$23,0),MATCH(Feuil4!D$4,Feuil1!$E$3:$R$3,0)),"")} -> M10 | E24: {=IFERROR(INDEX(Feuil1!$E$4:$R$23,MATCH(Feuil4!$C24,Feuil1!$C$4:$C$23,0),MATCH(Feuil4!E$4,Feuil1!$E$3:$R$3,0)),"")} -> M2 | F24: {=IFERROR(INDEX(Feuil1!$E$4:$R$23,MATCH(Feuil4!$C24,Feuil1!$C$4:$C$23,0),MATCH(Feuil4!F$4,Feuil1!$E$3:$R$3,0)),"")} -> A2 | G24: {=IFERROR(INDEX(Feuil1!$E$4:$R$23,MATCH(Feuil4!$C24,Feuil1!$C$4:$C$23,0),MATCH(Feuil4!G$4,Feuil1!$E$3:$R$3,0)),"")} -> N2 | H24: {=IFERROR(INDEX(Feuil1!$E$4:$R$23,MATCH(Feuil4!$C24,Feuil1!$C$4:$C$23,0),MATCH(Feuil4!H$4,Feuil1!$E$3:$R$3,0)),"")} -> RLT | I24: {=IFERROR(INDEX(Feuil1!$E$4:$R$23,MATCH(Feuil4!$C24,Feuil1!$C$4:$C$23,0),MATCH(Feuil4!I$4,Feuil1!$E$3:$R$3,0)),"")} -> R | J24: {=IFERROR(INDEX(Feuil1!$E$4:$R$23,MATCH(Feuil4!$C24,Feuil1!$C$4:$C$23,0),MATCH(Feuil4!J$4,Feuil1!$E$3:$R$3,0)),"")} -> RH
B25: Q | C25: 4858 | D25: {=IFERROR(INDEX(Feuil1!$E$4:$R$23,MATCH(Feuil4!$C25,Feuil1!$C$4:$C$23,0),MATCH(Feuil4!D$4,Feuil1!$E$3:$R$3,0)),"")} -> M3 | E25: {=IFERROR(INDEX(Feuil1!$E$4:$R$23,MATCH(Feuil4!$C25,Feuil1!$C$4:$C$23,0),MATCH(Feuil4!E$4,Feuil1!$E$3:$R$3,0)),"")} -> M9 | F25: {=IFERROR(INDEX(Feuil1!$E$4:$R$23,MATCH(Feuil4!$C25,Feuil1!$C$4:$C$23,0),MATCH(Feuil4!F$4,Feuil1!$E$3:$R$3,0)),"")} -> A3 | G25: {=IFERROR(INDEX(Feuil1!$E$4:$R$23,MATCH(Feuil4!$C25,Feuil1!$C$4:$C$23,0),MATCH(Feuil4!G$4,Feuil1!$E$3:$R$3,0)),"")} -> N3 | H25: {=IFERROR(INDEX(Feuil1!$E$4:$R$23,MATCH(Feuil4!$C25,Feuil1!$C$4:$C$23,0),MATCH(Feuil4!H$4,Feuil1!$E$3:$R$3,0)),"")} -> RLT | I25: {=IFERROR(INDEX(Feuil1!$E$4:$R$23,MATCH(Feuil4!$C25,Feuil1!$C$4:$C$23,0),MATCH(Feuil4!I$4,Feuil1!$E$3:$R$3,0)),"")} -> R | J25: {=IFERROR(INDEX(Feuil1!$E$4:$R$23,MATCH(Feuil4!$C25,Feuil1!$C$4:$C$23,0),MATCH(Feuil4!J$4,Feuil1!$E$3:$R$3,0)),"")} -> RH
B26: R | C26: 1901 | D26: {=IFERROR(INDEX(Feuil1!$E$4:$R$23,MATCH(Feuil4!$C26,Feuil1!$C$4:$C$23,0),MATCH(Feuil4!D$4,Feuil1!$E$3:$R$3,0)),"")} -> M7 | E26: {=IFERROR(INDEX(Feuil1!$E$4:$R$23,MATCH(Feuil4!$C26,Feuil1!$C$4:$C$23,0),MATCH(Feuil4!E$4,Feuil1!$E$3:$R$3,0)),"")} -> M7 | F26: {=IFERROR(INDEX(Feuil1!$E$4:$R$23,MATCH(Feuil4!$C26,Feuil1!$C$4:$C$23,0),MATCH(Feuil4!F$4,Feuil1!$E$3:$R$3,0)),"")} -> M7 | G26: {=IFERROR(INDEX(Feuil1!$E$4:$R$23,MATCH(Feuil4!$C26,Feuil1!$C$4:$C$23,0),MATCH(Feuil4!G$4,Feuil1!$E$3:$R$3,0)),"")} -> M7 | H26: {=IFERROR(INDEX(Feuil1!$E$4:$R$23,MATCH(Feuil4!$C26,Feuil1!$C$4:$C$23,0),MATCH(Feuil4!H$4,Feuil1!$E$3:$R$3,0)),"")} -> M3 | I26: {=IFERROR(INDEX(Feuil1!$E$4:$R$23,MATCH(Feuil4!$C26,Feuil1!$C$4:$C$23,0),MATCH(Feuil4!I$4,Feuil1!$E$3:$R$3,0)),"")} -> R | J26: {=IFERROR(INDEX(Feuil1!$E$4:$R$23,MATCH(Feuil4!$C26,Feuil1!$C$4:$C$23,0),MATCH(Feuil4!J$4,Feuil1!$E$3:$R$3,0)),"")} -> RH
