Workbook
Name endline: Feuil1!$A$41

Sheet Feuil1
I1: =ROW(INDEX(G7:G40,MATCH(TRUE,INDEX(B7:B40=G3,0)*INDEX((G7:G40<>0),0),0))) -> #N/A | J1: =MATCH(9^9,G7:G40) -> 34 | K1: =MATCH("zzzz",FIXED(G7:G40),1) -> #VALUE!
C3: Commande | D3: Com5 | F3: Trigramme | G3: ADR | I3: Début | J3: {=SMALL(IF((B7:B40=$G$3)*(OFFSET($A$7:$A$40,0,MATCH($D$3,$6:$6,0)-1,COUNTA($A:$A)-1,1))<>0,ROW(A$7:$A$40)),1)} -> 25 | L3: Fin | M3: {=LARGE(IF((B7:B40=$G$3)*(OFFSET($A$7:$A$40,0,MATCH($D$3,$6:$6,0)-1,COUNTA($A:$A)-1,1))<>0,ROW(A$7:$A$40)),1)} -> 39
A6: id | B6: trig | C6: num | D6: ras | E6: bin | F6: ras2 | G6: Com1 | H6: Com2 | I6: Com3 | J6: Com4 | K6: Com5 | L6: Com6 | M6: Com7 | N6: Com8 | O6: Com9
A7: =ROW() -> 7 | B7: ADR | C7: =SUMPRODUCT((G7:O7<>0)*POWER(2,8-(COLUMN(G7:O7)-7))) -> 431 | E7: =DEC2BIN(C7,9) -> 110101111 | G7: 10 | H7: -6 | I7: 0 | J7: -1 | K7: 0 | L7: -7 | M7: -10 | N7: -7 | O7: -9
A8: =ROW() -> 8 | B8: MVE | C8: =SUMPRODUCT((G8:O8<>0)*POWER(2,8-(COLUMN(G8:O8)-7))) -> 411 | E8: =DEC2BIN(C8,9) -> 110011011 | G8: 8 | H8: 7 | I8: 0 | J8: 0 | K8: 2 | L8: 10 | M8: 0 | N8: -10 | O8: -6
A9: =ROW() -> 9 | B9: DIC | C9: =SUMPRODUCT((G9:O9<>0)*POWER(2,8-(COLUMN(G9:O9)-7))) -> 257 | E9: =DEC2BIN(C9,9) -> 100000001 | G9: 3 | H9: 0 | I9: 0 | J9: 0 | K9: 0 | L9: 0 | M9: 0 | N9: 0 | O9: -6
A10: =ROW() -> 10 | B10: MVE | C10: =SUMPRODUCT((G10:O10<>0)*POWER(2,8-(COLUMN(G10:O10)-7))) -> 214 | E10: =DEC2BIN(C10,9) -> 011010110 | G10: 0 | H10: 2 | I10: -9 | J10: 0 | K10: -4 | L10: 0 | M10: 10 | N10: -7 | O10: 0
A11: =ROW() -> 11 | B11: YCE | C11: =SUMPRODUCT((G11:O11<>0)*POWER(2,8-(COLUMN(G11:O11)-7))) -> 13 | E11: =DEC2BIN(C11,9) -> 000001101 | G11: 0 | H11: 0 | I11: 0 | J11: 0 | K11: 0 | L11: -8 | M11: 4 | N11: 0 | O11: -3
A12: =ROW() -> 12 | B12: DLE | C12: =SUMPRODUCT((G12:O12<>0)*POWER(2,8-(COLUMN(G12:O12)-7))) -> 162 | E12: =DEC2BIN(C12,9) -> 010100010 | G12: 0 | H12: 6 | I12: 0 | J12: -4 | K12: 0 | L12: 0 | M12: 0 | N12: 8 | O12: 0
A13: =ROW() -> 13 | B13: DLT | C13: =SUMPRODUCT((G13:O13<>0)*POWER(2,8-(COLUMN(G13:O13)-7))) -> 342 | E13: =DEC2BIN(C13,9) -> 101010110 | G13: -9 | H13: 0 | I13: -10 | J13: 0 | K13: 8 | L13: 0 | M13: -7 | N13: -8 | O13: 0
A14: =ROW() -> 14 | B14: MVE | C14: =SUMPRODUCT((G14:O14<>0)*POWER(2,8-(COLUMN(G14:O14)-7))) -> 49 | E14: =DEC2BIN(C14,9) -> 000110001 | G14: 0 | H14: 0 | I14: 0 | J14: 8 | K14: 8 | L14: 0 | M14: 0 | N14: 0 | O14: -3
A15: =ROW() -> 15 | B15: ADR | C15: =SUMPRODUCT((G15:O15<>0)*POWER(2,8-(COLUMN(G15:O15)-7))) -> 483 | E15: =DEC2BIN(C15,9) -> 111100011 | G15: 5 | H15: -4 | I15: -1 | J15: 6 | K15: 0 | L15: 0 | M15: 0 | N15: 10 | O15: 10
A16: =ROW() -> 16 | B16: YCE | C16: =SUMPRODUCT((G16:O16<>0)*POWER(2,8-(COLUMN(G16:O16)-7))) -> 439 | E16: =DEC2BIN(C16,9) -> 110110111 | G16: -4 | H16: -8 | I16: 0 | J16: -2 | K16: -1 | L16: 0 | M16: -5 | N16: 9 | O16: -10
A17: =ROW() -> 17 | B17: MVE | C17: =SUMPRODUCT((G17:O17<>0)*POWER(2,8-(COLUMN(G17:O17)-7))) -> 358 | E17: =DEC2BIN(C17,9) -> 101100110 | G17: 1 | H17: 0 | I17: 5 | J17: 9 | K17: 0 | L17: 0 | M17: -6 | N17: 9 | O17: 0
A18: =ROW() -> 18 | B18: DIC | C18: =SUMPRODUCT((G18:O18<>0)*POWER(2,8-(COLUMN(G18:O18)-7))) -> 440 | E18: =DEC2BIN(C18,9) -> 110111000 | G18: 1 | H18: -7 | I18: 0 | J18: 2 | K18: -8 | L18: 6 | M18: 0 | N18: 0 | O18: 0
... A40: =ROW() -> 40 | B40: YCE | C40: =SUMPRODUCT((G40:O40<>0)*POWER(2,8-(COLUMN(G40:O40)-7))) -> 156 | E40: =DEC2BIN(C40,9) -> 010011100 | G40: 0 | H40: -6 | I40: 0 | J40: 0 | K40: -7 | L40: -5 | M40: 8 | N40: 0 | O40: 0

Sheet Feuil2
D1: N° ligne
B2: Trig | C2: Commande | D2: Première occurrence | E2: Dernière occurrence
B3: YCE | C3: Com1 | D3: {=IFERROR(SMALL(IF((Feuil1!$B$7:$B$40=$B3)*(OFFSET(Feuil1!$A$7:$A$40,0,MATCH($C3,Feuil1!$6:$6,0)-1,COUNTA(Feuil1!$A:$A)-1,1))<>0,ROW(Feuil1!A$7:$A$40)),1),"Rien")} -> 16 | E3: {=IFERROR(LARGE(IF((Feuil1!$B$7:$B$40=$B3)*(OFFSET(Feuil1!$A$7:$A$40,0,MATCH($C3,Feuil1!$6:$6,0)-1,COUNTA(Feuil1!$A:$A)-1,1))<>0,ROW(Feuil1!A$7:$A$40)),1),"Rien")} -> 30
B4: DLE | C4: Com2 | D4: {=IFERROR(SMALL(IF((Feuil1!$B$7:$B$40=$B4)*(OFFSET(Feuil1!$A$7:$A$40,0,MATCH($C4,Feuil1!$6:$6,0)-1,COUNTA(Feuil1!$A:$A)-1,1))<>0,ROW(Feuil1!A$7:$A$40)),1),"Rien")} -> 12 | E4: {=IFERROR(LARGE(IF((Feuil1!$B$7:$B$40=$B4)*(OFFSET(Feuil1!$A$7:$A$40,0,MATCH($C4,Feuil1!$6:$6,0)-1,COUNTA(Feuil1!$A:$A)-1,1))<>0,ROW(Feuil1!A$7:$A$40)),1),"Rien")} -> 12
B5: DLT | C5: Com3 | D5: {=IFERROR(SMALL(IF((Feuil1!$B$7:$B$40=$B5)*(OFFSET(Feuil1!$A$7:$A$40,0,MATCH($C5,Feuil1!$6:$6,0)-1,COUNTA(Feuil1!$A:$A)-1,1))<>0,ROW(Feuil1!A$7:$A$40)),1),"Rien")} -> 13 | E5: {=IFERROR(LARGE(IF((Feuil1!$B$7:$B$40=$B5)*(OFFSET(Feuil1!$A$7:$A$40,0,MATCH($C5,Feuil1!$6:$6,0)-1,COUNTA(Feuil1!$A:$A)-1,1))<>0,ROW(Feuil1!A$7:$A$40)),1),"Rien")} -> 13
B6: MVE | C6: Com4 | D6: {=IFERROR(SMALL(IF((Feuil1!$B$7:$B$40=$B6)*(OFFSET(Feuil1!$A$7:$A$40,0,MATCH($C6,Feuil1!$6:$6,0)-1,COUNTA(Feuil1!$A:$A)-1,1))<>0,ROW(Feuil1!A$7:$A$40)),1),"Rien")} -> 14 | E6: {=IFERROR(LARGE(IF((Feuil1!$B$7:$B$40=$B6)*(OFFSET(Feuil1!$A$7:$A$40,0,MATCH($C6,Feuil1!$6:$6,0)-1,COUNTA(Feuil1!$A:$A)-1,1))<>0,ROW(Feuil1!A$7:$A$40)),1),"Rien")} -> 36
B7: ADR | C7: Com5 | D7: {=IFERROR(SMALL(IF((Feuil1!$B$7:$B$40=$B7)*(OFFSET(Feuil1!$A$7:$A$40,0,MATCH($C7,Feuil1!$6:$6,0)-1,COUNTA(Feuil1!$A:$A)-1,1))<>0,ROW(Feuil1!A$7:$A$40)),1),"Rien")} -> 25 | E7: {=IFERROR(LARGE(IF((Feuil1!$B$7:$B$40=$B7)*(OFFSET(Feuil1!$A$7:$A$40,0,MATCH($C7,Feuil1!$6:$6,0)-1,COUNTA(Feuil1!$A:$A)-1,1))<>0,ROW(Feuil1!A$7:$A$40)),1),"Rien")} -> 39
B8: CTE | C8: Com6 | D8: {=IFERROR(SMALL(IF((Feuil1!$B$7:$B$40=$B8)*(OFFSET(Feuil1!$A$7:$A$40,0,MATCH($C8,Feuil1!$6:$6,0)-1,COUNTA(Feuil1!$A:$A)-1,1))<>0,ROW(Feuil1!A$7:$A$40)),1),"Rien")} -> 19 | E8: {=IFERROR(LARGE(IF((Feuil1!$B$7:$B$40=$B8)*(OFFSET(Feuil1!$A$7:$A$40,0,MATCH($C8,Feuil1!$6:$6,0)-1,COUNTA(Feuil1!$A:$A)-1,1))<>0,ROW(Feuil1!A$7:$A$40)),1),"Rien")} -> 24
B9: YCE | C9: Com2 | D9: {=IFERROR(SMALL(IF((Feuil1!$B$7:$B$40=$B9)*(OFFSET(Feuil1!$A$7:$A$40,0,MATCH($C9,Feuil1!$6:$6,0)-1,COUNTA(Feuil1!$A:$A)-1,1))<>0,ROW(Feuil1!A$7:$A$40)),1),"Rien")} -> 16 | E9: {=IFERROR(LARGE(IF((Feuil1!$B$7:$B$40=$B9)*(OFFSET(Feuil1!$A$7:$A$40,0,MATCH($C9,Feuil1!$6:$6,0)-1,COUNTA(Feuil1!$A:$A)-1,1))<>0,ROW(Feuil1!A$7:$A$40)),1),"Rien")} -> 40
B10: DLE | C10: Com3 | D10: {=IFERROR(SMALL(IF((Feuil1!$B$7:$B$40=$B10)*(OFFSET(Feuil1!$A$7:$A$40,0,MATCH($C10,Feuil1!$6:$6,0)-1,COUNTA(Feuil1!$A:$A)-1,1))<>0,ROW(Feuil1!A$7:$A$40)),1),"Rien")} -> Rien | E10: {=IFERROR(LARGE(IF((Feuil1!$B$7:$B$40=$B10)*(OFFSET(Feuil1!$A$7:$A$40,0,MATCH($C10,Feuil1!$6:$6,0)-1,COUNTA(Feuil1!$A:$A)-1,1))<>0,ROW(Feuil1!A$7:$A$40)),1),"Rien")} -> Rien
B11: DLT | C11: Com7 | D11: {=IFERROR(SMALL(IF((Feuil1!$B$7:$B$40=$B11)*(OFFSET(Feuil1!$A$7:$A$40,0,MATCH($C11,Feuil1!$6:$6,0)-1,COUNTA(Feuil1!$A:$A)-1,1))<>0,ROW(Feuil1!A$7:$A$40)),1),"Rien")} -> 13 | E11: {=IFERROR(LARGE(IF((Feuil1!$B$7:$B$40=$B11)*(OFFSET(Feuil1!$A$7:$A$40,0,MATCH($C11,Feuil1!$6:$6,0)-1,COUNTA(Feuil1!$A:$A)-1,1))<>0,ROW(Feuil1!A$7:$A$40)),1),"Rien")} -> 32
B12: MVE | C12: Com8 | D12: {=IFERROR(SMALL(IF((Feuil1!$B$7:$B$40=$B12)*(OFFSET(Feuil1!$A$7:$A$40,0,MATCH($C12,Feuil1!$6:$6,0)-1,COUNTA(Feuil1!$A:$A)-1,1))<>0,ROW(Feuil1!A$7:$A$40)),1),"Rien")} -> 8 | E12: {=IFERROR(LARGE(IF((Feuil1!$B$7:$B$40=$B12)*(OFFSET(Feuil1!$A$7:$A$40,0,MATCH($C12,Feuil1!$6:$6,0)-1,COUNTA(Feuil1!$A:$A)-1,1))<>0,ROW(Feuil1!A$7:$A$40)),1),"Rien")} -> 33
B13: ADR | C13: Com9 | D13: {=IFERROR(SMALL(IF((Feuil1!$B$7:$B$40=$B13)*(OFFSET(Feuil1!$A$7:$A$40,0,MATCH($C13,Feuil1!$6:$6,0)-1,COUNTA(Feuil1!$A:$A)-1,1))<>0,ROW(Feuil1!A$7:$A$40)),1),"Rien")} -> 7 | E13: {=IFERROR(LARGE(IF((Feuil1!$B$7:$B$40=$B13)*(OFFSET(Feuil1!$A$7:$A$40,0,MATCH($C13,Feuil1!$6:$6,0)-1,COUNTA(Feuil1!$A:$A)-1,1))<>0,ROW(Feuil1!A$7:$A$40)),1),"Rien")} -> 39
B14: CTE | C14: Com1 | D14: {=IFERROR(SMALL(IF((Feuil1!$B$7:$B$40=$B14)*(OFFSET(Feuil1!$A$7:$A$40,0,MATCH($C14,Feuil1!$6:$6,0)-1,COUNTA(Feuil1!$A:$A)-1,1))<>0,ROW(Feuil1!A$7:$A$40)),1),"Rien")} -> 19 | E14: {=IFERROR(LARGE(IF((Feuil1!$B$7:$B$40=$B14)*(OFFSET(Feuil1!$A$7:$A$40,0,MATCH($C14,Feuil1!$6:$6,0)-1,COUNTA(Feuil1!$A:$A)-1,1))<>0,ROW(Feuil1!A$7:$A$40)),1),"Rien")} -> 24
