Workbook

Sheet Base
A1: Ref A | B1: Ref B
A2: 111.0015 | B2: 9.005507
A3: 213.1122 | B3: 1748008
A4: 216.0068 | B4: 6.225256
A5: 216.2882 | B5: 0409028
A6: 291.1212 | B6: 0712010
A7: 430 | B7: T051031
A8: 609.019 | B8: 0810026
A9: 612.2327 | B9: 0101011
A10: 612.2333 | B10: 0512015
A11: 612.3337 | B11: 4325402
A12: 620.2092 | B12: 0830201
A13: 620.2099 | B13: 0830201
... A18: 4130 | B18: 0004130
A19: 5124 | B19: 5124
A20: 6410 | B20: 9064101
A21: 6421 | B21: 9064211
A22: 6505 | B22: 9065061
A23: 6711 | B23: 9067111
A24: 10739 | B24: 010739.22
A25: 11643 | B25: 1748009
A26: 11647 | B26: 1748010
A27: 11652 | B27: 1748011
A28: 11654 | B28: 1748012
A29: 11660 | B29: 1748014
A30: 12431 | B30: 0012431
A31: 13301 | B31: 1133010
A32: 14641 | B32: 1014641
A33: 20103.295 | B33: 0.0116.1000
A34: 20104.298 | B34: 20104.298
A35: 20301.29 | B35: 131669.1211
A36: 20589.293 | B36: 20589.293
A37: 20896 | B37: 0020896
A38: 20897 | B38: 20897
A39: 21190.292 | B39: 21190.292
A40: 22105.295 | B40: 22105.295
A41: 22111.296 | B41: 22111.296
A42: 22711.29 | B42: 22711.290
A43: 23124 | B43: 0023124
A44: 23125 | B44: 0023125
...

Sheet Croisement
A3: Ref Source | B3: Ref B Croisée | C3: Ref B Correspndante | D3: Ref B Correspndante | E3: Ref B Correspndante | F3: Ref B Correspndante | G3: Formule | H3: =IFERROR(VLOOKUP(G3,Base!G:H,2,FALSE),"") | I3: TEST | J3: {=IF(COUNTIF(Base!$A$1:$A$300,$A3)>COUNTA($B3:I3),INDEX(Base!$A$1:$B$300,SMALL(IF(Base!$A$1:$A$300=$A3,ROW(INDIRECT("1:"&ROWS(Base!$A$1:$A$300)))),COLUMNS($A3:I3)),2),"")}
A4: A051068 | C4: {=IF(COUNTIF(Base!$A$1:$A$300,$A4)>COUNTA($B4:B4),INDEX(Base!$A$1:$B$300,SMALL(IF(Base!$A$1:$A$300=$A4,ROW(INDIRECT("1:"&ROWS(Base!$A$1:$A$300)))),COLUMNS($A4:B4)),2),"")} | D4: {=IF(COUNTIF(Base!$A$1:$A$300,$A4)>COUNTA($B4:C4),INDEX(Base!$A$1:$B$300,SMALL(IF(Base!$A$1:$A$300=$A4,ROW(INDIRECT("1:"&ROWS(Base!$A$1:$A$300)))),COLUMNS($A4:C4)),2),"")} | E4: {=IF(COUNTIF(Base!$A$1:$A$300,$A4)>COUNTA($B4:D4),INDEX(Base!$A$1:$B$300,SMALL(IF(Base!$A$1:$A$300=$A4,ROW(INDIRECT("1:"&ROWS(Base!$A$1:$A$300)))),COLUMNS($A4:D4)),2),"")} | F4: {=IF(COUNTIF(Base!$A$1:$A$300,$A4)>COUNTA($B4:E4),INDEX(Base!$A$1:$B$300,SMALL(IF(Base!$A$1:$A$300=$A4,ROW(INDIRECT("1:"&ROWS(Base!$A$1:$A$300)))),COLUMNS($A4:E4)),2),"")}
A5: 5660403 | C5: {=IF(COUNTIF(Base!$A$1:$A$300,$A5)>COUNTA($B5:B5),INDEX(Base!$A$1:$B$300,SMALL(IF(Base!$A$1:$A$300=$A5,ROW(INDIRECT("1:"&ROWS(Base!$A$1:$A$300)))),COLUMNS($A5:B5)),2),"")} | D5: {=IF(COUNTIF(Base!$A$1:$A$300,$A5)>COUNTA($B5:C5),INDEX(Base!$A$1:$B$300,SMALL(IF(Base!$A$1:$A$300=$A5,ROW(INDIRECT("1:"&ROWS(Base!$A$1:$A$300)))),COLUMNS($A5:C5)),2),"")} | E5: {=IF(COUNTIF(Base!$A$1:$A$300,$A5)>COUNTA($B5:D5),INDEX(Base!$A$1:$B$300,SMALL(IF(Base!$A$1:$A$300=$A5,ROW(INDIRECT("1:"&ROWS(Base!$A$1:$A$300)))),COLUMNS($A5:D5)),2),"")} | F5: {=IF(COUNTIF(Base!$A$1:$A$300,$A5)>COUNTA($B5:E5),INDEX(Base!$A$1:$B$300,SMALL(IF(Base!$A$1:$A$300=$A5,ROW(INDIRECT("1:"&ROWS(Base!$A$1:$A$300)))),COLUMNS($A5:E5)),2),"")}
A6: 328 | C6: {=IF(COUNTIF(Base!$A$1:$A$300,$A6)>COUNTA($B6:B6),INDEX(Base!$A$1:$B$300,SMALL(IF(Base!$A$1:$A$300=$A6,ROW(INDIRECT("1:"&ROWS(Base!$A$1:$A$300)))),COLUMNS($A6:B6)),2),"")} | D6: {=IF(COUNTIF(Base!$A$1:$A$300,$A6)>COUNTA($B6:C6),INDEX(Base!$A$1:$B$300,SMALL(IF(Base!$A$1:$A$300=$A6,ROW(INDIRECT("1:"&ROWS(Base!$A$1:$A$300)))),COLUMNS($A6:C6)),2),"")} | E6: {=IF(COUNTIF(Base!$A$1:$A$300,$A6)>COUNTA($B6:D6),INDEX(Base!$A$1:$B$300,SMALL(IF(Base!$A$1:$A$300=$A6,ROW(INDIRECT("1:"&ROWS(Base!$A$1:$A$300)))),COLUMNS($A6:D6)),2),"")} | F6: {=IF(COUNTIF(Base!$A$1:$A$300,$A6)>COUNTA($B6:E6),INDEX(Base!$A$1:$B$300,SMALL(IF(Base!$A$1:$A$300=$A6,ROW(INDIRECT("1:"&ROWS(Base!$A$1:$A$300)))),COLUMNS($A6:E6)),2),"")}
A7: 048.046334.11 | C7: {=IF(COUNTIF(Base!$A$1:$A$300,$A7)>COUNTA($B7:B7),INDEX(Base!$A$1:$B$300,SMALL(IF(Base!$A$1:$A$300=$A7,ROW(INDIRECT("1:"&ROWS(Base!$A$1:$A$300)))),COLUMNS($A7:B7)),2),"")} | D7: {=IF(COUNTIF(Base!$A$1:$A$300,$A7)>COUNTA($B7:C7),INDEX(Base!$A$1:$B$300,SMALL(IF(Base!$A$1:$A$300=$A7,ROW(INDIRECT("1:"&ROWS(Base!$A$1:$A$300)))),COLUMNS($A7:C7)),2),"")} | E7: {=IF(COUNTIF(Base!$A$1:$A$300,$A7)>COUNTA($B7:D7),INDEX(Base!$A$1:$B$300,SMALL(IF(Base!$A$1:$A$300=$A7,ROW(INDIRECT("1:"&ROWS(Base!$A$1:$A$300)))),COLUMNS($A7:D7)),2),"")} | F7: {=IF(COUNTIF(Base!$A$1:$A$300,$A7)>COUNTA($B7:E7),INDEX(Base!$A$1:$B$300,SMALL(IF(Base!$A$1:$A$300=$A7,ROW(INDIRECT("1:"&ROWS(Base!$A$1:$A$300)))),COLUMNS($A7:E7)),2),"")}
A8: 612-1963 | C8: {=IF(COUNTIF(Base!$A$1:$A$300,$A8)>COUNTA($B8:B8),INDEX(Base!$A$1:$B$300,SMALL(IF(Base!$A$1:$A$300=$A8,ROW(INDIRECT("1:"&ROWS(Base!$A$1:$A$300)))),COLUMNS($A8:B8)),2),"")} | D8: {=IF(COUNTIF(Base!$A$1:$A$300,$A8)>COUNTA($B8:C8),INDEX(Base!$A$1:$B$300,SMALL(IF(Base!$A$1:$A$300=$A8,ROW(INDIRECT("1:"&ROWS(Base!$A$1:$A$300)))),COLUMNS($A8:C8)),2),"")} | E8: {=IF(COUNTIF(Base!$A$1:$A$300,$A8)>COUNTA($B8:D8),INDEX(Base!$A$1:$B$300,SMALL(IF(Base!$A$1:$A$300=$A8,ROW(INDIRECT("1:"&ROWS(Base!$A$1:$A$300)))),COLUMNS($A8:D8)),2),"")} | F8: {=IF(COUNTIF(Base!$A$1:$A$300,$A8)>COUNTA($B8:E8),INDEX(Base!$A$1:$B$300,SMALL(IF(Base!$A$1:$A$300=$A8,ROW(INDIRECT("1:"&ROWS(Base!$A$1:$A$300)))),COLUMNS($A8:E8)),2),"")}
A9: LBMEC11 | C9: {=IF(COUNTIF(Base!$A$1:$A$300,$A9)>COUNTA($B9:B9),INDEX(Base!$A$1:$B$300,SMALL(IF(Base!$A$1:$A$300=$A9,ROW(INDIRECT("1:"&ROWS(Base!$A$1:$A$300)))),COLUMNS($A9:B9)),2),"")} | D9: {=IF(COUNTIF(Base!$A$1:$A$300,$A9)>COUNTA($B9:C9),INDEX(Base!$A$1:$B$300,SMALL(IF(Base!$A$1:$A$300=$A9,ROW(INDIRECT("1:"&ROWS(Base!$A$1:$A$300)))),COLUMNS($A9:C9)),2),"")} | E9: {=IF(COUNTIF(Base!$A$1:$A$300,$A9)>COUNTA($B9:D9),INDEX(Base!$A$1:$B$300,SMALL(IF(Base!$A$1:$A$300=$A9,ROW(INDIRECT("1:"&ROWS(Base!$A$1:$A$300)))),COLUMNS($A9:D9)),2),"")} | F9: {=IF(COUNTIF(Base!$A$1:$A$300,$A9)>COUNTA($B9:E9),INDEX(Base!$A$1:$B$300,SMALL(IF(Base!$A$1:$A$300=$A9,ROW(INDIRECT("1:"&ROWS(Base!$A$1:$A$300)))),COLUMNS($A9:E9)),2),"")}
A10: 42900756402 | C10: {=IF(COUNTIF(Base!$A$1:$A$300,$A10)>COUNTA($B10:B10),INDEX(Base!$A$1:$B$300,SMALL(IF(Base!$A$1:$A$300=$A10,ROW(INDIRECT("1:"&ROWS(Base!$A$1:$A$300)))),COLUMNS($A10:B10)),2),"")} | D10: {=IF(COUNTIF(Base!$A$1:$A$300,$A10)>COUNTA($B10:C10),INDEX(Base!$A$1:$B$300,SMALL(IF(Base!$A$1:$A$300=$A10,ROW(INDIRECT("1:"&ROWS(Base!$A$1:$A$300)))),COLUMNS($A10:C10)),2),"")} | E10: {=IF(COUNTIF(Base!$A$1:$A$300,$A10)>COUNTA($B10:D10),INDEX(Base!$A$1:$B$300,SMALL(IF(Base!$A$1:$A$300=$A10,ROW(INDIRECT("1:"&ROWS(Base!$A$1:$A$300)))),COLUMNS($A10:D10)),2),"")} | F10: {=IF(COUNTIF(Base!$A$1:$A$300,$A10)>COUNTA($B10:E10),INDEX(Base!$A$1:$B$300,SMALL(IF(Base!$A$1:$A$300=$A10,ROW(INDIRECT("1:"&ROWS(Base!$A$1:$A$300)))),COLUMNS($A10:E10)),2),"")}
A11: 9J05000 | C11: {=IF(COUNTIF(Base!$A$1:$A$300,$A11)>COUNTA($B11:B11),INDEX(Base!$A$1:$B$300,SMALL(IF(Base!$A$1:$A$300=$A11,ROW(INDIRECT("1:"&ROWS(Base!$A$1:$A$300)))),COLUMNS($A11:B11)),2),"")} | D11: {=IF(COUNTIF(Base!$A$1:$A$300,$A11)>COUNTA($B11:C11),INDEX(Base!$A$1:$B$300,SMALL(IF(Base!$A$1:$A$300=$A11,ROW(INDIRECT("1:"&ROWS(Base!$A$1:$A$300)))),COLUMNS($A11:C11)),2),"")} | E11: {=IF(COUNTIF(Base!$A$1:$A$300,$A11)>COUNTA($B11:D11),INDEX(Base!$A$1:$B$300,SMALL(IF(Base!$A$1:$A$300=$A11,ROW(INDIRECT("1:"&ROWS(Base!$A$1:$A$300)))),COLUMNS($A11:D11)),2),"")} | F11: {=IF(COUNTIF(Base!$A$1:$A$300,$A11)>COUNTA($B11:E11),INDEX(Base!$A$1:$B$300,SMALL(IF(Base!$A$1:$A$300=$A11,ROW(INDIRECT("1:"&ROWS(Base!$A$1:$A$300)))),COLUMNS($A11:E11)),2),"")}
C12: {=IF(COUNTIF(Base!$A$1:$A$300,$A12)>COUNTA($B12:B12),INDEX(Base!$A$1:$B$300,SMALL(IF(Base!$A$1:$A$300=$A12,ROW(INDIRECT("1:"&ROWS(Base!$A$1:$A$300)))),COLUMNS($A12:B12)),2),"")} | D12: {=IF(COUNTIF(Base!$A$1:$A$300,$A12)>COUNTA($B12:C12),INDEX(Base!$A$1:$B$300,SMALL(IF(Base!$A$1:$A$300=$A12,ROW(INDIRECT("1:"&ROWS(Base!$A$1:$A$300)))),COLUMNS($A12:C12)),2),"")} | E12: {=IF(COUNTIF(Base!$A$1:$A$300,$A12)>COUNTA($B12:D12),INDEX(Base!$A$1:$B$300,SMALL(IF(Base!$A$1:$A$300=$A12,ROW(INDIRECT("1:"&ROWS(Base!$A$1:$A$300)))),COLUMNS($A12:D12)),2),"")} | F12: {=IF(COUNTIF(Base!$A$1:$A$300,$A12)>COUNTA($B12:E12),INDEX(Base!$A$1:$B$300,SMALL(IF(Base!$A$1:$A$300=$A12,ROW(INDIRECT("1:"&ROWS(Base!$A$1:$A$300)))),COLUMNS($A12:E12)),2),"")}
C13: {=IF(COUNTIF(Base!$A$1:$A$300,$A13)>COUNTA($B13:B13),INDEX(Base!$A$1:$B$300,SMALL(IF(Base!$A$1:$A$300=$A13,ROW(INDIRECT("1:"&ROWS(Base!$A$1:$A$300)))),COLUMNS($A13:B13)),2),"")} | D13: {=IF(COUNTIF(Base!$A$1:$A$300,$A13)>COUNTA($B13:C13),INDEX(Base!$A$1:$B$300,SMALL(IF(Base!$A$1:$A$300=$A13,ROW(INDIRECT("1:"&ROWS(Base!$A$1:$A$300)))),COLUMNS($A13:C13)),2),"")} | E13: {=IF(COUNTIF(Base!$A$1:$A$300,$A13)>COUNTA($B13:D13),INDEX(Base!$A$1:$B$300,SMALL(IF(Base!$A$1:$A$300=$A13,ROW(INDIRECT("1:"&ROWS(Base!$A$1:$A$300)))),COLUMNS($A13:D13)),2),"")} | F13: {=IF(COUNTIF(Base!$A$1:$A$300,$A13)>COUNTA($B13:E13),INDEX(Base!$A$1:$B$300,SMALL(IF(Base!$A$1:$A$300=$A13,ROW(INDIRECT("1:"&ROWS(Base!$A$1:$A$300)))),COLUMNS($A13:E13)),2),"")}
C14: {=IF(COUNTIF(Base!$A$1:$A$300,$A14)>COUNTA($B14:B14),INDEX(Base!$A$1:$B$300,SMALL(IF(Base!$A$1:$A$300=$A14,ROW(INDIRECT("1:"&ROWS(Base!$A$1:$A$300)))),COLUMNS($A14:B14)),2),"")} | D14: {=IF(COUNTIF(Base!$A$1:$A$300,$A14)>COUNTA($B14:C14),INDEX(Base!$A$1:$B$300,SMALL(IF(Base!$A$1:$A$300=$A14,ROW(INDIRECT("1:"&ROWS(Base!$A$1:$A$300)))),COLUMNS($A14:C14)),2),"")} | E14: {=IF(COUNTIF(Base!$A$1:$A$300,$A14)>COUNTA($B14:D14),INDEX(Base!$A$1:$B$300,SMALL(IF(Base!$A$1:$A$300=$A14,ROW(INDIRECT("1:"&ROWS(Base!$A$1:$A$300)))),COLUMNS($A14:D14)),2),"")} | F14: {=IF(COUNTIF(Base!$A$1:$A$300,$A14)>COUNTA($B14:E14),INDEX(Base!$A$1:$B$300,SMALL(IF(Base!$A$1:$A$300=$A14,ROW(INDIRECT("1:"&ROWS(Base!$A$1:$A$300)))),COLUMNS($A14:E14)),2),"")}
A15: 231350 | C15: {=IF(COUNTIF(Base!$A$1:$A$300,$A15)>COUNTA($B15:B15),INDEX(Base!$A$1:$B$300,SMALL(IF(Base!$A$1:$A$300=$A15,ROW(INDIRECT("1:"&ROWS(Base!$A$1:$A$300)))),COLUMNS($A15:B15)),2),"")} -> #NUM! | D15: {=IF(COUNTIF(Base!$A$1:$A$300,$A15)>COUNTA($B15:C15),INDEX(Base!$A$1:$B$300,SMALL(IF(Base!$A$1:$A$300=$A15,ROW(INDIRECT("1:"&ROWS(Base!$A$1:$A$300)))),COLUMNS($A15:C15)),2),"")} | E15: {=IF(COUNTIF(Base!$A$1:$A$300,$A15)>COUNTA($B15:D15),INDEX(Base!$A$1:$B$300,SMALL(IF(Base!$A$1:$A$300=$A15,ROW(INDIRECT("1:"&ROWS(Base!$A$1:$A$300)))),COLUMNS($A15:D15)),2),"")} | F15: {=IF(COUNTIF(Base!$A$1:$A$300,$A15)>COUNTA($B15:E15),INDEX(Base!$A$1:$B$300,SMALL(IF(Base!$A$1:$A$300=$A15,ROW(INDIRECT("1:"&ROWS(Base!$A$1:$A$300)))),COLUMNS($A15:E15)),2),"")}
A16: DCPBF225B | C16: {=IF(COUNTIF(Base!$A$1:$A$300,$A16)>COUNTA($B16:B16),INDEX(Base!$A$1:$B$300,SMALL(IF(Base!$A$1:$A$300=$A16,ROW(INDIRECT("1:"&ROWS(Base!$A$1:$A$300)))),COLUMNS($A16:B16)),2),"")} | D16: {=IF(COUNTIF(Base!$A$1:$A$300,$A16)>COUNTA($B16:C16),INDEX(Base!$A$1:$B$300,SMALL(IF(Base!$A$1:$A$300=$A16,ROW(INDIRECT("1:"&ROWS(Base!$A$1:$A$300)))),COLUMNS($A16:C16)),2),"")} | E16: {=IF(COUNTIF(Base!$A$1:$A$300,$A16)>COUNTA($B16:D16),INDEX(Base!$A$1:$B$300,SMALL(IF(Base!$A$1:$A$300=$A16,ROW(INDIRECT("1:"&ROWS(Base!$A$1:$A$300)))),COLUMNS($A16:D16)),2),"")} | F16: {=IF(COUNTIF(Base!$A$1:$A$300,$A16)>COUNTA($B16:E16),INDEX(Base!$A$1:$B$300,SMALL(IF(Base!$A$1:$A$300=$A16,ROW(INDIRECT("1:"&ROWS(Base!$A$1:$A$300)))),COLUMNS($A16:E16)),2),"")}
A17: 233-5363 | C17: {=IF(COUNTIF(Base!$A$1:$A$300,$A17)>COUNTA($B17:B17),INDEX(Base!$A$1:$B$300,SMALL(IF(Base!$A$1:$A$300=$A17,ROW(INDIRECT("1:"&ROWS(Base!$A$1:$A$300)))),COLUMNS($A17:B17)),2),"")} | D17: {=IF(COUNTIF(Base!$A$1:$A$300,$A17)>COUNTA($B17:C17),INDEX(Base!$A$1:$B$300,SMALL(IF(Base!$A$1:$A$300=$A17,ROW(INDIRECT("1:"&ROWS(Base!$A$1:$A$300)))),COLUMNS($A17:C17)),2),"")} | E17: {=IF(COUNTIF(Base!$A$1:$A$300,$A17)>COUNTA($B17:D17),INDEX(Base!$A$1:$B$300,SMALL(IF(Base!$A$1:$A$300=$A17,ROW(INDIRECT("1:"&ROWS(Base!$A$1:$A$300)))),COLUMNS($A17:D17)),2),"")} | F17: {=IF(COUNTIF(Base!$A$1:$A$300,$A17)>COUNTA($B17:E17),INDEX(Base!$A$1:$B$300,SMALL(IF(Base!$A$1:$A$300=$A17,ROW(INDIRECT("1:"&ROWS(Base!$A$1:$A$300)))),COLUMNS($A17:E17)),2),"")}
A18: 9BJ0001 | C18: {=IF(COUNTIF(Base!$A$1:$A$300,$A18)>COUNTA($B18:B18),INDEX(Base!$A$1:$B$300,SMALL(IF(Base!$A$1:$A$300=$A18,ROW(INDIRECT("1:"&ROWS(Base!$A$1:$A$300)))),COLUMNS($A18:B18)),2),"")} | D18: {=IF(COUNTIF(Base!$A$1:$A$300,$A18)>COUNTA($B18:C18),INDEX(Base!$A$1:$B$300,SMALL(IF(Base!$A$1:$A$300=$A18,ROW(INDIRECT("1:"&ROWS(Base!$A$1:$A$300)))),COLUMNS($A18:C18)),2),"")} | E18: {=IF(COUNTIF(Base!$A$1:$A$300,$A18)>COUNTA($B18:D18),INDEX(Base!$A$1:$B$300,SMALL(IF(Base!$A$1:$A$300=$A18,ROW(INDIRECT("1:"&ROWS(Base!$A$1:$A$300)))),COLUMNS($A18:D18)),2),"")} | F18: {=IF(COUNTIF(Base!$A$1:$A$300,$A18)>COUNTA($B18:E18),INDEX(Base!$A$1:$B$300,SMALL(IF(Base!$A$1:$A$300=$A18,ROW(INDIRECT("1:"&ROWS(Base!$A$1:$A$300)))),COLUMNS($A18:E18)),2),"")}
A19: 216-4451 | C19: {=IF(COUNTIF(Base!$A$1:$A$300,$A19)>COUNTA($B19:B19),INDEX(Base!$A$1:$B$300,SMALL(IF(Base!$A$1:$A$300=$A19,ROW(INDIRECT("1:"&ROWS(Base!$A$1:$A$300)))),COLUMNS($A19:B19)),2),"")} | D19: {=IF(COUNTIF(Base!$A$1:$A$300,$A19)>COUNTA($B19:C19),INDEX(Base!$A$1:$B$300,SMALL(IF(Base!$A$1:$A$300=$A19,ROW(INDIRECT("1:"&ROWS(Base!$A$1:$A$300)))),COLUMNS($A19:C19)),2),"")} | E19: {=IF(COUNTIF(Base!$A$1:$A$300,$A19)>COUNTA($B19:D19),INDEX(Base!$A$1:$B$300,SMALL(IF(Base!$A$1:$A$300=$A19,ROW(INDIRECT("1:"&ROWS(Base!$A$1:$A$300)))),COLUMNS($A19:D19)),2),"")} | F19: {=IF(COUNTIF(Base!$A$1:$A$300,$A19)>COUNTA($B19:E19),INDEX(Base!$A$1:$B$300,SMALL(IF(Base!$A$1:$A$300=$A19,ROW(INDIRECT("1:"&ROWS(Base!$A$1:$A$300)))),COLUMNS($A19:E19)),2),"")}
A20: 469120 | C20: {=IF(COUNTIF(Base!$A$1:$A$300,$A20)>COUNTA($B20:B20),INDEX(Base!$A$1:$B$300,SMALL(IF(Base!$A$1:$A$300=$A20,ROW(INDIRECT("1:"&ROWS(Base!$A$1:$A$300)))),COLUMNS($A20:B20)),2),"")} | D20: {=IF(COUNTIF(Base!$A$1:$A$300,$A20)>COUNTA($B20:C20),INDEX(Base!$A$1:$B$300,SMALL(IF(Base!$A$1:$A$300=$A20,ROW(INDIRECT("1:"&ROWS(Base!$A$1:$A$300)))),COLUMNS($A20:C20)),2),"")} | E20: {=IF(COUNTIF(Base!$A$1:$A$300,$A20)>COUNTA($B20:D20),INDEX(Base!$A$1:$B$300,SMALL(IF(Base!$A$1:$A$300=$A20,ROW(INDIRECT("1:"&ROWS(Base!$A$1:$A$300)))),COLUMNS($A20:D20)),2),"")} | F20: {=IF(COUNTIF(Base!$A$1:$A$300,$A20)>COUNTA($B20:E20),INDEX(Base!$A$1:$B$300,SMALL(IF(Base!$A$1:$A$300=$A20,ROW(INDIRECT("1:"&ROWS(Base!$A$1:$A$300)))),COLUMNS($A20:E20)),2),"")}
A21: 610301 | C21: {=IF(COUNTIF(Base!$A$1:$A$300,$A21)>COUNTA($B21:B21),INDEX(Base!$A$1:$B$300,SMALL(IF(Base!$A$1:$A$300=$A21,ROW(INDIRECT("1:"&ROWS(Base!$A$1:$A$300)))),COLUMNS($A21:B21)),2),"")} -> #NUM! | D21: {=IF(COUNTIF(Base!$A$1:$A$300,$A21)>COUNTA($B21:C21),INDEX(Base!$A$1:$B$300,SMALL(IF(Base!$A$1:$A$300=$A21,ROW(INDIRECT("1:"&ROWS(Base!$A$1:$A$300)))),COLUMNS($A21:C21)),2),"")} | E21: {=IF(COUNTIF(Base!$A$1:$A$300,$A21)>COUNTA($B21:D21),INDEX(Base!$A$1:$B$300,SMALL(IF(Base!$A$1:$A$300=$A21,ROW(INDIRECT("1:"&ROWS(Base!$A$1:$A$300)))),COLUMNS($A21:D21)),2),"")} | F21: {=IF(COUNTIF(Base!$A$1:$A$300,$A21)>COUNTA($B21:E21),INDEX(Base!$A$1:$B$300,SMALL(IF(Base!$A$1:$A$300=$A21,ROW(INDIRECT("1:"&ROWS(Base!$A$1:$A$300)))),COLUMNS($A21:E21)),2),"")}
A22: V1200 | C22: {=IF(COUNTIF(Base!$A$1:$A$300,$A22)>COUNTA($B22:B22),INDEX(Base!$A$1:$B$300,SMALL(IF(Base!$A$1:$A$300=$A22,ROW(INDIRECT("1:"&ROWS(Base!$A$1:$A$300)))),COLUMNS($A22:B22)),2),"")} | D22: {=IF(COUNTIF(Base!$A$1:$A$300,$A22)>COUNTA($B22:C22),INDEX(Base!$A$1:$B$300,SMALL(IF(Base!$A$1:$A$300=$A22,ROW(INDIRECT("1:"&ROWS(Base!$A$1:$A$300)))),COLUMNS($A22:C22)),2),"")} | E22: {=IF(COUNTIF(Base!$A$1:$A$300,$A22)>COUNTA($B22:D22),INDEX(Base!$A$1:$B$300,SMALL(IF(Base!$A$1:$A$300=$A22,ROW(INDIRECT("1:"&ROWS(Base!$A$1:$A$300)))),COLUMNS($A22:D22)),2),"")} | F22: {=IF(COUNTIF(Base!$A$1:$A$300,$A22)>COUNTA($B22:E22),INDEX(Base!$A$1:$B$300,SMALL(IF(Base!$A$1:$A$300=$A22,ROW(INDIRECT("1:"&ROWS(Base!$A$1:$A$300)))),COLUMNS($A22:E22)),2),"")}
A23: 197.000306.10 | C23: {=IF(COUNTIF(Base!$A$1:$A$300,$A23)>COUNTA($B23:B23),INDEX(Base!$A$1:$B$300,SMALL(IF(Base!$A$1:$A$300=$A23,ROW(INDIRECT("1:"&ROWS(Base!$A$1:$A$300)))),COLUMNS($A23:B23)),2),"")} | D23: {=IF(COUNTIF(Base!$A$1:$A$300,$A23)>COUNTA($B23:C23),INDEX(Base!$A$1:$B$300,SMALL(IF(Base!$A$1:$A$300=$A23,ROW(INDIRECT("1:"&ROWS(Base!$A$1:$A$300)))),COLUMNS($A23:C23)),2),"")} | E23: {=IF(COUNTIF(Base!$A$1:$A$300,$A23)>COUNTA($B23:D23),INDEX(Base!$A$1:$B$300,SMALL(IF(Base!$A$1:$A$300=$A23,ROW(INDIRECT("1:"&ROWS(Base!$A$1:$A$300)))),COLUMNS($A23:D23)),2),"")} | F23: {=IF(COUNTIF(Base!$A$1:$A$300,$A23)>COUNTA($B23:E23),INDEX(Base!$A$1:$B$300,SMALL(IF(Base!$A$1:$A$300=$A23,ROW(INDIRECT("1:"&ROWS(Base!$A$1:$A$300)))),COLUMNS($A23:E23)),2),"")}
A24: 4900432633 | C24: {=IF(COUNTIF(Base!$A$1:$A$300,$A24)>COUNTA($B24:B24),INDEX(Base!$A$1:$B$300,SMALL(IF(Base!$A$1:$A$300=$A24,ROW(INDIRECT("1:"&ROWS(Base!$A$1:$A$300)))),COLUMNS($A24:B24)),2),"")} | D24: {=IF(COUNTIF(Base!$A$1:$A$300,$A24)>COUNTA($B24:C24),INDEX(Base!$A$1:$B$300,SMALL(IF(Base!$A$1:$A$300=$A24,ROW(INDIRECT("1:"&ROWS(Base!$A$1:$A$300)))),COLUMNS($A24:C24)),2),"")} | E24: {=IF(COUNTIF(Base!$A$1:$A$300,$A24)>COUNTA($B24:D24),INDEX(Base!$A$1:$B$300,SMALL(IF(Base!$A$1:$A$300=$A24,ROW(INDIRECT("1:"&ROWS(Base!$A$1:$A$300)))),COLUMNS($A24:D24)),2),"")} | F24: {=IF(COUNTIF(Base!$A$1:$A$300,$A24)>COUNTA($B24:E24),INDEX(Base!$A$1:$B$300,SMALL(IF(Base!$A$1:$A$300=$A24,ROW(INDIRECT("1:"&ROWS(Base!$A$1:$A$300)))),COLUMNS($A24:E24)),2),"")}
A25: 612-1554 | C25: {=IF(COUNTIF(Base!$A$1:$A$300,$A25)>COUNTA($B25:B25),INDEX(Base!$A$1:$B$300,SMALL(IF(Base!$A$1:$A$300=$A25,ROW(INDIRECT("1:"&ROWS(Base!$A$1:$A$300)))),COLUMNS($A25:B25)),2),"")} | D25: {=IF(COUNTIF(Base!$A$1:$A$300,$A25)>COUNTA($B25:C25),INDEX(Base!$A$1:$B$300,SMALL(IF(Base!$A$1:$A$300=$A25,ROW(INDIRECT("1:"&ROWS(Base!$A$1:$A$300)))),COLUMNS($A25:C25)),2),"")} | E25: {=IF(COUNTIF(Base!$A$1:$A$300,$A25)>COUNTA($B25:D25),INDEX(Base!$A$1:$B$300,SMALL(IF(Base!$A$1:$A$300=$A25,ROW(INDIRECT("1:"&ROWS(Base!$A$1:$A$300)))),COLUMNS($A25:D25)),2),"")} | F25: {=IF(COUNTIF(Base!$A$1:$A$300,$A25)>COUNTA($B25:E25),INDEX(Base!$A$1:$B$300,SMALL(IF(Base!$A$1:$A$300=$A25,ROW(INDIRECT("1:"&ROWS(Base!$A$1:$A$300)))),COLUMNS($A25:E25)),2),"")}
A26: 4900432654 | C26: {=IF(COUNTIF(Base!$A$1:$A$300,$A26)>COUNTA($B26:B26),INDEX(Base!$A$1:$B$300,SMALL(IF(Base!$A$1:$A$300=$A26,ROW(INDIRECT("1:"&ROWS(Base!$A$1:$A$300)))),COLUMNS($A26:B26)),2),"")} | D26: {=IF(COUNTIF(Base!$A$1:$A$300,$A26)>COUNTA($B26:C26),INDEX(Base!$A$1:$B$300,SMALL(IF(Base!$A$1:$A$300=$A26,ROW(INDIRECT("1:"&ROWS(Base!$A$1:$A$300)))),COLUMNS($A26:C26)),2),"")} | E26: {=IF(COUNTIF(Base!$A$1:$A$300,$A26)>COUNTA($B26:D26),INDEX(Base!$A$1:$B$300,SMALL(IF(Base!$A$1:$A$300=$A26,ROW(INDIRECT("1:"&ROWS(Base!$A$1:$A$300)))),COLUMNS($A26:D26)),2),"")} | F26: {=IF(COUNTIF(Base!$A$1:$A$300,$A26)>COUNTA($B26:E26),INDEX(Base!$A$1:$B$300,SMALL(IF(Base!$A$1:$A$300=$A26,ROW(INDIRECT("1:"&ROWS(Base!$A$1:$A$300)))),COLUMNS($A26:E26)),2),"")}
A27: 049,004320,60 | C27: {=IF(COUNTIF(Base!$A$1:$A$300,$A27)>COUNTA($B27:B27),INDEX(Base!$A$1:$B$300,SMALL(IF(Base!$A$1:$A$300=$A27,ROW(INDIRECT("1:"&ROWS(Base!$A$1:$A$300)))),COLUMNS($A27:B27)),2),"")} | D27: {=IF(COUNTIF(Base!$A$1:$A$300,$A27)>COUNTA($B27:C27),INDEX(Base!$A$1:$B$300,SMALL(IF(Base!$A$1:$A$300=$A27,ROW(INDIRECT("1:"&ROWS(Base!$A$1:$A$300)))),COLUMNS($A27:C27)),2),"")} | E27: {=IF(COUNTIF(Base!$A$1:$A$300,$A27)>COUNTA($B27:D27),INDEX(Base!$A$1:$B$300,SMALL(IF(Base!$A$1:$A$300=$A27,ROW(INDIRECT("1:"&ROWS(Base!$A$1:$A$300)))),COLUMNS($A27:D27)),2),"")} | F27: {=IF(COUNTIF(Base!$A$1:$A$300,$A27)>COUNTA($B27:E27),INDEX(Base!$A$1:$B$300,SMALL(IF(Base!$A$1:$A$300=$A27,ROW(INDIRECT("1:"&ROWS(Base!$A$1:$A$300)))),COLUMNS($A27:E27)),2),"")}
A28: 197850 | C28: {=IF(COUNTIF(Base!$A$1:$A$300,$A28)>COUNTA($B28:B28),INDEX(Base!$A$1:$B$300,SMALL(IF(Base!$A$1:$A$300=$A28,ROW(INDIRECT("1:"&ROWS(Base!$A$1:$A$300)))),COLUMNS($A28:B28)),2),"")} | D28: {=IF(COUNTIF(Base!$A$1:$A$300,$A28)>COUNTA($B28:C28),INDEX(Base!$A$1:$B$300,SMALL(IF(Base!$A$1:$A$300=$A28,ROW(INDIRECT("1:"&ROWS(Base!$A$1:$A$300)))),COLUMNS($A28:C28)),2),"")} | E28: {=IF(COUNTIF(Base!$A$1:$A$300,$A28)>COUNTA($B28:D28),INDEX(Base!$A$1:$B$300,SMALL(IF(Base!$A$1:$A$300=$A28,ROW(INDIRECT("1:"&ROWS(Base!$A$1:$A$300)))),COLUMNS($A28:D28)),2),"")} | F28: {=IF(COUNTIF(Base!$A$1:$A$300,$A28)>COUNTA($B28:E28),INDEX(Base!$A$1:$B$300,SMALL(IF(Base!$A$1:$A$300=$A28,ROW(INDIRECT("1:"&ROWS(Base!$A$1:$A$300)))),COLUMNS($A28:E28)),2),"")}
A29: 96127 | C29: {=IF(COUNTIF(Base!$A$1:$A$300,$A29)>COUNTA($B29:B29),INDEX(Base!$A$1:$B$300,SMALL(IF(Base!$A$1:$A$300=$A29,ROW(INDIRECT("1:"&ROWS(Base!$A$1:$A$300)))),COLUMNS($A29:B29)),2),"")} | D29: {=IF(COUNTIF(Base!$A$1:$A$300,$A29)>COUNTA($B29:C29),INDEX(Base!$A$1:$B$300,SMALL(IF(Base!$A$1:$A$300=$A29,ROW(INDIRECT("1:"&ROWS(Base!$A$1:$A$300)))),COLUMNS($A29:C29)),2),"")} | E29: {=IF(COUNTIF(Base!$A$1:$A$300,$A29)>COUNTA($B29:D29),INDEX(Base!$A$1:$B$300,SMALL(IF(Base!$A$1:$A$300=$A29,ROW(INDIRECT("1:"&ROWS(Base!$A$1:$A$300)))),COLUMNS($A29:D29)),2),"")} | F29: {=IF(COUNTIF(Base!$A$1:$A$300,$A29)>COUNTA($B29:E29),INDEX(Base!$A$1:$B$300,SMALL(IF(Base!$A$1:$A$300=$A29,ROW(INDIRECT("1:"&ROWS(Base!$A$1:$A$300)))),COLUMNS($A29:E29)),2),"")}
A30: 121310 | C30: {=IF(COUNTIF(Base!$A$1:$A$300,$A30)>COUNTA($B30:B30),INDEX(Base!$A$1:$B$300,SMALL(IF(Base!$A$1:$A$300=$A30,ROW(INDIRECT("1:"&ROWS(Base!$A$1:$A$300)))),COLUMNS($A30:B30)),2),"")} -> #NUM! | D30: {=IF(COUNTIF(Base!$A$1:$A$300,$A30)>COUNTA($B30:C30),INDEX(Base!$A$1:$B$300,SMALL(IF(Base!$A$1:$A$300=$A30,ROW(INDIRECT("1:"&ROWS(Base!$A$1:$A$300)))),COLUMNS($A30:C30)),2),"")} | E30: {=IF(COUNTIF(Base!$A$1:$A$300,$A30)>COUNTA($B30:D30),INDEX(Base!$A$1:$B$300,SMALL(IF(Base!$A$1:$A$300=$A30,ROW(INDIRECT("1:"&ROWS(Base!$A$1:$A$300)))),COLUMNS($A30:D30)),2),"")} | F30: {=IF(COUNTIF(Base!$A$1:$A$300,$A30)>COUNTA($B30:E30),INDEX(Base!$A$1:$B$300,SMALL(IF(Base!$A$1:$A$300=$A30,ROW(INDIRECT("1:"&ROWS(Base!$A$1:$A$300)))),COLUMNS($A30:E30)),2),"")}
A31: 312605 | C31: {=IF(COUNTIF(Base!$A$1:$A$300,$A31)>COUNTA($B31:B31),INDEX(Base!$A$1:$B$300,SMALL(IF(Base!$A$1:$A$300=$A31,ROW(INDIRECT("1:"&ROWS(Base!$A$1:$A$300)))),COLUMNS($A31:B31)),2),"")} -> #NUM! | D31: {=IF(COUNTIF(Base!$A$1:$A$300,$A31)>COUNTA($B31:C31),INDEX(Base!$A$1:$B$300,SMALL(IF(Base!$A$1:$A$300=$A31,ROW(INDIRECT("1:"&ROWS(Base!$A$1:$A$300)))),COLUMNS($A31:C31)),2),"")} | E31: {=IF(COUNTIF(Base!$A$1:$A$300,$A31)>COUNTA($B31:D31),INDEX(Base!$A$1:$B$300,SMALL(IF(Base!$A$1:$A$300=$A31,ROW(INDIRECT("1:"&ROWS(Base!$A$1:$A$300)))),COLUMNS($A31:D31)),2),"")} | F31: {=IF(COUNTIF(Base!$A$1:$A$300,$A31)>COUNTA($B31:E31),INDEX(Base!$A$1:$B$300,SMALL(IF(Base!$A$1:$A$300=$A31,ROW(INDIRECT("1:"&ROWS(Base!$A$1:$A$300)))),COLUMNS($A31:E31)),2),"")}
A32: 438067 | C32: {=IF(COUNTIF(Base!$A$1:$A$300,$A32)>COUNTA($B32:B32),INDEX(Base!$A$1:$B$300,SMALL(IF(Base!$A$1:$A$300=$A32,ROW(INDIRECT("1:"&ROWS(Base!$A$1:$A$300)))),COLUMNS($A32:B32)),2),"")} -> #NUM! | D32: {=IF(COUNTIF(Base!$A$1:$A$300,$A32)>COUNTA($B32:C32),INDEX(Base!$A$1:$B$300,SMALL(IF(Base!$A$1:$A$300=$A32,ROW(INDIRECT("1:"&ROWS(Base!$A$1:$A$300)))),COLUMNS($A32:C32)),2),"")} | E32: {=IF(COUNTIF(Base!$A$1:$A$300,$A32)>COUNTA($B32:D32),INDEX(Base!$A$1:$B$300,SMALL(IF(Base!$A$1:$A$300=$A32,ROW(INDIRECT("1:"&ROWS(Base!$A$1:$A$300)))),COLUMNS($A32:D32)),2),"")} | F32: {=IF(COUNTIF(Base!$A$1:$A$300,$A32)>COUNTA($B32:E32),INDEX(Base!$A$1:$B$300,SMALL(IF(Base!$A$1:$A$300=$A32,ROW(INDIRECT("1:"&ROWS(Base!$A$1:$A$300)))),COLUMNS($A32:E32)),2),"")}
A33: 197,003352,04 | C33: {=IF(COUNTIF(Base!$A$1:$A$300,$A33)>COUNTA($B33:B33),INDEX(Base!$A$1:$B$300,SMALL(IF(Base!$A$1:$A$300=$A33,ROW(INDIRECT("1:"&ROWS(Base!$A$1:$A$300)))),COLUMNS($A33:B33)),2),"")} | D33: {=IF(COUNTIF(Base!$A$1:$A$300,$A33)>COUNTA($B33:C33),INDEX(Base!$A$1:$B$300,SMALL(IF(Base!$A$1:$A$300=$A33,ROW(INDIRECT("1:"&ROWS(Base!$A$1:$A$300)))),COLUMNS($A33:C33)),2),"")} | E33: {=IF(COUNTIF(Base!$A$1:$A$300,$A33)>COUNTA($B33:D33),INDEX(Base!$A$1:$B$300,SMALL(IF(Base!$A$1:$A$300=$A33,ROW(INDIRECT("1:"&ROWS(Base!$A$1:$A$300)))),COLUMNS($A33:D33)),2),"")} | F33: {=IF(COUNTIF(Base!$A$1:$A$300,$A33)>COUNTA($B33:E33),INDEX(Base!$A$1:$B$300,SMALL(IF(Base!$A$1:$A$300=$A33,ROW(INDIRECT("1:"&ROWS(Base!$A$1:$A$300)))),COLUMNS($A33:E33)),2),"")}
A34: 197,003352,10 | C34: {=IF(COUNTIF(Base!$A$1:$A$300,$A34)>COUNTA($B34:B34),INDEX(Base!$A$1:$B$300,SMALL(IF(Base!$A$1:$A$300=$A34,ROW(INDIRECT("1:"&ROWS(Base!$A$1:$A$300)))),COLUMNS($A34:B34)),2),"")} | D34: {=IF(COUNTIF(Base!$A$1:$A$300,$A34)>COUNTA($B34:C34),INDEX(Base!$A$1:$B$300,SMALL(IF(Base!$A$1:$A$300=$A34,ROW(INDIRECT("1:"&ROWS(Base!$A$1:$A$300)))),COLUMNS($A34:C34)),2),"")} | E34: {=IF(COUNTIF(Base!$A$1:$A$300,$A34)>COUNTA($B34:D34),INDEX(Base!$A$1:$B$300,SMALL(IF(Base!$A$1:$A$300=$A34,ROW(INDIRECT("1:"&ROWS(Base!$A$1:$A$300)))),COLUMNS($A34:D34)),2),"")} | F34: {=IF(COUNTIF(Base!$A$1:$A$300,$A34)>COUNTA($B34:E34),INDEX(Base!$A$1:$B$300,SMALL(IF(Base!$A$1:$A$300=$A34,ROW(INDIRECT("1:"&ROWS(Base!$A$1:$A$300)))),COLUMNS($A34:E34)),2),"")}
A35: 197,003352,20 | C35: {=IF(COUNTIF(Base!$A$1:$A$300,$A35)>COUNTA($B35:B35),INDEX(Base!$A$1:$B$300,SMALL(IF(Base!$A$1:$A$300=$A35,ROW(INDIRECT("1:"&ROWS(Base!$A$1:$A$300)))),COLUMNS($A35:B35)),2),"")} | D35: {=IF(COUNTIF(Base!$A$1:$A$300,$A35)>COUNTA($B35:C35),INDEX(Base!$A$1:$B$300,SMALL(IF(Base!$A$1:$A$300=$A35,ROW(INDIRECT("1:"&ROWS(Base!$A$1:$A$300)))),COLUMNS($A35:C35)),2),"")} | E35: {=IF(COUNTIF(Base!$A$1:$A$300,$A35)>COUNTA($B35:D35),INDEX(Base!$A$1:$B$300,SMALL(IF(Base!$A$1:$A$300=$A35,ROW(INDIRECT("1:"&ROWS(Base!$A$1:$A$300)))),COLUMNS($A35:D35)),2),"")} | F35: {=IF(COUNTIF(Base!$A$1:$A$300,$A35)>COUNTA($B35:E35),INDEX(Base!$A$1:$B$300,SMALL(IF(Base!$A$1:$A$300=$A35,ROW(INDIRECT("1:"&ROWS(Base!$A$1:$A$300)))),COLUMNS($A35:E35)),2),"")}
A36: 197,003352,26 | C36: {=IF(COUNTIF(Base!$A$1:$A$300,$A36)>COUNTA($B36:B36),INDEX(Base!$A$1:$B$300,SMALL(IF(Base!$A$1:$A$300=$A36,ROW(INDIRECT("1:"&ROWS(Base!$A$1:$A$300)))),COLUMNS($A36:B36)),2),"")} | D36: {=IF(COUNTIF(Base!$A$1:$A$300,$A36)>COUNTA($B36:C36),INDEX(Base!$A$1:$B$300,SMALL(IF(Base!$A$1:$A$300=$A36,ROW(INDIRECT("1:"&ROWS(Base!$A$1:$A$300)))),COLUMNS($A36:C36)),2),"")} | E36: {=IF(COUNTIF(Base!$A$1:$A$300,$A36)>COUNTA($B36:D36),INDEX(Base!$A$1:$B$300,SMALL(IF(Base!$A$1:$A$300=$A36,ROW(INDIRECT("1:"&ROWS(Base!$A$1:$A$300)))),COLUMNS($A36:D36)),2),"")} | F36: {=IF(COUNTIF(Base!$A$1:$A$300,$A36)>COUNTA($B36:E36),INDEX(Base!$A$1:$B$300,SMALL(IF(Base!$A$1:$A$300=$A36,ROW(INDIRECT("1:"&ROWS(Base!$A$1:$A$300)))),COLUMNS($A36:E36)),2),"")}
A37: 2311074 | C37: {=IF(COUNTIF(Base!$A$1:$A$300,$A37)>COUNTA($B37:B37),INDEX(Base!$A$1:$B$300,SMALL(IF(Base!$A$1:$A$300=$A37,ROW(INDIRECT("1:"&ROWS(Base!$A$1:$A$300)))),COLUMNS($A37:B37)),2),"")} | D37: {=IF(COUNTIF(Base!$A$1:$A$300,$A37)>COUNTA($B37:C37),INDEX(Base!$A$1:$B$300,SMALL(IF(Base!$A$1:$A$300=$A37,ROW(INDIRECT("1:"&ROWS(Base!$A$1:$A$300)))),COLUMNS($A37:C37)),2),"")} | E37: {=IF(COUNTIF(Base!$A$1:$A$300,$A37)>COUNTA($B37:D37),INDEX(Base!$A$1:$B$300,SMALL(IF(Base!$A$1:$A$300=$A37,ROW(INDIRECT("1:"&ROWS(Base!$A$1:$A$300)))),COLUMNS($A37:D37)),2),"")} | F37: {=IF(COUNTIF(Base!$A$1:$A$300,$A37)>COUNTA($B37:E37),INDEX(Base!$A$1:$B$300,SMALL(IF(Base!$A$1:$A$300=$A37,ROW(INDIRECT("1:"&ROWS(Base!$A$1:$A$300)))),COLUMNS($A37:E37)),2),"")}
C38: {=IF(COUNTIF(Base!$A$1:$A$300,$A38)>COUNTA($B38:B38),INDEX(Base!$A$1:$B$300,SMALL(IF(Base!$A$1:$A$300=$A38,ROW(INDIRECT("1:"&ROWS(Base!$A$1:$A$300)))),COLUMNS($A38:B38)),2),"")} | D38: {=IF(COUNTIF(Base!$A$1:$A$300,$A38)>COUNTA($B38:C38),INDEX(Base!$A$1:$B$300,SMALL(IF(Base!$A$1:$A$300=$A38,ROW(INDIRECT("1:"&ROWS(Base!$A$1:$A$300)))),COLUMNS($A38:C38)),2),"")} | E38: {=IF(COUNTIF(Base!$A$1:$A$300,$A38)>COUNTA($B38:D38),INDEX(Base!$A$1:$B$300,SMALL(IF(Base!$A$1:$A$300=$A38,ROW(INDIRECT("1:"&ROWS(Base!$A$1:$A$300)))),COLUMNS($A38:D38)),2),"")} | F38: {=IF(COUNTIF(Base!$A$1:$A$300,$A38)>COUNTA($B38:E38),INDEX(Base!$A$1:$B$300,SMALL(IF(Base!$A$1:$A$300=$A38,ROW(INDIRECT("1:"&ROWS(Base!$A$1:$A$300)))),COLUMNS($A38:E38)),2),"")}
A39: TEU20 | C39: {=IF(COUNTIF(Base!$A$1:$A$300,$A39)>COUNTA($B39:B39),INDEX(Base!$A$1:$B$300,SMALL(IF(Base!$A$1:$A$300=$A39,ROW(INDIRECT("1:"&ROWS(Base!$A$1:$A$300)))),COLUMNS($A39:B39)),2),"")} | D39: {=IF(COUNTIF(Base!$A$1:$A$300,$A39)>COUNTA($B39:C39),INDEX(Base!$A$1:$B$300,SMALL(IF(Base!$A$1:$A$300=$A39,ROW(INDIRECT("1:"&ROWS(Base!$A$1:$A$300)))),COLUMNS($A39:C39)),2),"")} | E39: {=IF(COUNTIF(Base!$A$1:$A$300,$A39)>COUNTA($B39:D39),INDEX(Base!$A$1:$B$300,SMALL(IF(Base!$A$1:$A$300=$A39,ROW(INDIRECT("1:"&ROWS(Base!$A$1:$A$300)))),COLUMNS($A39:D39)),2),"")} | F39: {=IF(COUNTIF(Base!$A$1:$A$300,$A39)>COUNTA($B39:E39),INDEX(Base!$A$1:$B$300,SMALL(IF(Base!$A$1:$A$300=$A39,ROW(INDIRECT("1:"&ROWS(Base!$A$1:$A$300)))),COLUMNS($A39:E39)),2),"")}
A40: 228-0186 | C40: {=IF(COUNTIF(Base!$A$1:$A$300,$A40)>COUNTA($B40:B40),INDEX(Base!$A$1:$B$300,SMALL(IF(Base!$A$1:$A$300=$A40,ROW(INDIRECT("1:"&ROWS(Base!$A$1:$A$300)))),COLUMNS($A40:B40)),2),"")} | D40: {=IF(COUNTIF(Base!$A$1:$A$300,$A40)>COUNTA($B40:C40),INDEX(Base!$A$1:$B$300,SMALL(IF(Base!$A$1:$A$300=$A40,ROW(INDIRECT("1:"&ROWS(Base!$A$1:$A$300)))),COLUMNS($A40:C40)),2),"")} | E40: {=IF(COUNTIF(Base!$A$1:$A$300,$A40)>COUNTA($B40:D40),INDEX(Base!$A$1:$B$300,SMALL(IF(Base!$A$1:$A$300=$A40,ROW(INDIRECT("1:"&ROWS(Base!$A$1:$A$300)))),COLUMNS($A40:D40)),2),"")} | F40: {=IF(COUNTIF(Base!$A$1:$A$300,$A40)>COUNTA($B40:E40),INDEX(Base!$A$1:$B$300,SMALL(IF(Base!$A$1:$A$300=$A40,ROW(INDIRECT("1:"&ROWS(Base!$A$1:$A$300)))),COLUMNS($A40:E40)),2),"")}
A41: 4034332 | C41: {=IF(COUNTIF(Base!$A$1:$A$300,$A41)>COUNTA($B41:B41),INDEX(Base!$A$1:$B$300,SMALL(IF(Base!$A$1:$A$300=$A41,ROW(INDIRECT("1:"&ROWS(Base!$A$1:$A$300)))),COLUMNS($A41:B41)),2),"")} -> #NUM! | D41: {=IF(COUNTIF(Base!$A$1:$A$300,$A41)>COUNTA($B41:C41),INDEX(Base!$A$1:$B$300,SMALL(IF(Base!$A$1:$A$300=$A41,ROW(INDIRECT("1:"&ROWS(Base!$A$1:$A$300)))),COLUMNS($A41:C41)),2),"")} | E41: {=IF(COUNTIF(Base!$A$1:$A$300,$A41)>COUNTA($B41:D41),INDEX(Base!$A$1:$B$300,SMALL(IF(Base!$A$1:$A$300=$A41,ROW(INDIRECT("1:"&ROWS(Base!$A$1:$A$300)))),COLUMNS($A41:D41)),2),"")} | F41: {=IF(COUNTIF(Base!$A$1:$A$300,$A41)>COUNTA($B41:E41),INDEX(Base!$A$1:$B$300,SMALL(IF(Base!$A$1:$A$300=$A41,ROW(INDIRECT("1:"&ROWS(Base!$A$1:$A$300)))),COLUMNS($A41:E41)),2),"")}
A42: 4034402 | C42: {=IF(COUNTIF(Base!$A$1:$A$300,$A42)>COUNTA($B42:B42),INDEX(Base!$A$1:$B$300,SMALL(IF(Base!$A$1:$A$300=$A42,ROW(INDIRECT("1:"&ROWS(Base!$A$1:$A$300)))),COLUMNS($A42:B42)),2),"")} -> #NUM! | D42: {=IF(COUNTIF(Base!$A$1:$A$300,$A42)>COUNTA($B42:C42),INDEX(Base!$A$1:$B$300,SMALL(IF(Base!$A$1:$A$300=$A42,ROW(INDIRECT("1:"&ROWS(Base!$A$1:$A$300)))),COLUMNS($A42:C42)),2),"")} | E42: {=IF(COUNTIF(Base!$A$1:$A$300,$A42)>COUNTA($B42:D42),INDEX(Base!$A$1:$B$300,SMALL(IF(Base!$A$1:$A$300=$A42,ROW(INDIRECT("1:"&ROWS(Base!$A$1:$A$300)))),COLUMNS($A42:D42)),2),"")} | F42: {=IF(COUNTIF(Base!$A$1:$A$300,$A42)>COUNTA($B42:E42),INDEX(Base!$A$1:$B$300,SMALL(IF(Base!$A$1:$A$300=$A42,ROW(INDIRECT("1:"&ROWS(Base!$A$1:$A$300)))),COLUMNS($A42:E42)),2),"")}
...

Sheet Feuil7
A1: Z114243-1EA | B1: 9.003475
A2: W42073 | B2: 9.003475
A3: 666020 | B3: 9.003475
A4: Z292168-1EA | B4: 9.003475
A5: 666020 | B5: 9.003475
A6: C15980 | B6: 9.019010
A7: 9.019 010 | B7: 9.019010
A8: 9.019 020 | B8: 9.019020
A9: 149-0261 | B9: 9.019020
A10: 9.019.030 | B10: 9.019030
A11: 149-0208 | B11: 9.019030
A12: 149-0217 | B12: 9.019035
... A86: 212-0025 | B86: 0215002
A87: 10313032 | B87: 0313032
A88: 442-0439 | B88: 0371019
A89: 442-0110 | B89: 0371019
A90: 442-0438 | B90: 0371021
A91: 442-4505 | B91: 0371101
A92: 442-0349 | B92: 0371112
A93: 442-9015 | B93: 0371112
A94: 442-0385 | B94: 0378300
A95: 442-0387 | B95: 0378400
A96: 442-0093 | B96: 0378400
A97: 442-0387 | B97: 0378400
A98: 442-0388 | B98: 0378500
A99: 442-0389 | B99: 0378600
... A179: 26398293 | B179: 9016000
A180: 70003607 | B180: 9913150
A181: 1.09532.0001 | B181: 1.09532.0001
A182: 1.09543.0001 | B182: 1.09543.0001
A183: 1.09584.0001 | B183: 1.09584.0001
A184: 35334.603 | B184: 1.10004.0001
A185: 1.10020.0002 | B185: 1.10020.0001
A186: 1.10036.0001 | B186: 1.10036.0001
A187: 1100440001 | B187: 1.10044.0001
A188: 1.10079.0001 | B188: 1.10079.0001
A189: 442-0371
A190: 442-0356
A191: A7204435
A192: 50 646 215
...
