Workbook
Name appertises: Conserves!$A$1:$A$101
Name boites: Conserves!$A$1:$B$101
Name carcut: 'Viande charcut'!$A$1:$A$17
Name Conserves: Conserves!$A$1:$A$34
Name cremerie: 'Cremerie oeuf'!$A$1:$B$114
Name cremeries: 'Cremerie oeuf'!$A$1:$A$114
Name epicerie: 'epicerie patisserie'!$A$1:$A$323
Name fruitlegume: 'fruits et legumes'!$A$1:$A$146
Name pain: pain!$A$1:$A$33

Sheet Feuil1
A1: Bulletin de fabrication | I1: Menu
A2: Atelier cuisine | D2: portions: | E2: 36 | F2: 1
A3: Date: | D3: Heure: | E3: 8h | F3: 2
F4: 3
A5: Professeur: | D5: classe: | F5: 4
A6: Classification des denrées | D6: Plat 1 | E6: Plat2 | F6: Plat 3 | G6: Plat 4 | H6: Unités | I6: Quantité | J6: Prix unitaire | K6: Coûts
A7: Viande | I7: =IF(B7="","",SUM(D7:G7)) | J7: =IF(B7="","",VLOOKUP(B7,'Viande charcut'!$A$1:$B$17,2,0)) | K7: =IF(B7="","",I7*J7)
A8: Charcuterie | I8: =IF(B8="","",SUM(D8:G8)) | J8: =IF(B8="","",VLOOKUP(B8,'Viande charcut'!$A$1:$B$17,2,0)) | K8: =IF(B8="","",I8*J8)
I9: =IF(B9="","",SUM(D9:G9)) | J9: =IF(B9="","",VLOOKUP(B9,'Cremerie oeuf'!$A$1:$B$114,2,0)) | K9: =IF(B9="","",I9*J9)
I10: =IF(B10="","",SUM(D10:G10)) | J10: =IF(B10="","",VLOOKUP(B10,'Cremerie oeuf'!$A$1:$B$114,2,0)) | K10: =IF(B10="","",I10*J10)
I11: =IF(B11="","",SUM(D11:G11)) | J11: =IF(B11="","",VLOOKUP(B11,'Cremerie oeuf'!$A$1:$B$114,2,0)) | K11: =IF(B11="","",I11*J11)
A12: crèmerie | I12: =IF(B12="","",SUM(D12:G12)) | J12: =IF(B12="","",VLOOKUP(B12,'Cremerie oeuf'!$A$1:$B$114,2,0)) | K12: =IF(B12="","",I12*J12)
A13: œufs | I13: =IF(B13="","",SUM(D13:G13)) | J13: =IF(B13="","",VLOOKUP(B13,'Cremerie oeuf'!$A$1:$B$114,2,0)) | K13: =IF(B13="","",I13*J13)
A14: fromages | I14: =IF(B14="","",SUM(D14:G14)) | J14: =IF(B14="","",VLOOKUP(B14,'Cremerie oeuf'!$A$1:$B$114,2,0)) | K14: =IF(B14="","",I14*J14)
I15: =IF(B15="","",SUM(D15:G15)) | J15: =IF(B15="","",VLOOKUP(B15,'Cremerie oeuf'!$A$1:$B$114,2,0)) | K15: =IF(B15="","",I15*J15)
I16: =IF(B16="","",SUM(D16:G16)) | J16: =IF(B16="","",VLOOKUP(B16,'Cremerie oeuf'!$A$1:$B$114,2,0)) | K16: =IF(B16="","",I16*J16)
I17: =IF(B17="","",SUM(D17:G17)) | J17: =IF(B17="","",VLOOKUP(B17,'Cremerie oeuf'!$A$1:$B$114,2,0)) | K17: =IF(B17="","",I17*J17)
I18: =IF(B18="","",SUM(D18:G18)) | J18: =IF(B18="","",VLOOKUP(B18,'epicerie patisserie'!$A$1:$B$323,2,0)) | K18: =IF(B18="","",I18*J18)
I19: =IF(B19="","",SUM(D19:G19)) | J19: =IF(B19="","",VLOOKUP(B19,'epicerie patisserie'!$A$1:$B$323,2,0)) | K19: =IF(B19="","",I19*J19)
I20: =IF(B20="","",SUM(D20:G20)) | J20: =IF(B20="","",VLOOKUP(B20,'epicerie patisserie'!$A$1:$B$323,2,0)) | K20: =IF(B20="","",I20*J20)
A21: Epicerie | I21: =IF(B21="","",SUM(D21:G21)) | J21: =IF(B21="","",VLOOKUP(B21,'epicerie patisserie'!$A$1:$B$323,2,0)) | K21: =IF(B21="","",I21*J21)
A22: Patisserie | I22: =IF(B22="","",SUM(D22:G22)) | J22: =IF(B22="","",VLOOKUP(B22,'epicerie patisserie'!$A$1:$B$323,2,0)) | K22: =IF(B22="","",I22*J22)
A23: Deshydratés | I23: =IF(B23="","",SUM(D23:G23)) | J23: =IF(B23="","",VLOOKUP(B23,'epicerie patisserie'!$A$1:$B$323,2,0)) | K23: =IF(B23="","",I23*J23)
I24: =IF(B24="","",SUM(D24:G24)) | J24: =IF(B24="","",VLOOKUP(B24,'epicerie patisserie'!$A$1:$B$323,2,0)) | K24: =IF(B24="","",I24*J24)
I25: =IF(B25="","",SUM(D25:G25)) | J25: =IF(B25="","",VLOOKUP(B25,'epicerie patisserie'!$A$1:$B$323,2,0)) | K25: =IF(B25="","",I25*J25)
I26: =IF(B26="","",SUM(D26:G26)) | J26: =IF(B26="","",VLOOKUP(B26,'epicerie patisserie'!$A$1:$B$323,2,0)) | K26: =IF(B26="","",I26*J26)
I27: =IF(B27="","",SUM(D27:G27)) | J27: =IF(B27="","",VLOOKUP(B27,'epicerie patisserie'!$A$1:$B$323,2,0)) | K27: =IF(B27="","",I27*J27)
I28: =IF(B28="","",SUM(D28:G28)) | J28: =IF(B28="","",VLOOKUP(B28,'epicerie patisserie'!$A$1:$B$323,2,0)) | K28: =IF(B28="","",I28*J28)
I29: =IF(B29="","",SUM(D29:G29)) | J29: =IF(B29="","",VLOOKUP(B29,'epicerie patisserie'!$A$1:$B$323,2,0)) | K29: =IF(B29="","",I29*J29)
B30: tomate | I30: =IF(B30="","",SUM(D30:G30)) -> 0 | J30: =IF(B30="","",VLOOKUP(B30,'fruits et legumes'!$A$1:$B$145,2,0)) -> 1.5566 | K30: =IF(B30="","",I30*J30) -> 0
I31: =IF(B31="","",SUM(D31:G31)) | J31: =IF(B31="","",VLOOKUP(B31,'fruits et legumes'!$A$1:$B$145,2,0)) | K31: =IF(B31="","",I31*J31)
A32: Legumes | I32: =IF(B32="","",SUM(D32:G32)) | J32: =IF(B32="","",VLOOKUP(B32,'fruits et legumes'!$A$1:$B$145,2,0)) | K32: =IF(B32="","",I32*J32)
A33: et | I33: =IF(B33="","",SUM(D33:G33)) | J33: =IF(B33="","",VLOOKUP(B33,'fruits et legumes'!$A$1:$B$145,2,0)) | K33: =IF(B33="","",I33*J33)
A34: fruits | I34: =IF(B34="","",SUM(D34:G34)) | J34: =IF(B34="","",VLOOKUP(B34,'fruits et legumes'!$A$1:$B$145,2,0)) | K34: =IF(B34="","",I34*J34)
A35: frais | I35: =IF(B35="","",SUM(D35:G35)) | J35: =IF(B35="","",VLOOKUP(B35,'fruits et legumes'!$A$1:$B$145,2,0)) | K35: =IF(B35="","",I35*J35)
I36: =IF(B36="","",SUM(D36:G36)) | J36: =IF(B36="","",VLOOKUP(B36,'fruits et legumes'!$A$1:$B$145,2,0)) | K36: =IF(B36="","",I36*J36)
I37: =IF(B37="","",SUM(D37:G37)) | J37: =IF(B37="","",VLOOKUP(B37,'fruits et legumes'!$A$1:$B$145,2,0)) | K37: =IF(B37="","",I37*J37)
I38: =IF(B38="","",SUM(D38:G38)) | J38: =IF(B38="","",VLOOKUP(B38,'fruits et legumes'!$A$1:$B$145,2,0)) | K38: =IF(B38="","",I38*J38)
I39: =IF(B39="","",SUM(D39:G39)) | J39: =IF(B39="","",VLOOKUP(B39,'fruits et legumes'!$A$1:$B$145,2,0)) | K39: =IF(B39="","",I39*J39)
A40: surgeles | I40: =IF(B40="","",SUM(D40:G40)) | J40: =IF(B40="","",VLOOKUP(B40,'fruits et legumes'!$A$1:$B$145,2,0)) | K40: =IF(B40="","",I40*J40)
I41: =IF(B41="","",SUM(D41:G41)) | J41: =IF(B41="","",VLOOKUP(B41,'fruits et legumes'!$A$1:$B$145,2,0)) | K41: =IF(B41="","",I41*J41)
A42: appertises | I42: =IF(B42="","",SUM(D42:G42)) | J42: =IF(B42="","",VLOOKUP(B42, Conserves!$A$1:$B$101,2,0)) | K42: =IF(B42="","",I42*J42)
A43: confitures | I43: =IF(B43="","",SUM(D43:G43)) | J43: =IF(B43="","",VLOOKUP(B43, Conserves!$A$1:$B$101,2,0)) | K43: =IF(B43="","",I43*J43)
I44: =IF(B44="","",SUM(D44:G44)) | J44: =IF(B44="","",VLOOKUP(B44, Conserves!$A$1:$B$101,2,0)) | K44: =IF(B44="","",I44*J44)
A45: Boisson | I45: =IF(B45="","",SUM(D45:G45)) | K45: =IF(B45="","",I45*J45)
I46: =IF(B46="","",SUM(D46:G46)) | K46: =IF(B46="","",I46*J46)
A47: Pain | I47: =IF(B47="","",SUM(D47:G47)) | J47: =IF(B47="","",VLOOKUP(B47,pain!$A$1:$B$33,2,0)) | K47: =IF(B47="","",I47*J47)
I48: =IF(B48="","",SUM(D48:G48)) | J48: =IF(B48="","",VLOOKUP(B48,pain!$A$1:$B$33,2,0)) | K48: =IF(B48="","",I48*J48)
A49: Le chef des travaux | D49: Le magasinier | F49: Le professeur | H49: Coût total des denrées | K49: =SUM(K7:K48) -> 0
H50: cout/portion | K50: =K49/E2 -> 0

Sheet Conserves
A1: abricot 4/4 | B1: 1.3562
A2: abricot 5/1 | B2: 4.63
A3: airelle 4/4 | B3: 4.32
A4: ananas au sirop 4/4 | B4: 0.7001
A5: anchois filet 2/1 | B5: 9.26
A6: artichaut 4/4 | B6: 2.9
A7: asperge 1/4 | B7: 1.53
A8: bigarreaux 4/4 | B8: 1.8296
A9: bigarreaux 5/1 | B9: 12.98
A10: bisque de homars 4/4 | B10: 4.5
A11: blanc de poireau 3/1 | B11: 6.4
A12: capre 4/4 | B12: 1.4867
... A105: pousse de soja 4/4 | B105: 1.6867

Sheet Viande charcut
A1: andouille | B1: 13.5
A2: andouille de guemene | B2: 18.2
A3: andouillette | B3: 9.8
A4: bacon | B4: 4.9
A5: chipolatas | B5: 5
A6: chorrizo | B6: 2.5592
A7: coppa | B7: 1.886
A8: fromage de tete | B8: 3.1709
A9: jambon divers | B9: 55.95
A10: jambon italien | B10: 2.511
A11: jambon serrano | B11: 3.63
A12: merguez | B12: 5
... A24: epaule de sanglier | B24: 12.57

Sheet Boissons
A1: the vert | B1: 4.56
A2: the dosette | B2: 6.211
A3: pulco citron | B3: 3.576
A4: pulco orange | B4: 7.057
A5: tisane | B5: 1.2097
A6: cacao amer | B6: 8.999
A7: cafe en grains | B7: 14.058
A8: cafe deca | B8: 4.6767
A9: cafe moulu | B9: 5.8479
A10: cafe robusta | B10: 2.7307
A11: nescafe | B11: 8.3
A12: cacao sachet | B12: 0.2095
... A16: the a la menthe | B16: 2.844

Sheet epicerie patisserie
A1: aide a rotir | B1: 13.92
A2: amande effilee | B2: 7.72
A3: amande en grains | B3: 7.9103
A4: amande en poudre | B4: 7.6186
A5: amande entiere | B5: 11.94
A6: angelique | B6: 8.178
A7: anis | B7: 1.635
A8: arome amer | B8: 1.052
A9: arome patrelle | B9: 6.7535
A10: aspartam | B10: 2.379
A11: badiane | B11: 17.423
A12: baies de genievre | B12: 6.36
... A330: lait de coco | B330: 0.9952

Sheet surgeles
A1: asperges | B1: 6.14
A2: boule de berlin au chocolat | B2: 0.206
A3: boule de berlin pomme | B3: 0.3
A4: brocolis | B4: 1.2
A5: buche noel | B5: 0.18
A6: carottes | B6: 1.46
A7: cassis | B7: 1.83
A8: cepes entier | B8: 16.6
A9: cepes morceaux surgeles | B9: 10.1
A10: cerise | B10: 2.8961
A11: champignon mignature | B11: 2.27
A12: chausson au pomme | B12: 0.2134
... A104: pain de mie | B104: 2.6667

Sheet fruits et legumes
A1: abricot | B1: 1.516 | C1: 0.045
A2: ail | B2: 3.55
A3: ail rose de lautrec | B3: 4.1232
A4: ananas | B4: 1.5 | C4: 1.8
A5: ananas victoria | B5: 4.893 | C5: 1.8
A6: aneth | B6: 1.05
A7: artichaut | B7: 1.4 | C7: 0.3
A8: asperge | B8: 8.95
A9: aubergine | B9: 1.6331 | C9: 0.4
A10: avocat | B10: 0.65 | C10: 0.15
A11: banane | B11: 1.4 | C11: 0.15
A12: basilic | B12: 1.05
A13: betterave cuite s/v | B13: 2.8
A14: betterave rouge crue | B14: 1.65
A15: brocoli | B15: 2.8 | C15: 0.6
A16: carambole | B16: 10.5
A17: cardons | B17: 2.2899
A18: carotte fane | B18: 1.55
A19: carottes | B19: 1.0066 | C19: 0.125
A20: carottes rapees | B20: 2.839
A21: celeri branche | B21: 1.7 | C21: 0.03
A22: celeri rave | B22: 1.4787 | C22: 1
A23: celeri remoulade | B23: 3.252
A24: cepe | B24: 24.679
A25: cerfeuille | B25: 1.0111
A26: cerise | B26: 3.7
A27: champignon de paris | B27: 3.9 | C27: 0.015
A28: champignon noir | B28: 5.904
A29: chou blanc | B29: 1.4056
A30: chou chinois | B30: 1.45
A31: chou fleur | B31: 1.85 | C31: 1.5
A32: chou rave | B32: 0.3634
A33: chou rouge | B33: 1.05 | C33: 1.5
A34: chou vert | B34: 1.5 | C34: 2
A35: choucroute | B35: 1.9
A36: choux de bruxelle | B36: 2.1
A37: ciboulette | B37: 1
A38: Citron | B38: 2.0941 | C38: 0.12
A39: citron vert | B39: 4.5 | C39: 0.1
A40: clementine | B40: 1.95 | C40: 0.07
A41: coing | B41: 1.439
A42: concombre | B42: 0.55 | C42: 0.5
A43: coriandre | B43: 1.05
A44: cote de blette | B44: 1.011
A45: courgette | B45: 1.3467 | C45: 0.225
A46: cresson | B46: 1.85
A47: datte | B47: 1.179
A48: echalote | B48: 0.85 | C48: 0.025
A49: endive | B49: 1.35 | C49: 0.15
A50: epinard | B50: 2.25
A51: estragon | B51: 0.95
A52: fenouil | B52: 2.05
A53: figue | B53: 17.5
A54: figue seche | B54: 5.547
A55: fraise | B55: 2.8
A56: framboise | B56: 2.1
A57: fruit de la passion | B57: 8.65
A58: gingembre | B58: 6.5
A59: girolles fraiches | B59: 8.718
A60: goyave | B60: 7.401
A61: grenade | B61: 1.263
... A64: kaki | B64: 0.8
A65: kiwi | B65: 0.3 | C65: 0.1
A66: kumkats | B66: 1.895
A67: legumes bio | B67: 29.17
A68: litchee | B68: 6.661
A69: mangue | B69: 1.55 | C69: 0.4
A70: melon | B70: 1.7 | C70: 600
A71: menthe | B71: 1.05
A72: mesclum | B72: 8.5
A73: mini artichaut | B73: 3.369
A74: mini carottes | B74: 6.991
A75: mini navets | B75: 6.317
A76: mini oignons | B76: 8.254
A77: mirabelle | B77: 1.179
A78: myrtille | B78: 4.497
A79: navet | B79: 2.037 | C79: 0.3
A80: navet fane | B80: 1.8
A81: nectarine | B81: 1.9323 | C81: 0.15
A82: noix de coco | B82: 0.905
A83: oignon | B83: 0.9 | C83: 0.1
A84: oignon blanc botte | B84: 1.35
A85: oignon rouge | B85: 1.25
A86: orange | B86: 1.4951 | C86: 0.2
A87: origan | B87: 1.05
A88: oseille | B88: 0.95
A89: pamplemousse | B89: 0.55 | C89: 0.4
A90: papaye | B90: 5.058
A91: pasteque | B91: 3.55
A92: patate douce | B92: 2.95
A93: peche | B93: 2.878 | C93: 0.15
A94: persil | B94: 1.1533
A95: persil plat | B95: 1.3619
A96: petit pois | B96: 2.526
A97: physalis | B97: 1.7
A98: piment fort | B98: 0.987
A99: pissenlit | B99: 6.2184
A100: pleurotte | B100: 6.5
A101: poire | B101: 1.4071 | C101: 0.12
A102: poireaux | B102: 2.11 | C102: 0.15
...

Sheet pain
A1: baguette | B1: 0.56
A2: baguette de campagne | B2: 0.805
A3: brioche | B3: 2.98
A4: bruschelline | B4: 1.895
A5: croissant | B5: 0.55
A6: ficelle | B6: 0.2592
A7: miche surprise | B7: 0.8842
A8: pain | B8: 0.72
A9: pain a hamburger | B9: 0.567
A10: pain au chocolat | B10: 0.6
A11: pain au curcuma | B11: 1.289
A12: pain au lard | B12: 1.58
... A33: petit pain 80g | B33: 0.19

Sheet Cremerie oeuf
A1: assortiment fromage | B1: 104.72
A2: astra | B2: 3.07
A3: babybel | B3: 0.422
A4: banon | B4: 3.459
A5: beurre 1/2 sel | B5: 5.315
A6: beurre 1er prix | B6: 3.951
A7: beurre au sel de guérande | B7: 1.327
A8: beurre baratte | B8: 2.284
A9: beurre doux | B9: 4.535
A10: beurre isigny | B10: 1.6777
A11: beurre micro | B11: 5.05
A12: beurre surgere | B12: 6.2559
... A114: yaourt nature | B114: 0.093

Sheet Feuil5
