Workbook
Name _000: academies!$A$1
Name _001: academies!$A$2
Name _002: academies!$A$3
Name _003: academies!$A$4
Name _004: academies!$A$5
Name _005: academies!$A$6
Name _006: academies!$A$7
Name _007: academies!$A$8
Name _008: academies!$A$9
Name _009: academies!$A$10
Name _010: academies!$A$11
Name _011: academies!$A$12
Name _012: academies!$A$13
Name _013: academies!$A$14
Name _014: academies!$A$15
Name _015: academies!$A$16
Name _016: academies!$A$17
Name _017: academies!$A$18
Name _018: academies!$A$19
Name _019: academies!$A$20
Name _020: academies!$A$21
Name _021: academies!$A$22
Name _022: academies!$A$23
Name _023: academies!$A$24
Name _024: academies!$A$25
Name _025: academies!$A$26
Name _027: academies!$A$27
Name _028: academies!$A$28
Name _031: academies!$A$29
Name _032: academies!$A$30
Name _033: academies!$A$31
Name _040: academies!$A$32
Name _041: academies!$A$33
Name _042: academies!$A$34
Name _043: academies!$A$35
Name _044: academies!$A$36
Name departements_1: departements!$A$1:$A$106
Name listeCandidats: vivier_candidats!$A$1:$I$4

Sheet vivier_candidats
A1: Civilité | B1: Nom | C1: Prenom | D1: Date de naissance | E1: Nom établissement | F1: Département | G1: Corps | H1: Grade | I1: Academie

Sheet corps
A1: ADJ. ADM DE L'EN ET DE L'ENS SUP | B1: 056
A2: ADJ.TECH. LAB DES ETAB. ENS | B2: 088
A3: ADJOINT ADMINISTRATIF ADM.CENTR.(N.S) | B3: 212
A4: ADJOINT ADMINISTRATIF DE L'AC | B4: 220
A5: ADJOINT ADMINISTRATIF DES SERV. EXT. | B5: 912
A6: ADJOINT ADMINISTRATIF( RECHERCHE CNRS) | B6: 263
A7: ADJOINT AMINISTRATIF DES SER. DEC. | B7: 915
A8: ADJOINT D'EDUCATION (CT) | B8: 638
A9: ADJOINT D'ENSEIGNEMENT | B9: 567
A10: ADJOINT D'ENSEIGNEMENT (CT) | B10: 633
A11: ADJOINT TECHNIQUE ( RECHERCHE CNRS) | B11: 278
A12: ADJOINT TECHNIQUE DE L'AC | B12: 230
... A405: VACATAIRE | B405: 898

Sheet grades
A1: A.P.A.S.U. DE 1ERE CLASSE | B1: 0326
A2: A.P.A.S.U. DE 2EME CLASSE | B2: 0327
A3: ADJ. ADM DE L'AC CL1 | B3: 2202
A4: ADJ. ADM DE L'AC CL2 | B4: 2201
A5: ADJ. ADM DE L'AC PR CL1 | B5: 2204
A6: ADJ. ADM DE L'AC PR CL2 | B6: 2203
A7: ADJ. ADM DE L'EN ET DE L'ENS SUP PR C1 | B7: 0564
A8: ADJ. ADM DE L'EN ET DE L'ENS SUP PR C2 | B8: 0563
A9: ADJ. ADM DE L'EN ET DE L'ENS SUP CL 1 | B9: 0562
A10: ADJ. ADM DE L'EN ET DE L'ENS SUP CL 2 | B10: 0561
A11: ADJ. ADM DES SERV DEC CL 2 | B11: 9151
A12: ADJ. ADM DES SERV DEC CL1 | B12: 9152
... A1046: VACATAIRE | B1046: 8980

Sheet civilites
A1: Madame | B1: Mme
A2: Monsieur | B2: M.

Sheet academies
A1: Administration centrale | B1: 000
A2: Aix-Marseille | B2: 002
A3: Amiens | B3: 020
A4: Besançon | B4: 003
A5: Bordeaux | B5: 004
A6: Caen | B6: 005
A7: Clermont-Ferrand | B7: 006
A8: Corse | B8: 027
A9: Créteil | B9: 024
A10: Dijon | B10: 007
A11: Grenoble | B11: 008
A12: Guadeloupe | B12: 032
... A36: Wallis et Futuna | B36: 042

Sheet departements
A1: AIN | B1: 001
A2: AISNE | B2: 002
A3: ALLIER | B3: 003
A4: ALPES-DE-HAUTE-PROVENCE | B4: 004
A5: HAUTES-ALPES | B5: 005
A6: ALPES-MARITIMES | B6: 006
A7: ARDECHE | B7: 007
A8: ARDENNES | B8: 008
A9: ARIEGE | B9: 009
A10: AUBE | B10: 010
A11: AUDE | B11: 011
A12: AVEYRON | B12: 012
... A106: TERRES AUSTRALES ET ANTART | B106: 989

Sheet exportCANDELEC
A1: Civilité | B1: Nom | C1: Prenom | D1: Date de naissance | E1: Nom établissement | F1: Département | G1: Grade | H1: Corps | I1: Academie
A2: =IF(ISNA(VLOOKUP(vivier_candidats!A2,civilites!A$1:B$2,2,FALSE)),"",VLOOKUP(vivier_candidats!A2,civilites!A$1:B$2,2,FALSE)) | B2: =IF(vivier_candidats!$B2 = 0," ",vivier_candidats!$B2) | C2: =IF(vivier_candidats!$C2 = 0," ",vivier_candidats!$C2) | D2: =IF(vivier_candidats!$D2 = 0," ",vivier_candidats!$D2) | E2: =IF(vivier_candidats!$E2 = 0," ",vivier_candidats!$E2) | F2: =IF(ISNA(VLOOKUP(vivier_candidats!$F2,departements!A$1:B$106,2,FALSE)),"",VLOOKUP(vivier_candidats!$F2,departements!A$1:B$106,2,FALSE)) | G2: =IF(ISNA(VLOOKUP(vivier_candidats!H2,grades!$A$1:$B$1046,2,FALSE)),"",VLOOKUP(vivier_candidats!H2,grades!$A$1:$B$1046,2,FALSE)) | H2: =IF(ISNA(VLOOKUP(vivier_candidats!G2,corps!$A$1:$B$405,2,FALSE)),"",VLOOKUP(vivier_candidats!G2,corps!$A$1:$B$405,2,FALSE)) | I2: =IF(ISNA(VLOOKUP(vivier_candidats!I2,academies!$A$1:$B$35,2,FALSE)),"",VLOOKUP(vivier_candidats!I2,academies!$A$1:$B$35,2,FALSE))
A3: =IF(ISNA(VLOOKUP(vivier_candidats!A3,civilites!A$1:B$2,2,FALSE)),"",VLOOKUP(vivier_candidats!A3,civilites!A$1:B$2,2,FALSE)) | B3: =IF(vivier_candidats!$B3 = 0," ",vivier_candidats!$B3) | C3: =IF(vivier_candidats!$C3 = 0," ",vivier_candidats!$C3) | D3: =IF(vivier_candidats!$D3 = 0," ",vivier_candidats!$D3) | E3: =IF(vivier_candidats!$E3 = 0," ",vivier_candidats!$E3) | F3: =IF(ISNA(VLOOKUP(vivier_candidats!$F3,departements!A$1:B$106,2,FALSE)),"",VLOOKUP(vivier_candidats!$F3,departements!A$1:B$106,2,FALSE)) | G3: =IF(ISNA(VLOOKUP(vivier_candidats!H3,grades!$A$1:$B$1046,2,FALSE)),"",VLOOKUP(vivier_candidats!H3,grades!$A$1:$B$1046,2,FALSE)) | H3: =IF(ISNA(VLOOKUP(vivier_candidats!G3,corps!$A$1:$B$405,2,FALSE)),"",VLOOKUP(vivier_candidats!G3,corps!$A$1:$B$405,2,FALSE)) | I3: =IF(ISNA(VLOOKUP(vivier_candidats!I3,academies!$A$1:$B$35,2,FALSE)),"",VLOOKUP(vivier_candidats!I3,academies!$A$1:$B$35,2,FALSE))
A4: =IF(ISNA(VLOOKUP(vivier_candidats!A4,civilites!A$1:B$2,2,FALSE)),"",VLOOKUP(vivier_candidats!A4,civilites!A$1:B$2,2,FALSE)) | B4: =IF(vivier_candidats!$B4 = 0," ",vivier_candidats!$B4) | C4: =IF(vivier_candidats!$C4 = 0," ",vivier_candidats!$C4) | D4: =IF(vivier_candidats!$D4 = 0," ",vivier_candidats!$D4) | E4: =IF(vivier_candidats!$E4 = 0," ",vivier_candidats!$E4) | F4: =IF(ISNA(VLOOKUP(vivier_candidats!$F4,departements!A$1:B$106,2,FALSE)),"",VLOOKUP(vivier_candidats!$F4,departements!A$1:B$106,2,FALSE)) | G4: =IF(ISNA(VLOOKUP(vivier_candidats!H4,grades!$A$1:$B$1046,2,FALSE)),"",VLOOKUP(vivier_candidats!H4,grades!$A$1:$B$1046,2,FALSE)) | H4: =IF(ISNA(VLOOKUP(vivier_candidats!G4,corps!$A$1:$B$405,2,FALSE)),"",VLOOKUP(vivier_candidats!G4,corps!$A$1:$B$405,2,FALSE)) | I4: =IF(ISNA(VLOOKUP(vivier_candidats!I4,academies!$A$1:$B$35,2,FALSE)),"",VLOOKUP(vivier_candidats!I4,academies!$A$1:$B$35,2,FALSE))
A5: =IF(ISNA(VLOOKUP(vivier_candidats!A5,civilites!A$1:B$2,2,FALSE)),"",VLOOKUP(vivier_candidats!A5,civilites!A$1:B$2,2,FALSE)) | B5: =IF(vivier_candidats!$B5 = 0," ",vivier_candidats!$B5) | C5: =IF(vivier_candidats!$C5 = 0," ",vivier_candidats!$C5) | D5: =IF(vivier_candidats!$D5 = 0," ",vivier_candidats!$D5) | E5: =IF(vivier_candidats!$E5 = 0," ",vivier_candidats!$E5) | F5: =IF(ISNA(VLOOKUP(vivier_candidats!$F5,departements!A$1:B$106,2,FALSE)),"",VLOOKUP(vivier_candidats!$F5,departements!A$1:B$106,2,FALSE)) | G5: =IF(ISNA(VLOOKUP(vivier_candidats!H5,grades!$A$1:$B$1046,2,FALSE)),"",VLOOKUP(vivier_candidats!H5,grades!$A$1:$B$1046,2,FALSE)) | H5: =IF(ISNA(VLOOKUP(vivier_candidats!G5,corps!$A$1:$B$405,2,FALSE)),"",VLOOKUP(vivier_candidats!G5,corps!$A$1:$B$405,2,FALSE)) | I5: =IF(ISNA(VLOOKUP(vivier_candidats!I5,academies!$A$1:$B$35,2,FALSE)),"",VLOOKUP(vivier_candidats!I5,academies!$A$1:$B$35,2,FALSE))
A6: =IF(ISNA(VLOOKUP(vivier_candidats!A6,civilites!A$1:B$2,2,FALSE)),"",VLOOKUP(vivier_candidats!A6,civilites!A$1:B$2,2,FALSE)) | B6: =IF(vivier_candidats!$B6 = 0," ",vivier_candidats!$B6) | C6: =IF(vivier_candidats!$C6 = 0," ",vivier_candidats!$C6) | D6: =IF(vivier_candidats!$D6 = 0," ",vivier_candidats!$D6) | E6: =IF(vivier_candidats!$E6 = 0," ",vivier_candidats!$E6) | F6: =IF(ISNA(VLOOKUP(vivier_candidats!$F6,departements!A$1:B$106,2,FALSE)),"",VLOOKUP(vivier_candidats!$F6,departements!A$1:B$106,2,FALSE)) | G6: =IF(ISNA(VLOOKUP(vivier_candidats!H6,grades!$A$1:$B$1046,2,FALSE)),"",VLOOKUP(vivier_candidats!H6,grades!$A$1:$B$1046,2,FALSE)) | H6: =IF(ISNA(VLOOKUP(vivier_candidats!G6,corps!$A$1:$B$405,2,FALSE)),"",VLOOKUP(vivier_candidats!G6,corps!$A$1:$B$405,2,FALSE)) | I6: =IF(ISNA(VLOOKUP(vivier_candidats!I6,academies!$A$1:$B$35,2,FALSE)),"",VLOOKUP(vivier_candidats!I6,academies!$A$1:$B$35,2,FALSE))
A7: =IF(ISNA(VLOOKUP(vivier_candidats!A7,civilites!A$1:B$2,2,FALSE)),"",VLOOKUP(vivier_candidats!A7,civilites!A$1:B$2,2,FALSE)) | B7: =IF(vivier_candidats!$B7 = 0," ",vivier_candidats!$B7) | C7: =IF(vivier_candidats!$C7 = 0," ",vivier_candidats!$C7) | D7: =IF(vivier_candidats!$D7 = 0," ",vivier_candidats!$D7) | E7: =IF(vivier_candidats!$E7 = 0," ",vivier_candidats!$E7) | F7: =IF(ISNA(VLOOKUP(vivier_candidats!$F7,departements!A$1:B$106,2,FALSE)),"",VLOOKUP(vivier_candidats!$F7,departements!A$1:B$106,2,FALSE)) | G7: =IF(ISNA(VLOOKUP(vivier_candidats!H7,grades!$A$1:$B$1046,2,FALSE)),"",VLOOKUP(vivier_candidats!H7,grades!$A$1:$B$1046,2,FALSE)) | H7: =IF(ISNA(VLOOKUP(vivier_candidats!G7,corps!$A$1:$B$405,2,FALSE)),"",VLOOKUP(vivier_candidats!G7,corps!$A$1:$B$405,2,FALSE)) | I7: =IF(ISNA(VLOOKUP(vivier_candidats!I7,academies!$A$1:$B$35,2,FALSE)),"",VLOOKUP(vivier_candidats!I7,academies!$A$1:$B$35,2,FALSE))
A8: =IF(ISNA(VLOOKUP(vivier_candidats!A8,civilites!A$1:B$2,2,FALSE)),"",VLOOKUP(vivier_candidats!A8,civilites!A$1:B$2,2,FALSE)) | B8: =IF(vivier_candidats!$B8 = 0," ",vivier_candidats!$B8) | C8: =IF(vivier_candidats!$C8 = 0," ",vivier_candidats!$C8) | D8: =IF(vivier_candidats!$D8 = 0," ",vivier_candidats!$D8) | E8: =IF(vivier_candidats!$E8 = 0," ",vivier_candidats!$E8) | F8: =IF(ISNA(VLOOKUP(vivier_candidats!$F8,departements!A$1:B$106,2,FALSE)),"",VLOOKUP(vivier_candidats!$F8,departements!A$1:B$106,2,FALSE)) | G8: =IF(ISNA(VLOOKUP(vivier_candidats!H8,grades!$A$1:$B$1046,2,FALSE)),"",VLOOKUP(vivier_candidats!H8,grades!$A$1:$B$1046,2,FALSE)) | H8: =IF(ISNA(VLOOKUP(vivier_candidats!G8,corps!$A$1:$B$405,2,FALSE)),"",VLOOKUP(vivier_candidats!G8,corps!$A$1:$B$405,2,FALSE)) | I8: =IF(ISNA(VLOOKUP(vivier_candidats!I8,academies!$A$1:$B$35,2,FALSE)),"",VLOOKUP(vivier_candidats!I8,academies!$A$1:$B$35,2,FALSE))
A9: =IF(ISNA(VLOOKUP(vivier_candidats!A9,civilites!A$1:B$2,2,FALSE)),"",VLOOKUP(vivier_candidats!A9,civilites!A$1:B$2,2,FALSE)) | B9: =IF(vivier_candidats!$B9 = 0," ",vivier_candidats!$B9) | C9: =IF(vivier_candidats!$C9 = 0," ",vivier_candidats!$C9) | D9: =IF(vivier_candidats!$D9 = 0," ",vivier_candidats!$D9) | E9: =IF(vivier_candidats!$E9 = 0," ",vivier_candidats!$E9) | F9: =IF(ISNA(VLOOKUP(vivier_candidats!$F9,departements!A$1:B$106,2,FALSE)),"",VLOOKUP(vivier_candidats!$F9,departements!A$1:B$106,2,FALSE)) | G9: =IF(ISNA(VLOOKUP(vivier_candidats!H9,grades!$A$1:$B$1046,2,FALSE)),"",VLOOKUP(vivier_candidats!H9,grades!$A$1:$B$1046,2,FALSE)) | H9: =IF(ISNA(VLOOKUP(vivier_candidats!G9,corps!$A$1:$B$405,2,FALSE)),"",VLOOKUP(vivier_candidats!G9,corps!$A$1:$B$405,2,FALSE)) | I9: =IF(ISNA(VLOOKUP(vivier_candidats!I9,academies!$A$1:$B$35,2,FALSE)),"",VLOOKUP(vivier_candidats!I9,academies!$A$1:$B$35,2,FALSE))
A10: =IF(ISNA(VLOOKUP(vivier_candidats!A10,civilites!A$1:B$2,2,FALSE)),"",VLOOKUP(vivier_candidats!A10,civilites!A$1:B$2,2,FALSE)) | B10: =IF(vivier_candidats!$B10 = 0," ",vivier_candidats!$B10) | C10: =IF(vivier_candidats!$C10 = 0," ",vivier_candidats!$C10) | D10: =IF(vivier_candidats!$D10 = 0," ",vivier_candidats!$D10) | E10: =IF(vivier_candidats!$E10 = 0," ",vivier_candidats!$E10) | F10: =IF(ISNA(VLOOKUP(vivier_candidats!$F10,departements!A$1:B$106,2,FALSE)),"",VLOOKUP(vivier_candidats!$F10,departements!A$1:B$106,2,FALSE)) | G10: =IF(ISNA(VLOOKUP(vivier_candidats!H10,grades!$A$1:$B$1046,2,FALSE)),"",VLOOKUP(vivier_candidats!H10,grades!$A$1:$B$1046,2,FALSE)) | H10: =IF(ISNA(VLOOKUP(vivier_candidats!G10,corps!$A$1:$B$405,2,FALSE)),"",VLOOKUP(vivier_candidats!G10,corps!$A$1:$B$405,2,FALSE)) | I10: =IF(ISNA(VLOOKUP(vivier_candidats!I10,academies!$A$1:$B$35,2,FALSE)),"",VLOOKUP(vivier_candidats!I10,academies!$A$1:$B$35,2,FALSE))
A11: =IF(ISNA(VLOOKUP(vivier_candidats!A11,civilites!A$1:B$2,2,FALSE)),"",VLOOKUP(vivier_candidats!A11,civilites!A$1:B$2,2,FALSE)) | B11: =IF(vivier_candidats!$B11 = 0," ",vivier_candidats!$B11) | C11: =IF(vivier_candidats!$C11 = 0," ",vivier_candidats!$C11) | D11: =IF(vivier_candidats!$D11 = 0," ",vivier_candidats!$D11) | E11: =IF(vivier_candidats!$E11 = 0," ",vivier_candidats!$E11) | F11: =IF(ISNA(VLOOKUP(vivier_candidats!$F11,departements!A$1:B$106,2,FALSE)),"",VLOOKUP(vivier_candidats!$F11,departements!A$1:B$106,2,FALSE)) | G11: =IF(ISNA(VLOOKUP(vivier_candidats!H11,grades!$A$1:$B$1046,2,FALSE)),"",VLOOKUP(vivier_candidats!H11,grades!$A$1:$B$1046,2,FALSE)) | H11: =IF(ISNA(VLOOKUP(vivier_candidats!G11,corps!$A$1:$B$405,2,FALSE)),"",VLOOKUP(vivier_candidats!G11,corps!$A$1:$B$405,2,FALSE)) | I11: =IF(ISNA(VLOOKUP(vivier_candidats!I11,academies!$A$1:$B$35,2,FALSE)),"",VLOOKUP(vivier_candidats!I11,academies!$A$1:$B$35,2,FALSE))
A12: =IF(ISNA(VLOOKUP(vivier_candidats!A12,civilites!A$1:B$2,2,FALSE)),"",VLOOKUP(vivier_candidats!A12,civilites!A$1:B$2,2,FALSE)) | B12: =IF(vivier_candidats!$B12 = 0," ",vivier_candidats!$B12) | C12: =IF(vivier_candidats!$C12 = 0," ",vivier_candidats!$C12) | D12: =IF(vivier_candidats!$D12 = 0," ",vivier_candidats!$D12) | E12: =IF(vivier_candidats!$E12 = 0," ",vivier_candidats!$E12) | F12: =IF(ISNA(VLOOKUP(vivier_candidats!$F12,departements!A$1:B$106,2,FALSE)),"",VLOOKUP(vivier_candidats!$F12,departements!A$1:B$106,2,FALSE)) | G12: =IF(ISNA(VLOOKUP(vivier_candidats!H12,grades!$A$1:$B$1046,2,FALSE)),"",VLOOKUP(vivier_candidats!H12,grades!$A$1:$B$1046,2,FALSE)) | H12: =IF(ISNA(VLOOKUP(vivier_candidats!G12,corps!$A$1:$B$405,2,FALSE)),"",VLOOKUP(vivier_candidats!G12,corps!$A$1:$B$405,2,FALSE)) | I12: =IF(ISNA(VLOOKUP(vivier_candidats!I12,academies!$A$1:$B$35,2,FALSE)),"",VLOOKUP(vivier_candidats!I12,academies!$A$1:$B$35,2,FALSE))
A13: =IF(ISNA(VLOOKUP(vivier_candidats!A13,civilites!A$1:B$2,2,FALSE)),"",VLOOKUP(vivier_candidats!A13,civilites!A$1:B$2,2,FALSE)) | B13: =IF(vivier_candidats!$B13 = 0," ",vivier_candidats!$B13) | C13: =IF(vivier_candidats!$C13 = 0," ",vivier_candidats!$C13) | D13: =IF(vivier_candidats!$D13 = 0," ",vivier_candidats!$D13) | E13: =IF(vivier_candidats!$E13 = 0," ",vivier_candidats!$E13) | F13: =IF(ISNA(VLOOKUP(vivier_candidats!$F13,departements!A$1:B$106,2,FALSE)),"",VLOOKUP(vivier_candidats!$F13,departements!A$1:B$106,2,FALSE)) | G13: =IF(ISNA(VLOOKUP(vivier_candidats!H13,grades!$A$1:$B$1046,2,FALSE)),"",VLOOKUP(vivier_candidats!H13,grades!$A$1:$B$1046,2,FALSE)) | H13: =IF(ISNA(VLOOKUP(vivier_candidats!G13,corps!$A$1:$B$405,2,FALSE)),"",VLOOKUP(vivier_candidats!G13,corps!$A$1:$B$405,2,FALSE)) | I13: =IF(ISNA(VLOOKUP(vivier_candidats!I13,academies!$A$1:$B$35,2,FALSE)),"",VLOOKUP(vivier_candidats!I13,academies!$A$1:$B$35,2,FALSE))
A14: =IF(ISNA(VLOOKUP(vivier_candidats!A14,civilites!A$1:B$2,2,FALSE)),"",VLOOKUP(vivier_candidats!A14,civilites!A$1:B$2,2,FALSE)) | B14: =IF(vivier_candidats!$B14 = 0," ",vivier_candidats!$B14) | C14: =IF(vivier_candidats!$C14 = 0," ",vivier_candidats!$C14) | E14: =IF(vivier_candidats!$E14 = 0," ",vivier_candidats!$E14) | F14: =IF(ISNA(VLOOKUP(vivier_candidats!$F14,departements!A$1:B$106,2,FALSE)),"",VLOOKUP(vivier_candidats!$F14,departements!A$1:B$106,2,FALSE)) | G14: =IF(ISNA(VLOOKUP(vivier_candidats!H14,grades!$A$1:$B$1046,2,FALSE)),"",VLOOKUP(vivier_candidats!H14,grades!$A$1:$B$1046,2,FALSE)) | H14: =IF(ISNA(VLOOKUP(vivier_candidats!G14,corps!$A$1:$B$405,2,FALSE)),"",VLOOKUP(vivier_candidats!G14,corps!$A$1:$B$405,2,FALSE)) | I14: =IF(ISNA(VLOOKUP(vivier_candidats!I14,academies!$A$1:$B$35,2,FALSE)),"",VLOOKUP(vivier_candidats!I14,academies!$A$1:$B$35,2,FALSE))
A15: =IF(ISNA(VLOOKUP(vivier_candidats!A15,civilites!A$1:B$2,2,FALSE)),"",VLOOKUP(vivier_candidats!A15,civilites!A$1:B$2,2,FALSE)) | B15: =IF(vivier_candidats!$B15 = 0," ",vivier_candidats!$B15) | C15: =IF(vivier_candidats!$C15 = 0," ",vivier_candidats!$C15) | E15: =IF(vivier_candidats!$E15 = 0," ",vivier_candidats!$E15) | F15: =IF(ISNA(VLOOKUP(vivier_candidats!$F15,departements!A$1:B$106,2,FALSE)),"",VLOOKUP(vivier_candidats!$F15,departements!A$1:B$106,2,FALSE)) | G15: =IF(ISNA(VLOOKUP(vivier_candidats!H15,grades!$A$1:$B$1046,2,FALSE)),"",VLOOKUP(vivier_candidats!H15,grades!$A$1:$B$1046,2,FALSE)) | H15: =IF(ISNA(VLOOKUP(vivier_candidats!G15,corps!$A$1:$B$405,2,FALSE)),"",VLOOKUP(vivier_candidats!G15,corps!$A$1:$B$405,2,FALSE)) | I15: =IF(ISNA(VLOOKUP(vivier_candidats!I15,academies!$A$1:$B$35,2,FALSE)),"",VLOOKUP(vivier_candidats!I15,academies!$A$1:$B$35,2,FALSE))
A16: =IF(ISNA(VLOOKUP(vivier_candidats!A16,civilites!A$1:B$2,2,FALSE)),"",VLOOKUP(vivier_candidats!A16,civilites!A$1:B$2,2,FALSE)) | C16: =IF(vivier_candidats!$C16 = 0," ",vivier_candidats!$C16) | E16: =IF(vivier_candidats!$E16 = 0," ",vivier_candidats!$E16) | F16: =IF(ISNA(VLOOKUP(vivier_candidats!$F16,departements!A$1:B$106,2,FALSE)),"",VLOOKUP(vivier_candidats!$F16,departements!A$1:B$106,2,FALSE)) | G16: =IF(ISNA(VLOOKUP(vivier_candidats!H16,grades!$A$1:$B$1046,2,FALSE)),"",VLOOKUP(vivier_candidats!H16,grades!$A$1:$B$1046,2,FALSE)) | H16: =IF(ISNA(VLOOKUP(vivier_candidats!G16,corps!$A$1:$B$405,2,FALSE)),"",VLOOKUP(vivier_candidats!G16,corps!$A$1:$B$405,2,FALSE)) | I16: =IF(ISNA(VLOOKUP(vivier_candidats!I16,academies!$A$1:$B$35,2,FALSE)),"",VLOOKUP(vivier_candidats!I16,academies!$A$1:$B$35,2,FALSE))
A17: =IF(ISNA(VLOOKUP(vivier_candidats!A17,civilites!A$1:B$2,2,FALSE)),"",VLOOKUP(vivier_candidats!A17,civilites!A$1:B$2,2,FALSE)) | C17: =IF(vivier_candidats!$C17 = 0," ",vivier_candidats!$C17) | E17: =IF(vivier_candidats!$E17 = 0," ",vivier_candidats!$E17) | F17: =IF(ISNA(VLOOKUP(vivier_candidats!$F17,departements!A$1:B$106,2,FALSE)),"",VLOOKUP(vivier_candidats!$F17,departements!A$1:B$106,2,FALSE)) | G17: =IF(ISNA(VLOOKUP(vivier_candidats!H17,grades!$A$1:$B$1046,2,FALSE)),"",VLOOKUP(vivier_candidats!H17,grades!$A$1:$B$1046,2,FALSE)) | H17: =IF(ISNA(VLOOKUP(vivier_candidats!G17,corps!$A$1:$B$405,2,FALSE)),"",VLOOKUP(vivier_candidats!G17,corps!$A$1:$B$405,2,FALSE)) | I17: =IF(ISNA(VLOOKUP(vivier_candidats!I17,academies!$A$1:$B$35,2,FALSE)),"",VLOOKUP(vivier_candidats!I17,academies!$A$1:$B$35,2,FALSE))
A18: =IF(ISNA(VLOOKUP(vivier_candidats!A18,civilites!A$1:B$2,2,FALSE)),"",VLOOKUP(vivier_candidats!A18,civilites!A$1:B$2,2,FALSE)) | C18: =IF(vivier_candidats!$C18 = 0," ",vivier_candidats!$C18) | E18: =IF(vivier_candidats!$E18 = 0," ",vivier_candidats!$E18) | F18: =IF(ISNA(VLOOKUP(vivier_candidats!$F18,departements!A$1:B$106,2,FALSE)),"",VLOOKUP(vivier_candidats!$F18,departements!A$1:B$106,2,FALSE)) | G18: =IF(ISNA(VLOOKUP(vivier_candidats!H18,grades!$A$1:$B$1046,2,FALSE)),"",VLOOKUP(vivier_candidats!H18,grades!$A$1:$B$1046,2,FALSE)) | H18: =IF(ISNA(VLOOKUP(vivier_candidats!G18,corps!$A$1:$B$405,2,FALSE)),"",VLOOKUP(vivier_candidats!G18,corps!$A$1:$B$405,2,FALSE)) | I18: =IF(ISNA(VLOOKUP(vivier_candidats!I18,academies!$A$1:$B$35,2,FALSE)),"",VLOOKUP(vivier_candidats!I18,academies!$A$1:$B$35,2,FALSE))
A19: =IF(ISNA(VLOOKUP(vivier_candidats!A19,civilites!A$1:B$2,2,FALSE)),"",VLOOKUP(vivier_candidats!A19,civilites!A$1:B$2,2,FALSE)) | E19: =IF(vivier_candidats!$E19 = 0," ",vivier_candidats!$E19) | F19: =IF(ISNA(VLOOKUP(vivier_candidats!$F19,departements!A$1:B$106,2,FALSE)),"",VLOOKUP(vivier_candidats!$F19,departements!A$1:B$106,2,FALSE)) | G19: =IF(ISNA(VLOOKUP(vivier_candidats!H19,grades!$A$1:$B$1046,2,FALSE)),"",VLOOKUP(vivier_candidats!H19,grades!$A$1:$B$1046,2,FALSE)) | H19: =IF(ISNA(VLOOKUP(vivier_candidats!G19,corps!$A$1:$B$405,2,FALSE)),"",VLOOKUP(vivier_candidats!G19,corps!$A$1:$B$405,2,FALSE)) | I19: =IF(ISNA(VLOOKUP(vivier_candidats!I19,academies!$A$1:$B$35,2,FALSE)),"",VLOOKUP(vivier_candidats!I19,academies!$A$1:$B$35,2,FALSE))
A20: =IF(ISNA(VLOOKUP(vivier_candidats!A20,civilites!A$1:B$2,2,FALSE)),"",VLOOKUP(vivier_candidats!A20,civilites!A$1:B$2,2,FALSE)) | E20: =IF(vivier_candidats!$E20 = 0," ",vivier_candidats!$E20) | F20: =IF(ISNA(VLOOKUP(vivier_candidats!$F20,departements!A$1:B$106,2,FALSE)),"",VLOOKUP(vivier_candidats!$F20,departements!A$1:B$106,2,FALSE)) | G20: =IF(ISNA(VLOOKUP(vivier_candidats!H20,grades!$A$1:$B$1046,2,FALSE)),"",VLOOKUP(vivier_candidats!H20,grades!$A$1:$B$1046,2,FALSE)) | H20: =IF(ISNA(VLOOKUP(vivier_candidats!G20,corps!$A$1:$B$405,2,FALSE)),"",VLOOKUP(vivier_candidats!G20,corps!$A$1:$B$405,2,FALSE)) | I20: =IF(ISNA(VLOOKUP(vivier_candidats!I20,academies!$A$1:$B$35,2,FALSE)),"",VLOOKUP(vivier_candidats!I20,academies!$A$1:$B$35,2,FALSE))
A21: =IF(ISNA(VLOOKUP(vivier_candidats!A21,civilites!A$1:B$2,2,FALSE)),"",VLOOKUP(vivier_candidats!A21,civilites!A$1:B$2,2,FALSE)) | E21: =IF(vivier_candidats!$E21 = 0," ",vivier_candidats!$E21) | F21: =IF(ISNA(VLOOKUP(vivier_candidats!$F21,departements!A$1:B$106,2,FALSE)),"",VLOOKUP(vivier_candidats!$F21,departements!A$1:B$106,2,FALSE)) | G21: =IF(ISNA(VLOOKUP(vivier_candidats!H21,grades!$A$1:$B$1046,2,FALSE)),"",VLOOKUP(vivier_candidats!H21,grades!$A$1:$B$1046,2,FALSE)) | H21: =IF(ISNA(VLOOKUP(vivier_candidats!G21,corps!$A$1:$B$405,2,FALSE)),"",VLOOKUP(vivier_candidats!G21,corps!$A$1:$B$405,2,FALSE)) | I21: =IF(ISNA(VLOOKUP(vivier_candidats!I21,academies!$A$1:$B$35,2,FALSE)),"",VLOOKUP(vivier_candidats!I21,academies!$A$1:$B$35,2,FALSE))
A22: =IF(ISNA(VLOOKUP(vivier_candidats!A22,civilites!A$1:B$2,2,FALSE)),"",VLOOKUP(vivier_candidats!A22,civilites!A$1:B$2,2,FALSE)) | E22: =IF(vivier_candidats!$E22 = 0," ",vivier_candidats!$E22) | F22: =IF(ISNA(VLOOKUP(vivier_candidats!$F22,departements!A$1:B$106,2,FALSE)),"",VLOOKUP(vivier_candidats!$F22,departements!A$1:B$106,2,FALSE)) | G22: =IF(ISNA(VLOOKUP(vivier_candidats!H22,grades!$A$1:$B$1046,2,FALSE)),"",VLOOKUP(vivier_candidats!H22,grades!$A$1:$B$1046,2,FALSE)) | H22: =IF(ISNA(VLOOKUP(vivier_candidats!G22,corps!$A$1:$B$405,2,FALSE)),"",VLOOKUP(vivier_candidats!G22,corps!$A$1:$B$405,2,FALSE)) | I22: =IF(ISNA(VLOOKUP(vivier_candidats!I22,academies!$A$1:$B$35,2,FALSE)),"",VLOOKUP(vivier_candidats!I22,academies!$A$1:$B$35,2,FALSE))
A23: =IF(ISNA(VLOOKUP(vivier_candidats!A23,civilites!A$1:B$2,2,FALSE)),"",VLOOKUP(vivier_candidats!A23,civilites!A$1:B$2,2,FALSE)) | E23: =IF(vivier_candidats!$E23 = 0," ",vivier_candidats!$E23) | F23: =IF(ISNA(VLOOKUP(vivier_candidats!$F23,departements!A$1:B$106,2,FALSE)),"",VLOOKUP(vivier_candidats!$F23,departements!A$1:B$106,2,FALSE)) | G23: =IF(ISNA(VLOOKUP(vivier_candidats!H23,grades!$A$1:$B$1046,2,FALSE)),"",VLOOKUP(vivier_candidats!H23,grades!$A$1:$B$1046,2,FALSE)) | H23: =IF(ISNA(VLOOKUP(vivier_candidats!G23,corps!$A$1:$B$405,2,FALSE)),"",VLOOKUP(vivier_candidats!G23,corps!$A$1:$B$405,2,FALSE)) | I23: =IF(ISNA(VLOOKUP(vivier_candidats!I23,academies!$A$1:$B$35,2,FALSE)),"",VLOOKUP(vivier_candidats!I23,academies!$A$1:$B$35,2,FALSE))
A24: =IF(ISNA(VLOOKUP(vivier_candidats!A24,civilites!A$1:B$2,2,FALSE)),"",VLOOKUP(vivier_candidats!A24,civilites!A$1:B$2,2,FALSE)) | E24: =IF(vivier_candidats!$E24 = 0," ",vivier_candidats!$E24) | F24: =IF(ISNA(VLOOKUP(vivier_candidats!$F24,departements!A$1:B$106,2,FALSE)),"",VLOOKUP(vivier_candidats!$F24,departements!A$1:B$106,2,FALSE)) | G24: =IF(ISNA(VLOOKUP(vivier_candidats!H24,grades!$A$1:$B$1046,2,FALSE)),"",VLOOKUP(vivier_candidats!H24,grades!$A$1:$B$1046,2,FALSE)) | H24: =IF(ISNA(VLOOKUP(vivier_candidats!G24,corps!$A$1:$B$405,2,FALSE)),"",VLOOKUP(vivier_candidats!G24,corps!$A$1:$B$405,2,FALSE)) | I24: =IF(ISNA(VLOOKUP(vivier_candidats!I24,academies!$A$1:$B$35,2,FALSE)),"",VLOOKUP(vivier_candidats!I24,academies!$A$1:$B$35,2,FALSE))
A25: =IF(ISNA(VLOOKUP(vivier_candidats!A25,civilites!A$1:B$2,2,FALSE)),"",VLOOKUP(vivier_candidats!A25,civilites!A$1:B$2,2,FALSE)) | E25: =IF(vivier_candidats!$E25 = 0," ",vivier_candidats!$E25) | F25: =IF(ISNA(VLOOKUP(vivier_candidats!$F25,departements!A$1:B$106,2,FALSE)),"",VLOOKUP(vivier_candidats!$F25,departements!A$1:B$106,2,FALSE)) | G25: =IF(ISNA(VLOOKUP(vivier_candidats!H25,grades!$A$1:$B$1046,2,FALSE)),"",VLOOKUP(vivier_candidats!H25,grades!$A$1:$B$1046,2,FALSE)) | H25: =IF(ISNA(VLOOKUP(vivier_candidats!G25,corps!$A$1:$B$405,2,FALSE)),"",VLOOKUP(vivier_candidats!G25,corps!$A$1:$B$405,2,FALSE)) | I25: =IF(ISNA(VLOOKUP(vivier_candidats!I25,academies!$A$1:$B$35,2,FALSE)),"",VLOOKUP(vivier_candidats!I25,academies!$A$1:$B$35,2,FALSE))
A26: =IF(ISNA(VLOOKUP(vivier_candidats!A26,civilites!A$1:B$2,2,FALSE)),"",VLOOKUP(vivier_candidats!A26,civilites!A$1:B$2,2,FALSE)) | E26: =IF(vivier_candidats!$E26 = 0," ",vivier_candidats!$E26) | F26: =IF(ISNA(VLOOKUP(vivier_candidats!$F26,departements!A$1:B$106,2,FALSE)),"",VLOOKUP(vivier_candidats!$F26,departements!A$1:B$106,2,FALSE)) | G26: =IF(ISNA(VLOOKUP(vivier_candidats!H26,grades!$A$1:$B$1046,2,FALSE)),"",VLOOKUP(vivier_candidats!H26,grades!$A$1:$B$1046,2,FALSE)) | H26: =IF(ISNA(VLOOKUP(vivier_candidats!G26,corps!$A$1:$B$405,2,FALSE)),"",VLOOKUP(vivier_candidats!G26,corps!$A$1:$B$405,2,FALSE)) | I26: =IF(ISNA(VLOOKUP(vivier_candidats!I26,academies!$A$1:$B$35,2,FALSE)),"",VLOOKUP(vivier_candidats!I26,academies!$A$1:$B$35,2,FALSE))
A27: =IF(ISNA(VLOOKUP(vivier_candidats!A27,civilites!A$1:B$2,2,FALSE)),"",VLOOKUP(vivier_candidats!A27,civilites!A$1:B$2,2,FALSE)) | E27: =IF(vivier_candidats!$E27 = 0," ",vivier_candidats!$E27) | F27: =IF(ISNA(VLOOKUP(vivier_candidats!$F27,departements!A$1:B$106,2,FALSE)),"",VLOOKUP(vivier_candidats!$F27,departements!A$1:B$106,2,FALSE)) | G27: =IF(ISNA(VLOOKUP(vivier_candidats!H27,grades!$A$1:$B$1046,2,FALSE)),"",VLOOKUP(vivier_candidats!H27,grades!$A$1:$B$1046,2,FALSE)) | H27: =IF(ISNA(VLOOKUP(vivier_candidats!G27,corps!$A$1:$B$405,2,FALSE)),"",VLOOKUP(vivier_candidats!G27,corps!$A$1:$B$405,2,FALSE)) | I27: =IF(ISNA(VLOOKUP(vivier_candidats!I27,academies!$A$1:$B$35,2,FALSE)),"",VLOOKUP(vivier_candidats!I27,academies!$A$1:$B$35,2,FALSE))
A28: =IF(ISNA(VLOOKUP(vivier_candidats!A28,civilites!A$1:B$2,2,FALSE)),"",VLOOKUP(vivier_candidats!A28,civilites!A$1:B$2,2,FALSE)) | E28: =IF(vivier_candidats!$E28 = 0," ",vivier_candidats!$E28) | F28: =IF(ISNA(VLOOKUP(vivier_candidats!$F28,departements!A$1:B$106,2,FALSE)),"",VLOOKUP(vivier_candidats!$F28,departements!A$1:B$106,2,FALSE)) | G28: =IF(ISNA(VLOOKUP(vivier_candidats!H28,grades!$A$1:$B$1046,2,FALSE)),"",VLOOKUP(vivier_candidats!H28,grades!$A$1:$B$1046,2,FALSE)) | H28: =IF(ISNA(VLOOKUP(vivier_candidats!G28,corps!$A$1:$B$405,2,FALSE)),"",VLOOKUP(vivier_candidats!G28,corps!$A$1:$B$405,2,FALSE)) | I28: =IF(ISNA(VLOOKUP(vivier_candidats!I28,academies!$A$1:$B$35,2,FALSE)),"",VLOOKUP(vivier_candidats!I28,academies!$A$1:$B$35,2,FALSE))
A29: =IF(ISNA(VLOOKUP(vivier_candidats!A29,civilites!A$1:B$2,2,FALSE)),"",VLOOKUP(vivier_candidats!A29,civilites!A$1:B$2,2,FALSE)) | E29: =IF(vivier_candidats!$E29 = 0," ",vivier_candidats!$E29) | F29: =IF(ISNA(VLOOKUP(vivier_candidats!$F29,departements!A$1:B$106,2,FALSE)),"",VLOOKUP(vivier_candidats!$F29,departements!A$1:B$106,2,FALSE)) | G29: =IF(ISNA(VLOOKUP(vivier_candidats!H29,grades!$A$1:$B$1046,2,FALSE)),"",VLOOKUP(vivier_candidats!H29,grades!$A$1:$B$1046,2,FALSE)) | H29: =IF(ISNA(VLOOKUP(vivier_candidats!G29,corps!$A$1:$B$405,2,FALSE)),"",VLOOKUP(vivier_candidats!G29,corps!$A$1:$B$405,2,FALSE)) | I29: =IF(ISNA(VLOOKUP(vivier_candidats!I29,academies!$A$1:$B$35,2,FALSE)),"",VLOOKUP(vivier_candidats!I29,academies!$A$1:$B$35,2,FALSE))
A30: =IF(ISNA(VLOOKUP(vivier_candidats!A30,civilites!A$1:B$2,2,FALSE)),"",VLOOKUP(vivier_candidats!A30,civilites!A$1:B$2,2,FALSE)) | E30: =IF(vivier_candidats!$E30 = 0," ",vivier_candidats!$E30) | F30: =IF(ISNA(VLOOKUP(vivier_candidats!$F30,departements!A$1:B$106,2,FALSE)),"",VLOOKUP(vivier_candidats!$F30,departements!A$1:B$106,2,FALSE)) | G30: =IF(ISNA(VLOOKUP(vivier_candidats!H30,grades!$A$1:$B$1046,2,FALSE)),"",VLOOKUP(vivier_candidats!H30,grades!$A$1:$B$1046,2,FALSE)) | H30: =IF(ISNA(VLOOKUP(vivier_candidats!G30,corps!$A$1:$B$405,2,FALSE)),"",VLOOKUP(vivier_candidats!G30,corps!$A$1:$B$405,2,FALSE)) | I30: =IF(ISNA(VLOOKUP(vivier_candidats!I30,academies!$A$1:$B$35,2,FALSE)),"",VLOOKUP(vivier_candidats!I30,academies!$A$1:$B$35,2,FALSE))
... A77: =IF(ISNA(VLOOKUP(vivier_candidats!A77,civilites!A$1:B$2,2,FALSE)),"",VLOOKUP(vivier_candidats!A77,civilites!A$1:B$2,2,FALSE)) | E77: =IF(vivier_candidats!$E77 = 0," ",vivier_candidats!$E77) | F77: =IF(ISNA(VLOOKUP(vivier_candidats!$F77,departements!A$1:B$106,2,FALSE)),"",VLOOKUP(vivier_candidats!$F77,departements!A$1:B$106,2,FALSE)) | G77: =IF(ISNA(VLOOKUP(vivier_candidats!H77,grades!$A$1:$B$1046,2,FALSE)),"",VLOOKUP(vivier_candidats!H77,grades!$A$1:$B$1046,2,FALSE)) | H77: =IF(ISNA(VLOOKUP(vivier_candidats!G77,corps!$A$1:$B$405,2,FALSE)),"",VLOOKUP(vivier_candidats!G77,corps!$A$1:$B$405,2,FALSE)) | I77: =IF(ISNA(VLOOKUP(vivier_candidats!I77,academies!$A$1:$B$35,2,FALSE)),"",VLOOKUP(vivier_candidats!I77,academies!$A$1:$B$35,2,FALSE))
A78: =IF(ISNA(VLOOKUP(vivier_candidats!A78,civilites!A$1:B$2,2,FALSE)),"",VLOOKUP(vivier_candidats!A78,civilites!A$1:B$2,2,FALSE)) | F78: =IF(ISNA(VLOOKUP(vivier_candidats!$F78,departements!A$1:B$106,2,FALSE)),"",VLOOKUP(vivier_candidats!$F78,departements!A$1:B$106,2,FALSE)) | G78: =IF(ISNA(VLOOKUP(vivier_candidats!H78,grades!$A$1:$B$1046,2,FALSE)),"",VLOOKUP(vivier_candidats!H78,grades!$A$1:$B$1046,2,FALSE)) | H78: =IF(ISNA(VLOOKUP(vivier_candidats!G78,corps!$A$1:$B$405,2,FALSE)),"",VLOOKUP(vivier_candidats!G78,corps!$A$1:$B$405,2,FALSE)) | I78: =IF(ISNA(VLOOKUP(vivier_candidats!I78,academies!$A$1:$B$35,2,FALSE)),"",VLOOKUP(vivier_candidats!I78,academies!$A$1:$B$35,2,FALSE))
A79: =IF(ISNA(VLOOKUP(vivier_candidats!A79,civilites!A$1:B$2,2,FALSE)),"",VLOOKUP(vivier_candidats!A79,civilites!A$1:B$2,2,FALSE)) | F79: =IF(ISNA(VLOOKUP(vivier_candidats!$F79,departements!A$1:B$106,2,FALSE)),"",VLOOKUP(vivier_candidats!$F79,departements!A$1:B$106,2,FALSE)) | G79: =IF(ISNA(VLOOKUP(vivier_candidats!H79,grades!$A$1:$B$1046,2,FALSE)),"",VLOOKUP(vivier_candidats!H79,grades!$A$1:$B$1046,2,FALSE)) | H79: =IF(ISNA(VLOOKUP(vivier_candidats!G79,corps!$A$1:$B$405,2,FALSE)),"",VLOOKUP(vivier_candidats!G79,corps!$A$1:$B$405,2,FALSE)) | I79: =IF(ISNA(VLOOKUP(vivier_candidats!I79,academies!$A$1:$B$35,2,FALSE)),"",VLOOKUP(vivier_candidats!I79,academies!$A$1:$B$35,2,FALSE))
A80: =IF(ISNA(VLOOKUP(vivier_candidats!A80,civilites!A$1:B$2,2,FALSE)),"",VLOOKUP(vivier_candidats!A80,civilites!A$1:B$2,2,FALSE)) | F80: =IF(ISNA(VLOOKUP(vivier_candidats!$F80,departements!A$1:B$106,2,FALSE)),"",VLOOKUP(vivier_candidats!$F80,departements!A$1:B$106,2,FALSE)) | G80: =IF(ISNA(VLOOKUP(vivier_candidats!H80,grades!$A$1:$B$1046,2,FALSE)),"",VLOOKUP(vivier_candidats!H80,grades!$A$1:$B$1046,2,FALSE)) | H80: =IF(ISNA(VLOOKUP(vivier_candidats!G80,corps!$A$1:$B$405,2,FALSE)),"",VLOOKUP(vivier_candidats!G80,corps!$A$1:$B$405,2,FALSE)) | I80: =IF(ISNA(VLOOKUP(vivier_candidats!I80,academies!$A$1:$B$35,2,FALSE)),"",VLOOKUP(vivier_candidats!I80,academies!$A$1:$B$35,2,FALSE))
A81: =IF(ISNA(VLOOKUP(vivier_candidats!A81,civilites!A$1:B$2,2,FALSE)),"",VLOOKUP(vivier_candidats!A81,civilites!A$1:B$2,2,FALSE)) | F81: =IF(ISNA(VLOOKUP(vivier_candidats!$F81,departements!A$1:B$106,2,FALSE)),"",VLOOKUP(vivier_candidats!$F81,departements!A$1:B$106,2,FALSE)) | G81: =IF(ISNA(VLOOKUP(vivier_candidats!H81,grades!$A$1:$B$1046,2,FALSE)),"",VLOOKUP(vivier_candidats!H81,grades!$A$1:$B$1046,2,FALSE)) | H81: =IF(ISNA(VLOOKUP(vivier_candidats!G81,corps!$A$1:$B$405,2,FALSE)),"",VLOOKUP(vivier_candidats!G81,corps!$A$1:$B$405,2,FALSE)) | I81: =IF(ISNA(VLOOKUP(vivier_candidats!I81,academies!$A$1:$B$35,2,FALSE)),"",VLOOKUP(vivier_candidats!I81,academies!$A$1:$B$35,2,FALSE))
A82: =IF(ISNA(VLOOKUP(vivier_candidats!A82,civilites!A$1:B$2,2,FALSE)),"",VLOOKUP(vivier_candidats!A82,civilites!A$1:B$2,2,FALSE)) | F82: =IF(ISNA(VLOOKUP(vivier_candidats!$F82,departements!A$1:B$106,2,FALSE)),"",VLOOKUP(vivier_candidats!$F82,departements!A$1:B$106,2,FALSE)) | G82: =IF(ISNA(VLOOKUP(vivier_candidats!H82,grades!$A$1:$B$1046,2,FALSE)),"",VLOOKUP(vivier_candidats!H82,grades!$A$1:$B$1046,2,FALSE)) | H82: =IF(ISNA(VLOOKUP(vivier_candidats!G82,corps!$A$1:$B$405,2,FALSE)),"",VLOOKUP(vivier_candidats!G82,corps!$A$1:$B$405,2,FALSE)) | I82: =IF(ISNA(VLOOKUP(vivier_candidats!I82,academies!$A$1:$B$35,2,FALSE)),"",VLOOKUP(vivier_candidats!I82,academies!$A$1:$B$35,2,FALSE))
A83: =IF(ISNA(VLOOKUP(vivier_candidats!A83,civilites!A$1:B$2,2,FALSE)),"",VLOOKUP(vivier_candidats!A83,civilites!A$1:B$2,2,FALSE)) | F83: =IF(ISNA(VLOOKUP(vivier_candidats!$F83,departements!A$1:B$106,2,FALSE)),"",VLOOKUP(vivier_candidats!$F83,departements!A$1:B$106,2,FALSE)) | G83: =IF(ISNA(VLOOKUP(vivier_candidats!H83,grades!$A$1:$B$1046,2,FALSE)),"",VLOOKUP(vivier_candidats!H83,grades!$A$1:$B$1046,2,FALSE)) | H83: =IF(ISNA(VLOOKUP(vivier_candidats!G83,corps!$A$1:$B$405,2,FALSE)),"",VLOOKUP(vivier_candidats!G83,corps!$A$1:$B$405,2,FALSE)) | I83: =IF(ISNA(VLOOKUP(vivier_candidats!I83,academies!$A$1:$B$35,2,FALSE)),"",VLOOKUP(vivier_candidats!I83,academies!$A$1:$B$35,2,FALSE))
A84: =IF(ISNA(VLOOKUP(vivier_candidats!A84,civilites!A$1:B$2,2,FALSE)),"",VLOOKUP(vivier_candidats!A84,civilites!A$1:B$2,2,FALSE)) | F84: =IF(ISNA(VLOOKUP(vivier_candidats!$F84,departements!A$1:B$106,2,FALSE)),"",VLOOKUP(vivier_candidats!$F84,departements!A$1:B$106,2,FALSE)) | G84: =IF(ISNA(VLOOKUP(vivier_candidats!H84,grades!$A$1:$B$1046,2,FALSE)),"",VLOOKUP(vivier_candidats!H84,grades!$A$1:$B$1046,2,FALSE)) | H84: =IF(ISNA(VLOOKUP(vivier_candidats!G84,corps!$A$1:$B$405,2,FALSE)),"",VLOOKUP(vivier_candidats!G84,corps!$A$1:$B$405,2,FALSE)) | I84: =IF(ISNA(VLOOKUP(vivier_candidats!I84,academies!$A$1:$B$35,2,FALSE)),"",VLOOKUP(vivier_candidats!I84,academies!$A$1:$B$35,2,FALSE))
A85: =IF(ISNA(VLOOKUP(vivier_candidats!A85,civilites!A$1:B$2,2,FALSE)),"",VLOOKUP(vivier_candidats!A85,civilites!A$1:B$2,2,FALSE)) | F85: =IF(ISNA(VLOOKUP(vivier_candidats!$F85,departements!A$1:B$106,2,FALSE)),"",VLOOKUP(vivier_candidats!$F85,departements!A$1:B$106,2,FALSE)) | G85: =IF(ISNA(VLOOKUP(vivier_candidats!H85,grades!$A$1:$B$1046,2,FALSE)),"",VLOOKUP(vivier_candidats!H85,grades!$A$1:$B$1046,2,FALSE)) | H85: =IF(ISNA(VLOOKUP(vivier_candidats!G85,corps!$A$1:$B$405,2,FALSE)),"",VLOOKUP(vivier_candidats!G85,corps!$A$1:$B$405,2,FALSE)) | I85: =IF(ISNA(VLOOKUP(vivier_candidats!I85,academies!$A$1:$B$35,2,FALSE)),"",VLOOKUP(vivier_candidats!I85,academies!$A$1:$B$35,2,FALSE))
A86: =IF(ISNA(VLOOKUP(vivier_candidats!A86,civilites!A$1:B$2,2,FALSE)),"",VLOOKUP(vivier_candidats!A86,civilites!A$1:B$2,2,FALSE)) | F86: =IF(ISNA(VLOOKUP(vivier_candidats!$F86,departements!A$1:B$106,2,FALSE)),"",VLOOKUP(vivier_candidats!$F86,departements!A$1:B$106,2,FALSE)) | G86: =IF(ISNA(VLOOKUP(vivier_candidats!H86,grades!$A$1:$B$1046,2,FALSE)),"",VLOOKUP(vivier_candidats!H86,grades!$A$1:$B$1046,2,FALSE)) | H86: =IF(ISNA(VLOOKUP(vivier_candidats!G86,corps!$A$1:$B$405,2,FALSE)),"",VLOOKUP(vivier_candidats!G86,corps!$A$1:$B$405,2,FALSE)) | I86: =IF(ISNA(VLOOKUP(vivier_candidats!I86,academies!$A$1:$B$35,2,FALSE)),"",VLOOKUP(vivier_candidats!I86,academies!$A$1:$B$35,2,FALSE))
...
