Workbook

Sheet LISTE 001
A1: CCAS INGRANDES | C1: BOURSE VETEMENTS-JOUETS CCAS INGRANDES | E1: N°DEPOSANT : | F1: 001
A3: NOM : | E3: CONFORMITE DE LA LISTE
A4: PRENOM :
A5: ADRESSE :
A7: N° TEL :
A8: MAIL : | E8: SIGNATURE
A10: N° ARTICLE | C10: DESIGNATION ARTICLE | D10: N° Catégorie | E10: PRIX | F10: Article Vendu
A11: 001-01
A12: 001-02
A13: 001-03 | J13: CATEGORIES
A14: 001-04 | I14: 1 | J14: Puériculture
A15: 001-05 | I15: 2 | J15: Jeux
A16: 001-06 | I16: 3 | J16: Vêtements de grossesse
A17: 001-07 | I17: 4 | J17: Vélo
A18: 001-08 | I18: 5 | J18: Livres
A19: 001-09 | I19: 6 | J19: Divers
A20: 001-10 | I20: 7 | J20: Chapeaux - Casquettes
A21: 001-11 | I21: 8 | J21: Chaussures
A22: 001-12 | I22: 9 | J22: Garçon/Fille 0 mois
A23: 001-13 | I23: 10 | J23: Garçon/Fille 1 mois
A24: 001-14 | I24: 11 | J24: Fille 3-6 mois
A25: 001-15 | I25: 12 | J25: Fille 9 mois
... A50: 001-40 | I50: 37 | J50: Garçon 3 ans
I51: 38 | J51: Garçon 4 ans
C52: Montant Total Articles à vendre | E52: =SUM(E11:E50) -> 0 | I52: 39 | J52: Garçon 5 ans
C53: Montant Total Articles vendu | F53: =SUM(F11:F50) -> 0 | I53: 40 | J53: Garçon 6 ans
I54: 41 | J54: Garçon 8 ans
I55: 42 | J55: Garçon 10 ans
C56: Net à Payer | F56: =F53-F54 -> 0 | I56: 43 | J56: Garçon 12 ans
I57: 44 | J57: Garçon 14 ans
I58: 45 | J58: Garçon 16 ans
I59: 48 | J59: Homme 38-40
I60: 49 | J60: Homme 42-44
I61: 50 | J61: Homme 46-48
I62: 51 | J62: Homme 48 et +

Sheet ETIQUETTES VETEMENTS
A1: =+'LISTE 001'!A11 -> 001-01 | B1: =TODAY() -> 41909 | C1: =+'LISTE 001'!A21 -> 001-11 | D1: =TODAY() -> 41909
A2: =+'LISTE 001'!C11 -> 0 | C2: =+'LISTE 001'!C21 -> 0
A3: =LOOKUP('LISTE 001'!D11,'LISTE 001'!I14:I62,'LISTE 001'!J14:J62) -> #N/A | B3: =+'LISTE 001'!E11 -> 0 | C3: =LOOKUP('LISTE 001'!D21,'LISTE 001'!$I$14:$I$62,'LISTE 001'!$J$14:$J$62) -> #N/A | D3: =+'LISTE 001'!E21 -> 0
A4: =+'LISTE 001'!A12 -> 001-02 | B4: =TODAY() -> 41909 | C4: =+'LISTE 001'!A22 -> 001-12 | D4: =TODAY() -> 41909
A5: =+'LISTE 001'!C12 -> 0 | C5: =+'LISTE 001'!C22 -> 0
A6: =LOOKUP('LISTE 001'!D12,'LISTE 001'!I14:I58,'LISTE 001'!J14:J58) -> #N/A | B6: =+'LISTE 001'!E12 -> 0 | C6: =LOOKUP('LISTE 001'!D24,'LISTE 001'!$I$14:$I$62,'LISTE 001'!$J$14:$J$62) -> #N/A | D6: =+'LISTE 001'!E22 -> 0
A7: =+'LISTE 001'!A13 -> 001-03 | B7: =TODAY() -> 41909 | C7: =+'LISTE 001'!A23 -> 001-13 | D7: =TODAY() -> 41909
A8: =+'LISTE 001'!C13 -> 0 | C8: =+'LISTE 001'!C23 -> 0
A9: =LOOKUP('LISTE 001'!D13,'LISTE 001'!I14:I62,'LISTE 001'!J14:J62) -> #N/A | B9: =+'LISTE 001'!E13 -> 0 | C9: =LOOKUP('LISTE 001'!D27,'LISTE 001'!$I$14:$I$62,'LISTE 001'!$J$14:$J$62) -> #N/A | D9: =+'LISTE 001'!E23 -> 0
A10: =+'LISTE 001'!A14 -> 001-04 | B10: =TODAY() -> 41909 | C10: =+'LISTE 001'!A24 -> 001-14 | D10: =TODAY() -> 41909
A11: =+'LISTE 001'!C14 -> 0 | C11: =+'LISTE 001'!C24 -> 0
A12: =LOOKUP('LISTE 001'!D14,'LISTE 001'!I14:I62,'LISTE 001'!J14:J62) -> #N/A | B12: =+'LISTE 001'!E14 -> 0 | C12: =LOOKUP('LISTE 001'!D30,'LISTE 001'!$I$14:$I$62,'LISTE 001'!$J$14:$J$62) -> #N/A | D12: =+'LISTE 001'!E24 -> 0
A13: =+'LISTE 001'!A15 -> 001-05 | B13: =TODAY() -> 41909 | C13: =+'LISTE 001'!A25 -> 001-15 | D13: =TODAY() -> 41909
A14: =+'LISTE 001'!C15 -> 0 | C14: =+'LISTE 001'!C25 -> 0
A15: =LOOKUP('LISTE 001'!B33,'LISTE 001'!$I$14:$I$62,'LISTE 001'!$J$14:$J$62) -> #N/A | B15: =+'LISTE 001'!E15 -> 0 | C15: =LOOKUP('LISTE 001'!D33,'LISTE 001'!$I$14:$I$62,'LISTE 001'!$J$14:$J$62) -> #N/A | D15: =+'LISTE 001'!E25 -> 0
A16: =+'LISTE 001'!A16 -> 001-06 | B16: =TODAY() -> 41909 | C16: =+'LISTE 001'!A26 -> 001-16 | D16: =TODAY() -> 41909
A17: =+'LISTE 001'!C16 -> 0 | C17: =+'LISTE 001'!C26 -> 0
A18: =LOOKUP('LISTE 001'!B36,'LISTE 001'!$I$14:$I$62,'LISTE 001'!$J$14:$J$62) -> #N/A | B18: =+'LISTE 001'!E16 -> 0 | C18: =LOOKUP('LISTE 001'!D36,'LISTE 001'!$I$14:$I$62,'LISTE 001'!$J$14:$J$62) -> #N/A | D18: =+'LISTE 001'!E26 -> 0
A19: =+'LISTE 001'!A17 -> 001-07 | B19: =TODAY() -> 41909 | C19: =+'LISTE 001'!A27 -> 001-17 | D19: =TODAY() -> 41909
A20: =+'LISTE 001'!C17 -> 0 | C20: =+'LISTE 001'!C27 -> 0
A21: =LOOKUP('LISTE 001'!B39,'LISTE 001'!$I$14:$I$62,'LISTE 001'!$J$14:$J$62) -> #N/A | B21: =+'LISTE 001'!E17 -> 0 | C21: =LOOKUP('LISTE 001'!D39,'LISTE 001'!$I$14:$I$62,'LISTE 001'!$J$14:$J$62) -> #N/A | D21: =+'LISTE 001'!E27 -> 0
A22: =+'LISTE 001'!A18 -> 001-08 | B22: =TODAY() -> 41909 | C22: =+'LISTE 001'!A28 -> 001-18 | D22: =TODAY() -> 41909
A23: =+'LISTE 001'!C18 -> 0 | C23: =+'LISTE 001'!C28 -> 0
A24: =LOOKUP('LISTE 001'!B42,'LISTE 001'!$I$14:$I$62,'LISTE 001'!$J$14:$J$62) -> #N/A | B24: =+'LISTE 001'!E18 -> 0 | C24: =LOOKUP('LISTE 001'!D42,'LISTE 001'!$I$14:$I$62,'LISTE 001'!$J$14:$J$62) -> #N/A | D24: =+'LISTE 001'!E28 -> 0
A25: =+'LISTE 001'!A19 -> 001-09 | B25: =TODAY() -> 41909 | C25: =+'LISTE 001'!A29 -> 001-19 | D25: =TODAY() -> 41909
A26: =+'LISTE 001'!C19 -> 0 | C26: =+'LISTE 001'!C29 -> 0
A27: =LOOKUP('LISTE 001'!B45,'LISTE 001'!$I$14:$I$62,'LISTE 001'!$J$14:$J$62) -> #N/A | B27: =+'LISTE 001'!E19 -> 0 | C27: =LOOKUP('LISTE 001'!D45,'LISTE 001'!$I$14:$I$62,'LISTE 001'!$J$14:$J$62) -> #N/A | D27: =+'LISTE 001'!E29 -> 0
A28: =+'LISTE 001'!A20 -> 001-10 | B28: =TODAY() -> 41909 | C28: =+'LISTE 001'!A30 -> 001-20 | D28: =TODAY() -> 41909
A29: =+'LISTE 001'!C20 -> 0 | C29: =+'LISTE 001'!C30 -> 0
A30: =LOOKUP('LISTE 001'!B48,'LISTE 001'!$I$14:$I$62,'LISTE 001'!$J$14:$J$62) -> #N/A | B30: =+'LISTE 001'!E20 -> 0 | C30: =LOOKUP('LISTE 001'!D48,'LISTE 001'!$I$14:$I$62,'LISTE 001'!$J$14:$J$62) -> #N/A | D30: =+'LISTE 001'!E30 -> 0
A36: =+'LISTE 001'!A31 -> 001-21 | B36: =TODAY() -> 41909 | C36: =+'LISTE 001'!A41 -> 001-31 | D36: =TODAY() -> 41909
A37: =+'LISTE 001'!C31 -> 0 | C37: =+'LISTE 001'!C41 -> 0
A38: =LOOKUP('LISTE 001'!D31,'LISTE 001'!I49:I97,'LISTE 001'!J49:J97) -> #N/A | B38: =+'LISTE 001'!E31 -> 0 | C38: =LOOKUP('LISTE 001'!D41,'LISTE 001'!$I$14:$I$62,'LISTE 001'!$J$14:$J$62) -> #N/A | D38: =+'LISTE 001'!E41 -> 0
A39: =+'LISTE 001'!A32 -> 001-22 | B39: =TODAY() -> 41909 | C39: =+'LISTE 001'!A42 -> 001-32 | D39: =TODAY() -> 41909
A40: =+'LISTE 001'!C32 -> 0 | C40: =+'LISTE 001'!C42 -> 0
A41: =LOOKUP('LISTE 001'!D32,'LISTE 001'!I49:I93,'LISTE 001'!J49:J93) -> #N/A | B41: =+'LISTE 001'!E32 -> 0 | C41: =LOOKUP('LISTE 001'!D42,'LISTE 001'!$I$14:$I$62,'LISTE 001'!$J$14:$J$62) -> #N/A | D41: =+'LISTE 001'!E42 -> 0
A42: =+'LISTE 001'!A33 -> 001-23 | B42: =TODAY() -> 41909 | C42: =+'LISTE 001'!A43 -> 001-33 | D42: =TODAY() -> 41909
A43: =+'LISTE 001'!C33 -> 0 | C43: =+'LISTE 001'!C43 -> 0
A44: =LOOKUP('LISTE 001'!D33,'LISTE 001'!I49:I97,'LISTE 001'!J49:J97) -> #N/A | B44: =+'LISTE 001'!E33 -> 0 | C44: =LOOKUP('LISTE 001'!D43,'LISTE 001'!$I$14:$I$62,'LISTE 001'!$J$14:$J$62) -> #N/A | D44: =+'LISTE 001'!E43 -> 0
A45: =+'LISTE 001'!A34 -> 001-24 | B45: =TODAY() -> 41909 | C45: =+'LISTE 001'!A44 -> 001-34 | D45: =TODAY() -> 41909
A46: =+'LISTE 001'!C34 -> 0 | C46: =+'LISTE 001'!C44 -> 0
A47: =LOOKUP('LISTE 001'!D34,'LISTE 001'!I49:I97,'LISTE 001'!J49:J97) -> #N/A | B47: =+'LISTE 001'!E34 -> 0 | C47: =LOOKUP('LISTE 001'!D44,'LISTE 001'!$I$14:$I$62,'LISTE 001'!$J$14:$J$62) -> #N/A | D47: =+'LISTE 001'!E44 -> 0
A48: =+'LISTE 001'!A35 -> 001-25 | B48: =TODAY() -> 41909 | C48: =+'LISTE 001'!A45 -> 001-35 | D48: =TODAY() -> 41909
A49: =+'LISTE 001'!C35 -> 0 | C49: =+'LISTE 001'!C45 -> 0
A50: =LOOKUP('LISTE 001'!D35,'LISTE 001'!$I$14:$I$62,'LISTE 001'!$J$14:$J$62) -> #N/A | B50: =+'LISTE 001'!E35 -> 0 | C50: =LOOKUP('LISTE 001'!D45,'LISTE 001'!$I$14:$I$62,'LISTE 001'!$J$14:$J$62) -> #N/A | D50: =+'LISTE 001'!E45 -> 0
A51: =+'LISTE 001'!A36 -> 001-26 | B51: =TODAY() -> 41909 | C51: =+'LISTE 001'!A46 -> 001-36 | D51: =TODAY() -> 41909
A52: =+'LISTE 001'!C36 -> 0 | C52: =+'LISTE 001'!C46 -> 0
A53: =LOOKUP('LISTE 001'!D36,'LISTE 001'!$I$14:$I$62,'LISTE 001'!$J$14:$J$62) -> #N/A | B53: =+'LISTE 001'!E36 -> 0 | C53: =LOOKUP('LISTE 001'!D46,'LISTE 001'!$I$14:$I$62,'LISTE 001'!$J$14:$J$62) -> #N/A | D53: =+'LISTE 001'!E46 -> 0
A54: =+'LISTE 001'!A37 -> 001-27 | B54: =TODAY() -> 41909 | C54: =+'LISTE 001'!A47 -> 001-37 | D54: =TODAY() -> 41909
A55: =+'LISTE 001'!C37 -> 0 | C55: =+'LISTE 001'!C47 -> 0
A56: =LOOKUP('LISTE 001'!D37,'LISTE 001'!$I$14:$I$62,'LISTE 001'!$J$14:$J$62) -> #N/A | B56: =+'LISTE 001'!E37 -> 0 | C56: =LOOKUP('LISTE 001'!D47,'LISTE 001'!$I$14:$I$62,'LISTE 001'!$J$14:$J$62) -> #N/A | D56: =+'LISTE 001'!E47 -> 0
A57: =+'LISTE 001'!A38 -> 001-28 | B57: =TODAY() -> 41909 | C57: =+'LISTE 001'!A48 -> 001-38 | D57: =TODAY() -> 41909
A58: =+'LISTE 001'!C38 -> 0 | C58: =+'LISTE 001'!C48 -> 0
A59: =LOOKUP('LISTE 001'!D38,'LISTE 001'!$I$14:$I$62,'LISTE 001'!$J$14:$J$62) -> #N/A | B59: =+'LISTE 001'!E38 -> 0 | C59: =LOOKUP('LISTE 001'!D48,'LISTE 001'!$I$14:$I$62,'LISTE 001'!$J$14:$J$62) -> #N/A | D59: =+'LISTE 001'!E48 -> 0
A60: =+'LISTE 001'!A39 -> 001-29 | B60: =TODAY() -> 41909 | C60: =+'LISTE 001'!A49 -> 001-39 | D60: =TODAY() -> 41909
A61: =+'LISTE 001'!C39 -> 0 | C61: =+'LISTE 001'!C49 -> 0
A62: =LOOKUP('LISTE 001'!D39,'LISTE 001'!$I$14:$I$62,'LISTE 001'!$J$14:$J$62) -> #N/A | B62: =+'LISTE 001'!E39 -> 0 | C62: =LOOKUP('LISTE 001'!D49,'LISTE 001'!$I$14:$I$62,'LISTE 001'!$J$14:$J$62) -> #N/A | D62: =+'LISTE 001'!E49 -> 0
A63: =+'LISTE 001'!A40 -> 001-30 | B63: =TODAY() -> 41909 | C63: =+'LISTE 001'!A50 -> 001-40 | D63: =TODAY() -> 41909
A64: =+'LISTE 001'!C40 -> 0 | C64: =+'LISTE 001'!C50 -> 0
A65: =LOOKUP('LISTE 001'!D40,'LISTE 001'!$I$14:$I$62,'LISTE 001'!$J$14:$J$62) -> #N/A | B65: =+'LISTE 001'!E40 -> 0 | C65: =LOOKUP('LISTE 001'!D50,'LISTE 001'!$I$14:$I$62,'LISTE 001'!$J$14:$J$62) -> #N/A | D65: =+'LISTE 001'!E50 -> 0

Sheet ETIQUETTES ENVELOPPES
A2: NOM DEPOSANT | C2: LISTE N° | E2: NOM DEPOSANT | G2: LISTE N°
C3: 001 | G3: 008
A5: Total Vente | E5: Total Vente
A9: NOM DEPOSANT | C9: LISTE N° | E9: NOM DEPOSANT | G9: LISTE N°
C10: 002 | G10: 009
A12: Total Vente | E12: Total Vente
A17: NOM DEPOSANT | C17: LISTE N° | E17: NOM DEPOSANT | G17: LISTE N°
C18: 003 | G18: 010
A20: Total Vente | E20: Total Vente
A24: NOM DEPOSANT | C24: LISTE N° | E24: NOM DEPOSANT | G24: LISTE N°
C25: 004 | G25: 011
A27: Total Vente | E27: Total Vente
A32: NOM DEPOSANT | C32: LISTE N° | E32: NOM DEPOSANT | G32: LISTE N°
C33: 005 | G33: 012
A35: Total Vente | E35: Total Vente
A39: NOM DEPOSANT | C39: LISTE N° | E39: NOM DEPOSANT | G39: LISTE N°
C40: 006 | G40: 013
A42: Total Vente | E42: Total Vente
A47: NOM DEPOSANT | C47: LISTE N° | E47: NOM DEPOSANT | G47: LISTE N°
C48: 007 | G48: 014
A50: Total Vente | E50: Total Vente
A53: NOM DEPOSANT | C53: LISTE N° | E53: NOM DEPOSANT | G53: LISTE N°
C54: 015 | G54: 022
A56: Total Vente | E56: Total Vente
A60: NOM DEPOSANT | C60: LISTE N° | E60: NOM DEPOSANT | G60: LISTE N°
C61: 016 | G61: 023
A63: Total Vente | E63: Total Vente
A68: NOM DEPOSANT | C68: LISTE N° | E68: NOM DEPOSANT | G68: LISTE N°
C69: 017 | G69: 024
A71: Total Vente | E71: Total Vente
A75: NOM DEPOSANT | C75: LISTE N° | E75: NOM DEPOSANT | G75: LISTE N°
C76: 018 | G76: 025
A78: Total Vente | E78: Total Vente
A83: NOM DEPOSANT | C83: LISTE N° | E83: NOM DEPOSANT | G83: LISTE N°
C84: 019 | G84: 026
A86: Total Vente | E86: Total Vente
A90: NOM DEPOSANT | C90: LISTE N° | E90: NOM DEPOSANT | G90: LISTE N°
C91: 020 | G91: 027
A93: Total Vente | E93: Total Vente
A98: NOM DEPOSANT | C98: LISTE N° | E98: NOM DEPOSANT | G98: LISTE N°
C99: 021 | G99: 028
A101: Total Vente | E101: Total Vente
A104: NOM DEPOSANT | C104: LISTE N° | E104: NOM DEPOSANT | G104: LISTE N°
C105: 029 | G105: 036
A107: Total Vente | E107: Total Vente
A111: NOM DEPOSANT | C111: LISTE N° | E111: NOM DEPOSANT | G111: LISTE N°
C112: 030 | G112: 037
A114: Total Vente | E114: Total Vente
A119: NOM DEPOSANT | C119: LISTE N° | E119: NOM DEPOSANT | G119: LISTE N°
C120: 031 | G120: 038
A122: Total Vente | E122: Total Vente
A126: NOM DEPOSANT | C126: LISTE N° | E126: NOM DEPOSANT | G126: LISTE N°
C127: 032 | G127: 039
A129: Total Vente | E129: Total Vente
A134: NOM DEPOSANT | C134: LISTE N° | E134: NOM DEPOSANT | G134: LISTE N°
C135: 033 | G135: 040
A137: Total Vente | E137: Total Vente
A141: NOM DEPOSANT | C141: LISTE N° | E141: NOM DEPOSANT | G141: LISTE N°
C142: 034 | G142: 041
A144: Total Vente | E144: Total Vente
A149: NOM DEPOSANT | C149: LISTE N° | E149: NOM DEPOSANT | G149: LISTE N°
C150: 035 | G150: 042
A152: Total Vente | E152: Total Vente
A155: NOM DEPOSANT | C155: LISTE N° | E155: NOM DEPOSANT | G155: LISTE N°
C156: 043 | G156: 050
A158: Total Vente | E158: Total Vente
A162: NOM DEPOSANT | C162: LISTE N° | E162: NOM DEPOSANT | G162: LISTE N°
C163: 044 | G163: 051
A165: Total Vente | E165: Total Vente
A170: NOM DEPOSANT | C170: LISTE N° | E170: NOM DEPOSANT | G170: LISTE N°
C171: 045 | G171: 052
A173: Total Vente | E173: Total Vente
A177: NOM DEPOSANT | C177: LISTE N° | E177: NOM DEPOSANT | G177: LISTE N°
C178: 046 | G178: 053
A180: Total Vente | E180: Total Vente
A185: NOM DEPOSANT | C185: LISTE N° | E185: NOM DEPOSANT | G185: LISTE N°
C186: 047 | G186: 054
A188: Total Vente | E188: Total Vente
A192: NOM DEPOSANT | C192: LISTE N° | E192: NOM DEPOSANT | G192: LISTE N°
C193: 048 | G193: 055
A195: Total Vente | E195: Total Vente
A200: NOM DEPOSANT | C200: LISTE N° | E200: NOM DEPOSANT | G200: LISTE N°
C201: 049 | G201: 056
A203: Total Vente | E203: Total Vente
A206: NOM DEPOSANT | C206: LISTE N° | E206: NOM DEPOSANT | G206: LISTE N°
C207: 015 | G207: 057
A209: Total Vente | E209: Total Vente
A213: NOM DEPOSANT | C213: LISTE N° | E213: NOM DEPOSANT | G213: LISTE N°
C214: 016 | G214: 058
A216: Total Vente | E216: Total Vente
A221: NOM DEPOSANT | C221: LISTE N° | E221: NOM DEPOSANT | G221: LISTE N°
C222: 017 | G222: 059
A224: Total Vente | E224: Total Vente
A228: NOM DEPOSANT | C228: LISTE N° | E228: NOM DEPOSANT | G228: LISTE N°
C229: 018 | G229: 060
A231: Total Vente | E231: Total Vente
A236: NOM DEPOSANT | C236: LISTE N° | E236: NOM DEPOSANT | G236: LISTE N°
C237: 019 | G237: 061
A239: Total Vente | E239: Total Vente
A243: NOM DEPOSANT | C243: LISTE N° | E243: NOM DEPOSANT | G243: LISTE N°
...
