Workbook
Name annee: #REF!
Name annee: #REF!
Name annee: #REF!
Name AnneeCourante: #REF!
Name AnneeCourante: #REF!
Name AnneeCourante: #REF!
Name DateDebut: #REF!
Name DateDebut: #REF!
Name DateDebut: #REF!
Name DateEnreg: #REF!
Name DateEnreg: #REF!
Name DateEnreg: #REF!
Name DateFin: #REF!
Name DateFin: #REF!
Name DateFin: #REF!
Name dimanche: #REF!
Name dimanche: #REF!
Name dimanche: #REF!
Name dimanche_15: #REF!
Name dimanche_15: #REF!
Name dimanche_15: #REF!
Name dimanche_15_1: #REF!
Name dimanche_15_1: #REF!
Name dimanche_15_1: #REF!
Name EssOptions: "A1110000000120101000001100020_0000"
Name EssOptions: "A1110000000120101000001100020_0000"
Name EssOptions: "A1110000000120101000001100020_0000"
Name jeudi: #REF!
Name jeudi: #REF!
Name jeudi: #REF!
Name jeudi_15: #REF!
Name jeudi_15: #REF!
Name jeudi_15: #REF!
Name jeudi_15_1: #REF!
Name jeudi_15_1: #REF!
Name jeudi_15_1: #REF!
Name Jfr: [1]Data!$C$3:$C$12
Name lundi: #REF!
Name lundi: #REF!
Name lundi: #REF!
Name lundi_15: #REF!
Name lundi_15: #REF!
Name lundi_15: #REF!
Name lundi_15_1: #REF!
Name lundi_15_1: #REF!
Name lundi_15_1: #REF!
Name lundi1: #REF!
Name lundi1: #REF!
Name lundi1: #REF!
Name mardi: #REF!
Name mardi: #REF!
Name mardi: #REF!
Name mardi_15: #REF!
Name mardi_15: #REF!
Name mardi_15: #REF!
Name mardi_15_1: #REF!
Name mardi_15_1: #REF!
Name mardi_15_1: #REF!
Name mercredi: #REF!
Name mercredi: #REF!

Sheet Matrice
B1: 1ère séléction
A2: Porteur
A3: A l'attention de :
A4: Adresse
A5: CP/Ville
A6: N° de contrat
A7: Mission
A8: Fin de Mission
A9: Reliquat jour de contrat N-1 | B9: 0
A10: Nombre de jour du contrat | B10: 251
A11: Total | B11: =B9+B10 -> 251
A12: Différentiel de PPC N-1 | B12: =-3864 -> -3864
A13: ="TJM "&B2 -> TJM | B13: 565
A14: TJM personnel | B14: 480
A15: Taux de facturation | B15: =B14/B13 -> 0.84955752
A16: Tx provisions pour charges | B16: 0.5
A17: TVA | B17: 0.2
A18: Année | B18: 2014
A19: Pâques | B19: =FLOOR(DAY(MINUTE(B18/38)/2+56)&"/5/"&B18,7)-34 -> 41749
A20: N° de siren
A21: N° de SIRET
A22: N° TVA Intra
A23: Mois courant | B23: =TODAY()+B24 -> 41902
A24: Simul Mois courant | B24: 0
A27: Année | B27: =$B18 -> 2014 | C27: =$B18 -> 2014 | D27: =$B18 -> 2014 | E27: =$B18 -> 2014 | F27: =$B18 -> 2014 | G27: =$B18 -> 2014 | H27: =$B18 -> 2014 | I27: =$B18 -> 2014 | ... M27: =$B18 -> 2014
A28: Mois | B28: =DATE($B$18,1,1) -> 41640 | C28: =DATE($B$18,2,1) -> 41671 | D28: =DATE($B$18,3,1) -> 41699 | E28: =DATE($B$18,4,1) -> 41730 | F28: =DATE($B$18,5,1) -> 41760 | G28: =DATE($B$18,6,1) -> 41791 | H28: =DATE($B$18,7,1) -> 41821 | I28: =DATE($B$18,8,1) -> 41852 | J28: =DATE($B$18,9,1) -> 41883 | K28: =DATE($B$18,10,1) -> 41913 | L28: =DATE($B$18,11,1) -> 41944 | M28: =DATE($B$18,12,1) -> 41974
A29: Nb jour | B29: =EOMONTH(B28,0)-(EOMONTH(B28,-1)) -> 31 | C29: =DAY(DATE($B18,MONTH(C28)+1,1)-1) -> 28 | D29: =DAY(DATE($B18,MONTH(D28)+1,1)-1) -> 31 | E29: =DAY(DATE($B18,MONTH(E28)+1,1)-1) -> 30 | F29: =DAY(DATE($B18,MONTH(F28)+1,1)-1) -> 31 | G29: =DAY(DATE($B18,MONTH(G28)+1,1)-1) -> 30 | H29: =DAY(DATE($B18,MONTH(H28)+1,1)-1) -> 31 | I29: =DAY(DATE($B18,MONTH(I28)+1,1)-1) -> 31 | J29: =DAY(DATE($B18,MONTH(J28)+1,1)-1) -> 30 | ... M29: =DAY(DATE($B18,MONTH(M28)+1,1)-1) -> 31
A30: Jours fériés | B30: Jour de l'an | C30: Lundi de Pâques | D30: Fête du Travail | E30: 39/45 | F30: Ascension | G30: 14 Juillet | H30: Assomption | I30: Toussaint | J30: 14/18 | K30: Noël | L30: Lundi de Pentecôte
A31: Dates fériées | B31: =DATE(B18,1,1) -> 41640 | C31: =B19+1 -> 41750 | D31: =DATE(B18,5,1) -> 41760 | E31: =DATE(B18,5,8) -> 41767 | F31: =B19+39 -> 41788 | G31: =DATE(B18,7,14) -> 41834 | H31: =DATE(B18,8,15) -> 41866 | I31: =DATE(B18,11,1) -> 41944 | J31: =DATE(B18,11,11) -> 41954 | K31: =DATE(B18,12,25) -> 41998 | L31: =B19+50 -> 41799
A32: Nb jour ouvrés | B32: =NETWORKDAYS(DATE($B$18,MONTH(B$28),1),DATE($B$18,MONTH(B$28),B$29),$B31:$M31) -> 22 | C32: =NETWORKDAYS(DATE($B$18,MONTH(C$28),1),DATE($B$18,MONTH(C$28),C$29),$B31:$M31) -> 20 | D32: =NETWORKDAYS(DATE($B$18,MONTH(D$28),1),DATE($B$18,MONTH(D$28),D$29),$B31:$M31) -> 21 | E32: =NETWORKDAYS(DATE($B$18,MONTH(E$28),1),DATE($B$18,MONTH(E$28),E$29),$B31:$M31) -> 21 | F32: =NETWORKDAYS(DATE($B$18,MONTH(F$28),1),DATE($B$18,MONTH(F$28),F$29),$B31:$M31) -> 19 | G32: =NETWORKDAYS(DATE($B$18,MONTH(G$28),1),DATE($B$18,MONTH(G$28),G$29),$B31:$M31)+1 -> 21 | H32: =NETWORKDAYS(DATE($B$18,MONTH(H$28),1),DATE($B$18,MONTH(H$28),H$29),$B31:$M31) -> 22 | I32: =NETWORKDAYS(DATE($B$18,MONTH(I$28),1),DATE($B$18,MONTH(I$28),I$29),$B31:$M31) -> 20 | J32: =NETWORKDAYS(DATE($B$18,MONTH(J$28),1),DATE($B$18,MONTH(J$28),J$29),$B31:$M31) -> 22 | K32: =NETWORKDAYS(DATE($B$18,MONTH(K$28),1),DATE($B$18,MONTH(K$28),K$29),$B31:$M31) -> 23 | L32: =NETWORKDAYS(DATE($B$18,MONTH(L$28),1),DATE($B$18,MONTH(L$28),L$29),$B31:$M31) -> 19 | M32: =NETWORKDAYS(DATE($B$18,MONTH(M$28),1),DATE($B$18,MONTH(M$28),M$29),$B31:$M31) -> 22
A34: Année | B34: =YEAR(DATE(2012,1,1)) -> 2012 | D34: Tx de prov | E34: 0 | G34: TVA | H34: 0.196 | I34: 0.1639 | L34: Paiement efféctué
B35: =YEAR(DATE(B34+1,1,1)) -> 2013 | E35: 0.05 | H35: 0.07 | I35: 0.0654 | M35: Oui
B36: =YEAR(DATE(B35+1,1,1)) -> 2014 | E36: 0.1 | H36: 0.055 | I36: 0.0522 | M36: Non
B37: =YEAR(DATE(B36+1,1,1)) -> 2015 | E37: 0.15
B38: =YEAR(DATE(B37+1,1,1)) -> 2016 | E38: 0.2 | H38: Nb jours | I38: -120
B39: =YEAR(DATE(B38+1,1,1)) -> 2017 | E39: 0.25 | I39: -90
B40: =YEAR(DATE(B39+1,1,1)) -> 2018 | E40: 0.3 | I40: -60
B41: =YEAR(DATE(B40+1,1,1)) -> 2019 | E41: 0.35 | I41: -30
B42: =YEAR(DATE(B41+1,1,1)) -> 2020 | E42: 0.45 | I42: 0
B43: =YEAR(DATE(B42+1,1,1)) -> 2021 | E43: 0.5 | I43: 30
...

Sheet CRA Récapitulatif
A2: Année : | B2: =Matrice!B18 -> 2014
A3: Mission :
A4: Contrat : | B4: =Matrice!B6 -> 0
A5: Prestation de :
A6: Fin de mission : | B6: =Matrice!B8 -> 0
C9: RAF Début de mois | D9: Total du mois | E9: RAF fin de mois | G9: =1 -> 1 | H9: =G9+1 -> 2 | I9: =H9+1 -> 3 | J9: =I9+1 -> 4 | K9: =J9+1 -> 5 | L9: =K9+1 -> 6 | M9: =L9+1 -> 7 | N9: =M9+1 -> 8 | O9: =N9+1 -> 9 | ... AK9: =AJ9+1 -> 31 | AL9: TOTAL
A10: Période : | B10: =DATE(Matrice!$B$18,MONTH(Matrice!B$28),Matrice!B$29) -> 41670 | C10: =Matrice!B11 -> 251 | D10: =AL10 -> 0 | E10: =C10-D10 -> 251 | H10: 0 | I10: 0 | L10: 0 | M10: 0 | N10: 0 | O10: 0 | P10: 0 | S10: 0 | T10: 0 | U10: 0 | V10: 0 | W10: 0 | Z10: 0 | AA10: 0 | AB10: 0 | AC10: 0 | AD10: 0 | AG10: 0 | AH10: 0 | AI10: 0 | AJ10: 0 | AK10: 0 | AL10: =SUM(G10:AK10)/4 -> 0
B11: =DATE(Matrice!$B$18,MONTH(Matrice!C$28),Matrice!C$29) -> 41698 | C11: =E10 -> 251 | D11: =AL11 -> 5 | E11: =C11-D11 -> 246 | I11: 0 | J11: 0 | K11: 0 | L11: 0 | M11: 0 | P11: 0 | Q11: 0 | R11: 0 | S11: 0 | T11: 0 | W11: 0 | X11: 0 | Y11: 0 | Z11: 0 | AA11: 0 | AD11: 4 | AE11: 4 | AF11: 4 | AG11: 4 | AH11: 4 | AL11: =SUM(G11:AK11)/4 -> 5
B12: =DATE(Matrice!$B$18,MONTH(Matrice!D$28),Matrice!D$29) -> 41729 | C12: =E11 -> 246 | D12: =AL12 -> 21 | E12: =C12-D12 -> 225 | I12: 4 | J12: 4 | K12: 4 | L12: 4 | M12: 4 | P12: 4 | Q12: 4 | R12: 4 | S12: 4 | T12: 4 | W12: 4 | X12: 4 | Y12: 4 | Z12: 4 | AA12: 4 | AD12: 4 | AE12: 4 | AF12: 4 | AG12: 4 | AH12: 4 | AK12: 4 | AL12: =SUM(G12:AK12)/4 -> 21
B13: =DATE(Matrice!$B$18,MONTH(Matrice!E$28),Matrice!E$29) -> 41759 | C13: =E12 -> 225 | D13: =AL13 -> 21 | E13: =C13-D13 -> 204 | G13: 4 | H13: 4 | I13: 4 | J13: 4 | M13: 4 | N13: 4 | O13: 4 | P13: 4 | Q13: 4 | T13: 4 | U13: 4 | V13: 4 | W13: 4 | X13: 4 | AB13: 4 | AC13: 4 | AD13: 4 | AE13: 4 | AH13: 4 | AI13: 4 | AJ13: 4 | AL13: =SUM(G13:AK13)/4 -> 21
B14: =DATE(Matrice!$B$18,MONTH(Matrice!F$28),Matrice!F$29) -> 41790 | C14: =E13 -> 204 | D14: =AL14 -> 14 | E14: =C14-D14 -> 190 | H14: 0 | K14: 4 | L14: 4 | M14: 2 | O14: 0 | R14: 4 | S14: 4 | T14: 4 | U14: 4 | V14: 4 | Y14: 4 | Z14: 2 | AA14: 4 | AB14: 0 | AC14: 4 | AF14: 4 | AG14: 4 | AH14: 4 | AJ14: 0 | AL14: =SUM(G14:AK14)/4 -> 14
B15: =DATE(Matrice!$B$18,MONTH(Matrice!G$28),Matrice!G$29) -> 41820 | C15: =E14 -> 190 | D15: =AL15 -> 20 | E15: =C15-D15 -> 170 | H15: 4 | I15: 4 | J15: 4 | K15: 4 | L15: 4 | O15: 0 | P15: 4 | Q15: 4 | R15: 4 | S15: 4 | V15: 4 | W15: 4 | X15: 4 | Y15: 4 | Z15: 4 | AC15: 4 | AD15: 4 | AE15: 4 | AF15: 4 | AG15: 4 | AJ15: 4 | AL15: =SUM(G15:AK15)/4 -> 20
B16: =DATE(Matrice!$B$18,MONTH(Matrice!H$28),Matrice!H$29) -> 41851 | C16: =E15 -> 170 | D16: =AL16 -> 4.5 | E16: =C16-D16 -> 165.5 | G16: 0 | H16: 0 | I16: 0 | J16: 0 | M16: 0 | N16: 2 | O16: 4 | P16: 4 | Q16: 4 | U16: 4 | V16: 0 | W16: 0 | X16: 0 | AA16: 0 | AB16: 0 | AC16: 0 | AD16: 0 | AE16: 0 | AH16: 0 | AI16: 0 | AJ16: 0 | AK16: 0 | AL16: =SUM(G16:AK16)/4 -> 4.5
B17: =DATE(Matrice!$B$18,MONTH(Matrice!I$28),Matrice!I$29) -> 41882 | C17: =E16 -> 165.5 | D17: =AL17 -> 14 | E17: =C17-D17 -> 151.5 | G17: 0 | J17: 0 | K17: 0 | L17: 0 | M17: 0 | N17: 0 | Q17: 4 | R17: 4 | S17: 4 | T17: 4 | X17: 4 | Y17: 4 | Z17: 4 | AA17: 4 | AB17: 4 | AE17: 4 | AF17: 4 | AG17: 4 | AH17: 4 | AI17: 4 | AL17: =SUM(G17:AK17)/4 -> 14
B18: =DATE(Matrice!$B$18,MONTH(Matrice!J$28),Matrice!J$29) -> 41912 | C18: =E17 -> 151.5 | D18: =AL18 -> 21.5 | E18: =C18-D18 -> 130 | G18: 4 | H18: 4 | I18: 4 | J18: 4 | K18: 4 | N18: 4 | O18: 4 | P18: 4 | Q18: 4 | R18: 4 | U18: 2 | V18: 4 | W18: 4 | X18: 4 | Y18: 4 | AB18: 4 | AC18: 4 | AD18: 4 | AE18: 4 | AF18: 4 | AI18: 4 | AJ18: 4 | AL18: =SUM(G18:AK18)/4 -> 21.5
B19: =DATE(Matrice!$B$18,MONTH(Matrice!K$28),Matrice!K$29) -> 41943 | C19: =E18 -> 130 | D19: =AL19 -> 23 | E19: =C19-D19 -> 107 | G19: 4 | H19: 4 | I19: 4 | L19: 4 | M19: 4 | N19: 4 | O19: 4 | P19: 4 | S19: 4 | T19: 4 | U19: 4 | V19: 4 | W19: 4 | Z19: 4 | AA19: 4 | AB19: 4 | AC19: 4 | AD19: 4 | AG19: 4 | AH19: 4 | AI19: 4 | AJ19: 4 | AK19: 4 | AL19: =SUM(G19:AK19)/4 -> 23
B20: =DATE(Matrice!$B$18,MONTH(Matrice!L$28),Matrice!L$29) -> 41973 | C20: =E19 -> 107 | D20: =AL20 -> 19 | E20: =C20-D20 -> 88 | I20: 4 | J20: 4 | K20: 4 | L20: 4 | M20: 4 | P20: 4 | R20: 4 | S20: 4 | T20: 4 | W20: 4 | X20: 4 | Y20: 4 | Z20: 4 | AA20: 4 | AD20: 4 | AE20: 4 | AF20: 4 | AG20: 4 | AH20: 4 | AL20: =SUM(G20:AK20)/4 -> 19
B21: =DATE(Matrice!$B$18,MONTH(Matrice!M$28),Matrice!M$29) -> 42004 | C21: =E20 -> 88 | D21: =AL21 -> 18 | E21: =C21-D21 -> 70 | G21: 4 | H21: 4 | I21: 4 | J21: 4 | K21: 4 | N21: 4 | O21: 4 | P21: 4 | Q21: 4 | R21: 4 | U21: 4 | V21: 4 | W21: 4 | X21: 4 | Y21: 4 | AB21: 4 | AC21: 4 | AD21: 4 | AF21: 0 | AI21: 0 | AJ21: 0 | AK21: 0 | AL21: =SUM(G21:AK21)/4 -> 18
AL22: =SUM(AL10:AL21) -> 181

Sheet CRA Mensuel
A2: Mission : | B2: =Matrice!B7 -> 0
A3: Contrat : | B3: =Matrice!B6 -> 0
A4: Prestation de :
A5: Fin de mission : | B5: =Matrice!B8 -> 0
C8: RAF Début de mois | D8: Total du mois | E8: RAF fin de mois | G8: =DATE(YEAR($B$9),MONTH($B$9),DAY($B$9)) -> 41852 | H8: =DATE(YEAR($B$9),MONTH($B$9),DAY($B$9)+1) -> 41853 | I8: =DATE(YEAR($B$9),MONTH($B$9),DAY($B$9)+2) -> 41854 | J8: =DATE(YEAR($B$9),MONTH($B$9),DAY($B$9)+3) -> 41855 | K8: =DATE(YEAR($B$9),MONTH($B$9),DAY($B$9)+4) -> 41856 | L8: =DATE(YEAR($B$9),MONTH($B$9),DAY($B$9)+5) -> 41857 | M8: =DATE(YEAR($B$9),MONTH($B$9),DAY($B$9)+6) -> 41858 | N8: =DATE(YEAR($B$9),MONTH($B$9),DAY($B$9)+7) -> 41859 | O8: =DATE(YEAR($B$9),MONTH($B$9),DAY($B$9)+8) -> 41860 | P8: =DATE(YEAR($B$9),MONTH($B$9),DAY($B$9)+9) -> 41861 | Q8: =DATE(YEAR($B$9),MONTH($B$9),DAY($B$9)+10) -> 41862 | R8: =DATE(YEAR($B$9),MONTH($B$9),DAY($B$9)+11) -> 41863 | S8: =DATE(YEAR($B$9),MONTH($B$9),DAY($B$9)+12) -> 41864 | T8: =DATE(YEAR($B$9),MONTH($B$9),DAY($B$9)+13) -> 41865 | U8: =DATE(YEAR($B$9),MONTH($B$9),DAY($B$9)+14) -> 41866 | V8: =DATE(YEAR($B$9),MONTH($B$9),DAY($B$9)+15) -> 41867 | W8: =DATE(YEAR($B$9),MONTH($B$9),DAY($B$9)+16) -> 41868 | X8: =DATE(YEAR($B$9),MONTH($B$9),DAY($B$9)+17) -> 41869 | Y8: =DATE(YEAR($B$9),MONTH($B$9),DAY($B$9)+18) -> 41870 | Z8: =DATE(YEAR($B$9),MONTH($B$9),DAY($B$9)+19) -> 41871 | AA8: =DATE(YEAR($B$9),MONTH($B$9),DAY($B$9)+20) -> 41872 | AB8: =DATE(YEAR($B$9),MONTH($B$9),DAY($B$9)+21) -> 41873 | AC8: =DATE(YEAR($B$9),MONTH($B$9),DAY($B$9)+22) -> 41874 | AD8: =DATE(YEAR($B$9),MONTH($B$9),DAY($B$9)+23) -> 41875 | AE8: =DATE(YEAR($B$9),MONTH($B$9),DAY($B$9)+24) -> 41876 | AF8: =DATE(YEAR($B$9),MONTH($B$9),DAY($B$9)+25) -> 41877 | AG8: =DATE(YEAR($B$9),MONTH($B$9),DAY($B$9)+26) -> 41878 | AH8: =DATE(YEAR($B$9),MONTH($B$9),DAY($B$9)+27) -> 41879 | AI8: =DATE(YEAR($B$9),MONTH($B$9),DAY($B$9)+28) -> 41880 | AJ8: =DATE(YEAR($B$9),MONTH($B$9),DAY($B$9)+29) -> 41881 | AK8: =DATE(YEAR($B$9),MONTH($B$9),DAY($B$9)+30) -> 41882 | AL8: TOTAL
A9: Période : | B9: 41852 | C9: =OFFSET('CRA Récapitulatif'!C$9,MONTH('CRA Mensuel'!$B$9),0) -> 165.5 | D9: =OFFSET('CRA Récapitulatif'!D$9,MONTH('CRA Mensuel'!$B$9),0) -> 14 | E9: =OFFSET('CRA Récapitulatif'!E$9,MONTH('CRA Mensuel'!$B$9),0) -> 151.5 | G9: =IF(ISBLANK(OFFSET('CRA Récapitulatif'!$F$9,MONTH($B$9),DAY(G$8))),"",OFFSET('CRA Récapitulatif'!$F$9,MONTH($B$9),DAY(G$8))) -> 0 | H9: =IF(ISBLANK(OFFSET('CRA Récapitulatif'!$F$9,MONTH($B$9),DAY(H$8))),"",OFFSET('CRA Récapitulatif'!$F$9,MONTH($B$9),DAY(H$8))) | I9: =IF(ISBLANK(OFFSET('CRA Récapitulatif'!$F$9,MONTH($B$9),DAY(I$8))),"",OFFSET('CRA Récapitulatif'!$F$9,MONTH($B$9),DAY(I$8))) | J9: =IF(ISBLANK(OFFSET('CRA Récapitulatif'!$F$9,MONTH($B$9),DAY(J$8))),"",OFFSET('CRA Récapitulatif'!$F$9,MONTH($B$9),DAY(J$8))) -> 0 | K9: =IF(ISBLANK(OFFSET('CRA Récapitulatif'!$F$9,MONTH($B$9),DAY(K$8))),"",OFFSET('CRA Récapitulatif'!$F$9,MONTH($B$9),DAY(K$8))) -> 0 | L9: =IF(ISBLANK(OFFSET('CRA Récapitulatif'!$F$9,MONTH($B$9),DAY(L$8))),"",OFFSET('CRA Récapitulatif'!$F$9,MONTH($B$9),DAY(L$8))) -> 0 | M9: =IF(ISBLANK(OFFSET('CRA Récapitulatif'!$F$9,MONTH($B$9),DAY(M$8))),"",OFFSET('CRA Récapitulatif'!$F$9,MONTH($B$9),DAY(M$8))) -> 0 | N9: =IF(ISBLANK(OFFSET('CRA Récapitulatif'!$F$9,MONTH($B$9),DAY(N$8))),"",OFFSET('CRA Récapitulatif'!$F$9,MONTH($B$9),DAY(N$8))) -> 0 | ... AK9: =IF(ISBLANK(OFFSET('CRA Récapitulatif'!$F$9,MONTH($B$9),DAY(AK$8))),"",OFFSET('CRA Récapitulatif'!$F$9,MONTH($B$9),DAY(AK$8))) | AL9: =SUM(G9:AK9)/4 -> 14
A11: BON POUR PRESTATION CONFORME
A12: Responsable Client
A13: Signature

Sheet CA & TVA facturé
B1: =Matrice!B2 -> 0 | D1: =Matrice!E40 -> 0.3
B2: Année | C2: =Matrice!B18 -> 2014 | D2: =Matrice!E41 -> 0.35
B3: CA HT jour | C3: =Matrice!B14 -> 480 | D3: =Matrice!E42 -> 0.45
B4: =Matrice!A16&" par défaut" -> Tx provisions pour charges par défaut | C4: =Matrice!B16 -> 0.5 | D4: =Matrice!E43 -> 0.5
B5: =Matrice!A17 -> TVA | C5: =Matrice!B17 -> 0.2 | D5: =Matrice!E44 -> 0.55
D8: =Matrice!B18&" CA Facturé" -> 2014 CA Facturé
D9: Janvier | E9: Février | F9: Mars | G9: Avril | H9: Mai | I9: Juin | J9: Juillet | K9: Août | L9: Septembre | M9: Octobre | N9: Novembre | O9: Décembre
B10: Nb jours ouvrés | D10: =Matrice!B32 -> 22 | E10: =Matrice!C32 -> 20 | F10: =Matrice!D32 -> 21 | G10: =Matrice!E32 -> 21 | H10: =Matrice!F32 -> 19 | I10: =Matrice!G32 -> 21 | J10: =Matrice!H32 -> 22 | K10: =Matrice!I32 -> 20 | ... O10: =Matrice!M32 -> 22
B11: Nb jours travaillés | D11: =INDIRECT(ADDRESS(COLUMN()+6,4,3,1,"CRA Récapitulatif")) -> 0 | E11: =INDIRECT(ADDRESS(COLUMN()+6,4,3,1,"CRA Récapitulatif")) -> 5 | F11: =INDIRECT(ADDRESS(COLUMN()+6,4,3,1,"CRA Récapitulatif")) -> 21 | G11: =INDIRECT(ADDRESS(COLUMN()+6,4,3,1,"CRA Récapitulatif")) -> 21 | H11: =INDIRECT(ADDRESS(COLUMN()+6,4,3,1,"CRA Récapitulatif")) -> 14 | I11: =INDIRECT(ADDRESS(COLUMN()+6,4,3,1,"CRA Récapitulatif")) -> 20 | J11: =INDIRECT(ADDRESS(COLUMN()+6,4,3,1,"CRA Récapitulatif")) -> 4.5 | K11: =INDIRECT(ADDRESS(COLUMN()+6,4,3,1,"CRA Récapitulatif")) -> 14 | ... O11: =INDIRECT(ADDRESS(COLUMN()+6,4,3,1,"CRA Récapitulatif")) -> 18
A13: (A) | B13: CA facturé HT | D13: =$C3*D11 -> 0 | H13: =$C3*H11 -> 6720
B14: CA facturé HT cumulé | D14: =D13 -> 0 | E14: =IF(E13=0,"",IF(D14="",0,D14)+E13) | F14: =IF(F13=0,"",IF(E14="",0,E14)+F13) | G14: =IF(G13=0,"",IF(F14="",0,F14)+G13) | H14: =IF(H13=0,"",IF(G14="",0,G14)+H13) -> 6720 | I14: =IF(I13=0,"",IF(H14="",0,H14)+I13) | J14: =IF(J13=0,"",IF(I14="",0,I14)+J13) | K14: =IF(K13=0,"",IF(J14="",0,J14)+K13) | L14: =IF(L13=0,"",IF(K14="",0,K14)+L13) | ... O14: =IF(O13=0,"",IF(N14="",0,N14)+O13)
B16: TVA facturée | D16: =D13*$C$5 -> 0 | E16: =E13*$C$5 -> 0 | F16: =F13*$C$5 -> 0 | G16: =G13*$C$5 -> 0 | H16: =H13*$C$5 -> 1344 | I16: =I13*$C$5 -> 0 | J16: =J13*$C$5 -> 0 | K16: =K13*$C$5 -> 0 | ... O16: =O13*$C$5 -> 0
B17: TVA facturée cumulée | D17: =D16 -> 0 | E17: =IF(E16="","",IF(D17="",0,D17)+E16) -> 0 | F17: =IF(F16="","",IF(E17="",0,E17)+F16) -> 0 | G17: =IF(G16="","",IF(F17="",0,F17)+G16) -> 0 | H17: =IF(H16="","",IF(G17="",0,G17)+H16) -> 1344 | I17: =IF(I16="","",IF(H17="",0,H17)+I16) -> 1344 | J17: =IF(J16="","",IF(I17="",0,I17)+J16) -> 1344 | K17: =IF(K16="","",IF(J17="",0,J17)+K16) -> 1344 | L17: =IF(L16="","",IF(K17="",0,K17)+L16) -> 1344 | ... O17: =IF(O16="","",IF(N17="",0,N17)+O16) -> 1344
B19: TTC | C19: TTC | D19: =D13+D16 -> 0 | E19: =E13+E16 -> 0 | F19: =F13+F16 -> 0 | G19: =G13+G16 -> 0 | H19: =H13+H16 -> 8064 | I19: =I13+I16 -> 0 | J19: =J13+J16 -> 0 | K19: =K13+K16 -> 0 | ... O19: =O13+O16 -> 0
B20: TTC Cumulée | C20: TTC cumulé | D20: =D19 -> 0 | E20: =D20+E19 -> 0 | F20: =E20+F19 -> 0 | G20: =F20+G19 -> 0 | H20: =G20+H19 -> 8064 | I20: =H20+I19 -> 8064 | J20: =I20+J19 -> 8064 | K20: =J20+K19 -> 8064 | L20: =K20+L19 -> 8064 | ... O20: =N20+O19 -> 8064

Sheet CA & TVA Encaissés
B1: =Matrice!B2 -> 0 | D1: =Matrice!E40 -> 0.3
B2: Année | C2: =Matrice!B18 -> 2014 | D2: =Matrice!E41 -> 0.35
B3: CA HT jour | C3: =Matrice!B14 -> 480 | D3: =Matrice!E42 -> 0.45
B4: =Matrice!A16&" par défaut" -> Tx provisions pour charges par défaut | C4: =Matrice!B16 -> 0.5 | D4: =Matrice!E43 -> 0.5
B5: =Matrice!A17 -> TVA | C5: =Matrice!B17 -> 0.2 | D5: =Matrice!E44 -> 0.55
B7: Paiement efféctué | D7: Oui | E7: Oui | F7: Oui | G7: Oui | H7: Oui | I7: Non | J7: Non | K7: Non | L7: Non | M7: Non | N7: Non | O7: Non
D8: =Matrice!B18&" CA Encaissé et TVA collectée" -> 2014 CA Encaissé et TVA collectée
B9: Mois d'encaissement | D9: Janvier | E9: Février | F9: Mars | G9: Avril | H9: Mai | I9: Juin | J9: Juillet | K9: Août | L9: Septembre | M9: Octobre | N9: Novembre | O9: Décembre | P9: Non paiement
B10: Mois de facturation | D10: Octobre | E10: Non paiement | F10: Non paiement | G10: Non paiement | H10: Non paiement | I10: Mai | J10: Non paiement | K10: Non paiement | L10: Non paiement | M10: Non paiement | N10: Non paiement | O10: Non paiement
B11: CA encaissé HT | G11: =IF(G10="Non paiement",0,HLOOKUP(G$10,'CA & TVA facturé'!$D$9:$O$13,5,0)) -> 0 | H11: =IF(H10="Non paiement",0,HLOOKUP(H$10,'CA & TVA facturé'!$D$9:$O$13,5,0)) -> 0 | I11: =IF(I10="Non paiement",0,HLOOKUP(I$10,'CA & TVA facturé'!$D$9:$O$13,5,0)) -> 6720 | J11: =IF(J10="Non paiement",0,HLOOKUP(J$10,'CA & TVA facturé'!$D$9:$O$13,5,0)) -> 0 | K11: =IF(K10="Non paiement",0,HLOOKUP(K$10,'CA & TVA facturé'!$D$9:$O$13,5,0)) -> 0 | L11: =IF(L10="Non paiement",0,HLOOKUP(L$10,'CA & TVA facturé'!$D$9:$O$13,5,0)) -> 0 | M11: =IF(M10="Non paiement",0,HLOOKUP(M$10,'CA & TVA facturé'!$D$9:$O$13,5,0)) -> 0 | N11: =IF(N10="Non paiement",0,HLOOKUP(N$10,'CA & TVA facturé'!$D$9:$O$13,5,0)) -> 0 | O11: =IF(O10="Non paiement",0,HLOOKUP(O$10,'CA & TVA facturé'!$D$9:$O$13,5,0)) -> 0
B12: CA encaissé HT cumulé | D12: =D11 -> 0 | E12: =IF(E11="","",IF(D12="",0,D12)+E11) | F12: =IF(F11="","",IF(E12="",0,E12)+F11) | G12: =IF(G11="","",IF(F12="",0,F12)+G11) -> 0 | H12: =IF(H11="","",IF(G12="",0,G12)+H11) -> 0 | I12: =IF(I11="","",IF(H12="",0,H12)+I11) -> 6720 | J12: =IF(J11="","",IF(I12="",0,I12)+J11) -> 6720 | K12: =IF(K11="","",IF(J12="",0,J12)+K11) -> 6720 | L12: =IF(L11="","",IF(K12="",0,K12)+L11) -> 6720 | ... O12: =IF(O11="","",IF(N12="",0,N12)+O11) -> 6720
B14: TVA encaissée | D14: =D11*0.196 -> 0 | E14: =E11*0.196 -> 0 | F14: =F11*0.196 -> 0 | G14: =G11*$C$5 -> 0 | H14: =H11*$C$5 -> 0 | I14: =I11*$C$5 -> 1344 | J14: =J11*$C$5 -> 0 | K14: =K11*$C$5 -> 0 | L14: =L11*$C$5 -> 0 | M14: =M11*$C$5 -> 0 | N14: =N11*$C$5 -> 0 | O14: =O11*$C$5 -> 0
B15: TVA encaissée cumulée | D15: =D14 -> 0 | E15: =IF(E14="","",IF(D15="",0,D15)+E14) -> 0 | F15: =IF(F14="","",IF(E15="",0,E15)+F14) -> 0 | G15: =IF(G14="","",IF(F15="",0,F15)+G14) -> 0 | H15: =IF(H14="","",IF(G15="",0,G15)+H14) -> 0 | I15: =IF(I14="","",IF(H15="",0,H15)+I14) -> 1344 | J15: =IF(J14="","",IF(I15="",0,I15)+J14) -> 1344 | K15: =IF(K14="","",IF(J15="",0,J15)+K14) -> 1344 | L15: =IF(L14="","",IF(K15="",0,K15)+L14) -> 1344 | ... O15: =IF(O14="","",IF(N15="",0,N15)+O14) -> 1344
B17: CA encaissé TTC | D17: =D11+D14 -> 0 | E17: =E11+E14 -> 0 | F17: =F11+F14 -> 0 | G17: =G11+G14 -> 0 | H17: =H11+H14 -> 0 | I17: =I11+I14 -> 8064 | J17: =J11+J14 -> 0 | K17: =K11+K14 -> 0 | ... O17: =O11+O14 -> 0
B18: CA encaissé TTC cumulé | D18: =D17 -> 0 | E18: =IF(E17="","",IF(D18="",0,D18)+E17) -> 0 | F18: =IF(F17="","",IF(E18="",0,E18)+F17) -> 0 | G18: =IF(G17="","",IF(F18="",0,F18)+G17) -> 0 | H18: =IF(H17="","",IF(G18="",0,G18)+H17) -> 0 | I18: =IF(I17="","",IF(H18="",0,H18)+I17) -> 8064 | J18: =IF(J17="","",IF(I18="",0,I18)+J17) -> 8064 | K18: =IF(K17="","",IF(J18="",0,J18)+K17) -> 8064 | L18: =IF(L17="","",IF(K18="",0,K18)+L17) -> 8064 | ... O18: =IF(O17="","",IF(N18="",0,N18)+O17) -> 8064

Sheet Revenu & Provisions
A1: =Matrice!B2 -> 0
A2: Année | B2: =Matrice!B18 -> 2014
A3: CA HT jour | B3: =Matrice!B14 -> 480
A4: =Matrice!A16&" par défaut" -> Tx provisions pour charges par défaut | B4: =Matrice!B16 -> 0.5
A5: =Matrice!A17 -> TVA | B5: =Matrice!B17 -> 0.2
B6: =Matrice!E42 -> 0.45
B7: =Matrice!E43 -> 0.5
B8: =Matrice!E44 -> 0.55
B9: =Matrice!B27 -> 2014
A10: Mois d'encaissement | B10: Janvier | D10: Février | F10: Mars | H10: Avril | J10: Mai | L10: Juin | N10: Juillet | P10: Août | R10: Septembre | T10: Octobre | V10: Novembre | X10: Décembre
A11: Mois de facturation | B11: Octobre | D11: Novembre | F11: Décembre | H11: Février | J11: Mars | L11: Avril | P11: Juin | R11: Juillet | T11: Août | V11: Septembre | X11: Octobre
A12: CA encaissé HT | B12: ='CA & TVA Encaissés'!D11 -> 0 | D12: ='CA & TVA Encaissés'!E11 -> 0 | F12: ='CA & TVA Encaissés'!F11 -> 0 | H12: ='CA & TVA Encaissés'!G11 -> 0 | J12: ='CA & TVA Encaissés'!H11 -> 0 | L12: ='CA & TVA Encaissés'!I11 -> 6720 | N12: ='CA & TVA Encaissés'!J11 -> 0 | P12: ='CA & TVA Encaissés'!K11 -> 0 | R12: ='CA & TVA Encaissés'!L11 -> 0 | T12: ='CA & TVA Encaissés'!M11 -> 0 | V12: ='CA & TVA Encaissés'!N11 -> 0 | X12: ='CA & TVA Encaissés'!O11 -> 0
A13: CA encaissé HT cumulé | B13: =B12 -> 0 | D13: =B13+D12 -> 0 | F13: =D13+F12 -> 0 | H13: =F13+H12 -> 0 | J13: =H13+J12 -> 0 | L13: =J13+L12 -> 6720 | N13: =L13+N12 -> 6720 | P13: =N13+P12 -> 6720 | R13: =P13+R12 -> 6720 | T13: =R13+T12 -> 6720 | V13: =T13+V12 -> 6720 | X13: =V13+X12 -> 6720
A16: Taux de PPC | B16: 0.55 | D16: 0.55 | F16: 0.55 | J16: 0.65 | N16: 0.3 | P16: 0.6 | T16: 0.45 | V16: 0.6 | X16: 0.6
B17: Théorique | C17: Réél | D17: Théorique | E17: Réél | F17: Théorique | G17: Réél | H17: Théorique | I17: Réél | J17: Théorique | K17: Réél | L17: Théorique | M17: Réél | N17: Théorique | O17: Réél | P17: Théorique | Q17: Réél | R17: Théorique | S17: Réél | T17: Théorique | U17: Réél | V17: Théorique | W17: Réél | X17: Théorique | Y17: Réél
A18: PPC mensuelle | B18: =$B4*B12 -> 0 | C18: =IF(B16="",B18,B16*B12) -> 0 | D18: =$B4*D12 -> 0 | E18: =IF(D16="",D18,D16*D12) -> 0 | F18: =$B4*F12 -> 0 | G18: =IF(F16="",F18,F16*F12) -> 0 | H18: =$B4*H12 -> 0 | I18: =IF(H16="",H18,H16*H12) -> 0 | J18: =$B4*J12 -> 0 | K18: =IF(J16="",J18,J16*J12) -> 0 | L18: =$B4*L12 -> 3360 | M18: =IF(L16="",L18,L16*L12) -> 3360 | N18: =$B4*N12 -> 0 | O18: =IF(N16="",N18,N16*N12) -> 0 | P18: =$B4*P12 -> 0 | Q18: =IF(P16="",P18,P16*P12) -> 0 | R18: =$B4*R12 -> 0 | S18: =IF(R16="",R18,R16*R12) -> 0 | T18: =$B4*T12 -> 0 | U18: =IF(T16="",T18,T16*T12) -> 0 | V18: =$B4*V12 -> 0 | W18: =IF(V16="",V18,V16*V12) -> 0 | X18: =$B4*X12 -> 0 | Y18: =IF(X16="",X18,X16*X12) -> 0
A19: PPC cumulée | B19: =IF(Matrice!$B$12="",C18-B18,Matrice!$B$12+(C18-B18)) -> -3864 | D19: =(E18-D18)+B19 -> -3864 | F19: =(G18-F18)+D19 -> -3864 | H19: =(I18-H18)+F19 -> -3864 | J19: =(K18-J18)+H19 -> -3864 | L19: =(M18-L18)+J19 -> -3864 | N19: =(O18-N18)+L19 -> -3864 | P19: =(Q18-P18)+N19 -> -3864 | R19: =(S18-R18)+P19 -> -3864 | T19: =(U18-T18)+R19 -> -3864 | V19: =(W18-V18)+T19 -> -3864 | X19: =(Y18-X18)+V19 -> -3864
A21: Revenu Net | B21: =IF(B16="",B12-B18,B12-C18) -> 0 | D21: =IF(D16="",D12-D18,D12-E18) -> 0 | F21: =IF(F16="",F12-F18,F12-G18) -> 0 | H21: =IF(H16="",H12-H18,H12-I18) -> 0 | J21: =IF(J16="",J12-J18,J12-K18) -> 0 | L21: =IF(L16="",L12-L18,L12-M18) -> 3360 | N21: =IF(N16="",N12-N18,N12-O18) -> 0 | P21: =IF(P16="",P12-P18,P12-Q18) -> 0 | R21: =IF(R16="",R12-R18,R12-S18) -> 0 | T21: =IF(T16="",T12-T18,T12-U18) -> 0 | V21: =IF(V16="",V12-V18,V12-W18) -> 0 | X21: =IF(X16="",X12-X18,X12-Y18) -> 0
A22: Contrôle | B22: =B21+C18-B12 -> 0 | D22: =D21+E18-D12 -> 0 | F22: =F21+G18-F12 -> 0 | H22: =H21+I18-H12 -> 0 | J22: =J21+K18-J12 -> 0 | L22: =L21+M18-L12 -> 0 | N22: =N21+O18-N12 -> 0 | P22: =P21+Q18-P12 -> 0 | R22: =R21+S18-R12 -> 0 | T22: =T21+U18-T12 -> 0 | V22: =V21+W18-V12 -> 0 | X22: =X21+Y18-X12 -> 0
A23: Revenu Net Cumulé | B23: =B21 -> 0 | D23: =B23+D21 -> 0 | F23: =D23+F21 -> 0 | H23: =F23+H21 -> 0 | J23: =H23+J21 -> 0 | L23: =J23+L21 -> 3360 | N23: =L23+N21 -> 3360 | P23: =N23+P21 -> 3360 | R23: =P23+R21 -> 3360 | T23: =R23+T21 -> 3360 | V23: =T23+V21 -> 3360 | X23: =V23+X21 -> 3360
A25: Equivalent Brut Salarié | B25: =B21/0.75 -> 0 | D25: =D21/0.75 -> 0 | F25: =F21/0.75 -> 0 | H25: =H21/0.75 -> 0 | J25: =J21/0.75 -> 0 | L25: =L21/0.75 -> 4480 | N25: =N21/0.75 -> 0 | P25: =P21/0.75 -> 0 | R25: =R21/0.75 -> 0 | T25: =T21/0.75 -> 0 | V25: =V21/0.75 -> 0 | X25: =X21/0.75 -> 0
A26: Equivalent Brut Salarié Cumulé | B26: =B25 -> 0 | D26: =B26+D25 -> 0 | F26: =D26+F25 -> 0 | H26: =F26+H25 -> 0 | J26: =H26+J25 -> 0 | L26: =J26+L25 -> 4480 | N26: =L26+N25 -> 4480 | P26: =N26+P25 -> 4480 | R26: =P26+R25 -> 4480 | T26: =R26+T25 -> 4480 | V26: =T26+V25 -> 4480 | X26: =V26+X25 -> 4480

Sheet Facture Mensuelle
A6: =Matrice!A20&" :" -> N° de siren : | B6: =Matrice!B20 -> 0
F12: =Matrice!B2 -> 0
F13: =Matrice!B3 -> 0
F14: =Matrice!B4 -> 0
F15: =Matrice!B5 -> 0
A19: =Matrice!A7&" : "&Matrice!B7 -> Mission :
A20: =Matrice!A6&" : "&Matrice!B6 -> N° de contrat :
F26: Paris, le | G26: 41878
C36: ="NOTE D'HONORAIRES N° 26-"&TEXT(G26,"mm")&"-"&Matrice!B18 -> NOTE D'HONORAIRES N° 26-08-2014
B39: ="Mission : "& Matrice!B7 -> Mission : | F39: =HLOOKUP(PROPER(TEXT(G26,"mmmm")),'CA & TVA facturé'!D9:O13,5,0) -> 0
B41: Montant HT total | F41: =SUM(F39) -> 0
B42: ="TVA "&Matrice!B17*100&"%" -> TVA 20% | F42: =F41*Matrice!B17 -> 0
B44: Montant TTC | F44: =SUM(F41:F42) -> 0
D50: =IF(TEXT(G26,"mm")+2<10,"0"&TEXT(G26,"mm")+2,TEXT(G26,"mm")+2) -> 10
D51: =IF(IF(TEXT(G26,"mm")+2<10,"0"&TEXT(G26,"mm")+2,TEXT(G26,"mm")+2)=13,"01",IF(TEXT(G26,"mm")+2<10,"0"&TEXT(G26,"mm")+2,TEXT(G26,"mm")+2)) -> 10
D52: =TEXT(G26,"mm") -> 08
A62: ="En votre aimable règlement au 10/"&IF(TEXT(G26,"mm")+2<10,"0"&TEXT(G26,"mm")+2,TEXT(G26,"mm")+2)&"/"&Matrice!B18&" (ou à réception)" -> En votre aimable règlement au 10/10/2014 (ou à réception)
A64: Sans escompte ni règlement anticipé.
A65: En cas de retard de paiement, un intérêt de retard de 0,50% par mois sera appliqué au montant HT de la facture.
A67: ="N° de TVA intracommunautaire : "&Matrice!B22 -> N° de TVA intracommunautaire :
A68: Membre d'une association agréée. Le règlement des honoraires par chèques est accepté

Sheet Avoir
F12: =Matrice!B2 -> 0
F13: =Matrice!B3 -> 0
F14: =Matrice!B4 -> 0
F15: =Matrice!B5 -> 0
A19: =Matrice!A7&" : "&Matrice!B7 -> Mission :
A20: =Matrice!A6&" : "&Matrice!B6 -> N° de contrat :
F26: Paris, le | G26: 41213
C36: ="AVOIR N° 1-"&TEXT(G26,"mm")&"-"&Matrice!B18 -> AVOIR N° 1-10-2014
B39: Sur facture N° 4-09-2012 : | F39: =HLOOKUP(PROPER(TEXT(G26,"mmmm")),'CA & TVA facturé'!D9:O13,5,0) -> 0
D41: Montant HT total | F41: =SUM(F39) -> 0
D42: ="TVA "&Matrice!B17*100&"%" -> TVA 20% | F42: =F41*Matrice!B17 -> 0
D44: Montant TTC | F44: =SUM(F41:F42) -> 0
A62: En votre aimable règlement au 10/04/2013 (ou à réception)
A64: Sans escompte ni règlement anticipé.
A65: En cas de retard de paiement, un intérêt de retard de 0,50% par mois sera appliqué au montant HT de la facture.
A67: ="N° de TVA intracommunautaire : "&Matrice!B22 -> N° de TVA intracommunautaire :
A68: Membre d'une association agréée. Le règlement des honoraires par chèques est accepté
