Workbook

Sheet DONNEES
A2: Données ALPHA | B2: Données NUMERIQUES | C2: Condition
A3: AAA | B3: 1 | C3: X
A4: BBB | B4: 7 | C4: X
A5: AAA | B5: 1 | C5: X
A6: CCC | B6: 3 | C6: Y
A7: CCC | B7: 3 | C7: X
A8: BBB | B8: 7 | C8: Y
A9: CCC | B9: 3 | C9: X
A10: DDD | B10: 4 | C10: Z
A11: EEE | B11: 5 | C11: Z
A13: BERENGER | B13: 6 | C13: X
A14: ANATOLE | B14: 2 | C14: X
A16: ANATOLE | B16: 2 | C16: X
A17: BERENGER | B17: 8 | C17: Z

Sheet LISTE
B1: Données ALPHA | E1: Données NUMERIQUES
B2: Liste obtenue | C2: Liste triée souhaitée | E2: Liste obtenue | F2: Liste triée souhaitée
B3: {=IFERROR(INDEX(DONNEES!$A$3:$A$17,MIN(IF((DONNEES!$A$3:$A$17<>"")*(DONNEES!$C$3:$C$17="X"),IF(COUNTIF(B$2:B2,DONNEES!$A$3:$A$17)=0,ROW(DONNEES!$A$3:$A$17)-2,9^9)))),"")} -> AAA | C3: AAA | E3: {=IFERROR(INDEX(DONNEES!$B$3:$B$17,MIN(IF((DONNEES!$B$3:$B$17<>"")*(DONNEES!$C$3:$C$17="X"),IF(COUNTIF(E$2:E2,DONNEES!$B$3:$B$17)=0,ROW(DONNEES!$B$3:$B$17)-2,9^9)))),"")} -> 1 | F3: 1
B4: {=IFERROR(INDEX(DONNEES!$A$3:$A$17,MIN(IF((DONNEES!$A$3:$A$17<>"")*(DONNEES!$C$3:$C$17="X"),IF(COUNTIF(B$2:B3,DONNEES!$A$3:$A$17)=0,ROW(DONNEES!$A$3:$A$17)-2,9^9)))),"")} -> BBB | C4: ANATOLE | E4: {=IFERROR(INDEX(DONNEES!$B$3:$B$17,MIN(IF((DONNEES!$B$3:$B$17<>"")*(DONNEES!$C$3:$C$17="X"),IF(COUNTIF(E$2:E3,DONNEES!$B$3:$B$17)=0,ROW(DONNEES!$B$3:$B$17)-2,9^9)))),"")} -> 7 | F4: 2
B5: {=IFERROR(INDEX(DONNEES!$A$3:$A$17,MIN(IF((DONNEES!$A$3:$A$17<>"")*(DONNEES!$C$3:$C$17="X"),IF(COUNTIF(B$2:B4,DONNEES!$A$3:$A$17)=0,ROW(DONNEES!$A$3:$A$17)-2,9^9)))),"")} -> CCC | C5: BBB | E5: {=IFERROR(INDEX(DONNEES!$B$3:$B$17,MIN(IF((DONNEES!$B$3:$B$17<>"")*(DONNEES!$C$3:$C$17="X"),IF(COUNTIF(E$2:E4,DONNEES!$B$3:$B$17)=0,ROW(DONNEES!$B$3:$B$17)-2,9^9)))),"")} -> 3 | F5: 3
B6: {=IFERROR(INDEX(DONNEES!$A$3:$A$17,MIN(IF((DONNEES!$A$3:$A$17<>"")*(DONNEES!$C$3:$C$17="X"),IF(COUNTIF(B$2:B5,DONNEES!$A$3:$A$17)=0,ROW(DONNEES!$A$3:$A$17)-2,9^9)))),"")} -> BERENGER | C6: BERENGER | E6: {=IFERROR(INDEX(DONNEES!$B$3:$B$17,MIN(IF((DONNEES!$B$3:$B$17<>"")*(DONNEES!$C$3:$C$17="X"),IF(COUNTIF(E$2:E5,DONNEES!$B$3:$B$17)=0,ROW(DONNEES!$B$3:$B$17)-2,9^9)))),"")} -> 6 | F6: 6
B7: {=IFERROR(INDEX(DONNEES!$A$3:$A$17,MIN(IF((DONNEES!$A$3:$A$17<>"")*(DONNEES!$C$3:$C$17="X"),IF(COUNTIF(B$2:B6,DONNEES!$A$3:$A$17)=0,ROW(DONNEES!$A$3:$A$17)-2,9^9)))),"")} -> ANATOLE | C7: CCC | E7: {=IFERROR(INDEX(DONNEES!$B$3:$B$17,MIN(IF((DONNEES!$B$3:$B$17<>"")*(DONNEES!$C$3:$C$17="X"),IF(COUNTIF(E$2:E6,DONNEES!$B$3:$B$17)=0,ROW(DONNEES!$B$3:$B$17)-2,9^9)))),"")} -> 2 | F7: 7
B8: {=IFERROR(INDEX(DONNEES!$A$3:$A$17,MIN(IF((DONNEES!$A$3:$A$17<>"")*(DONNEES!$C$3:$C$17="X"),IF(COUNTIF(B$2:B7,DONNEES!$A$3:$A$17)=0,ROW(DONNEES!$A$3:$A$17)-2,9^9)))),"")} | E8: {=IFERROR(INDEX(DONNEES!$B$3:$B$17,MIN(IF((DONNEES!$B$3:$B$17<>"")*(DONNEES!$C$3:$C$17="X"),IF(COUNTIF(E$2:E7,DONNEES!$B$3:$B$17)=0,ROW(DONNEES!$B$3:$B$17)-2,9^9)))),"")}
B9: {=IFERROR(INDEX(DONNEES!$A$3:$A$17,MIN(IF((DONNEES!$A$3:$A$17<>"")*(DONNEES!$C$3:$C$17="X"),IF(COUNTIF(B$2:B8,DONNEES!$A$3:$A$17)=0,ROW(DONNEES!$A$3:$A$17)-2,9^9)))),"")} | E9: {=IFERROR(INDEX(DONNEES!$B$3:$B$17,MIN(IF((DONNEES!$B$3:$B$17<>"")*(DONNEES!$C$3:$C$17="X"),IF(COUNTIF(E$2:E8,DONNEES!$B$3:$B$17)=0,ROW(DONNEES!$B$3:$B$17)-2,9^9)))),"")}
B10: {=IFERROR(INDEX(DONNEES!$A$3:$A$17,MIN(IF((DONNEES!$A$3:$A$17<>"")*(DONNEES!$C$3:$C$17="X"),IF(COUNTIF(B$2:B9,DONNEES!$A$3:$A$17)=0,ROW(DONNEES!$A$3:$A$17)-2,9^9)))),"")} | E10: {=IFERROR(INDEX(DONNEES!$B$3:$B$17,MIN(IF((DONNEES!$B$3:$B$17<>"")*(DONNEES!$C$3:$C$17="X"),IF(COUNTIF(E$2:E9,DONNEES!$B$3:$B$17)=0,ROW(DONNEES!$B$3:$B$17)-2,9^9)))),"")}
B11: {=IFERROR(INDEX(DONNEES!$A$3:$A$17,MIN(IF((DONNEES!$A$3:$A$17<>"")*(DONNEES!$C$3:$C$17="X"),IF(COUNTIF(B$2:B10,DONNEES!$A$3:$A$17)=0,ROW(DONNEES!$A$3:$A$17)-2,9^9)))),"")} | E11: {=IFERROR(INDEX(DONNEES!$B$3:$B$17,MIN(IF((DONNEES!$B$3:$B$17<>"")*(DONNEES!$C$3:$C$17="X"),IF(COUNTIF(E$2:E10,DONNEES!$B$3:$B$17)=0,ROW(DONNEES!$B$3:$B$17)-2,9^9)))),"")}
B12: {=IFERROR(INDEX(DONNEES!$A$3:$A$17,MIN(IF((DONNEES!$A$3:$A$17<>"")*(DONNEES!$C$3:$C$17="X"),IF(COUNTIF(B$2:B11,DONNEES!$A$3:$A$17)=0,ROW(DONNEES!$A$3:$A$17)-2,9^9)))),"")} | E12: {=IFERROR(INDEX(DONNEES!$B$3:$B$17,MIN(IF((DONNEES!$B$3:$B$17<>"")*(DONNEES!$C$3:$C$17="X"),IF(COUNTIF(E$2:E11,DONNEES!$B$3:$B$17)=0,ROW(DONNEES!$B$3:$B$17)-2,9^9)))),"")}
B13: {=IFERROR(INDEX(DONNEES!$A$3:$A$17,MIN(IF((DONNEES!$A$3:$A$17<>"")*(DONNEES!$C$3:$C$17="X"),IF(COUNTIF(B$2:B12,DONNEES!$A$3:$A$17)=0,ROW(DONNEES!$A$3:$A$17)-2,9^9)))),"")} | E13: {=IFERROR(INDEX(DONNEES!$B$3:$B$17,MIN(IF((DONNEES!$B$3:$B$17<>"")*(DONNEES!$C$3:$C$17="X"),IF(COUNTIF(E$2:E12,DONNEES!$B$3:$B$17)=0,ROW(DONNEES!$B$3:$B$17)-2,9^9)))),"")}
B14: {=IFERROR(INDEX(DONNEES!$A$3:$A$17,MIN(IF((DONNEES!$A$3:$A$17<>"")*(DONNEES!$C$3:$C$17="X"),IF(COUNTIF(B$2:B13,DONNEES!$A$3:$A$17)=0,ROW(DONNEES!$A$3:$A$17)-2,9^9)))),"")} | E14: {=IFERROR(INDEX(DONNEES!$B$3:$B$17,MIN(IF((DONNEES!$B$3:$B$17<>"")*(DONNEES!$C$3:$C$17="X"),IF(COUNTIF(E$2:E13,DONNEES!$B$3:$B$17)=0,ROW(DONNEES!$B$3:$B$17)-2,9^9)))),"")}
B15: {=IFERROR(INDEX(DONNEES!$A$3:$A$17,MIN(IF((DONNEES!$A$3:$A$17<>"")*(DONNEES!$C$3:$C$17="X"),IF(COUNTIF(B$2:B14,DONNEES!$A$3:$A$17)=0,ROW(DONNEES!$A$3:$A$17)-2,9^9)))),"")} | E15: {=IFERROR(INDEX(DONNEES!$B$3:$B$17,MIN(IF((DONNEES!$B$3:$B$17<>"")*(DONNEES!$C$3:$C$17="X"),IF(COUNTIF(E$2:E14,DONNEES!$B$3:$B$17)=0,ROW(DONNEES!$B$3:$B$17)-2,9^9)))),"")}
B16: {=IFERROR(INDEX(DONNEES!$A$3:$A$17,MIN(IF((DONNEES!$A$3:$A$17<>"")*(DONNEES!$C$3:$C$17="X"),IF(COUNTIF(B$2:B15,DONNEES!$A$3:$A$17)=0,ROW(DONNEES!$A$3:$A$17)-2,9^9)))),"")} | E16: {=IFERROR(INDEX(DONNEES!$B$3:$B$17,MIN(IF((DONNEES!$B$3:$B$17<>"")*(DONNEES!$C$3:$C$17="X"),IF(COUNTIF(E$2:E15,DONNEES!$B$3:$B$17)=0,ROW(DONNEES!$B$3:$B$17)-2,9^9)))),"")}
B17: {=IFERROR(INDEX(DONNEES!$A$3:$A$17,MIN(IF((DONNEES!$A$3:$A$17<>"")*(DONNEES!$C$3:$C$17="X"),IF(COUNTIF(B$2:B16,DONNEES!$A$3:$A$17)=0,ROW(DONNEES!$A$3:$A$17)-2,9^9)))),"")} | E17: {=IFERROR(INDEX(DONNEES!$B$3:$B$17,MIN(IF((DONNEES!$B$3:$B$17<>"")*(DONNEES!$C$3:$C$17="X"),IF(COUNTIF(E$2:E16,DONNEES!$B$3:$B$17)=0,ROW(DONNEES!$B$3:$B$17)-2,9^9)))),"")}
B19: Obtenir à patir de la feuille "DONNEES" une liste triée Données ALPHA et Données NUMERIQUES sans doublons et sans videq avec condition "X" via formule
