Workbook

Sheet Planning de pâturage
A9: Mois | B9: Janvier | AK9: Février | BM9: Mars | CV9: Avril | DX9: Mai | EZ9: Juin | GB9: Juillet | HK9: Août | IM9: Septembre | JO9: Octobre | KX9: Novembre | LZ9: Décembre
A10: Semaine | B10: S1 | I10: S2 | P10: S3 | W10: S4 | AD10: S5 | AK10: S6 | AR10: S7 | AY10: S8 | BF10: S9 | BM10: S10 | BT10: S11 | CA10: S12 | CH10: S13 | CO10: S14 | CV10: S15 | DC10: S16 | DJ10: S17 | DQ10: S18 | DX10: S19 | EE10: S20 | EL10: S21 | ES10: S22 | EZ10: S23 | FG10: S24 | FN10: S25 | FU10: S26 | GB10: S27 | GI10: S28 | GP10: S29 | GW10: S30 | HD10: S31 | HK10: S32 | HR10: S33 | HY10: S34 | IF10: S35 | IM10: S36 | IT10: S37 | JA10: S38 | JH10: S39 | JO10: S40 | JV10: S41 | KC10: S42 | KJ10: S43 | KQ10: S44 | KX10: S45 | LE10: S46 | LL10: S47 | LS10: S48 | LZ10: S49 | MG10: S50 | MN10: S51 | MU10: S52 | NB10: S53
A11: Jour | B11: J1 | C11: J2 | D11: J3 | E11: J4 | F11: J5 | G11: J6 | H11: J7 | I11: J8 | J11: J9 | K11: J10 | L11: J11 | M11: J12 | N11: J13 | O11: J14 | P11: J15 | Q11: J16 | R11: J17 | S11: J18 | T11: J19 | U11: J20 | V11: J21 | W11: J22 | X11: J23 | Y11: J24 | Z11: J25 | AA11: J26 | AB11: J27 | AC11: J28 | AD11: J29 | AE11: J30 | AF11: J31 | AG11: J32 | AH11: J33 | AI11: J34 | AJ11: J35 | AK11: J36 | AL11: J37 | AM11: J38 | AN11: J39 | AO11: J40 | AP11: J41 | AQ11: J42 | AR11: J43 | AS11: J44 | AT11: J45 | AU11: J46 | AV11: J47 | AW11: J48 | AX11: J49 | AY11: J50 | AZ11: J51 | BA11: J52 | BB11: J53 | BC11: J54 | BD11: J55 | BE11: J56 | BF11: J57 | BG11: J58 | BH11: J59 | BI11: J60 | BJ11: J61 | BK11: J62 | BL11: J63 | BM11: J64 | BN11: J65 | BO11: J66 | BP11: J67 | BQ11: J68 | BR11: J69 | BS11: J70 | BT11: J71 | BU11: J72 | BV11: J73 | BW11: J74 | BX11: J75 | BY11: J76 | BZ11: J77 | CA11: J78 | CB11: J79 | CC11: J80 | CD11: J81 | CE11: J82 | CF11: J83 | CG11: J84 | CH11: J85 | CI11: J86 | CJ11: J87 | CK11: J88 | CL11: J89 | CM11: J90 | CN11: J91 | CO11: J92 | CP11: J93 | CQ11: J94 | CR11: J95 | CS11: J96 | CT11: J97 | CU11: J98 | CV11: J99 | CW11: J100 | CX11: J101 | CY11: J102 | CZ11: J103 | DA11: J104 | DB11: J105 | DC11: J106 | DD11: J107 | DE11: J108 | DF11: J109 | DG11: J110 | DH11: J111 | DI11: J112 | DJ11: J113 | DK11: J114 | DL11: J115 | DM11: J116 | DN11: J117 | DO11: J118 | DP11: J119 | DQ11: J120 | DR11: J121 | DS11: J122 | DT11: J123 | DU11: J124 | DV11: J125 | DW11: J126 | DX11: J127 | DY11: J128 | DZ11: J129 | EA11: J130 | EB11: J131 | EC11: J132 | ED11: J133 | EE11: J134 | EF11: J135 | EG11: J136 | EH11: J137 | EI11: J138 | EJ11: J139 | EK11: J140 | EL11: J141 | EM11: J142 | EN11: J143 | EO11: J144 | EP11: J145 | EQ11: J146 | ER11: J147 | ES11: J148 | ET11: J149 | EU11: J150 | EV11: J151 | EW11: J152 | EX11: J153 | EY11: J154 | EZ11: J155 | FA11: J156 | FB11: J157 | FC11: J158 | FD11: J159 | FE11: J160 | FF11: J161 | FG11: J162 | FH11: J163 | FI11: J164 | FJ11: J165 | FK11: J166 | FL11: J167 | FM11: J168 | FN11: J169 | FO11: J170 | FP11: J171 | FQ11: J172 | FR11: J173 | FS11: J174 | FT11: J175 | FU11: J176 | FV11: J177 | FW11: J178 | FX11: J179 | FY11: J180 | FZ11: J181 | GA11: J182 | GB11: J183 | GC11: J184 | GD11: J185 | GE11: J186 | GF11: J187 | GG11: J188 | GH11: J189 | GI11: J190 | GJ11: J191 | GK11: J192 | GL11: J193 | GM11: J194 | GN11: J195 | GO11: J196 | GP11: J197 | GQ11: J198 | GR11: J199 | GS11: J200 | GT11: J201 | GU11: J202 | GV11: J203 | GW11: J204 | GX11: J205 | GY11: J206 | GZ11: J207 | HA11: J208 | HB11: J209 | HC11: J210 | HD11: J211 | HE11: J212 | HF11: J213 | HG11: J214 | HH11: J215 | HI11: J216 | HJ11: J217 | HK11: J218 | HL11: J219 | HM11: J220 | HN11: J221 | HO11: J222 | HP11: J223 | HQ11: J224 | HR11: J225 | HS11: J226 | HT11: J227 | HU11: J228 | HV11: J229 | HW11: J230 | HX11: J231 | HY11: J232 | HZ11: J233 | IA11: J234 | IB11: J235 | IC11: J236 | ID11: J237 | IE11: J238 | IF11: J239 | IG11: J240 | IH11: J241 | II11: J242 | IJ11: J243 | IK11: J244 | IL11: J245 | IM11: J246 | IN11: J247 | IO11: J248 | IP11: J249 | IQ11: J250 | IR11: J251 | IS11: J252 | IT11: J253 | IU11: J254 | IV11: J255 | IW11: J256 | IX11: J257 | IY11: J258 | IZ11: J259 | JA11: J260 | JB11: J261 | JC11: J262 | JD11: J263 | JE11: J264 | JF11: J265 | JG11: J266 | JH11: J267 | JI11: J268 | JJ11: J269 | JK11: J270 | JL11: J271 | JM11: J272 | JN11: J273 | JO11: J274 | JP11: J275 | JQ11: J276 | JR11: J277 | JS11: J278 | JT11: J279 | JU11: J280 | JV11: J281 | JW11: J282 | JX11: J283 | JY11: J284 | JZ11: J285 | KA11: J286 | KB11: J287 | KC11: J288 | KD11: J289 | KE11: J290 | KF11: J291 | KG11: J292 | KH11: J293 | KI11: J294 | KJ11: J295 | KK11: J296 | KL11: J297 | KM11: J298 | KN11: J299 | KO11: J300 | KP11: J301 | KQ11: J302 | KR11: J303 | KS11: J304 | KT11: J305 | KU11: J306 | KV11: J307 | KW11: J308 | KX11: J309 | KY11: J310 | KZ11: J311 | LA11: J312 | LB11: J313 | LC11: J314 | LD11: J315 | LE11: J316 | LF11: J317 | LG11: J318 | LH11: J319 | LI11: J320 | LJ11: J321 | LK11: J322 | LL11: J323 | LM11: J324 | LN11: J325 | LO11: J326 | LP11: J327 | LQ11: J328 | LR11: J329 | LS11: J330 | LT11: J331 | LU11: J332 | LV11: J333 | LW11: J334 | LX11: J335 | LY11: J336 | LZ11: J337 | MA11: J338 | MB11: J339 | MC11: J340 | MD11: J341 | ME11: J342 | MF11: J343 | MG11: J344 | MH11: J345 | MI11: J346 | MJ11: J347 | MK11: J348 | ML11: J349 | MM11: J350 | MN11: J351 | MO11: J352 | MP11: J353 | MQ11: J354 | MR11: J355 | MS11: J356 | MT11: J357 | MU11: J358 | MV11: J359 | MW11: J360 | MX11: J361 | MY11: J362 | MZ11: J363 | NA11: J364 | NB11: J365 | NC11: J366 | ND11: J367 | NE11: J368 | NF11: J369 | NG11: J370 | NH11: J371
A12: Date | B12: 41637 | C12: 41638 | D12: 41639 | E12: 41640 | F12: 41641 | G12: 41642 | H12: 41643 | I12: 41644 | J12: 41645 | K12: 41646 | L12: 41647 | M12: 41648 | N12: 41649 | O12: 41650 | P12: 41651 | Q12: 41652 | R12: 41653 | S12: 41654 | T12: 41655 | U12: 41656 | V12: 41657 | W12: 41658 | X12: 41659 | Y12: 41660 | Z12: 41661 | AA12: 41662 | AB12: 41663 | AC12: 41664 | AD12: 41665 | AE12: 41666 | AF12: 41667 | AG12: 41668 | AH12: 41669 | AI12: 41670 | AJ12: 41671 | AK12: 41672 | AL12: 41673 | AM12: 41674 | AN12: 41675 | AO12: 41676 | AP12: 41677 | AQ12: 41678 | AR12: 41679 | AS12: 41680 | AT12: 41681 | AU12: 41682 | AV12: 41683 | AW12: 41684 | AX12: 41685 | AY12: 41686 | AZ12: 41687 | BA12: 41688 | BB12: 41689 | BC12: 41690 | BD12: 41691 | BE12: 41692 | BF12: 41693 | BG12: 41694 | BH12: 41695 | BI12: 41696 | BJ12: 41697 | BK12: 41698 | BL12: 41699 | BM12: 41700 | BN12: 41701 | BO12: 41702 | BP12: 41703 | BQ12: 41704 | BR12: 41705 | BS12: 41706 | BT12: 41707 | BU12: 41708 | BV12: 41709 | BW12: 41710 | BX12: 41711 | BY12: 41712 | BZ12: 41713 | CA12: 41714 | CB12: 41715 | CC12: 41716 | CD12: 41717 | CE12: 41718 | CF12: 41719 | CG12: 41720 | CH12: 41721 | CI12: 41722 | CJ12: 41723 | CK12: 41724 | CL12: 41725 | CM12: 41726 | CN12: 41727 | CO12: 41728 | CP12: 41729 | CQ12: 41730 | CR12: 41731 | CS12: 41732 | CT12: 41733 | CU12: 41734 | CV12: 41735 | CW12: 41736 | CX12: 41737 | CY12: 41738 | CZ12: 41739 | DA12: 41740 | DB12: 41741 | DC12: 41742 | DD12: 41743 | DE12: 41744 | DF12: 41745 | DG12: 41746 | DH12: 41747 | DI12: 41748 | DJ12: 41749 | DK12: 41750 | DL12: 41751 | DM12: 41752 | DN12: 41753 | DO12: 41754 | DP12: 41755 | DQ12: 41756 | DR12: 41757 | DS12: 41758 | DT12: 41759 | DU12: 41760 | DV12: 41761 | DW12: 41762 | DX12: 41763 | DY12: 41764 | DZ12: 41765 | EA12: 41766 | EB12: 41767 | EC12: 41768 | ED12: 41769 | EE12: 41770 | EF12: 41771 | EG12: 41772 | EH12: 41773 | EI12: 41774 | EJ12: 41775 | EK12: 41776 | EL12: 41777 | EM12: 41778 | EN12: 41779 | EO12: 41780 | EP12: 41781 | EQ12: 41782 | ER12: 41783 | ES12: 41784 | ET12: 41785 | EU12: 41786 | EV12: 41787 | EW12: 41788 | EX12: 41789 | EY12: 41790 | EZ12: 41791 | FA12: 41792 | FB12: 41793 | FC12: 41794 | FD12: 41795 | FE12: 41796 | FF12: 41797 | FG12: 41798 | FH12: 41799 | FI12: 41800 | FJ12: 41801 | FK12: 41802 | FL12: 41803 | FM12: 41804 | FN12: 41805 | FO12: 41806 | FP12: 41807 | FQ12: 41808 | FR12: 41809 | FS12: 41810 | FT12: 41811 | FU12: 41812 | FV12: 41813 | FW12: 41814 | FX12: 41815 | FY12: 41816 | FZ12: 41817 | GA12: 41818 | GB12: 41819 | GC12: 41820 | GD12: 41821 | GE12: 41822 | GF12: 41823 | GG12: 41824 | GH12: 41825 | GI12: 41826 | GJ12: 41827 | GK12: 41828 | GL12: 41829 | GM12: 41830 | GN12: 41831 | GO12: 41832 | GP12: 41833 | GQ12: 41834 | GR12: 41835 | GS12: 41836 | GT12: 41837 | GU12: 41838 | GV12: 41839 | GW12: 41840 | GX12: 41841 | GY12: 41842 | GZ12: 41843 | HA12: 41844 | HB12: 41845 | HC12: 41846 | HD12: 41847 | HE12: 41848 | HF12: 41849 | HG12: 41850 | HH12: 41851 | HI12: 41852 | HJ12: 41853 | HK12: 41854 | HL12: 41855 | HM12: 41856 | HN12: 41857 | HO12: 41858 | HP12: 41859 | HQ12: 41860 | HR12: 41861 | HS12: 41862 | HT12: 41863 | HU12: 41864 | HV12: 41865 | HW12: 41866 | HX12: 41867 | HY12: 41868 | HZ12: 41869 | IA12: 41870 | IB12: 41871 | IC12: 41872 | ID12: 41873 | IE12: 41874 | IF12: 41875 | IG12: 41876 | IH12: 41877 | II12: 41878 | IJ12: 41879 | IK12: 41880 | IL12: 41881 | IM12: 41882 | IN12: 41883 | IO12: 41884 | IP12: 41885 | IQ12: 41886 | IR12: 41887 | IS12: 41888 | IT12: 41889 | IU12: 41890 | IV12: 41891 | IW12: 41892 | IX12: 41893 | IY12: 41894 | IZ12: 41895 | JA12: 41896 | JB12: 41897 | JC12: 41898 | JD12: 41899 | JE12: 41900 | JF12: 41901 | JG12: 41902 | JH12: 41903 | JI12: 41904 | JJ12: 41905 | JK12: 41906 | JL12: 41907 | JM12: 41908 | JN12: 41909 | JO12: 41910 | JP12: 41911 | JQ12: 41912 | JR12: 41913 | JS12: 41914 | JT12: 41915 | JU12: 41916 | JV12: 41917 | JW12: 41918 | JX12: 41919 | JY12: 41920 | JZ12: 41921 | KA12: 41922 | KB12: 41923 | KC12: 41924 | KD12: 41925 | KE12: 41926 | KF12: 41927 | KG12: 41928 | KH12: 41929 | KI12: 41930 | KJ12: 41931 | KK12: 41932 | KL12: 41933 | KM12: 41934 | KN12: 41935 | KO12: 41936 | KP12: 41937 | KQ12: 41938 | KR12: 41939 | KS12: 41940 | KT12: 41941 | KU12: 41942 | KV12: 41943 | KW12: 41944 | KX12: 41945 | KY12: 41946 | KZ12: 41947 | LA12: 41948 | LB12: 41949 | LC12: 41950 | LD12: 41951 | LE12: 41952 | LF12: 41953 | LG12: 41954 | LH12: 41955 | LI12: 41956 | LJ12: 41957 | LK12: 41958 | LL12: 41959 | LM12: 41960 | LN12: 41961 | LO12: 41962 | LP12: 41963 | LQ12: 41964 | LR12: 41965 | LS12: 41966 | LT12: 41967 | LU12: 41968 | LV12: 41969 | LW12: 41970 | LX12: 41971 | LY12: 41972 | LZ12: 41973 | MA12: 41974 | MB12: 41975 | MC12: 41976 | MD12: 41977 | ME12: 41978 | MF12: 41979 | MG12: 41980 | MH12: 41981 | MI12: 41982 | MJ12: 41983 | MK12: 41984 | ML12: 41985 | MM12: 41986 | MN12: 41987 | MO12: 41988 | MP12: 41989 | MQ12: 41990 | MR12: 41991 | MS12: 41992 | MT12: 41993 | MU12: 41994 | MV12: 41995 | MW12: 41996 | MX12: 41997 | MY12: 41998 | MZ12: 41999 | NA12: 42000 | NB12: 42001 | NC12: 42002 | ND12: 42003 | NE12: 42004 | NF12: 42005 | NG12: 42006 | NH12: 42007
A13: Nombre de VL
A14: Nom paddock 1
A15: Nom paddock 2 | B15: 0.5
A16: Nom paddock 3 | C16: 1
A17: Nom paddock 4 | D17: 0.2
A18: Nom paddock 5 | E18: 0.2
A19: Nom paddock 6 | E19: 0.2
A20: Nom paddock 7
A21: Nom paddock 8
A22: Nom paddock 9
A23: Nom paddock 10
A24: Nom paddock 11
A25: Nom paddock 12
A26: Nom paddock 13
A27: Nom paddock 14
A28: Nom paddock 15
B29: =IF(SUM(B14:B28)>1,"ERREUR"," ") | C29: =IF(SUM(C14:C28)>1,"ERREUR"," ") | D29: =IF(SUM(D14:D28)>1,"ERREUR"," ") | E29: =IF(SUM(E14:E28)>1,"ERREUR"," ") | F29: =IF(SUM(F14:F28)>1,"ERREUR"," ") | G29: =IF(SUM(G14:G28)>1,"ERREUR"," ") | H29: =IF(SUM(H14:H28)>1,"ERREUR"," ") | I29: =IF(SUM(I14:I28)>1,"ERREUR"," ") | ... NH29: =IF(SUM(NH14:NH28)>1,"ERREUR"," ")

Sheet Production laitière
A10: janvier | H10: février | O10: mars | V10: avril | AC10: mai | AJ10: juin | AQ10: juillet | AX10: août | BE10: septembre | BL10: octobre | BS10: novembre | BZ10: décembre
C11: Date | D11: Litres (L) | E11: Nbre VL | F11: L/VL | G11: Paddock pâturé | J11: Date | K11: Litres (L) | L11: Nbre VL | M11: L/VL | N11: Paddock pâturé | Q11: Date | R11: Litres (L) | S11: Nbre VL | T11: L/VL | U11: Paddock pâturé | X11: Date | Y11: Litres (L) | Z11: Nbre VL | AA11: L/VL | AB11: Paddock pâturé | AE11: Date | AF11: Litres (L) | AG11: Nbre VL | AH11: L/VL | AI11: Paddock pâturé | AL11: Date | AM11: Litres (L) | AN11: Nbre VL | AO11: L/VL | AP11: Paddock pâturé | AS11: Date | AT11: Litres (L) | AU11: Nbre VL | AV11: L/VL | AW11: Paddock pâturé | AZ11: Date | BA11: Litres (L) | BB11: Nbre VL | BC11: L/VL | BD11: Paddock pâturé | BG11: Date | BH11: Litres (L) | BI11: Nbre VL | BJ11: L/VL | BK11: Paddock pâturé | BN11: Date | BO11: Litres (L) | BP11: Nbre VL | BQ11: L/VL | BR11: Paddock pâturé | BU11: Date | BV11: Litres (L) | BW11: Nbre VL | BX11: L/VL | BY11: Paddock pâturé | CB11: Date | CC11: Litres (L) | CD11: Nbre VL | CE11: L/VL | CF11: Paddock pâturé
A12: S1 | B12: J1 | C12: 41637 | F12: =D12/E12 -> #DIV/0! | G12: {=IF(COUNTIF(OFFSET('Planning de pâturage'!$A$14:$A$28,,MATCH('Production laitière'!B12,'Planning de pâturage'!$B$11:$NH$11)),">"&0)>1,"A CHOISIR", OFFSET('Planning de pâturage'!$A$13,MATCH(TRUE,OFFSET('Planning de pâturage'!$A$14:$A$28,0,MATCH('Production laitière'!B12,'Planning de pâturage'!$B$11:$NH$11))>0,0),))} -> Nom paddock 2 | H12: S6 | I12: J36 | J12: 42037 | M12: =K12/L12 -> #DIV/0! | N12: {=IF(COUNTIF(OFFSET('Planning de pâturage'!$A$14:$A$28,0,MATCH('Production laitière'!I12,'Planning de pâturage'!$B$11:$NH$11)),">"&0)>1,"A CHOISIR", OFFSET('Planning de pâturage'!$A$13,MATCH(TRUE,OFFSET('Planning de pâturage'!$A$14:$A$28,0,MATCH('Production laitière'!I12,'Planning de pâturage'!$B$11:$NH$11))>0,0),))} -> #N/A | O12: S10 | P12: J64 | Q12: 42065 | T12: =R12/S12 -> #DIV/0! | U12: {=IF(COUNTIF(OFFSET('Planning de pâturage'!$A$14:$A$28,0,MATCH('Production laitière'!P12,'Planning de pâturage'!$B$11:$NH$11)),">"&0)>1,"A CHOISIR", OFFSET('Planning de pâturage'!$A$13,MATCH(TRUE,OFFSET('Planning de pâturage'!$A$14:$A$28,0,MATCH('Production laitière'!P12,'Planning de pâturage'!$B$11:$NH$11))>0,0),))} -> #N/A | V12: S15 | W12: J99 | X12: 42100 | AA12: =Y12/Z12 -> #DIV/0! | AB12: {=IF(COUNTIF(OFFSET('Planning de pâturage'!$A$14:$A$28,0,MATCH('Production laitière'!W12,'Planning de pâturage'!$B$11:$NH$11)),">"&0)>1,"A CHOISIR", OFFSET('Planning de pâturage'!$A$13,MATCH(TRUE,OFFSET('Planning de pâturage'!$A$14:$A$28,0,MATCH('Production laitière'!W12,'Planning de pâturage'!$B$11:$NH$11))>0,0),))} -> #N/A | AC12: S19 | AD12: J127 | AE12: 42128 | AH12: =AF12/AG12 -> #DIV/0! | AI12: {=IF(COUNTIF(OFFSET('Planning de pâturage'!$A$14:$A$28,0,MATCH('Production laitière'!AD12,'Planning de pâturage'!$B$11:$NH$11)),">"&0)>1,"A CHOISIR", OFFSET('Planning de pâturage'!$A$13,MATCH(TRUE,OFFSET('Planning de pâturage'!$A$14:$A$28,0,MATCH('Production laitière'!AD12,'Planning de pâturage'!$B$11:$NH$11))>0,0),))} -> #N/A | AJ12: S23 | AK12: J155 | AL12: 42156 | AO12: =AM12/AN12 -> #DIV/0! | AP12: {=IF(COUNTIF(OFFSET('Planning de pâturage'!$A$14:$A$28,0,MATCH('Production laitière'!AK12,'Planning de pâturage'!$B$11:$NH$11)),">"&0)>1,"A CHOISIR", OFFSET('Planning de pâturage'!$A$13,MATCH(TRUE,OFFSET('Planning de pâturage'!$A$14:$A$28,0,MATCH('Production laitière'!AK12,'Planning de pâturage'!$B$11:$NH$11))>0,0),))} -> #N/A | AQ12: S27 | AR12: J183 | AS12: 42184 | AV12: =AT12/AU12 -> #DIV/0! | AW12: {=IF(COUNTIF(OFFSET('Planning de pâturage'!$A$14:$A$28,0,MATCH('Production laitière'!AR12,'Planning de pâturage'!$B$11:$NH$11)),">"&0)>1,"A CHOISIR", OFFSET('Planning de pâturage'!$A$13,MATCH(TRUE,OFFSET('Planning de pâturage'!$A$14:$A$28,0,MATCH('Production laitière'!AR12,'Planning de pâturage'!$B$11:$NH$11))>0,0),))} -> #N/A | AX12: S32 | AY12: J218 | AZ12: 42219 | BC12: =BA12/BB12 -> #DIV/0! | BD12: {=IF(COUNTIF(OFFSET('Planning de pâturage'!$A$14:$A$28,0,MATCH('Production laitière'!AY12,'Planning de pâturage'!$B$11:$NH$11)),">"&0)>1,"A CHOISIR", OFFSET('Planning de pâturage'!$A$13,MATCH(TRUE,OFFSET('Planning de pâturage'!$A$14:$A$28,0,MATCH('Production laitière'!AY12,'Planning de pâturage'!$B$11:$NH$11))>0,0),))} -> #N/A | BE12: S36 | BF12: J246 | BG12: 42247 | BJ12: =BH12/BI12 -> #DIV/0! | BK12: {=IF(COUNTIF(OFFSET('Planning de pâturage'!$A$14:$A$28,0,MATCH('Production laitière'!BF12,'Planning de pâturage'!$B$11:$NH$11)),">"&0)>1,"A CHOISIR", OFFSET('Planning de pâturage'!$A$13,MATCH(TRUE,OFFSET('Planning de pâturage'!$A$14:$A$28,0,MATCH('Production laitière'!BF12,'Planning de pâturage'!$B$11:$NH$11))>0,0),))} -> #N/A | BL12: S40 | BM12: J274 | BN12: 42275 | BQ12: =BO12/BP12 -> #DIV/0! | BR12: {=IF(COUNTIF(OFFSET('Planning de pâturage'!$A$14:$A$28,0,MATCH('Production laitière'!BM12,'Planning de pâturage'!$B$11:$NH$11)),">"&0)>1,"A CHOISIR", OFFSET('Planning de pâturage'!$A$13,MATCH(TRUE,OFFSET('Planning de pâturage'!$A$14:$A$28,0,MATCH('Production laitière'!BM12,'Planning de pâturage'!$B$11:$NH$11))>0,0),))} -> #N/A | BS12: S45 | BT12: J309 | BU12: 42310 | BX12: =BV12/BW12 -> #DIV/0! | BY12: {=IF(COUNTIF(OFFSET('Planning de pâturage'!$A$14:$A$28,0,MATCH('Production laitière'!BT12,'Planning de pâturage'!$B$11:$NH$11)),">"&0)>1,"A CHOISIR", OFFSET('Planning de pâturage'!$A$13,MATCH(TRUE,OFFSET('Planning de pâturage'!$A$14:$A$28,0,MATCH('Production laitière'!BT12,'Planning de pâturage'!$B$11:$NH$11))>0,0),))} -> #N/A | BZ12: S49 | CA12: J337 | CB12: 41973 | CE12: =CC12/CD12 -> #DIV/0! | CF12: {=IF(COUNTIF(OFFSET('Planning de pâturage'!$A$14:$A$28,0,MATCH('Production laitière'!CA12,'Planning de pâturage'!$B$11:$NH$11)),">"&0)>1,"A CHOISIR", OFFSET('Planning de pâturage'!$A$13,MATCH(TRUE,OFFSET('Planning de pâturage'!$A$14:$A$28,0,MATCH('Production laitière'!CA12,'Planning de pâturage'!$B$11:$NH$11))>0,0),))} -> #N/A
B13: J2 | C13: 41638 | F13: =D13/E13 -> #DIV/0! | G13: {=IF(COUNTIF(OFFSET('Planning de pâturage'!$A$14:$A$28,,MATCH('Production laitière'!B13,'Planning de pâturage'!$B$11:$NH$11)),">"&0)>1,"A CHOISIR", OFFSET('Planning de pâturage'!$A$13,MATCH(TRUE,OFFSET('Planning de pâturage'!$A$14:$A$28,0,MATCH('Production laitière'!B13,'Planning de pâturage'!$B$11:$NH$11))>0,0),))} -> #N/A | I13: J37 | J13: 42038 | M13: =K13/L13 -> #DIV/0! | N13: {=IF(COUNTIF(OFFSET('Planning de pâturage'!$A$14:$A$28,0,MATCH('Production laitière'!I13,'Planning de pâturage'!$B$11:$NH$11)),">"&0)>1,"A CHOISIR", OFFSET('Planning de pâturage'!$A$13,MATCH(TRUE,OFFSET('Planning de pâturage'!$A$14:$A$28,0,MATCH('Production laitière'!I13,'Planning de pâturage'!$B$11:$NH$11))>0,0),))} -> #N/A | P13: J65 | Q13: 42066 | T13: =R13/S13 -> #DIV/0! | U13: {=IF(COUNTIF(OFFSET('Planning de pâturage'!$A$14:$A$28,0,MATCH('Production laitière'!P13,'Planning de pâturage'!$B$11:$NH$11)),">"&0)>1,"A CHOISIR", OFFSET('Planning de pâturage'!$A$13,MATCH(TRUE,OFFSET('Planning de pâturage'!$A$14:$A$28,0,MATCH('Production laitière'!P13,'Planning de pâturage'!$B$11:$NH$11))>0,0),))} -> #N/A | W13: J100 | X13: 42101 | AA13: =Y13/Z13 -> #DIV/0! | AB13: {=IF(COUNTIF(OFFSET('Planning de pâturage'!$A$14:$A$28,0,MATCH('Production laitière'!W13,'Planning de pâturage'!$B$11:$NH$11)),">"&0)>1,"A CHOISIR", OFFSET('Planning de pâturage'!$A$13,MATCH(TRUE,OFFSET('Planning de pâturage'!$A$14:$A$28,0,MATCH('Production laitière'!W13,'Planning de pâturage'!$B$11:$NH$11))>0,0),))} -> Nom paddock 2 | AD13: J128 | AE13: 42129 | AH13: =AF13/AG13 -> #DIV/0! | AI13: {=IF(COUNTIF(OFFSET('Planning de pâturage'!$A$14:$A$28,0,MATCH('Production laitière'!AD13,'Planning de pâturage'!$B$11:$NH$11)),">"&0)>1,"A CHOISIR", OFFSET('Planning de pâturage'!$A$13,MATCH(TRUE,OFFSET('Planning de pâturage'!$A$14:$A$28,0,MATCH('Production laitière'!AD13,'Planning de pâturage'!$B$11:$NH$11))>0,0),))} -> #N/A | AK13: J156 | AL13: 42157 | AO13: =AM13/AN13 -> #DIV/0! | AP13: {=IF(COUNTIF(OFFSET('Planning de pâturage'!$A$14:$A$28,0,MATCH('Production laitière'!AK13,'Planning de pâturage'!$B$11:$NH$11)),">"&0)>1,"A CHOISIR", OFFSET('Planning de pâturage'!$A$13,MATCH(TRUE,OFFSET('Planning de pâturage'!$A$14:$A$28,0,MATCH('Production laitière'!AK13,'Planning de pâturage'!$B$11:$NH$11))>0,0),))} -> #N/A | AR13: J184 | AS13: 42185 | AV13: =AT13/AU13 -> #DIV/0! | AW13: {=IF(COUNTIF(OFFSET('Planning de pâturage'!$A$14:$A$28,0,MATCH('Production laitière'!AR13,'Planning de pâturage'!$B$11:$NH$11)),">"&0)>1,"A CHOISIR", OFFSET('Planning de pâturage'!$A$13,MATCH(TRUE,OFFSET('Planning de pâturage'!$A$14:$A$28,0,MATCH('Production laitière'!AR13,'Planning de pâturage'!$B$11:$NH$11))>0,0),))} -> #N/A | AY13: J219 | AZ13: 42220 | BC13: =BA13/BB13 -> #DIV/0! | BD13: {=IF(COUNTIF(OFFSET('Planning de pâturage'!$A$14:$A$28,0,MATCH('Production laitière'!AY13,'Planning de pâturage'!$B$11:$NH$11)),">"&0)>1,"A CHOISIR", OFFSET('Planning de pâturage'!$A$13,MATCH(TRUE,OFFSET('Planning de pâturage'!$A$14:$A$28,0,MATCH('Production laitière'!AY13,'Planning de pâturage'!$B$11:$NH$11))>0,0),))} -> #N/A | BF13: J247 | BG13: 42248 | BJ13: =BH13/BI13 -> #DIV/0! | BK13: {=IF(COUNTIF(OFFSET('Planning de pâturage'!$A$14:$A$28,0,MATCH('Production laitière'!BF13,'Planning de pâturage'!$B$11:$NH$11)),">"&0)>1,"A CHOISIR", OFFSET('Planning de pâturage'!$A$13,MATCH(TRUE,OFFSET('Planning de pâturage'!$A$14:$A$28,0,MATCH('Production laitière'!BF13,'Planning de pâturage'!$B$11:$NH$11))>0,0),))} -> #N/A | BM13: J275 | BN13: 42276 | BQ13: =BO13/BP13 -> #DIV/0! | BR13: {=IF(COUNTIF(OFFSET('Planning de pâturage'!$A$14:$A$28,0,MATCH('Production laitière'!BM13,'Planning de pâturage'!$B$11:$NH$11)),">"&0)>1,"A CHOISIR", OFFSET('Planning de pâturage'!$A$13,MATCH(TRUE,OFFSET('Planning de pâturage'!$A$14:$A$28,0,MATCH('Production laitière'!BM13,'Planning de pâturage'!$B$11:$NH$11))>0,0),))} -> #N/A | BT13: J310 | BU13: 42311 | BX13: =BV13/BW13 -> #DIV/0! | BY13: {=IF(COUNTIF(OFFSET('Planning de pâturage'!$A$14:$A$28,0,MATCH('Production laitière'!BT13,'Planning de pâturage'!$B$11:$NH$11)),">"&0)>1,"A CHOISIR", OFFSET('Planning de pâturage'!$A$13,MATCH(TRUE,OFFSET('Planning de pâturage'!$A$14:$A$28,0,MATCH('Production laitière'!BT13,'Planning de pâturage'!$B$11:$NH$11))>0,0),))} -> #N/A | CA13: J338 | CB13: 41974 | CE13: =CC13/CD13 -> #DIV/0! | CF13: {=IF(COUNTIF(OFFSET('Planning de pâturage'!$A$14:$A$28,0,MATCH('Production laitière'!CA13,'Planning de pâturage'!$B$11:$NH$11)),">"&0)>1,"A CHOISIR", OFFSET('Planning de pâturage'!$A$13,MATCH(TRUE,OFFSET('Planning de pâturage'!$A$14:$A$28,0,MATCH('Production laitière'!CA13,'Planning de pâturage'!$B$11:$NH$11))>0,0),))} -> #N/A
B14: J3 | C14: 41639 | F14: =D14/E14 -> #DIV/0! | G14: {=IF(COUNTIF(OFFSET('Planning de pâturage'!$A$14:$A$28,,MATCH('Production laitière'!B14,'Planning de pâturage'!$B$11:$NH$11)),">"&0)>1,"A CHOISIR", OFFSET('Planning de pâturage'!$A$13,MATCH(TRUE,OFFSET('Planning de pâturage'!$A$14:$A$28,0,MATCH('Production laitière'!B14,'Planning de pâturage'!$B$11:$NH$11))>0,0),))} -> #N/A | I14: J38 | J14: 42039 | M14: =K14/L14 -> #DIV/0! | N14: {=IF(COUNTIF(OFFSET('Planning de pâturage'!$A$14:$A$28,0,MATCH('Production laitière'!I14,'Planning de pâturage'!$B$11:$NH$11)),">"&0)>1,"A CHOISIR", OFFSET('Planning de pâturage'!$A$13,MATCH(TRUE,OFFSET('Planning de pâturage'!$A$14:$A$28,0,MATCH('Production laitière'!I14,'Planning de pâturage'!$B$11:$NH$11))>0,0),))} -> #N/A | P14: J66 | Q14: 42067 | T14: =R14/S14 -> #DIV/0! | U14: {=IF(COUNTIF(OFFSET('Planning de pâturage'!$A$14:$A$28,0,MATCH('Production laitière'!P14,'Planning de pâturage'!$B$11:$NH$11)),">"&0)>1,"A CHOISIR", OFFSET('Planning de pâturage'!$A$13,MATCH(TRUE,OFFSET('Planning de pâturage'!$A$14:$A$28,0,MATCH('Production laitière'!P14,'Planning de pâturage'!$B$11:$NH$11))>0,0),))} -> #N/A | W14: J101 | X14: 42102 | AA14: =Y14/Z14 -> #DIV/0! | AB14: {=IF(COUNTIF(OFFSET('Planning de pâturage'!$A$14:$A$28,0,MATCH('Production laitière'!W14,'Planning de pâturage'!$B$11:$NH$11)),">"&0)>1,"A CHOISIR", OFFSET('Planning de pâturage'!$A$13,MATCH(TRUE,OFFSET('Planning de pâturage'!$A$14:$A$28,0,MATCH('Production laitière'!W14,'Planning de pâturage'!$B$11:$NH$11))>0,0),))} -> Nom paddock 2 | AD14: J129 | AE14: 42130 | AH14: =AF14/AG14 -> #DIV/0! | AI14: {=IF(COUNTIF(OFFSET('Planning de pâturage'!$A$14:$A$28,0,MATCH('Production laitière'!AD14,'Planning de pâturage'!$B$11:$NH$11)),">"&0)>1,"A CHOISIR", OFFSET('Planning de pâturage'!$A$13,MATCH(TRUE,OFFSET('Planning de pâturage'!$A$14:$A$28,0,MATCH('Production laitière'!AD14,'Planning de pâturage'!$B$11:$NH$11))>0,0),))} -> #N/A | AK14: J157 | AL14: 42158 | AO14: =AM14/AN14 -> #DIV/0! | AP14: {=IF(COUNTIF(OFFSET('Planning de pâturage'!$A$14:$A$28,0,MATCH('Production laitière'!AK14,'Planning de pâturage'!$B$11:$NH$11)),">"&0)>1,"A CHOISIR", OFFSET('Planning de pâturage'!$A$13,MATCH(TRUE,OFFSET('Planning de pâturage'!$A$14:$A$28,0,MATCH('Production laitière'!AK14,'Planning de pâturage'!$B$11:$NH$11))>0,0),))} -> #N/A | AR14: J185 | AS14: 42186 | AV14: =AT14/AU14 -> #DIV/0! | AW14: {=IF(COUNTIF(OFFSET('Planning de pâturage'!$A$14:$A$28,0,MATCH('Production laitière'!AR14,'Planning de pâturage'!$B$11:$NH$11)),">"&0)>1,"A CHOISIR", OFFSET('Planning de pâturage'!$A$13,MATCH(TRUE,OFFSET('Planning de pâturage'!$A$14:$A$28,0,MATCH('Production laitière'!AR14,'Planning de pâturage'!$B$11:$NH$11))>0,0),))} -> #N/A | AY14: J220 | AZ14: 42221 | BC14: =BA14/BB14 -> #DIV/0! | BD14: {=IF(COUNTIF(OFFSET('Planning de pâturage'!$A$14:$A$28,0,MATCH('Production laitière'!AY14,'Planning de pâturage'!$B$11:$NH$11)),">"&0)>1,"A CHOISIR", OFFSET('Planning de pâturage'!$A$13,MATCH(TRUE,OFFSET('Planning de pâturage'!$A$14:$A$28,0,MATCH('Production laitière'!AY14,'Planning de pâturage'!$B$11:$NH$11))>0,0),))} -> #N/A | BF14: J248 | BG14: 42249 | BJ14: =BH14/BI14 -> #DIV/0! | BK14: {=IF(COUNTIF(OFFSET('Planning de pâturage'!$A$14:$A$28,0,MATCH('Production laitière'!BF14,'Planning de pâturage'!$B$11:$NH$11)),">"&0)>1,"A CHOISIR", OFFSET('Planning de pâturage'!$A$13,MATCH(TRUE,OFFSET('Planning de pâturage'!$A$14:$A$28,0,MATCH('Production laitière'!BF14,'Planning de pâturage'!$B$11:$NH$11))>0,0),))} -> #N/A | BM14: J276 | BN14: 42277 | BQ14: =BO14/BP14 -> #DIV/0! | BR14: {=IF(COUNTIF(OFFSET('Planning de pâturage'!$A$14:$A$28,0,MATCH('Production laitière'!BM14,'Planning de pâturage'!$B$11:$NH$11)),">"&0)>1,"A CHOISIR", OFFSET('Planning de pâturage'!$A$13,MATCH(TRUE,OFFSET('Planning de pâturage'!$A$14:$A$28,0,MATCH('Production laitière'!BM14,'Planning de pâturage'!$B$11:$NH$11))>0,0),))} -> #N/A | BT14: J311 | BU14: 42312 | BX14: =BV14/BW14 -> #DIV/0! | BY14: {=IF(COUNTIF(OFFSET('Planning de pâturage'!$A$14:$A$28,0,MATCH('Production laitière'!BT14,'Planning de pâturage'!$B$11:$NH$11)),">"&0)>1,"A CHOISIR", OFFSET('Planning de pâturage'!$A$13,MATCH(TRUE,OFFSET('Planning de pâturage'!$A$14:$A$28,0,MATCH('Production laitière'!BT14,'Planning de pâturage'!$B$11:$NH$11))>0,0),))} -> #N/A | CA14: J339 | CB14: 41975 | CE14: =CC14/CD14 -> #DIV/0! | CF14: {=IF(COUNTIF(OFFSET('Planning de pâturage'!$A$14:$A$28,0,MATCH('Production laitière'!CA14,'Planning de pâturage'!$B$11:$NH$11)),">"&0)>1,"A CHOISIR", OFFSET('Planning de pâturage'!$A$13,MATCH(TRUE,OFFSET('Planning de pâturage'!$A$14:$A$28,0,MATCH('Production laitière'!CA14,'Planning de pâturage'!$B$11:$NH$11))>0,0),))} -> #N/A
B15: J4 | C15: 41640 | F15: =D15/E15 -> #DIV/0! | G15: =IF(COUNTIF(OFFSET('Planning de pâturage'!$A$14:$A$28,,MATCH('Production laitière'!B15,'Planning de pâturage'!$B$11:$NH$11)),">"&0)>1,"A CHOISIR", OFFSET('Planning de pâturage'!$A$13,MATCH(TRUE,OFFSET('Planning de pâturage'!$A$14:$A$28,0,MATCH('Production laitière'!B15,'Planning de pâturage'!$B$11:$NH$11))>0,0),)) -> #N/A | I15: J39 | J15: 42040 | M15: =K15/L15 -> #DIV/0! | N15: {=IF(COUNTIF(OFFSET('Planning de pâturage'!$A$14:$A$28,0,MATCH('Production laitière'!I15,'Planning de pâturage'!$B$11:$NH$11)),">"&0)>1,"A CHOISIR", OFFSET('Planning de pâturage'!$A$13,MATCH(TRUE,OFFSET('Planning de pâturage'!$A$14:$A$28,0,MATCH('Production laitière'!I15,'Planning de pâturage'!$B$11:$NH$11))>0,0),))} -> #N/A | P15: J67 | Q15: 42068 | T15: =R15/S15 -> #DIV/0! | U15: {=IF(COUNTIF(OFFSET('Planning de pâturage'!$A$14:$A$28,0,MATCH('Production laitière'!P15,'Planning de pâturage'!$B$11:$NH$11)),">"&0)>1,"A CHOISIR", OFFSET('Planning de pâturage'!$A$13,MATCH(TRUE,OFFSET('Planning de pâturage'!$A$14:$A$28,0,MATCH('Production laitière'!P15,'Planning de pâturage'!$B$11:$NH$11))>0,0),))} -> #N/A | W15: J102 | X15: 42103 | AA15: =Y15/Z15 -> #DIV/0! | AB15: {=IF(COUNTIF(OFFSET('Planning de pâturage'!$A$14:$A$28,0,MATCH('Production laitière'!W15,'Planning de pâturage'!$B$11:$NH$11)),">"&0)>1,"A CHOISIR", OFFSET('Planning de pâturage'!$A$13,MATCH(TRUE,OFFSET('Planning de pâturage'!$A$14:$A$28,0,MATCH('Production laitière'!W15,'Planning de pâturage'!$B$11:$NH$11))>0,0),))} -> Nom paddock 2 | AD15: J130 | AE15: 42131 | AH15: =AF15/AG15 -> #DIV/0! | AI15: {=IF(COUNTIF(OFFSET('Planning de pâturage'!$A$14:$A$28,0,MATCH('Production laitière'!AD15,'Planning de pâturage'!$B$11:$NH$11)),">"&0)>1,"A CHOISIR", OFFSET('Planning de pâturage'!$A$13,MATCH(TRUE,OFFSET('Planning de pâturage'!$A$14:$A$28,0,MATCH('Production laitière'!AD15,'Planning de pâturage'!$B$11:$NH$11))>0,0),))} -> #N/A | AK15: J158 | AL15: 42159 | AO15: =AM15/AN15 -> #DIV/0! | AP15: {=IF(COUNTIF(OFFSET('Planning de pâturage'!$A$14:$A$28,0,MATCH('Production laitière'!AK15,'Planning de pâturage'!$B$11:$NH$11)),">"&0)>1,"A CHOISIR", OFFSET('Planning de pâturage'!$A$13,MATCH(TRUE,OFFSET('Planning de pâturage'!$A$14:$A$28,0,MATCH('Production laitière'!AK15,'Planning de pâturage'!$B$11:$NH$11))>0,0),))} -> #N/A | AR15: J186 | AS15: 42187 | AV15: =AT15/AU15 -> #DIV/0! | AW15: {=IF(COUNTIF(OFFSET('Planning de pâturage'!$A$14:$A$28,0,MATCH('Production laitière'!AR15,'Planning de pâturage'!$B$11:$NH$11)),">"&0)>1,"A CHOISIR", OFFSET('Planning de pâturage'!$A$13,MATCH(TRUE,OFFSET('Planning de pâturage'!$A$14:$A$28,0,MATCH('Production laitière'!AR15,'Planning de pâturage'!$B$11:$NH$11))>0,0),))} -> #N/A | AY15: J221 | AZ15: 42222 | BC15: =BA15/BB15 -> #DIV/0! | BD15: {=IF(COUNTIF(OFFSET('Planning de pâturage'!$A$14:$A$28,0,MATCH('Production laitière'!AY15,'Planning de pâturage'!$B$11:$NH$11)),">"&0)>1,"A CHOISIR", OFFSET('Planning de pâturage'!$A$13,MATCH(TRUE,OFFSET('Planning de pâturage'!$A$14:$A$28,0,MATCH('Production laitière'!AY15,'Planning de pâturage'!$B$11:$NH$11))>0,0),))} -> #N/A | BF15: J249 | BG15: 42250 | BJ15: =BH15/BI15 -> #DIV/0! | BK15: {=IF(COUNTIF(OFFSET('Planning de pâturage'!$A$14:$A$28,0,MATCH('Production laitière'!BF15,'Planning de pâturage'!$B$11:$NH$11)),">"&0)>1,"A CHOISIR", OFFSET('Planning de pâturage'!$A$13,MATCH(TRUE,OFFSET('Planning de pâturage'!$A$14:$A$28,0,MATCH('Production laitière'!BF15,'Planning de pâturage'!$B$11:$NH$11))>0,0),))} -> #N/A | BM15: J277 | BN15: 42278 | BQ15: =BO15/BP15 -> #DIV/0! | BR15: {=IF(COUNTIF(OFFSET('Planning de pâturage'!$A$14:$A$28,0,MATCH('Production laitière'!BM15,'Planning de pâturage'!$B$11:$NH$11)),">"&0)>1,"A CHOISIR", OFFSET('Planning de pâturage'!$A$13,MATCH(TRUE,OFFSET('Planning de pâturage'!$A$14:$A$28,0,MATCH('Production laitière'!BM15,'Planning de pâturage'!$B$11:$NH$11))>0,0),))} -> #N/A | BT15: J312 | BU15: 42313 | BX15: =BV15/BW15 -> #DIV/0! | BY15: {=IF(COUNTIF(OFFSET('Planning de pâturage'!$A$14:$A$28,0,MATCH('Production laitière'!BT15,'Planning de pâturage'!$B$11:$NH$11)),">"&0)>1,"A CHOISIR", OFFSET('Planning de pâturage'!$A$13,MATCH(TRUE,OFFSET('Planning de pâturage'!$A$14:$A$28,0,MATCH('Production laitière'!BT15,'Planning de pâturage'!$B$11:$NH$11))>0,0),))} -> #N/A | CA15: J340 | CB15: 41976 | CE15: =CC15/CD15 -> #DIV/0! | CF15: {=IF(COUNTIF(OFFSET('Planning de pâturage'!$A$14:$A$28,0,MATCH('Production laitière'!CA15,'Planning de pâturage'!$B$11:$NH$11)),">"&0)>1,"A CHOISIR", OFFSET('Planning de pâturage'!$A$13,MATCH(TRUE,OFFSET('Planning de pâturage'!$A$14:$A$28,0,MATCH('Production laitière'!CA15,'Planning de pâturage'!$B$11:$NH$11))>0,0),))} -> #N/A
B16: J5 | C16: 41641 | F16: =D16/E16 -> #DIV/0! | G16: {=IF(COUNTIF(OFFSET('Planning de pâturage'!$A$14:$A$28,,MATCH('Production laitière'!B16,'Planning de pâturage'!$B$11:$NH$11)),">"&0)>1,"A CHOISIR", OFFSET('Planning de pâturage'!$A$13,MATCH(TRUE,OFFSET('Planning de pâturage'!$A$14:$A$28,0,MATCH('Production laitière'!B16,'Planning de pâturage'!$B$11:$NH$11))>0,0),))} -> #N/A | I16: J40 | J16: 42041 | M16: =K16/L16 -> #DIV/0! | N16: {=IF(COUNTIF(OFFSET('Planning de pâturage'!$A$14:$A$28,0,MATCH('Production laitière'!I16,'Planning de pâturage'!$B$11:$NH$11)),">"&0)>1,"A CHOISIR", OFFSET('Planning de pâturage'!$A$13,MATCH(TRUE,OFFSET('Planning de pâturage'!$A$14:$A$28,0,MATCH('Production laitière'!I16,'Planning de pâturage'!$B$11:$NH$11))>0,0),))} -> #N/A | P16: J68 | Q16: 42069 | T16: =R16/S16 -> #DIV/0! | U16: {=IF(COUNTIF(OFFSET('Planning de pâturage'!$A$14:$A$28,0,MATCH('Production laitière'!P16,'Planning de pâturage'!$B$11:$NH$11)),">"&0)>1,"A CHOISIR", OFFSET('Planning de pâturage'!$A$13,MATCH(TRUE,OFFSET('Planning de pâturage'!$A$14:$A$28,0,MATCH('Production laitière'!P16,'Planning de pâturage'!$B$11:$NH$11))>0,0),))} -> #N/A | W16: J103 | X16: 42104 | AA16: =Y16/Z16 -> #DIV/0! | AB16: {=IF(COUNTIF(OFFSET('Planning de pâturage'!$A$14:$A$28,0,MATCH('Production laitière'!W16,'Planning de pâturage'!$B$11:$NH$11)),">"&0)>1,"A CHOISIR", OFFSET('Planning de pâturage'!$A$13,MATCH(TRUE,OFFSET('Planning de pâturage'!$A$14:$A$28,0,MATCH('Production laitière'!W16,'Planning de pâturage'!$B$11:$NH$11))>0,0),))} -> Nom paddock 2 | AD16: J131 | AE16: 42132 | AH16: =AF16/AG16 -> #DIV/0! | AI16: {=IF(COUNTIF(OFFSET('Planning de pâturage'!$A$14:$A$28,0,MATCH('Production laitière'!AD16,'Planning de pâturage'!$B$11:$NH$11)),">"&0)>1,"A CHOISIR", OFFSET('Planning de pâturage'!$A$13,MATCH(TRUE,OFFSET('Planning de pâturage'!$A$14:$A$28,0,MATCH('Production laitière'!AD16,'Planning de pâturage'!$B$11:$NH$11))>0,0),))} -> #N/A | AK16: J159 | AL16: 42160 | AO16: =AM16/AN16 -> #DIV/0! | AP16: {=IF(COUNTIF(OFFSET('Planning de pâturage'!$A$14:$A$28,0,MATCH('Production laitière'!AK16,'Planning de pâturage'!$B$11:$NH$11)),">"&0)>1,"A CHOISIR", OFFSET('Planning de pâturage'!$A$13,MATCH(TRUE,OFFSET('Planning de pâturage'!$A$14:$A$28,0,MATCH('Production laitière'!AK16,'Planning de pâturage'!$B$11:$NH$11))>0,0),))} -> #N/A | AR16: J187 | AS16: 42188 | AV16: =AT16/AU16 -> #DIV/0! | AW16: {=IF(COUNTIF(OFFSET('Planning de pâturage'!$A$14:$A$28,0,MATCH('Production laitière'!AR16,'Planning de pâturage'!$B$11:$NH$11)),">"&0)>1,"A CHOISIR", OFFSET('Planning de pâturage'!$A$13,MATCH(TRUE,OFFSET('Planning de pâturage'!$A$14:$A$28,0,MATCH('Production laitière'!AR16,'Planning de pâturage'!$B$11:$NH$11))>0,0),))} -> #N/A | AY16: J222 | AZ16: 42223 | BC16: =BA16/BB16 -> #DIV/0! | BD16: {=IF(COUNTIF(OFFSET('Planning de pâturage'!$A$14:$A$28,0,MATCH('Production laitière'!AY16,'Planning de pâturage'!$B$11:$NH$11)),">"&0)>1,"A CHOISIR", OFFSET('Planning de pâturage'!$A$13,MATCH(TRUE,OFFSET('Planning de pâturage'!$A$14:$A$28,0,MATCH('Production laitière'!AY16,'Planning de pâturage'!$B$11:$NH$11))>0,0),))} -> #N/A | BF16: J250 | BG16: 42251 | BJ16: =BH16/BI16 -> #DIV/0! | BK16: {=IF(COUNTIF(OFFSET('Planning de pâturage'!$A$14:$A$28,0,MATCH('Production laitière'!BF16,'Planning de pâturage'!$B$11:$NH$11)),">"&0)>1,"A CHOISIR", OFFSET('Planning de pâturage'!$A$13,MATCH(TRUE,OFFSET('Planning de pâturage'!$A$14:$A$28,0,MATCH('Production laitière'!BF16,'Planning de pâturage'!$B$11:$NH$11))>0,0),))} -> #N/A | BM16: J278 | BN16: 42279 | BQ16: =BO16/BP16 -> #DIV/0! | BR16: {=IF(COUNTIF(OFFSET('Planning de pâturage'!$A$14:$A$28,0,MATCH('Production laitière'!BM16,'Planning de pâturage'!$B$11:$NH$11)),">"&0)>1,"A CHOISIR", OFFSET('Planning de pâturage'!$A$13,MATCH(TRUE,OFFSET('Planning de pâturage'!$A$14:$A$28,0,MATCH('Production laitière'!BM16,'Planning de pâturage'!$B$11:$NH$11))>0,0),))} -> #N/A | BT16: J313 | BU16: 42314 | BX16: =BV16/BW16 -> #DIV/0! | BY16: {=IF(COUNTIF(OFFSET('Planning de pâturage'!$A$14:$A$28,0,MATCH('Production laitière'!BT16,'Planning de pâturage'!$B$11:$NH$11)),">"&0)>1,"A CHOISIR", OFFSET('Planning de pâturage'!$A$13,MATCH(TRUE,OFFSET('Planning de pâturage'!$A$14:$A$28,0,MATCH('Production laitière'!BT16,'Planning de pâturage'!$B$11:$NH$11))>0,0),))} -> #N/A | CA16: J341 | CB16: 41977 | CE16: =CC16/CD16 -> #DIV/0! | CF16: {=IF(COUNTIF(OFFSET('Planning de pâturage'!$A$14:$A$28,0,MATCH('Production laitière'!CA16,'Planning de pâturage'!$B$11:$NH$11)),">"&0)>1,"A CHOISIR", OFFSET('Planning de pâturage'!$A$13,MATCH(TRUE,OFFSET('Planning de pâturage'!$A$14:$A$28,0,MATCH('Production laitière'!CA16,'Planning de pâturage'!$B$11:$NH$11))>0,0),))} -> #N/A
B17: J6 | C17: 41642 | F17: =D17/E17 -> #DIV/0! | G17: {=IF(COUNTIF(OFFSET('Planning de pâturage'!$A$14:$A$28,,MATCH('Production laitière'!B17,'Planning de pâturage'!$B$11:$NH$11)),">"&0)>1,"A CHOISIR", OFFSET('Planning de pâturage'!$A$13,MATCH(TRUE,OFFSET('Planning de pâturage'!$A$14:$A$28,0,MATCH('Production laitière'!B17,'Planning de pâturage'!$B$11:$NH$11))>0,0),))} -> #N/A | I17: J41 | J17: 42042 | M17: =K17/L17 -> #DIV/0! | N17: {=IF(COUNTIF(OFFSET('Planning de pâturage'!$A$14:$A$28,0,MATCH('Production laitière'!I17,'Planning de pâturage'!$B$11:$NH$11)),">"&0)>1,"A CHOISIR", OFFSET('Planning de pâturage'!$A$13,MATCH(TRUE,OFFSET('Planning de pâturage'!$A$14:$A$28,0,MATCH('Production laitière'!I17,'Planning de pâturage'!$B$11:$NH$11))>0,0),))} -> #N/A | P17: J69 | Q17: 42070 | T17: =R17/S17 -> #DIV/0! | U17: {=IF(COUNTIF(OFFSET('Planning de pâturage'!$A$14:$A$28,0,MATCH('Production laitière'!P17,'Planning de pâturage'!$B$11:$NH$11)),">"&0)>1,"A CHOISIR", OFFSET('Planning de pâturage'!$A$13,MATCH(TRUE,OFFSET('Planning de pâturage'!$A$14:$A$28,0,MATCH('Production laitière'!P17,'Planning de pâturage'!$B$11:$NH$11))>0,0),))} -> #N/A | W17: J104 | X17: 42105 | AA17: =Y17/Z17 -> #DIV/0! | AB17: {=IF(COUNTIF(OFFSET('Planning de pâturage'!$A$14:$A$28,0,MATCH('Production laitière'!W17,'Planning de pâturage'!$B$11:$NH$11)),">"&0)>1,"A CHOISIR", OFFSET('Planning de pâturage'!$A$13,MATCH(TRUE,OFFSET('Planning de pâturage'!$A$14:$A$28,0,MATCH('Production laitière'!W17,'Planning de pâturage'!$B$11:$NH$11))>0,0),))} -> Nom paddock 2 | AD17: J132 | AE17: 42133 | AH17: =AF17/AG17 -> #DIV/0! | AI17: {=IF(COUNTIF(OFFSET('Planning de pâturage'!$A$14:$A$28,0,MATCH('Production laitière'!AD17,'Planning de pâturage'!$B$11:$NH$11)),">"&0)>1,"A CHOISIR", OFFSET('Planning de pâturage'!$A$13,MATCH(TRUE,OFFSET('Planning de pâturage'!$A$14:$A$28,0,MATCH('Production laitière'!AD17,'Planning de pâturage'!$B$11:$NH$11))>0,0),))} -> #N/A | AK17: J160 | AL17: 42161 | AO17: =AM17/AN17 -> #DIV/0! | AP17: {=IF(COUNTIF(OFFSET('Planning de pâturage'!$A$14:$A$28,0,MATCH('Production laitière'!AK17,'Planning de pâturage'!$B$11:$NH$11)),">"&0)>1,"A CHOISIR", OFFSET('Planning de pâturage'!$A$13,MATCH(TRUE,OFFSET('Planning de pâturage'!$A$14:$A$28,0,MATCH('Production laitière'!AK17,'Planning de pâturage'!$B$11:$NH$11))>0,0),))} -> #N/A | AR17: J188 | AS17: 42189 | AV17: =AT17/AU17 -> #DIV/0! | AW17: {=IF(COUNTIF(OFFSET('Planning de pâturage'!$A$14:$A$28,0,MATCH('Production laitière'!AR17,'Planning de pâturage'!$B$11:$NH$11)),">"&0)>1,"A CHOISIR", OFFSET('Planning de pâturage'!$A$13,MATCH(TRUE,OFFSET('Planning de pâturage'!$A$14:$A$28,0,MATCH('Production laitière'!AR17,'Planning de pâturage'!$B$11:$NH$11))>0,0),))} -> #N/A | AY17: J223 | AZ17: 42224 | BC17: =BA17/BB17 -> #DIV/0! | BD17: {=IF(COUNTIF(OFFSET('Planning de pâturage'!$A$14:$A$28,0,MATCH('Production laitière'!AY17,'Planning de pâturage'!$B$11:$NH$11)),">"&0)>1,"A CHOISIR", OFFSET('Planning de pâturage'!$A$13,MATCH(TRUE,OFFSET('Planning de pâturage'!$A$14:$A$28,0,MATCH('Production laitière'!AY17,'Planning de pâturage'!$B$11:$NH$11))>0,0),))} -> #N/A | BF17: J251 | BG17: 42252 | BJ17: =BH17/BI17 -> #DIV/0! | BK17: {=IF(COUNTIF(OFFSET('Planning de pâturage'!$A$14:$A$28,0,MATCH('Production laitière'!BF17,'Planning de pâturage'!$B$11:$NH$11)),">"&0)>1,"A CHOISIR", OFFSET('Planning de pâturage'!$A$13,MATCH(TRUE,OFFSET('Planning de pâturage'!$A$14:$A$28,0,MATCH('Production laitière'!BF17,'Planning de pâturage'!$B$11:$NH$11))>0,0),))} -> #N/A | BM17: J279 | BN17: 42280 | BQ17: =BO17/BP17 -> #DIV/0! | BR17: {=IF(COUNTIF(OFFSET('Planning de pâturage'!$A$14:$A$28,0,MATCH('Production laitière'!BM17,'Planning de pâturage'!$B$11:$NH$11)),">"&0)>1,"A CHOISIR", OFFSET('Planning de pâturage'!$A$13,MATCH(TRUE,OFFSET('Planning de pâturage'!$A$14:$A$28,0,MATCH('Production laitière'!BM17,'Planning de pâturage'!$B$11:$NH$11))>0,0),))} -> #N/A | BT17: J314 | BU17: 42315 | BX17: =BV17/BW17 -> #DIV/0! | BY17: {=IF(COUNTIF(OFFSET('Planning de pâturage'!$A$14:$A$28,0,MATCH('Production laitière'!BT17,'Planning de pâturage'!$B$11:$NH$11)),">"&0)>1,"A CHOISIR", OFFSET('Planning de pâturage'!$A$13,MATCH(TRUE,OFFSET('Planning de pâturage'!$A$14:$A$28,0,MATCH('Production laitière'!BT17,'Planning de pâturage'!$B$11:$NH$11))>0,0),))} -> #N/A | CA17: J342 | CB17: 41978 | CE17: =CC17/CD17 -> #DIV/0! | CF17: {=IF(COUNTIF(OFFSET('Planning de pâturage'!$A$14:$A$28,0,MATCH('Production laitière'!CA17,'Planning de pâturage'!$B$11:$NH$11)),">"&0)>1,"A CHOISIR", OFFSET('Planning de pâturage'!$A$13,MATCH(TRUE,OFFSET('Planning de pâturage'!$A$14:$A$28,0,MATCH('Production laitière'!CA17,'Planning de pâturage'!$B$11:$NH$11))>0,0),))} -> #N/A
B18: J7 | C18: 41643 | F18: =D18/E18 -> #DIV/0! | G18: {=IF(COUNTIF(OFFSET('Planning de pâturage'!$A$14:$A$28,,MATCH('Production laitière'!B18,'Planning de pâturage'!$B$11:$NH$11)),">"&0)>1,"A CHOISIR", OFFSET('Planning de pâturage'!$A$13,MATCH(TRUE,OFFSET('Planning de pâturage'!$A$14:$A$28,0,MATCH('Production laitière'!B18,'Planning de pâturage'!$B$11:$NH$11))>0,0),))} -> #N/A | I18: J42 | J18: 42043 | M18: =K18/L18 -> #DIV/0! | N18: {=IF(COUNTIF(OFFSET('Planning de pâturage'!$A$14:$A$28,0,MATCH('Production laitière'!I18,'Planning de pâturage'!$B$11:$NH$11)),">"&0)>1,"A CHOISIR", OFFSET('Planning de pâturage'!$A$13,MATCH(TRUE,OFFSET('Planning de pâturage'!$A$14:$A$28,0,MATCH('Production laitière'!I18,'Planning de pâturage'!$B$11:$NH$11))>0,0),))} -> #N/A | P18: J70 | Q18: 42071 | T18: =R18/S18 -> #DIV/0! | U18: {=IF(COUNTIF(OFFSET('Planning de pâturage'!$A$14:$A$28,0,MATCH('Production laitière'!P18,'Planning de pâturage'!$B$11:$NH$11)),">"&0)>1,"A CHOISIR", OFFSET('Planning de pâturage'!$A$13,MATCH(TRUE,OFFSET('Planning de pâturage'!$A$14:$A$28,0,MATCH('Production laitière'!P18,'Planning de pâturage'!$B$11:$NH$11))>0,0),))} -> #N/A | W18: J105 | X18: 42106 | AA18: =Y18/Z18 -> #DIV/0! | AB18: {=IF(COUNTIF(OFFSET('Planning de pâturage'!$A$14:$A$28,0,MATCH('Production laitière'!W18,'Planning de pâturage'!$B$11:$NH$11)),">"&0)>1,"A CHOISIR", OFFSET('Planning de pâturage'!$A$13,MATCH(TRUE,OFFSET('Planning de pâturage'!$A$14:$A$28,0,MATCH('Production laitière'!W18,'Planning de pâturage'!$B$11:$NH$11))>0,0),))} -> Nom paddock 2 | AD18: J133 | AE18: 42134 | AH18: =AF18/AG18 -> #DIV/0! | AI18: {=IF(COUNTIF(OFFSET('Planning de pâturage'!$A$14:$A$28,0,MATCH('Production laitière'!AD18,'Planning de pâturage'!$B$11:$NH$11)),">"&0)>1,"A CHOISIR", OFFSET('Planning de pâturage'!$A$13,MATCH(TRUE,OFFSET('Planning de pâturage'!$A$14:$A$28,0,MATCH('Production laitière'!AD18,'Planning de pâturage'!$B$11:$NH$11))>0,0),))} -> #N/A | AK18: J161 | AL18: 42162 | AO18: =AM18/AN18 -> #DIV/0! | AP18: {=IF(COUNTIF(OFFSET('Planning de pâturage'!$A$14:$A$28,0,MATCH('Production laitière'!AK18,'Planning de pâturage'!$B$11:$NH$11)),">"&0)>1,"A CHOISIR", OFFSET('Planning de pâturage'!$A$13,MATCH(TRUE,OFFSET('Planning de pâturage'!$A$14:$A$28,0,MATCH('Production laitière'!AK18,'Planning de pâturage'!$B$11:$NH$11))>0,0),))} -> #N/A | AR18: J189 | AS18: 42190 | AV18: =AT18/AU18 -> #DIV/0! | AW18: {=IF(COUNTIF(OFFSET('Planning de pâturage'!$A$14:$A$28,0,MATCH('Production laitière'!AR18,'Planning de pâturage'!$B$11:$NH$11)),">"&0)>1,"A CHOISIR", OFFSET('Planning de pâturage'!$A$13,MATCH(TRUE,OFFSET('Planning de pâturage'!$A$14:$A$28,0,MATCH('Production laitière'!AR18,'Planning de pâturage'!$B$11:$NH$11))>0,0),))} -> #N/A | AY18: J224 | AZ18: 42225 | BC18: =BA18/BB18 -> #DIV/0! | BD18: {=IF(COUNTIF(OFFSET('Planning de pâturage'!$A$14:$A$28,0,MATCH('Production laitière'!AY18,'Planning de pâturage'!$B$11:$NH$11)),">"&0)>1,"A CHOISIR", OFFSET('Planning de pâturage'!$A$13,MATCH(TRUE,OFFSET('Planning de pâturage'!$A$14:$A$28,0,MATCH('Production laitière'!AY18,'Planning de pâturage'!$B$11:$NH$11))>0,0),))} -> #N/A | BF18: J252 | BG18: 42253 | BJ18: =BH18/BI18 -> #DIV/0! | BK18: {=IF(COUNTIF(OFFSET('Planning de pâturage'!$A$14:$A$28,0,MATCH('Production laitière'!BF18,'Planning de pâturage'!$B$11:$NH$11)),">"&0)>1,"A CHOISIR", OFFSET('Planning de pâturage'!$A$13,MATCH(TRUE,OFFSET('Planning de pâturage'!$A$14:$A$28,0,MATCH('Production laitière'!BF18,'Planning de pâturage'!$B$11:$NH$11))>0,0),))} -> #N/A | BM18: J280 | BN18: 42281 | BQ18: =BO18/BP18 -> #DIV/0! | BR18: {=IF(COUNTIF(OFFSET('Planning de pâturage'!$A$14:$A$28,0,MATCH('Production laitière'!BM18,'Planning de pâturage'!$B$11:$NH$11)),">"&0)>1,"A CHOISIR", OFFSET('Planning de pâturage'!$A$13,MATCH(TRUE,OFFSET('Planning de pâturage'!$A$14:$A$28,0,MATCH('Production laitière'!BM18,'Planning de pâturage'!$B$11:$NH$11))>0,0),))} -> #N/A | BT18: J315 | BU18: 42316 | BX18: =BV18/BW18 -> #DIV/0! | BY18: {=IF(COUNTIF(OFFSET('Planning de pâturage'!$A$14:$A$28,0,MATCH('Production laitière'!BT18,'Planning de pâturage'!$B$11:$NH$11)),">"&0)>1,"A CHOISIR", OFFSET('Planning de pâturage'!$A$13,MATCH(TRUE,OFFSET('Planning de pâturage'!$A$14:$A$28,0,MATCH('Production laitière'!BT18,'Planning de pâturage'!$B$11:$NH$11))>0,0),))} -> #N/A | CA18: J343 | CB18: 41979 | CE18: =CC18/CD18 -> #DIV/0! | CF18: {=IF(COUNTIF(OFFSET('Planning de pâturage'!$A$14:$A$28,0,MATCH('Production laitière'!CA18,'Planning de pâturage'!$B$11:$NH$11)),">"&0)>1,"A CHOISIR", OFFSET('Planning de pâturage'!$A$13,MATCH(TRUE,OFFSET('Planning de pâturage'!$A$14:$A$28,0,MATCH('Production laitière'!CA18,'Planning de pâturage'!$B$11:$NH$11))>0,0),))} -> #N/A
A19: S2 | B19: J8 | C19: 41644 | F19: =D19/E19 -> #DIV/0! | G19: {=IF(COUNTIF(OFFSET('Planning de pâturage'!$A$14:$A$28,,MATCH('Production laitière'!B19,'Planning de pâturage'!$B$11:$NH$11)),">"&0)>1,"A CHOISIR", OFFSET('Planning de pâturage'!$A$13,MATCH(TRUE,OFFSET('Planning de pâturage'!$A$14:$A$28,0,MATCH('Production laitière'!B19,'Planning de pâturage'!$B$11:$NH$11))>0,0),))} -> #N/A | H19: S7 | I19: J43 | J19: 42044 | M19: =K19/L19 -> #DIV/0! | N19: {=IF(COUNTIF(OFFSET('Planning de pâturage'!$A$14:$A$28,0,MATCH('Production laitière'!I19,'Planning de pâturage'!$B$11:$NH$11)),">"&0)>1,"A CHOISIR", OFFSET('Planning de pâturage'!$A$13,MATCH(TRUE,OFFSET('Planning de pâturage'!$A$14:$A$28,0,MATCH('Production laitière'!I19,'Planning de pâturage'!$B$11:$NH$11))>0,0),))} -> #N/A | O19: S11 | P19: J71 | Q19: 42072 | T19: =R19/S19 -> #DIV/0! | U19: {=IF(COUNTIF(OFFSET('Planning de pâturage'!$A$14:$A$28,0,MATCH('Production laitière'!P19,'Planning de pâturage'!$B$11:$NH$11)),">"&0)>1,"A CHOISIR", OFFSET('Planning de pâturage'!$A$13,MATCH(TRUE,OFFSET('Planning de pâturage'!$A$14:$A$28,0,MATCH('Production laitière'!P19,'Planning de pâturage'!$B$11:$NH$11))>0,0),))} -> #N/A | V19: S16 | W19: J106 | X19: 42107 | AA19: =Y19/Z19 -> #DIV/0! | AB19: {=IF(COUNTIF(OFFSET('Planning de pâturage'!$A$14:$A$28,0,MATCH('Production laitière'!W19,'Planning de pâturage'!$B$11:$NH$11)),">"&0)>1,"A CHOISIR", OFFSET('Planning de pâturage'!$A$13,MATCH(TRUE,OFFSET('Planning de pâturage'!$A$14:$A$28,0,MATCH('Production laitière'!W19,'Planning de pâturage'!$B$11:$NH$11))>0,0),))} -> Nom paddock 2 | AC19: S20 | AD19: J134 | AE19: 42135 | AH19: =AF19/AG19 -> #DIV/0! | AI19: {=IF(COUNTIF(OFFSET('Planning de pâturage'!$A$14:$A$28,0,MATCH('Production laitière'!AD19,'Planning de pâturage'!$B$11:$NH$11)),">"&0)>1,"A CHOISIR", OFFSET('Planning de pâturage'!$A$13,MATCH(TRUE,OFFSET('Planning de pâturage'!$A$14:$A$28,0,MATCH('Production laitière'!AD19,'Planning de pâturage'!$B$11:$NH$11))>0,0),))} -> #N/A | AJ19: S24 | AK19: J162 | AL19: 42163 | AO19: =AM19/AN19 -> #DIV/0! | AP19: {=IF(COUNTIF(OFFSET('Planning de pâturage'!$A$14:$A$28,0,MATCH('Production laitière'!AK19,'Planning de pâturage'!$B$11:$NH$11)),">"&0)>1,"A CHOISIR", OFFSET('Planning de pâturage'!$A$13,MATCH(TRUE,OFFSET('Planning de pâturage'!$A$14:$A$28,0,MATCH('Production laitière'!AK19,'Planning de pâturage'!$B$11:$NH$11))>0,0),))} -> #N/A | AQ19: S28 | AR19: J190 | AS19: 42191 | AV19: =AT19/AU19 -> #DIV/0! | AW19: {=IF(COUNTIF(OFFSET('Planning de pâturage'!$A$14:$A$28,0,MATCH('Production laitière'!AR19,'Planning de pâturage'!$B$11:$NH$11)),">"&0)>1,"A CHOISIR", OFFSET('Planning de pâturage'!$A$13,MATCH(TRUE,OFFSET('Planning de pâturage'!$A$14:$A$28,0,MATCH('Production laitière'!AR19,'Planning de pâturage'!$B$11:$NH$11))>0,0),))} -> #N/A | AX19: S33 | AY19: J225 | AZ19: 42226 | BC19: =BA19/BB19 -> #DIV/0! | BD19: {=IF(COUNTIF(OFFSET('Planning de pâturage'!$A$14:$A$28,0,MATCH('Production laitière'!AY19,'Planning de pâturage'!$B$11:$NH$11)),">"&0)>1,"A CHOISIR", OFFSET('Planning de pâturage'!$A$13,MATCH(TRUE,OFFSET('Planning de pâturage'!$A$14:$A$28,0,MATCH('Production laitière'!AY19,'Planning de pâturage'!$B$11:$NH$11))>0,0),))} -> #N/A | BE19: S37 | BF19: J253 | BG19: 42254 | BJ19: =BH19/BI19 -> #DIV/0! | BK19: {=IF(COUNTIF(OFFSET('Planning de pâturage'!$A$14:$A$28,0,MATCH('Production laitière'!BF19,'Planning de pâturage'!$B$11:$NH$11)),">"&0)>1,"A CHOISIR", OFFSET('Planning de pâturage'!$A$13,MATCH(TRUE,OFFSET('Planning de pâturage'!$A$14:$A$28,0,MATCH('Production laitière'!BF19,'Planning de pâturage'!$B$11:$NH$11))>0,0),))} -> #N/A | BL19: S41 | BM19: J281 | BN19: 42282 | BQ19: =BO19/BP19 -> #DIV/0! | BR19: {=IF(COUNTIF(OFFSET('Planning de pâturage'!$A$14:$A$28,0,MATCH('Production laitière'!BM19,'Planning de pâturage'!$B$11:$NH$11)),">"&0)>1,"A CHOISIR", OFFSET('Planning de pâturage'!$A$13,MATCH(TRUE,OFFSET('Planning de pâturage'!$A$14:$A$28,0,MATCH('Production laitière'!BM19,'Planning de pâturage'!$B$11:$NH$11))>0,0),))} -> #N/A | BS19: S46 | BT19: J316 | BU19: 42317 | BX19: =BV19/BW19 -> #DIV/0! | BY19: {=IF(COUNTIF(OFFSET('Planning de pâturage'!$A$14:$A$28,0,MATCH('Production laitière'!BT19,'Planning de pâturage'!$B$11:$NH$11)),">"&0)>1,"A CHOISIR", OFFSET('Planning de pâturage'!$A$13,MATCH(TRUE,OFFSET('Planning de pâturage'!$A$14:$A$28,0,MATCH('Production laitière'!BT19,'Planning de pâturage'!$B$11:$NH$11))>0,0),))} -> #N/A | BZ19: S50 | CA19: J344 | CB19: 41980 | CE19: =CC19/CD19 -> #DIV/0! | CF19: {=IF(COUNTIF(OFFSET('Planning de pâturage'!$A$14:$A$28,0,MATCH('Production laitière'!CA19,'Planning de pâturage'!$B$11:$NH$11)),">"&0)>1,"A CHOISIR", OFFSET('Planning de pâturage'!$A$13,MATCH(TRUE,OFFSET('Planning de pâturage'!$A$14:$A$28,0,MATCH('Production laitière'!CA19,'Planning de pâturage'!$B$11:$NH$11))>0,0),))} -> #N/A
B20: J9 | C20: 41645 | F20: =D20/E20 -> #DIV/0! | G20: {=IF(COUNTIF(OFFSET('Planning de pâturage'!$A$14:$A$28,,MATCH('Production laitière'!B20,'Planning de pâturage'!$B$11:$NH$11)),">"&0)>1,"A CHOISIR", OFFSET('Planning de pâturage'!$A$13,MATCH(TRUE,OFFSET('Planning de pâturage'!$A$14:$A$28,0,MATCH('Production laitière'!B20,'Planning de pâturage'!$B$11:$NH$11))>0,0),))} -> #N/A | I20: J44 | J20: 42045 | M20: =K20/L20 -> #DIV/0! | N20: {=IF(COUNTIF(OFFSET('Planning de pâturage'!$A$14:$A$28,0,MATCH('Production laitière'!I20,'Planning de pâturage'!$B$11:$NH$11)),">"&0)>1,"A CHOISIR", OFFSET('Planning de pâturage'!$A$13,MATCH(TRUE,OFFSET('Planning de pâturage'!$A$14:$A$28,0,MATCH('Production laitière'!I20,'Planning de pâturage'!$B$11:$NH$11))>0,0),))} -> #N/A | P20: J72 | Q20: 42073 | T20: =R20/S20 -> #DIV/0! | U20: {=IF(COUNTIF(OFFSET('Planning de pâturage'!$A$14:$A$28,0,MATCH('Production laitière'!P20,'Planning de pâturage'!$B$11:$NH$11)),">"&0)>1,"A CHOISIR", OFFSET('Planning de pâturage'!$A$13,MATCH(TRUE,OFFSET('Planning de pâturage'!$A$14:$A$28,0,MATCH('Production laitière'!P20,'Planning de pâturage'!$B$11:$NH$11))>0,0),))} -> #N/A | W20: J107 | X20: 42108 | AA20: =Y20/Z20 -> #DIV/0! | AB20: {=IF(COUNTIF(OFFSET('Planning de pâturage'!$A$14:$A$28,0,MATCH('Production laitière'!W20,'Planning de pâturage'!$B$11:$NH$11)),">"&0)>1,"A CHOISIR", OFFSET('Planning de pâturage'!$A$13,MATCH(TRUE,OFFSET('Planning de pâturage'!$A$14:$A$28,0,MATCH('Production laitière'!W20,'Planning de pâturage'!$B$11:$NH$11))>0,0),))} -> Nom paddock 2 | AD20: J135 | AE20: 42136 | AH20: =AF20/AG20 -> #DIV/0! | AI20: {=IF(COUNTIF(OFFSET('Planning de pâturage'!$A$14:$A$28,0,MATCH('Production laitière'!AD20,'Planning de pâturage'!$B$11:$NH$11)),">"&0)>1,"A CHOISIR", OFFSET('Planning de pâturage'!$A$13,MATCH(TRUE,OFFSET('Planning de pâturage'!$A$14:$A$28,0,MATCH('Production laitière'!AD20,'Planning de pâturage'!$B$11:$NH$11))>0,0),))} -> #N/A | AK20: J163 | AL20: 42164 | AO20: =AM20/AN20 -> #DIV/0! | AP20: {=IF(COUNTIF(OFFSET('Planning de pâturage'!$A$14:$A$28,0,MATCH('Production laitière'!AK20,'Planning de pâturage'!$B$11:$NH$11)),">"&0)>1,"A CHOISIR", OFFSET('Planning de pâturage'!$A$13,MATCH(TRUE,OFFSET('Planning de pâturage'!$A$14:$A$28,0,MATCH('Production laitière'!AK20,'Planning de pâturage'!$B$11:$NH$11))>0,0),))} -> #N/A | AR20: J191 | AS20: 42192 | AV20: =AT20/AU20 -> #DIV/0! | AW20: {=IF(COUNTIF(OFFSET('Planning de pâturage'!$A$14:$A$28,0,MATCH('Production laitière'!AR20,'Planning de pâturage'!$B$11:$NH$11)),">"&0)>1,"A CHOISIR", OFFSET('Planning de pâturage'!$A$13,MATCH(TRUE,OFFSET('Planning de pâturage'!$A$14:$A$28,0,MATCH('Production laitière'!AR20,'Planning de pâturage'!$B$11:$NH$11))>0,0),))} -> #N/A | AY20: J226 | AZ20: 42227 | BC20: =BA20/BB20 -> #DIV/0! | BD20: {=IF(COUNTIF(OFFSET('Planning de pâturage'!$A$14:$A$28,0,MATCH('Production laitière'!AY20,'Planning de pâturage'!$B$11:$NH$11)),">"&0)>1,"A CHOISIR", OFFSET('Planning de pâturage'!$A$13,MATCH(TRUE,OFFSET('Planning de pâturage'!$A$14:$A$28,0,MATCH('Production laitière'!AY20,'Planning de pâturage'!$B$11:$NH$11))>0,0),))} -> #N/A | BF20: J254 | BG20: 42255 | BJ20: =BH20/BI20 -> #DIV/0! | BK20: {=IF(COUNTIF(OFFSET('Planning de pâturage'!$A$14:$A$28,0,MATCH('Production laitière'!BF20,'Planning de pâturage'!$B$11:$NH$11)),">"&0)>1,"A CHOISIR", OFFSET('Planning de pâturage'!$A$13,MATCH(TRUE,OFFSET('Planning de pâturage'!$A$14:$A$28,0,MATCH('Production laitière'!BF20,'Planning de pâturage'!$B$11:$NH$11))>0,0),))} -> #N/A | BM20: J282 | BN20: 42283 | BQ20: =BO20/BP20 -> #DIV/0! | BR20: {=IF(COUNTIF(OFFSET('Planning de pâturage'!$A$14:$A$28,0,MATCH('Production laitière'!BM20,'Planning de pâturage'!$B$11:$NH$11)),">"&0)>1,"A CHOISIR", OFFSET('Planning de pâturage'!$A$13,MATCH(TRUE,OFFSET('Planning de pâturage'!$A$14:$A$28,0,MATCH('Production laitière'!BM20,'Planning de pâturage'!$B$11:$NH$11))>0,0),))} -> #N/A | BT20: J317 | BU20: 42318 | BX20: =BV20/BW20 -> #DIV/0! | BY20: {=IF(COUNTIF(OFFSET('Planning de pâturage'!$A$14:$A$28,0,MATCH('Production laitière'!BT20,'Planning de pâturage'!$B$11:$NH$11)),">"&0)>1,"A CHOISIR", OFFSET('Planning de pâturage'!$A$13,MATCH(TRUE,OFFSET('Planning de pâturage'!$A$14:$A$28,0,MATCH('Production laitière'!BT20,'Planning de pâturage'!$B$11:$NH$11))>0,0),))} -> #N/A | CA20: J345 | CB20: 41981 | CE20: =CC20/CD20 -> #DIV/0! | CF20: {=IF(COUNTIF(OFFSET('Planning de pâturage'!$A$14:$A$28,0,MATCH('Production laitière'!CA20,'Planning de pâturage'!$B$11:$NH$11)),">"&0)>1,"A CHOISIR", OFFSET('Planning de pâturage'!$A$13,MATCH(TRUE,OFFSET('Planning de pâturage'!$A$14:$A$28,0,MATCH('Production laitière'!CA20,'Planning de pâturage'!$B$11:$NH$11))>0,0),))} -> #N/A
B21: J10 | C21: 41646 | F21: =D21/E21 -> #DIV/0! | G21: {=IF(COUNTIF(OFFSET('Planning de pâturage'!$A$14:$A$28,,MATCH('Production laitière'!B21,'Planning de pâturage'!$B$11:$NH$11)),">"&0)>1,"A CHOISIR", OFFSET('Planning de pâturage'!$A$13,MATCH(TRUE,OFFSET('Planning de pâturage'!$A$14:$A$28,0,MATCH('Production laitière'!B21,'Planning de pâturage'!$B$11:$NH$11))>0,0),))} -> Nom paddock 2 | I21: J45 | J21: 42046 | M21: =K21/L21 -> #DIV/0! | N21: {=IF(COUNTIF(OFFSET('Planning de pâturage'!$A$14:$A$28,0,MATCH('Production laitière'!I21,'Planning de pâturage'!$B$11:$NH$11)),">"&0)>1,"A CHOISIR", OFFSET('Planning de pâturage'!$A$13,MATCH(TRUE,OFFSET('Planning de pâturage'!$A$14:$A$28,0,MATCH('Production laitière'!I21,'Planning de pâturage'!$B$11:$NH$11))>0,0),))} -> #N/A | P21: J73 | Q21: 42074 | T21: =R21/S21 -> #DIV/0! | U21: {=IF(COUNTIF(OFFSET('Planning de pâturage'!$A$14:$A$28,0,MATCH('Production laitière'!P21,'Planning de pâturage'!$B$11:$NH$11)),">"&0)>1,"A CHOISIR", OFFSET('Planning de pâturage'!$A$13,MATCH(TRUE,OFFSET('Planning de pâturage'!$A$14:$A$28,0,MATCH('Production laitière'!P21,'Planning de pâturage'!$B$11:$NH$11))>0,0),))} -> #N/A | W21: J108 | X21: 42109 | AA21: =Y21/Z21 -> #DIV/0! | AB21: {=IF(COUNTIF(OFFSET('Planning de pâturage'!$A$14:$A$28,0,MATCH('Production laitière'!W21,'Planning de pâturage'!$B$11:$NH$11)),">"&0)>1,"A CHOISIR", OFFSET('Planning de pâturage'!$A$13,MATCH(TRUE,OFFSET('Planning de pâturage'!$A$14:$A$28,0,MATCH('Production laitière'!W21,'Planning de pâturage'!$B$11:$NH$11))>0,0),))} -> Nom paddock 2 | AD21: J136 | AE21: 42137 | AH21: =AF21/AG21 -> #DIV/0! | AI21: {=IF(COUNTIF(OFFSET('Planning de pâturage'!$A$14:$A$28,0,MATCH('Production laitière'!AD21,'Planning de pâturage'!$B$11:$NH$11)),">"&0)>1,"A CHOISIR", OFFSET('Planning de pâturage'!$A$13,MATCH(TRUE,OFFSET('Planning de pâturage'!$A$14:$A$28,0,MATCH('Production laitière'!AD21,'Planning de pâturage'!$B$11:$NH$11))>0,0),))} -> #N/A | AK21: J164 | AL21: 42165 | AO21: =AM21/AN21 -> #DIV/0! | AP21: {=IF(COUNTIF(OFFSET('Planning de pâturage'!$A$14:$A$28,0,MATCH('Production laitière'!AK21,'Planning de pâturage'!$B$11:$NH$11)),">"&0)>1,"A CHOISIR", OFFSET('Planning de pâturage'!$A$13,MATCH(TRUE,OFFSET('Planning de pâturage'!$A$14:$A$28,0,MATCH('Production laitière'!AK21,'Planning de pâturage'!$B$11:$NH$11))>0,0),))} -> #N/A | AR21: J192 | AS21: 42193 | AV21: =AT21/AU21 -> #DIV/0! | AW21: {=IF(COUNTIF(OFFSET('Planning de pâturage'!$A$14:$A$28,0,MATCH('Production laitière'!AR21,'Planning de pâturage'!$B$11:$NH$11)),">"&0)>1,"A CHOISIR", OFFSET('Planning de pâturage'!$A$13,MATCH(TRUE,OFFSET('Planning de pâturage'!$A$14:$A$28,0,MATCH('Production laitière'!AR21,'Planning de pâturage'!$B$11:$NH$11))>0,0),))} -> #N/A | AY21: J227 | AZ21: 42228 | BC21: =BA21/BB21 -> #DIV/0! | BD21: {=IF(COUNTIF(OFFSET('Planning de pâturage'!$A$14:$A$28,0,MATCH('Production laitière'!AY21,'Planning de pâturage'!$B$11:$NH$11)),">"&0)>1,"A CHOISIR", OFFSET('Planning de pâturage'!$A$13,MATCH(TRUE,OFFSET('Planning de pâturage'!$A$14:$A$28,0,MATCH('Production laitière'!AY21,'Planning de pâturage'!$B$11:$NH$11))>0,0),))} -> #N/A | BF21: J255 | BG21: 42256 | BJ21: =BH21/BI21 -> #DIV/0! | BK21: {=IF(COUNTIF(OFFSET('Planning de pâturage'!$A$14:$A$28,0,MATCH('Production laitière'!BF21,'Planning de pâturage'!$B$11:$NH$11)),">"&0)>1,"A CHOISIR", OFFSET('Planning de pâturage'!$A$13,MATCH(TRUE,OFFSET('Planning de pâturage'!$A$14:$A$28,0,MATCH('Production laitière'!BF21,'Planning de pâturage'!$B$11:$NH$11))>0,0),))} -> #N/A | BM21: J283 | BN21: 42284 | BQ21: =BO21/BP21 -> #DIV/0! | BR21: {=IF(COUNTIF(OFFSET('Planning de pâturage'!$A$14:$A$28,0,MATCH('Production laitière'!BM21,'Planning de pâturage'!$B$11:$NH$11)),">"&0)>1,"A CHOISIR", OFFSET('Planning de pâturage'!$A$13,MATCH(TRUE,OFFSET('Planning de pâturage'!$A$14:$A$28,0,MATCH('Production laitière'!BM21,'Planning de pâturage'!$B$11:$NH$11))>0,0),))} -> #N/A | BT21: J318 | BU21: 42319 | BX21: =BV21/BW21 -> #DIV/0! | BY21: {=IF(COUNTIF(OFFSET('Planning de pâturage'!$A$14:$A$28,0,MATCH('Production laitière'!BT21,'Planning de pâturage'!$B$11:$NH$11)),">"&0)>1,"A CHOISIR", OFFSET('Planning de pâturage'!$A$13,MATCH(TRUE,OFFSET('Planning de pâturage'!$A$14:$A$28,0,MATCH('Production laitière'!BT21,'Planning de pâturage'!$B$11:$NH$11))>0,0),))} -> #N/A | CA21: J346 | CB21: 41982 | CE21: =CC21/CD21 -> #DIV/0! | CF21: {=IF(COUNTIF(OFFSET('Planning de pâturage'!$A$14:$A$28,0,MATCH('Production laitière'!CA21,'Planning de pâturage'!$B$11:$NH$11)),">"&0)>1,"A CHOISIR", OFFSET('Planning de pâturage'!$A$13,MATCH(TRUE,OFFSET('Planning de pâturage'!$A$14:$A$28,0,MATCH('Production laitière'!CA21,'Planning de pâturage'!$B$11:$NH$11))>0,0),))} -> #N/A
B22: J11 | C22: 41647 | F22: =D22/E22 -> #DIV/0! | G22: {=IF(COUNTIF(OFFSET('Planning de pâturage'!$A$14:$A$28,,MATCH('Production laitière'!B22,'Planning de pâturage'!$B$11:$NH$11)),">"&0)>1,"A CHOISIR", OFFSET('Planning de pâturage'!$A$13,MATCH(TRUE,OFFSET('Planning de pâturage'!$A$14:$A$28,0,MATCH('Production laitière'!B22,'Planning de pâturage'!$B$11:$NH$11))>0,0),))} -> #N/A | I22: J46 | J22: 42047 | M22: =K22/L22 -> #DIV/0! | N22: {=IF(COUNTIF(OFFSET('Planning de pâturage'!$A$14:$A$28,0,MATCH('Production laitière'!I22,'Planning de pâturage'!$B$11:$NH$11)),">"&0)>1,"A CHOISIR", OFFSET('Planning de pâturage'!$A$13,MATCH(TRUE,OFFSET('Planning de pâturage'!$A$14:$A$28,0,MATCH('Production laitière'!I22,'Planning de pâturage'!$B$11:$NH$11))>0,0),))} -> #N/A | P22: J74 | Q22: 42075 | T22: =R22/S22 -> #DIV/0! | U22: {=IF(COUNTIF(OFFSET('Planning de pâturage'!$A$14:$A$28,0,MATCH('Production laitière'!P22,'Planning de pâturage'!$B$11:$NH$11)),">"&0)>1,"A CHOISIR", OFFSET('Planning de pâturage'!$A$13,MATCH(TRUE,OFFSET('Planning de pâturage'!$A$14:$A$28,0,MATCH('Production laitière'!P22,'Planning de pâturage'!$B$11:$NH$11))>0,0),))} -> #N/A | W22: J109 | X22: 42110 | AA22: =Y22/Z22 -> #DIV/0! | AB22: {=IF(COUNTIF(OFFSET('Planning de pâturage'!$A$14:$A$28,0,MATCH('Production laitière'!W22,'Planning de pâturage'!$B$11:$NH$11)),">"&0)>1,"A CHOISIR", OFFSET('Planning de pâturage'!$A$13,MATCH(TRUE,OFFSET('Planning de pâturage'!$A$14:$A$28,0,MATCH('Production laitière'!W22,'Planning de pâturage'!$B$11:$NH$11))>0,0),))} -> Nom paddock 2 | AD22: J137 | AE22: 42138 | AH22: =AF22/AG22 -> #DIV/0! | AI22: {=IF(COUNTIF(OFFSET('Planning de pâturage'!$A$14:$A$28,0,MATCH('Production laitière'!AD22,'Planning de pâturage'!$B$11:$NH$11)),">"&0)>1,"A CHOISIR", OFFSET('Planning de pâturage'!$A$13,MATCH(TRUE,OFFSET('Planning de pâturage'!$A$14:$A$28,0,MATCH('Production laitière'!AD22,'Planning de pâturage'!$B$11:$NH$11))>0,0),))} -> #N/A | AK22: J165 | AL22: 42166 | AO22: =AM22/AN22 -> #DIV/0! | AP22: {=IF(COUNTIF(OFFSET('Planning de pâturage'!$A$14:$A$28,0,MATCH('Production laitière'!AK22,'Planning de pâturage'!$B$11:$NH$11)),">"&0)>1,"A CHOISIR", OFFSET('Planning de pâturage'!$A$13,MATCH(TRUE,OFFSET('Planning de pâturage'!$A$14:$A$28,0,MATCH('Production laitière'!AK22,'Planning de pâturage'!$B$11:$NH$11))>0,0),))} -> #N/A | AR22: J193 | AS22: 42194 | AV22: =AT22/AU22 -> #DIV/0! | AW22: {=IF(COUNTIF(OFFSET('Planning de pâturage'!$A$14:$A$28,0,MATCH('Production laitière'!AR22,'Planning de pâturage'!$B$11:$NH$11)),">"&0)>1,"A CHOISIR", OFFSET('Planning de pâturage'!$A$13,MATCH(TRUE,OFFSET('Planning de pâturage'!$A$14:$A$28,0,MATCH('Production laitière'!AR22,'Planning de pâturage'!$B$11:$NH$11))>0,0),))} -> #N/A | AY22: J228 | AZ22: 42229 | BC22: =BA22/BB22 -> #DIV/0! | BD22: {=IF(COUNTIF(OFFSET('Planning de pâturage'!$A$14:$A$28,0,MATCH('Production laitière'!AY22,'Planning de pâturage'!$B$11:$NH$11)),">"&0)>1,"A CHOISIR", OFFSET('Planning de pâturage'!$A$13,MATCH(TRUE,OFFSET('Planning de pâturage'!$A$14:$A$28,0,MATCH('Production laitière'!AY22,'Planning de pâturage'!$B$11:$NH$11))>0,0),))} -> #N/A | BF22: J256 | BG22: 42257 | BJ22: =BH22/BI22 -> #DIV/0! | BK22: {=IF(COUNTIF(OFFSET('Planning de pâturage'!$A$14:$A$28,0,MATCH('Production laitière'!BF22,'Planning de pâturage'!$B$11:$NH$11)),">"&0)>1,"A CHOISIR", OFFSET('Planning de pâturage'!$A$13,MATCH(TRUE,OFFSET('Planning de pâturage'!$A$14:$A$28,0,MATCH('Production laitière'!BF22,'Planning de pâturage'!$B$11:$NH$11))>0,0),))} -> #N/A | BM22: J284 | BN22: 42285 | BQ22: =BO22/BP22 -> #DIV/0! | BR22: {=IF(COUNTIF(OFFSET('Planning de pâturage'!$A$14:$A$28,0,MATCH('Production laitière'!BM22,'Planning de pâturage'!$B$11:$NH$11)),">"&0)>1,"A CHOISIR", OFFSET('Planning de pâturage'!$A$13,MATCH(TRUE,OFFSET('Planning de pâturage'!$A$14:$A$28,0,MATCH('Production laitière'!BM22,'Planning de pâturage'!$B$11:$NH$11))>0,0),))} -> #N/A | BT22: J319 | BU22: 42320 | BX22: =BV22/BW22 -> #DIV/0! | BY22: {=IF(COUNTIF(OFFSET('Planning de pâturage'!$A$14:$A$28,0,MATCH('Production laitière'!BT22,'Planning de pâturage'!$B$11:$NH$11)),">"&0)>1,"A CHOISIR", OFFSET('Planning de pâturage'!$A$13,MATCH(TRUE,OFFSET('Planning de pâturage'!$A$14:$A$28,0,MATCH('Production laitière'!BT22,'Planning de pâturage'!$B$11:$NH$11))>0,0),))} -> #N/A | CA22: J347 | CB22: 41983 | CE22: =CC22/CD22 -> #DIV/0! | CF22: {=IF(COUNTIF(OFFSET('Planning de pâturage'!$A$14:$A$28,0,MATCH('Production laitière'!CA22,'Planning de pâturage'!$B$11:$NH$11)),">"&0)>1,"A CHOISIR", OFFSET('Planning de pâturage'!$A$13,MATCH(TRUE,OFFSET('Planning de pâturage'!$A$14:$A$28,0,MATCH('Production laitière'!CA22,'Planning de pâturage'!$B$11:$NH$11))>0,0),))} -> #N/A
B23: J12 | C23: 41648 | F23: =D23/E23 -> #DIV/0! | G23: {=IF(COUNTIF(OFFSET('Planning de pâturage'!$A$14:$A$28,,MATCH('Production laitière'!B23,'Planning de pâturage'!$B$11:$NH$11)),">"&0)>1,"A CHOISIR", OFFSET('Planning de pâturage'!$A$13,MATCH(TRUE,OFFSET('Planning de pâturage'!$A$14:$A$28,0,MATCH('Production laitière'!B23,'Planning de pâturage'!$B$11:$NH$11))>0,0),))} -> #N/A | I23: J47 | J23: 42048 | M23: =K23/L23 -> #DIV/0! | N23: {=IF(COUNTIF(OFFSET('Planning de pâturage'!$A$14:$A$28,0,MATCH('Production laitière'!I23,'Planning de pâturage'!$B$11:$NH$11)),">"&0)>1,"A CHOISIR", OFFSET('Planning de pâturage'!$A$13,MATCH(TRUE,OFFSET('Planning de pâturage'!$A$14:$A$28,0,MATCH('Production laitière'!I23,'Planning de pâturage'!$B$11:$NH$11))>0,0),))} -> #N/A | P23: J75 | Q23: 42076 | T23: =R23/S23 -> #DIV/0! | U23: {=IF(COUNTIF(OFFSET('Planning de pâturage'!$A$14:$A$28,0,MATCH('Production laitière'!P23,'Planning de pâturage'!$B$11:$NH$11)),">"&0)>1,"A CHOISIR", OFFSET('Planning de pâturage'!$A$13,MATCH(TRUE,OFFSET('Planning de pâturage'!$A$14:$A$28,0,MATCH('Production laitière'!P23,'Planning de pâturage'!$B$11:$NH$11))>0,0),))} -> #N/A | W23: J110 | X23: 42111 | AA23: =Y23/Z23 -> #DIV/0! | AB23: {=IF(COUNTIF(OFFSET('Planning de pâturage'!$A$14:$A$28,0,MATCH('Production laitière'!W23,'Planning de pâturage'!$B$11:$NH$11)),">"&0)>1,"A CHOISIR", OFFSET('Planning de pâturage'!$A$13,MATCH(TRUE,OFFSET('Planning de pâturage'!$A$14:$A$28,0,MATCH('Production laitière'!W23,'Planning de pâturage'!$B$11:$NH$11))>0,0),))} -> #N/A | AD23: J138 | AE23: 42139 | AH23: =AF23/AG23 -> #DIV/0! | AI23: {=IF(COUNTIF(OFFSET('Planning de pâturage'!$A$14:$A$28,0,MATCH('Production laitière'!AD23,'Planning de pâturage'!$B$11:$NH$11)),">"&0)>1,"A CHOISIR", OFFSET('Planning de pâturage'!$A$13,MATCH(TRUE,OFFSET('Planning de pâturage'!$A$14:$A$28,0,MATCH('Production laitière'!AD23,'Planning de pâturage'!$B$11:$NH$11))>0,0),))} -> #N/A | AK23: J166 | AL23: 42167 | AO23: =AM23/AN23 -> #DIV/0! | AP23: {=IF(COUNTIF(OFFSET('Planning de pâturage'!$A$14:$A$28,0,MATCH('Production laitière'!AK23,'Planning de pâturage'!$B$11:$NH$11)),">"&0)>1,"A CHOISIR", OFFSET('Planning de pâturage'!$A$13,MATCH(TRUE,OFFSET('Planning de pâturage'!$A$14:$A$28,0,MATCH('Production laitière'!AK23,'Planning de pâturage'!$B$11:$NH$11))>0,0),))} -> #N/A | AR23: J194 | AS23: 42195 | AV23: =AT23/AU23 -> #DIV/0! | AW23: {=IF(COUNTIF(OFFSET('Planning de pâturage'!$A$14:$A$28,0,MATCH('Production laitière'!AR23,'Planning de pâturage'!$B$11:$NH$11)),">"&0)>1,"A CHOISIR", OFFSET('Planning de pâturage'!$A$13,MATCH(TRUE,OFFSET('Planning de pâturage'!$A$14:$A$28,0,MATCH('Production laitière'!AR23,'Planning de pâturage'!$B$11:$NH$11))>0,0),))} -> #N/A | AY23: J229 | AZ23: 42230 | BC23: =BA23/BB23 -> #DIV/0! | BD23: {=IF(COUNTIF(OFFSET('Planning de pâturage'!$A$14:$A$28,0,MATCH('Production laitière'!AY23,'Planning de pâturage'!$B$11:$NH$11)),">"&0)>1,"A CHOISIR", OFFSET('Planning de pâturage'!$A$13,MATCH(TRUE,OFFSET('Planning de pâturage'!$A$14:$A$28,0,MATCH('Production laitière'!AY23,'Planning de pâturage'!$B$11:$NH$11))>0,0),))} -> #N/A | BF23: J257 | BG23: 42258 | BJ23: =BH23/BI23 -> #DIV/0! | BK23: {=IF(COUNTIF(OFFSET('Planning de pâturage'!$A$14:$A$28,0,MATCH('Production laitière'!BF23,'Planning de pâturage'!$B$11:$NH$11)),">"&0)>1,"A CHOISIR", OFFSET('Planning de pâturage'!$A$13,MATCH(TRUE,OFFSET('Planning de pâturage'!$A$14:$A$28,0,MATCH('Production laitière'!BF23,'Planning de pâturage'!$B$11:$NH$11))>0,0),))} -> #N/A | BM23: J285 | BN23: 42286 | BQ23: =BO23/BP23 -> #DIV/0! | BR23: {=IF(COUNTIF(OFFSET('Planning de pâturage'!$A$14:$A$28,0,MATCH('Production laitière'!BM23,'Planning de pâturage'!$B$11:$NH$11)),">"&0)>1,"A CHOISIR", OFFSET('Planning de pâturage'!$A$13,MATCH(TRUE,OFFSET('Planning de pâturage'!$A$14:$A$28,0,MATCH('Production laitière'!BM23,'Planning de pâturage'!$B$11:$NH$11))>0,0),))} -> #N/A | BT23: J320 | BU23: 42321 | BX23: =BV23/BW23 -> #DIV/0! | BY23: {=IF(COUNTIF(OFFSET('Planning de pâturage'!$A$14:$A$28,0,MATCH('Production laitière'!BT23,'Planning de pâturage'!$B$11:$NH$11)),">"&0)>1,"A CHOISIR", OFFSET('Planning de pâturage'!$A$13,MATCH(TRUE,OFFSET('Planning de pâturage'!$A$14:$A$28,0,MATCH('Production laitière'!BT23,'Planning de pâturage'!$B$11:$NH$11))>0,0),))} -> #N/A | CA23: J348 | CB23: 41984 | CE23: =CC23/CD23 -> #DIV/0! | CF23: {=IF(COUNTIF(OFFSET('Planning de pâturage'!$A$14:$A$28,0,MATCH('Production laitière'!CA23,'Planning de pâturage'!$B$11:$NH$11)),">"&0)>1,"A CHOISIR", OFFSET('Planning de pâturage'!$A$13,MATCH(TRUE,OFFSET('Planning de pâturage'!$A$14:$A$28,0,MATCH('Production laitière'!CA23,'Planning de pâturage'!$B$11:$NH$11))>0,0),))} -> #N/A
B24: J13 | C24: 41649 | F24: =D24/E24 -> #DIV/0! | G24: {=IF(COUNTIF(OFFSET('Planning de pâturage'!$A$14:$A$28,,MATCH('Production laitière'!B24,'Planning de pâturage'!$B$11:$NH$11)),">"&0)>1,"A CHOISIR", OFFSET('Planning de pâturage'!$A$13,MATCH(TRUE,OFFSET('Planning de pâturage'!$A$14:$A$28,0,MATCH('Production laitière'!B24,'Planning de pâturage'!$B$11:$NH$11))>0,0),))} -> #N/A | I24: J48 | J24: 42049 | M24: =K24/L24 -> #DIV/0! | N24: {=IF(COUNTIF(OFFSET('Planning de pâturage'!$A$14:$A$28,0,MATCH('Production laitière'!I24,'Planning de pâturage'!$B$11:$NH$11)),">"&0)>1,"A CHOISIR", OFFSET('Planning de pâturage'!$A$13,MATCH(TRUE,OFFSET('Planning de pâturage'!$A$14:$A$28,0,MATCH('Production laitière'!I24,'Planning de pâturage'!$B$11:$NH$11))>0,0),))} -> #N/A | P24: J76 | Q24: 42077 | T24: =R24/S24 -> #DIV/0! | U24: {=IF(COUNTIF(OFFSET('Planning de pâturage'!$A$14:$A$28,0,MATCH('Production laitière'!P24,'Planning de pâturage'!$B$11:$NH$11)),">"&0)>1,"A CHOISIR", OFFSET('Planning de pâturage'!$A$13,MATCH(TRUE,OFFSET('Planning de pâturage'!$A$14:$A$28,0,MATCH('Production laitière'!P24,'Planning de pâturage'!$B$11:$NH$11))>0,0),))} -> #N/A | W24: J111 | X24: 42112 | AA24: =Y24/Z24 -> #DIV/0! | AB24: {=IF(COUNTIF(OFFSET('Planning de pâturage'!$A$14:$A$28,0,MATCH('Production laitière'!W24,'Planning de pâturage'!$B$11:$NH$11)),">"&0)>1,"A CHOISIR", OFFSET('Planning de pâturage'!$A$13,MATCH(TRUE,OFFSET('Planning de pâturage'!$A$14:$A$28,0,MATCH('Production laitière'!W24,'Planning de pâturage'!$B$11:$NH$11))>0,0),))} -> #N/A | AD24: J139 | AE24: 42140 | AH24: =AF24/AG24 -> #DIV/0! | AI24: {=IF(COUNTIF(OFFSET('Planning de pâturage'!$A$14:$A$28,0,MATCH('Production laitière'!AD24,'Planning de pâturage'!$B$11:$NH$11)),">"&0)>1,"A CHOISIR", OFFSET('Planning de pâturage'!$A$13,MATCH(TRUE,OFFSET('Planning de pâturage'!$A$14:$A$28,0,MATCH('Production laitière'!AD24,'Planning de pâturage'!$B$11:$NH$11))>0,0),))} -> #N/A | AK24: J167 | AL24: 42168 | AO24: =AM24/AN24 -> #DIV/0! | AP24: {=IF(COUNTIF(OFFSET('Planning de pâturage'!$A$14:$A$28,0,MATCH('Production laitière'!AK24,'Planning de pâturage'!$B$11:$NH$11)),">"&0)>1,"A CHOISIR", OFFSET('Planning de pâturage'!$A$13,MATCH(TRUE,OFFSET('Planning de pâturage'!$A$14:$A$28,0,MATCH('Production laitière'!AK24,'Planning de pâturage'!$B$11:$NH$11))>0,0),))} -> #N/A | AR24: J195 | AS24: 42196 | AV24: =AT24/AU24 -> #DIV/0! | AW24: {=IF(COUNTIF(OFFSET('Planning de pâturage'!$A$14:$A$28,0,MATCH('Production laitière'!AR24,'Planning de pâturage'!$B$11:$NH$11)),">"&0)>1,"A CHOISIR", OFFSET('Planning de pâturage'!$A$13,MATCH(TRUE,OFFSET('Planning de pâturage'!$A$14:$A$28,0,MATCH('Production laitière'!AR24,'Planning de pâturage'!$B$11:$NH$11))>0,0),))} -> #N/A | AY24: J230 | AZ24: 42231 | BC24: =BA24/BB24 -> #DIV/0! | BD24: {=IF(COUNTIF(OFFSET('Planning de pâturage'!$A$14:$A$28,0,MATCH('Production laitière'!AY24,'Planning de pâturage'!$B$11:$NH$11)),">"&0)>1,"A CHOISIR", OFFSET('Planning de pâturage'!$A$13,MATCH(TRUE,OFFSET('Planning de pâturage'!$A$14:$A$28,0,MATCH('Production laitière'!AY24,'Planning de pâturage'!$B$11:$NH$11))>0,0),))} -> #N/A | BF24: J258 | BG24: 42259 | BJ24: =BH24/BI24 -> #DIV/0! | BK24: {=IF(COUNTIF(OFFSET('Planning de pâturage'!$A$14:$A$28,0,MATCH('Production laitière'!BF24,'Planning de pâturage'!$B$11:$NH$11)),">"&0)>1,"A CHOISIR", OFFSET('Planning de pâturage'!$A$13,MATCH(TRUE,OFFSET('Planning de pâturage'!$A$14:$A$28,0,MATCH('Production laitière'!BF24,'Planning de pâturage'!$B$11:$NH$11))>0,0),))} -> #N/A | BM24: J286 | BN24: 42287 | BQ24: =BO24/BP24 -> #DIV/0! | BR24: {=IF(COUNTIF(OFFSET('Planning de pâturage'!$A$14:$A$28,0,MATCH('Production laitière'!BM24,'Planning de pâturage'!$B$11:$NH$11)),">"&0)>1,"A CHOISIR", OFFSET('Planning de pâturage'!$A$13,MATCH(TRUE,OFFSET('Planning de pâturage'!$A$14:$A$28,0,MATCH('Production laitière'!BM24,'Planning de pâturage'!$B$11:$NH$11))>0,0),))} -> #N/A | BT24: J321 | BU24: 42322 | BX24: =BV24/BW24 -> #DIV/0! | BY24: {=IF(COUNTIF(OFFSET('Planning de pâturage'!$A$14:$A$28,0,MATCH('Production laitière'!BT24,'Planning de pâturage'!$B$11:$NH$11)),">"&0)>1,"A CHOISIR", OFFSET('Planning de pâturage'!$A$13,MATCH(TRUE,OFFSET('Planning de pâturage'!$A$14:$A$28,0,MATCH('Production laitière'!BT24,'Planning de pâturage'!$B$11:$NH$11))>0,0),))} -> #N/A | CA24: J349 | CB24: 41985 | CE24: =CC24/CD24 -> #DIV/0! | CF24: {=IF(COUNTIF(OFFSET('Planning de pâturage'!$A$14:$A$28,0,MATCH('Production laitière'!CA24,'Planning de pâturage'!$B$11:$NH$11)),">"&0)>1,"A CHOISIR", OFFSET('Planning de pâturage'!$A$13,MATCH(TRUE,OFFSET('Planning de pâturage'!$A$14:$A$28,0,MATCH('Production laitière'!CA24,'Planning de pâturage'!$B$11:$NH$11))>0,0),))} -> #N/A
B25: J14 | C25: 41650 | F25: =D25/E25 -> #DIV/0! | G25: {=IF(COUNTIF(OFFSET('Planning de pâturage'!$A$14:$A$28,,MATCH('Production laitière'!B25,'Planning de pâturage'!$B$11:$NH$11)),">"&0)>1,"A CHOISIR", OFFSET('Planning de pâturage'!$A$13,MATCH(TRUE,OFFSET('Planning de pâturage'!$A$14:$A$28,0,MATCH('Production laitière'!B25,'Planning de pâturage'!$B$11:$NH$11))>0,0),))} -> #N/A | I25: J49 | J25: 42050 | M25: =K25/L25 -> #DIV/0! | N25: {=IF(COUNTIF(OFFSET('Planning de pâturage'!$A$14:$A$28,0,MATCH('Production laitière'!I25,'Planning de pâturage'!$B$11:$NH$11)),">"&0)>1,"A CHOISIR", OFFSET('Planning de pâturage'!$A$13,MATCH(TRUE,OFFSET('Planning de pâturage'!$A$14:$A$28,0,MATCH('Production laitière'!I25,'Planning de pâturage'!$B$11:$NH$11))>0,0),))} -> #N/A | P25: J77 | Q25: 42078 | T25: =R25/S25 -> #DIV/0! | U25: {=IF(COUNTIF(OFFSET('Planning de pâturage'!$A$14:$A$28,0,MATCH('Production laitière'!P25,'Planning de pâturage'!$B$11:$NH$11)),">"&0)>1,"A CHOISIR", OFFSET('Planning de pâturage'!$A$13,MATCH(TRUE,OFFSET('Planning de pâturage'!$A$14:$A$28,0,MATCH('Production laitière'!P25,'Planning de pâturage'!$B$11:$NH$11))>0,0),))} -> #N/A | W25: J112 | X25: 42113 | AA25: =Y25/Z25 -> #DIV/0! | AB25: {=IF(COUNTIF(OFFSET('Planning de pâturage'!$A$14:$A$28,0,MATCH('Production laitière'!W25,'Planning de pâturage'!$B$11:$NH$11)),">"&0)>1,"A CHOISIR", OFFSET('Planning de pâturage'!$A$13,MATCH(TRUE,OFFSET('Planning de pâturage'!$A$14:$A$28,0,MATCH('Production laitière'!W25,'Planning de pâturage'!$B$11:$NH$11))>0,0),))} -> #N/A | AD25: J140 | AE25: 42141 | AH25: =AF25/AG25 -> #DIV/0! | AI25: {=IF(COUNTIF(OFFSET('Planning de pâturage'!$A$14:$A$28,0,MATCH('Production laitière'!AD25,'Planning de pâturage'!$B$11:$NH$11)),">"&0)>1,"A CHOISIR", OFFSET('Planning de pâturage'!$A$13,MATCH(TRUE,OFFSET('Planning de pâturage'!$A$14:$A$28,0,MATCH('Production laitière'!AD25,'Planning de pâturage'!$B$11:$NH$11))>0,0),))} -> #N/A | AK25: J168 | AL25: 42169 | AO25: =AM25/AN25 -> #DIV/0! | AP25: {=IF(COUNTIF(OFFSET('Planning de pâturage'!$A$14:$A$28,0,MATCH('Production laitière'!AK25,'Planning de pâturage'!$B$11:$NH$11)),">"&0)>1,"A CHOISIR", OFFSET('Planning de pâturage'!$A$13,MATCH(TRUE,OFFSET('Planning de pâturage'!$A$14:$A$28,0,MATCH('Production laitière'!AK25,'Planning de pâturage'!$B$11:$NH$11))>0,0),))} -> #N/A | AR25: J196 | AS25: 42197 | AV25: =AT25/AU25 -> #DIV/0! | AW25: {=IF(COUNTIF(OFFSET('Planning de pâturage'!$A$14:$A$28,0,MATCH('Production laitière'!AR25,'Planning de pâturage'!$B$11:$NH$11)),">"&0)>1,"A CHOISIR", OFFSET('Planning de pâturage'!$A$13,MATCH(TRUE,OFFSET('Planning de pâturage'!$A$14:$A$28,0,MATCH('Production laitière'!AR25,'Planning de pâturage'!$B$11:$NH$11))>0,0),))} -> #N/A | AY25: J231 | AZ25: 42232 | BC25: =BA25/BB25 -> #DIV/0! | BD25: {=IF(COUNTIF(OFFSET('Planning de pâturage'!$A$14:$A$28,0,MATCH('Production laitière'!AY25,'Planning de pâturage'!$B$11:$NH$11)),">"&0)>1,"A CHOISIR", OFFSET('Planning de pâturage'!$A$13,MATCH(TRUE,OFFSET('Planning de pâturage'!$A$14:$A$28,0,MATCH('Production laitière'!AY25,'Planning de pâturage'!$B$11:$NH$11))>0,0),))} -> #N/A | BF25: J259 | BG25: 42260 | BJ25: =BH25/BI25 -> #DIV/0! | BK25: {=IF(COUNTIF(OFFSET('Planning de pâturage'!$A$14:$A$28,0,MATCH('Production laitière'!BF25,'Planning de pâturage'!$B$11:$NH$11)),">"&0)>1,"A CHOISIR", OFFSET('Planning de pâturage'!$A$13,MATCH(TRUE,OFFSET('Planning de pâturage'!$A$14:$A$28,0,MATCH('Production laitière'!BF25,'Planning de pâturage'!$B$11:$NH$11))>0,0),))} -> #N/A | BM25: J287 | BN25: 42288 | BQ25: =BO25/BP25 -> #DIV/0! | BR25: {=IF(COUNTIF(OFFSET('Planning de pâturage'!$A$14:$A$28,0,MATCH('Production laitière'!BM25,'Planning de pâturage'!$B$11:$NH$11)),">"&0)>1,"A CHOISIR", OFFSET('Planning de pâturage'!$A$13,MATCH(TRUE,OFFSET('Planning de pâturage'!$A$14:$A$28,0,MATCH('Production laitière'!BM25,'Planning de pâturage'!$B$11:$NH$11))>0,0),))} -> #N/A | BT25: J322 | BU25: 42323 | BX25: =BV25/BW25 -> #DIV/0! | BY25: {=IF(COUNTIF(OFFSET('Planning de pâturage'!$A$14:$A$28,0,MATCH('Production laitière'!BT25,'Planning de pâturage'!$B$11:$NH$11)),">"&0)>1,"A CHOISIR", OFFSET('Planning de pâturage'!$A$13,MATCH(TRUE,OFFSET('Planning de pâturage'!$A$14:$A$28,0,MATCH('Production laitière'!BT25,'Planning de pâturage'!$B$11:$NH$11))>0,0),))} -> #N/A | CA25: J350 | CB25: 41986 | CE25: =CC25/CD25 -> #DIV/0! | CF25: {=IF(COUNTIF(OFFSET('Planning de pâturage'!$A$14:$A$28,0,MATCH('Production laitière'!CA25,'Planning de pâturage'!$B$11:$NH$11)),">"&0)>1,"A CHOISIR", OFFSET('Planning de pâturage'!$A$13,MATCH(TRUE,OFFSET('Planning de pâturage'!$A$14:$A$28,0,MATCH('Production laitière'!CA25,'Planning de pâturage'!$B$11:$NH$11))>0,0),))} -> #N/A
A26: S3 | B26: J15 | C26: 41651 | F26: =D26/E26 -> #DIV/0! | G26: {=IF(COUNTIF(OFFSET('Planning de pâturage'!$A$14:$A$28,,MATCH('Production laitière'!B26,'Planning de pâturage'!$B$11:$NH$11)),">"&0)>1,"A CHOISIR", OFFSET('Planning de pâturage'!$A$13,MATCH(TRUE,OFFSET('Planning de pâturage'!$A$14:$A$28,0,MATCH('Production laitière'!B26,'Planning de pâturage'!$B$11:$NH$11))>0,0),))} -> #N/A | H26: S8 | I26: J50 | J26: 42051 | M26: =K26/L26 -> #DIV/0! | N26: {=IF(COUNTIF(OFFSET('Planning de pâturage'!$A$14:$A$28,0,MATCH('Production laitière'!I26,'Planning de pâturage'!$B$11:$NH$11)),">"&0)>1,"A CHOISIR", OFFSET('Planning de pâturage'!$A$13,MATCH(TRUE,OFFSET('Planning de pâturage'!$A$14:$A$28,0,MATCH('Production laitière'!I26,'Planning de pâturage'!$B$11:$NH$11))>0,0),))} -> #N/A | O26: S12 | P26: J78 | Q26: 42079 | T26: =R26/S26 -> #DIV/0! | U26: {=IF(COUNTIF(OFFSET('Planning de pâturage'!$A$14:$A$28,0,MATCH('Production laitière'!P26,'Planning de pâturage'!$B$11:$NH$11)),">"&0)>1,"A CHOISIR", OFFSET('Planning de pâturage'!$A$13,MATCH(TRUE,OFFSET('Planning de pâturage'!$A$14:$A$28,0,MATCH('Production laitière'!P26,'Planning de pâturage'!$B$11:$NH$11))>0,0),))} -> #N/A | V26: S17 | W26: J113 | X26: 42114 | AA26: =Y26/Z26 -> #DIV/0! | AB26: {=IF(COUNTIF(OFFSET('Planning de pâturage'!$A$14:$A$28,0,MATCH('Production laitière'!W26,'Planning de pâturage'!$B$11:$NH$11)),">"&0)>1,"A CHOISIR", OFFSET('Planning de pâturage'!$A$13,MATCH(TRUE,OFFSET('Planning de pâturage'!$A$14:$A$28,0,MATCH('Production laitière'!W26,'Planning de pâturage'!$B$11:$NH$11))>0,0),))} -> #N/A | AC26: S21 | AD26: J141 | AE26: 42142 | AH26: =AF26/AG26 -> #DIV/0! | AI26: {=IF(COUNTIF(OFFSET('Planning de pâturage'!$A$14:$A$28,0,MATCH('Production laitière'!AD26,'Planning de pâturage'!$B$11:$NH$11)),">"&0)>1,"A CHOISIR", OFFSET('Planning de pâturage'!$A$13,MATCH(TRUE,OFFSET('Planning de pâturage'!$A$14:$A$28,0,MATCH('Production laitière'!AD26,'Planning de pâturage'!$B$11:$NH$11))>0,0),))} -> #N/A | AJ26: S25 | AK26: J169 | AL26: 42170 | AO26: =AM26/AN26 -> #DIV/0! | AP26: {=IF(COUNTIF(OFFSET('Planning de pâturage'!$A$14:$A$28,0,MATCH('Production laitière'!AK26,'Planning de pâturage'!$B$11:$NH$11)),">"&0)>1,"A CHOISIR", OFFSET('Planning de pâturage'!$A$13,MATCH(TRUE,OFFSET('Planning de pâturage'!$A$14:$A$28,0,MATCH('Production laitière'!AK26,'Planning de pâturage'!$B$11:$NH$11))>0,0),))} -> #N/A | AQ26: S29 | AR26: J197 | AS26: 42198 | AV26: =AT26/AU26 -> #DIV/0! | AW26: {=IF(COUNTIF(OFFSET('Planning de pâturage'!$A$14:$A$28,0,MATCH('Production laitière'!AR26,'Planning de pâturage'!$B$11:$NH$11)),">"&0)>1,"A CHOISIR", OFFSET('Planning de pâturage'!$A$13,MATCH(TRUE,OFFSET('Planning de pâturage'!$A$14:$A$28,0,MATCH('Production laitière'!AR26,'Planning de pâturage'!$B$11:$NH$11))>0,0),))} -> #N/A | AX26: S34 | AY26: J232 | AZ26: 42233 | BC26: =BA26/BB26 -> #DIV/0! | BD26: {=IF(COUNTIF(OFFSET('Planning de pâturage'!$A$14:$A$28,0,MATCH('Production laitière'!AY26,'Planning de pâturage'!$B$11:$NH$11)),">"&0)>1,"A CHOISIR", OFFSET('Planning de pâturage'!$A$13,MATCH(TRUE,OFFSET('Planning de pâturage'!$A$14:$A$28,0,MATCH('Production laitière'!AY26,'Planning de pâturage'!$B$11:$NH$11))>0,0),))} -> #N/A | BE26: S38 | BF26: J260 | BG26: 42261 | BJ26: =BH26/BI26 -> #DIV/0! | BK26: {=IF(COUNTIF(OFFSET('Planning de pâturage'!$A$14:$A$28,0,MATCH('Production laitière'!BF26,'Planning de pâturage'!$B$11:$NH$11)),">"&0)>1,"A CHOISIR", OFFSET('Planning de pâturage'!$A$13,MATCH(TRUE,OFFSET('Planning de pâturage'!$A$14:$A$28,0,MATCH('Production laitière'!BF26,'Planning de pâturage'!$B$11:$NH$11))>0,0),))} -> #N/A | BL26: S42 | BM26: J288 | BN26: 42289 | BQ26: =BO26/BP26 -> #DIV/0! | BR26: {=IF(COUNTIF(OFFSET('Planning de pâturage'!$A$14:$A$28,0,MATCH('Production laitière'!BM26,'Planning de pâturage'!$B$11:$NH$11)),">"&0)>1,"A CHOISIR", OFFSET('Planning de pâturage'!$A$13,MATCH(TRUE,OFFSET('Planning de pâturage'!$A$14:$A$28,0,MATCH('Production laitière'!BM26,'Planning de pâturage'!$B$11:$NH$11))>0,0),))} -> #N/A | BS26: S47 | BT26: J323 | BU26: 42324 | BX26: =BV26/BW26 -> #DIV/0! | BY26: {=IF(COUNTIF(OFFSET('Planning de pâturage'!$A$14:$A$28,0,MATCH('Production laitière'!BT26,'Planning de pâturage'!$B$11:$NH$11)),">"&0)>1,"A CHOISIR", OFFSET('Planning de pâturage'!$A$13,MATCH(TRUE,OFFSET('Planning de pâturage'!$A$14:$A$28,0,MATCH('Production laitière'!BT26,'Planning de pâturage'!$B$11:$NH$11))>0,0),))} -> #N/A | BZ26: S51 | CA26: J351 | CB26: 41987 | CE26: =CC26/CD26 -> #DIV/0! | CF26: {=IF(COUNTIF(OFFSET('Planning de pâturage'!$A$14:$A$28,0,MATCH('Production laitière'!CA26,'Planning de pâturage'!$B$11:$NH$11)),">"&0)>1,"A CHOISIR", OFFSET('Planning de pâturage'!$A$13,MATCH(TRUE,OFFSET('Planning de pâturage'!$A$14:$A$28,0,MATCH('Production laitière'!CA26,'Planning de pâturage'!$B$11:$NH$11))>0,0),))} -> #N/A
B27: J16 | C27: 41652 | F27: =D27/E27 -> #DIV/0! | G27: {=IF(COUNTIF(OFFSET('Planning de pâturage'!$A$14:$A$28,,MATCH('Production laitière'!B27,'Planning de pâturage'!$B$11:$NH$11)),">"&0)>1,"A CHOISIR", OFFSET('Planning de pâturage'!$A$13,MATCH(TRUE,OFFSET('Planning de pâturage'!$A$14:$A$28,0,MATCH('Production laitière'!B27,'Planning de pâturage'!$B$11:$NH$11))>0,0),))} -> #N/A | I27: J51 | J27: 42052 | M27: =K27/L27 -> #DIV/0! | N27: {=IF(COUNTIF(OFFSET('Planning de pâturage'!$A$14:$A$28,0,MATCH('Production laitière'!I27,'Planning de pâturage'!$B$11:$NH$11)),">"&0)>1,"A CHOISIR", OFFSET('Planning de pâturage'!$A$13,MATCH(TRUE,OFFSET('Planning de pâturage'!$A$14:$A$28,0,MATCH('Production laitière'!I27,'Planning de pâturage'!$B$11:$NH$11))>0,0),))} -> #N/A | P27: J79 | Q27: 42080 | T27: =R27/S27 -> #DIV/0! | U27: {=IF(COUNTIF(OFFSET('Planning de pâturage'!$A$14:$A$28,0,MATCH('Production laitière'!P27,'Planning de pâturage'!$B$11:$NH$11)),">"&0)>1,"A CHOISIR", OFFSET('Planning de pâturage'!$A$13,MATCH(TRUE,OFFSET('Planning de pâturage'!$A$14:$A$28,0,MATCH('Production laitière'!P27,'Planning de pâturage'!$B$11:$NH$11))>0,0),))} -> #N/A | W27: J114 | X27: 42115 | AA27: =Y27/Z27 -> #DIV/0! | AB27: {=IF(COUNTIF(OFFSET('Planning de pâturage'!$A$14:$A$28,0,MATCH('Production laitière'!W27,'Planning de pâturage'!$B$11:$NH$11)),">"&0)>1,"A CHOISIR", OFFSET('Planning de pâturage'!$A$13,MATCH(TRUE,OFFSET('Planning de pâturage'!$A$14:$A$28,0,MATCH('Production laitière'!W27,'Planning de pâturage'!$B$11:$NH$11))>0,0),))} -> #N/A | AD27: J142 | AE27: 42143 | AH27: =AF27/AG27 -> #DIV/0! | AI27: {=IF(COUNTIF(OFFSET('Planning de pâturage'!$A$14:$A$28,0,MATCH('Production laitière'!AD27,'Planning de pâturage'!$B$11:$NH$11)),">"&0)>1,"A CHOISIR", OFFSET('Planning de pâturage'!$A$13,MATCH(TRUE,OFFSET('Planning de pâturage'!$A$14:$A$28,0,MATCH('Production laitière'!AD27,'Planning de pâturage'!$B$11:$NH$11))>0,0),))} -> #N/A | AK27: J170 | AL27: 42171 | AO27: =AM27/AN27 -> #DIV/0! | AP27: {=IF(COUNTIF(OFFSET('Planning de pâturage'!$A$14:$A$28,0,MATCH('Production laitière'!AK27,'Planning de pâturage'!$B$11:$NH$11)),">"&0)>1,"A CHOISIR", OFFSET('Planning de pâturage'!$A$13,MATCH(TRUE,OFFSET('Planning de pâturage'!$A$14:$A$28,0,MATCH('Production laitière'!AK27,'Planning de pâturage'!$B$11:$NH$11))>0,0),))} -> #N/A | AR27: J198 | AS27: 42199 | AV27: =AT27/AU27 -> #DIV/0! | AW27: {=IF(COUNTIF(OFFSET('Planning de pâturage'!$A$14:$A$28,0,MATCH('Production laitière'!AR27,'Planning de pâturage'!$B$11:$NH$11)),">"&0)>1,"A CHOISIR", OFFSET('Planning de pâturage'!$A$13,MATCH(TRUE,OFFSET('Planning de pâturage'!$A$14:$A$28,0,MATCH('Production laitière'!AR27,'Planning de pâturage'!$B$11:$NH$11))>0,0),))} -> #N/A | AY27: J233 | AZ27: 42234 | BC27: =BA27/BB27 -> #DIV/0! | BD27: {=IF(COUNTIF(OFFSET('Planning de pâturage'!$A$14:$A$28,0,MATCH('Production laitière'!AY27,'Planning de pâturage'!$B$11:$NH$11)),">"&0)>1,"A CHOISIR", OFFSET('Planning de pâturage'!$A$13,MATCH(TRUE,OFFSET('Planning de pâturage'!$A$14:$A$28,0,MATCH('Production laitière'!AY27,'Planning de pâturage'!$B$11:$NH$11))>0,0),))} -> #N/A | BF27: J261 | BG27: 42262 | BJ27: =BH27/BI27 -> #DIV/0! | BK27: {=IF(COUNTIF(OFFSET('Planning de pâturage'!$A$14:$A$28,0,MATCH('Production laitière'!BF27,'Planning de pâturage'!$B$11:$NH$11)),">"&0)>1,"A CHOISIR", OFFSET('Planning de pâturage'!$A$13,MATCH(TRUE,OFFSET('Planning de pâturage'!$A$14:$A$28,0,MATCH('Production laitière'!BF27,'Planning de pâturage'!$B$11:$NH$11))>0,0),))} -> #N/A | BM27: J289 | BN27: 42290 | BQ27: =BO27/BP27 -> #DIV/0! | BR27: {=IF(COUNTIF(OFFSET('Planning de pâturage'!$A$14:$A$28,0,MATCH('Production laitière'!BM27,'Planning de pâturage'!$B$11:$NH$11)),">"&0)>1,"A CHOISIR", OFFSET('Planning de pâturage'!$A$13,MATCH(TRUE,OFFSET('Planning de pâturage'!$A$14:$A$28,0,MATCH('Production laitière'!BM27,'Planning de pâturage'!$B$11:$NH$11))>0,0),))} -> #N/A | BT27: J324 | BU27: 42325 | BX27: =BV27/BW27 -> #DIV/0! | BY27: {=IF(COUNTIF(OFFSET('Planning de pâturage'!$A$14:$A$28,0,MATCH('Production laitière'!BT27,'Planning de pâturage'!$B$11:$NH$11)),">"&0)>1,"A CHOISIR", OFFSET('Planning de pâturage'!$A$13,MATCH(TRUE,OFFSET('Planning de pâturage'!$A$14:$A$28,0,MATCH('Production laitière'!BT27,'Planning de pâturage'!$B$11:$NH$11))>0,0),))} -> #N/A | CA27: J352 | CB27: 41988 | CE27: =CC27/CD27 -> #DIV/0! | CF27: {=IF(COUNTIF(OFFSET('Planning de pâturage'!$A$14:$A$28,0,MATCH('Production laitière'!CA27,'Planning de pâturage'!$B$11:$NH$11)),">"&0)>1,"A CHOISIR", OFFSET('Planning de pâturage'!$A$13,MATCH(TRUE,OFFSET('Planning de pâturage'!$A$14:$A$28,0,MATCH('Production laitière'!CA27,'Planning de pâturage'!$B$11:$NH$11))>0,0),))} -> #N/A
B28: J17 | C28: 41653 | F28: =D28/E28 -> #DIV/0! | G28: {=IF(COUNTIF(OFFSET('Planning de pâturage'!$A$14:$A$28,,MATCH('Production laitière'!B28,'Planning de pâturage'!$B$11:$NH$11)),">"&0)>1,"A CHOISIR", OFFSET('Planning de pâturage'!$A$13,MATCH(TRUE,OFFSET('Planning de pâturage'!$A$14:$A$28,0,MATCH('Production laitière'!B28,'Planning de pâturage'!$B$11:$NH$11))>0,0),))} -> #N/A | I28: J52 | J28: 42053 | M28: =K28/L28 -> #DIV/0! | N28: {=IF(COUNTIF(OFFSET('Planning de pâturage'!$A$14:$A$28,0,MATCH('Production laitière'!I28,'Planning de pâturage'!$B$11:$NH$11)),">"&0)>1,"A CHOISIR", OFFSET('Planning de pâturage'!$A$13,MATCH(TRUE,OFFSET('Planning de pâturage'!$A$14:$A$28,0,MATCH('Production laitière'!I28,'Planning de pâturage'!$B$11:$NH$11))>0,0),))} -> #N/A | P28: J80 | Q28: 42081 | T28: =R28/S28 -> #DIV/0! | U28: {=IF(COUNTIF(OFFSET('Planning de pâturage'!$A$14:$A$28,0,MATCH('Production laitière'!P28,'Planning de pâturage'!$B$11:$NH$11)),">"&0)>1,"A CHOISIR", OFFSET('Planning de pâturage'!$A$13,MATCH(TRUE,OFFSET('Planning de pâturage'!$A$14:$A$28,0,MATCH('Production laitière'!P28,'Planning de pâturage'!$B$11:$NH$11))>0,0),))} -> #N/A | W28: J115 | X28: 42116 | AA28: =Y28/Z28 -> #DIV/0! | AB28: {=IF(COUNTIF(OFFSET('Planning de pâturage'!$A$14:$A$28,0,MATCH('Production laitière'!W28,'Planning de pâturage'!$B$11:$NH$11)),">"&0)>1,"A CHOISIR", OFFSET('Planning de pâturage'!$A$13,MATCH(TRUE,OFFSET('Planning de pâturage'!$A$14:$A$28,0,MATCH('Production laitière'!W28,'Planning de pâturage'!$B$11:$NH$11))>0,0),))} -> #N/A | AD28: J143 | AE28: 42144 | AH28: =AF28/AG28 -> #DIV/0! | AI28: {=IF(COUNTIF(OFFSET('Planning de pâturage'!$A$14:$A$28,0,MATCH('Production laitière'!AD28,'Planning de pâturage'!$B$11:$NH$11)),">"&0)>1,"A CHOISIR", OFFSET('Planning de pâturage'!$A$13,MATCH(TRUE,OFFSET('Planning de pâturage'!$A$14:$A$28,0,MATCH('Production laitière'!AD28,'Planning de pâturage'!$B$11:$NH$11))>0,0),))} -> #N/A | AK28: J171 | AL28: 42172 | AO28: =AM28/AN28 -> #DIV/0! | AP28: {=IF(COUNTIF(OFFSET('Planning de pâturage'!$A$14:$A$28,0,MATCH('Production laitière'!AK28,'Planning de pâturage'!$B$11:$NH$11)),">"&0)>1,"A CHOISIR", OFFSET('Planning de pâturage'!$A$13,MATCH(TRUE,OFFSET('Planning de pâturage'!$A$14:$A$28,0,MATCH('Production laitière'!AK28,'Planning de pâturage'!$B$11:$NH$11))>0,0),))} -> #N/A | AR28: J199 | AS28: 42200 | AV28: =AT28/AU28 -> #DIV/0! | AW28: {=IF(COUNTIF(OFFSET('Planning de pâturage'!$A$14:$A$28,0,MATCH('Production laitière'!AR28,'Planning de pâturage'!$B$11:$NH$11)),">"&0)>1,"A CHOISIR", OFFSET('Planning de pâturage'!$A$13,MATCH(TRUE,OFFSET('Planning de pâturage'!$A$14:$A$28,0,MATCH('Production laitière'!AR28,'Planning de pâturage'!$B$11:$NH$11))>0,0),))} -> #N/A | AY28: J234 | AZ28: 42235 | BC28: =BA28/BB28 -> #DIV/0! | BD28: {=IF(COUNTIF(OFFSET('Planning de pâturage'!$A$14:$A$28,0,MATCH('Production laitière'!AY28,'Planning de pâturage'!$B$11:$NH$11)),">"&0)>1,"A CHOISIR", OFFSET('Planning de pâturage'!$A$13,MATCH(TRUE,OFFSET('Planning de pâturage'!$A$14:$A$28,0,MATCH('Production laitière'!AY28,'Planning de pâturage'!$B$11:$NH$11))>0,0),))} -> #N/A | BF28: J262 | BG28: 42263 | BJ28: =BH28/BI28 -> #DIV/0! | BK28: {=IF(COUNTIF(OFFSET('Planning de pâturage'!$A$14:$A$28,0,MATCH('Production laitière'!BF28,'Planning de pâturage'!$B$11:$NH$11)),">"&0)>1,"A CHOISIR", OFFSET('Planning de pâturage'!$A$13,MATCH(TRUE,OFFSET('Planning de pâturage'!$A$14:$A$28,0,MATCH('Production laitière'!BF28,'Planning de pâturage'!$B$11:$NH$11))>0,0),))} -> #N/A | BM28: J290 | BN28: 42291 | BQ28: =BO28/BP28 -> #DIV/0! | BR28: {=IF(COUNTIF(OFFSET('Planning de pâturage'!$A$14:$A$28,0,MATCH('Production laitière'!BM28,'Planning de pâturage'!$B$11:$NH$11)),">"&0)>1,"A CHOISIR", OFFSET('Planning de pâturage'!$A$13,MATCH(TRUE,OFFSET('Planning de pâturage'!$A$14:$A$28,0,MATCH('Production laitière'!BM28,'Planning de pâturage'!$B$11:$NH$11))>0,0),))} -> #N/A | BT28: J325 | BU28: 42326 | BX28: =BV28/BW28 -> #DIV/0! | BY28: {=IF(COUNTIF(OFFSET('Planning de pâturage'!$A$14:$A$28,0,MATCH('Production laitière'!BT28,'Planning de pâturage'!$B$11:$NH$11)),">"&0)>1,"A CHOISIR", OFFSET('Planning de pâturage'!$A$13,MATCH(TRUE,OFFSET('Planning de pâturage'!$A$14:$A$28,0,MATCH('Production laitière'!BT28,'Planning de pâturage'!$B$11:$NH$11))>0,0),))} -> #N/A | CA28: J353 | CB28: 41989 | CE28: =CC28/CD28 -> #DIV/0! | CF28: {=IF(COUNTIF(OFFSET('Planning de pâturage'!$A$14:$A$28,0,MATCH('Production laitière'!CA28,'Planning de pâturage'!$B$11:$NH$11)),">"&0)>1,"A CHOISIR", OFFSET('Planning de pâturage'!$A$13,MATCH(TRUE,OFFSET('Planning de pâturage'!$A$14:$A$28,0,MATCH('Production laitière'!CA28,'Planning de pâturage'!$B$11:$NH$11))>0,0),))} -> #N/A
B29: J18 | C29: 41654 | F29: =D29/E29 -> #DIV/0! | G29: {=IF(COUNTIF(OFFSET('Planning de pâturage'!$A$14:$A$28,,MATCH('Production laitière'!B29,'Planning de pâturage'!$B$11:$NH$11)),">"&0)>1,"A CHOISIR", OFFSET('Planning de pâturage'!$A$13,MATCH(TRUE,OFFSET('Planning de pâturage'!$A$14:$A$28,0,MATCH('Production laitière'!B29,'Planning de pâturage'!$B$11:$NH$11))>0,0),))} -> #N/A | I29: J53 | J29: 42054 | M29: =K29/L29 -> #DIV/0! | N29: {=IF(COUNTIF(OFFSET('Planning de pâturage'!$A$14:$A$28,0,MATCH('Production laitière'!I29,'Planning de pâturage'!$B$11:$NH$11)),">"&0)>1,"A CHOISIR", OFFSET('Planning de pâturage'!$A$13,MATCH(TRUE,OFFSET('Planning de pâturage'!$A$14:$A$28,0,MATCH('Production laitière'!I29,'Planning de pâturage'!$B$11:$NH$11))>0,0),))} -> #N/A | P29: J81 | Q29: 42082 | T29: =R29/S29 -> #DIV/0! | U29: {=IF(COUNTIF(OFFSET('Planning de pâturage'!$A$14:$A$28,0,MATCH('Production laitière'!P29,'Planning de pâturage'!$B$11:$NH$11)),">"&0)>1,"A CHOISIR", OFFSET('Planning de pâturage'!$A$13,MATCH(TRUE,OFFSET('Planning de pâturage'!$A$14:$A$28,0,MATCH('Production laitière'!P29,'Planning de pâturage'!$B$11:$NH$11))>0,0),))} -> #N/A | W29: J116 | X29: 42117 | AA29: =Y29/Z29 -> #DIV/0! | AB29: {=IF(COUNTIF(OFFSET('Planning de pâturage'!$A$14:$A$28,0,MATCH('Production laitière'!W29,'Planning de pâturage'!$B$11:$NH$11)),">"&0)>1,"A CHOISIR", OFFSET('Planning de pâturage'!$A$13,MATCH(TRUE,OFFSET('Planning de pâturage'!$A$14:$A$28,0,MATCH('Production laitière'!W29,'Planning de pâturage'!$B$11:$NH$11))>0,0),))} -> #N/A | AD29: J144 | AE29: 42145 | AH29: =AF29/AG29 -> #DIV/0! | AI29: {=IF(COUNTIF(OFFSET('Planning de pâturage'!$A$14:$A$28,0,MATCH('Production laitière'!AD29,'Planning de pâturage'!$B$11:$NH$11)),">"&0)>1,"A CHOISIR", OFFSET('Planning de pâturage'!$A$13,MATCH(TRUE,OFFSET('Planning de pâturage'!$A$14:$A$28,0,MATCH('Production laitière'!AD29,'Planning de pâturage'!$B$11:$NH$11))>0,0),))} -> #N/A | AK29: J172 | AL29: 42173 | AO29: =AM29/AN29 -> #DIV/0! | AP29: {=IF(COUNTIF(OFFSET('Planning de pâturage'!$A$14:$A$28,0,MATCH('Production laitière'!AK29,'Planning de pâturage'!$B$11:$NH$11)),">"&0)>1,"A CHOISIR", OFFSET('Planning de pâturage'!$A$13,MATCH(TRUE,OFFSET('Planning de pâturage'!$A$14:$A$28,0,MATCH('Production laitière'!AK29,'Planning de pâturage'!$B$11:$NH$11))>0,0),))} -> #N/A | AR29: J200 | AS29: 42201 | AV29: =AT29/AU29 -> #DIV/0! | AW29: {=IF(COUNTIF(OFFSET('Planning de pâturage'!$A$14:$A$28,0,MATCH('Production laitière'!AR29,'Planning de pâturage'!$B$11:$NH$11)),">"&0)>1,"A CHOISIR", OFFSET('Planning de pâturage'!$A$13,MATCH(TRUE,OFFSET('Planning de pâturage'!$A$14:$A$28,0,MATCH('Production laitière'!AR29,'Planning de pâturage'!$B$11:$NH$11))>0,0),))} -> #N/A | AY29: J235 | AZ29: 42236 | BC29: =BA29/BB29 -> #DIV/0! | BD29: {=IF(COUNTIF(OFFSET('Planning de pâturage'!$A$14:$A$28,0,MATCH('Production laitière'!AY29,'Planning de pâturage'!$B$11:$NH$11)),">"&0)>1,"A CHOISIR", OFFSET('Planning de pâturage'!$A$13,MATCH(TRUE,OFFSET('Planning de pâturage'!$A$14:$A$28,0,MATCH('Production laitière'!AY29,'Planning de pâturage'!$B$11:$NH$11))>0,0),))} -> #N/A | BF29: J263 | BG29: 42264 | BJ29: =BH29/BI29 -> #DIV/0! | BK29: {=IF(COUNTIF(OFFSET('Planning de pâturage'!$A$14:$A$28,0,MATCH('Production laitière'!BF29,'Planning de pâturage'!$B$11:$NH$11)),">"&0)>1,"A CHOISIR", OFFSET('Planning de pâturage'!$A$13,MATCH(TRUE,OFFSET('Planning de pâturage'!$A$14:$A$28,0,MATCH('Production laitière'!BF29,'Planning de pâturage'!$B$11:$NH$11))>0,0),))} -> #N/A | BM29: J291 | BN29: 42292 | BQ29: =BO29/BP29 -> #DIV/0! | BR29: {=IF(COUNTIF(OFFSET('Planning de pâturage'!$A$14:$A$28,0,MATCH('Production laitière'!BM29,'Planning de pâturage'!$B$11:$NH$11)),">"&0)>1,"A CHOISIR", OFFSET('Planning de pâturage'!$A$13,MATCH(TRUE,OFFSET('Planning de pâturage'!$A$14:$A$28,0,MATCH('Production laitière'!BM29,'Planning de pâturage'!$B$11:$NH$11))>0,0),))} -> #N/A | BT29: J326 | BU29: 42327 | BX29: =BV29/BW29 -> #DIV/0! | BY29: {=IF(COUNTIF(OFFSET('Planning de pâturage'!$A$14:$A$28,0,MATCH('Production laitière'!BT29,'Planning de pâturage'!$B$11:$NH$11)),">"&0)>1,"A CHOISIR", OFFSET('Planning de pâturage'!$A$13,MATCH(TRUE,OFFSET('Planning de pâturage'!$A$14:$A$28,0,MATCH('Production laitière'!BT29,'Planning de pâturage'!$B$11:$NH$11))>0,0),))} -> #N/A | CA29: J354 | CB29: 41990 | CE29: =CC29/CD29 -> #DIV/0! | CF29: {=IF(COUNTIF(OFFSET('Planning de pâturage'!$A$14:$A$28,0,MATCH('Production laitière'!CA29,'Planning de pâturage'!$B$11:$NH$11)),">"&0)>1,"A CHOISIR", OFFSET('Planning de pâturage'!$A$13,MATCH(TRUE,OFFSET('Planning de pâturage'!$A$14:$A$28,0,MATCH('Production laitière'!CA29,'Planning de pâturage'!$B$11:$NH$11))>0,0),))} -> #N/A
B30: J19 | C30: 41655 | F30: =D30/E30 -> #DIV/0! | G30: {=IF(COUNTIF(OFFSET('Planning de pâturage'!$A$14:$A$28,,MATCH('Production laitière'!B30,'Planning de pâturage'!$B$11:$NH$11)),">"&0)>1,"A CHOISIR", OFFSET('Planning de pâturage'!$A$13,MATCH(TRUE,OFFSET('Planning de pâturage'!$A$14:$A$28,0,MATCH('Production laitière'!B30,'Planning de pâturage'!$B$11:$NH$11))>0,0),))} -> #N/A | I30: J54 | J30: 42055 | M30: =K30/L30 -> #DIV/0! | N30: {=IF(COUNTIF(OFFSET('Planning de pâturage'!$A$14:$A$28,0,MATCH('Production laitière'!I30,'Planning de pâturage'!$B$11:$NH$11)),">"&0)>1,"A CHOISIR", OFFSET('Planning de pâturage'!$A$13,MATCH(TRUE,OFFSET('Planning de pâturage'!$A$14:$A$28,0,MATCH('Production laitière'!I30,'Planning de pâturage'!$B$11:$NH$11))>0,0),))} -> #N/A | P30: J82 | Q30: 42083 | T30: =R30/S30 -> #DIV/0! | U30: {=IF(COUNTIF(OFFSET('Planning de pâturage'!$A$14:$A$28,0,MATCH('Production laitière'!P30,'Planning de pâturage'!$B$11:$NH$11)),">"&0)>1,"A CHOISIR", OFFSET('Planning de pâturage'!$A$13,MATCH(TRUE,OFFSET('Planning de pâturage'!$A$14:$A$28,0,MATCH('Production laitière'!P30,'Planning de pâturage'!$B$11:$NH$11))>0,0),))} -> #N/A | W30: J117 | X30: 42118 | AA30: =Y30/Z30 -> #DIV/0! | AB30: {=IF(COUNTIF(OFFSET('Planning de pâturage'!$A$14:$A$28,0,MATCH('Production laitière'!W30,'Planning de pâturage'!$B$11:$NH$11)),">"&0)>1,"A CHOISIR", OFFSET('Planning de pâturage'!$A$13,MATCH(TRUE,OFFSET('Planning de pâturage'!$A$14:$A$28,0,MATCH('Production laitière'!W30,'Planning de pâturage'!$B$11:$NH$11))>0,0),))} -> #N/A | AD30: J145 | AE30: 42146 | AH30: =AF30/AG30 -> #DIV/0! | AI30: {=IF(COUNTIF(OFFSET('Planning de pâturage'!$A$14:$A$28,0,MATCH('Production laitière'!AD30,'Planning de pâturage'!$B$11:$NH$11)),">"&0)>1,"A CHOISIR", OFFSET('Planning de pâturage'!$A$13,MATCH(TRUE,OFFSET('Planning de pâturage'!$A$14:$A$28,0,MATCH('Production laitière'!AD30,'Planning de pâturage'!$B$11:$NH$11))>0,0),))} -> #N/A | AK30: J173 | AL30: 42174 | AO30: =AM30/AN30 -> #DIV/0! | AP30: {=IF(COUNTIF(OFFSET('Planning de pâturage'!$A$14:$A$28,0,MATCH('Production laitière'!AK30,'Planning de pâturage'!$B$11:$NH$11)),">"&0)>1,"A CHOISIR", OFFSET('Planning de pâturage'!$A$13,MATCH(TRUE,OFFSET('Planning de pâturage'!$A$14:$A$28,0,MATCH('Production laitière'!AK30,'Planning de pâturage'!$B$11:$NH$11))>0,0),))} -> #N/A | AR30: J201 | AS30: 42202 | AV30: =AT30/AU30 -> #DIV/0! | AW30: {=IF(COUNTIF(OFFSET('Planning de pâturage'!$A$14:$A$28,0,MATCH('Production laitière'!AR30,'Planning de pâturage'!$B$11:$NH$11)),">"&0)>1,"A CHOISIR", OFFSET('Planning de pâturage'!$A$13,MATCH(TRUE,OFFSET('Planning de pâturage'!$A$14:$A$28,0,MATCH('Production laitière'!AR30,'Planning de pâturage'!$B$11:$NH$11))>0,0),))} -> #N/A | AY30: J236 | AZ30: 42237 | BC30: =BA30/BB30 -> #DIV/0! | BD30: {=IF(COUNTIF(OFFSET('Planning de pâturage'!$A$14:$A$28,0,MATCH('Production laitière'!AY30,'Planning de pâturage'!$B$11:$NH$11)),">"&0)>1,"A CHOISIR", OFFSET('Planning de pâturage'!$A$13,MATCH(TRUE,OFFSET('Planning de pâturage'!$A$14:$A$28,0,MATCH('Production laitière'!AY30,'Planning de pâturage'!$B$11:$NH$11))>0,0),))} -> #N/A | BF30: J264 | BG30: 42265 | BJ30: =BH30/BI30 -> #DIV/0! | BK30: {=IF(COUNTIF(OFFSET('Planning de pâturage'!$A$14:$A$28,0,MATCH('Production laitière'!BF30,'Planning de pâturage'!$B$11:$NH$11)),">"&0)>1,"A CHOISIR", OFFSET('Planning de pâturage'!$A$13,MATCH(TRUE,OFFSET('Planning de pâturage'!$A$14:$A$28,0,MATCH('Production laitière'!BF30,'Planning de pâturage'!$B$11:$NH$11))>0,0),))} -> #N/A | BM30: J292 | BN30: 42293 | BQ30: =BO30/BP30 -> #DIV/0! | BR30: {=IF(COUNTIF(OFFSET('Planning de pâturage'!$A$14:$A$28,0,MATCH('Production laitière'!BM30,'Planning de pâturage'!$B$11:$NH$11)),">"&0)>1,"A CHOISIR", OFFSET('Planning de pâturage'!$A$13,MATCH(TRUE,OFFSET('Planning de pâturage'!$A$14:$A$28,0,MATCH('Production laitière'!BM30,'Planning de pâturage'!$B$11:$NH$11))>0,0),))} -> #N/A | BT30: J327 | BU30: 42328 | BX30: =BV30/BW30 -> #DIV/0! | BY30: {=IF(COUNTIF(OFFSET('Planning de pâturage'!$A$14:$A$28,0,MATCH('Production laitière'!BT30,'Planning de pâturage'!$B$11:$NH$11)),">"&0)>1,"A CHOISIR", OFFSET('Planning de pâturage'!$A$13,MATCH(TRUE,OFFSET('Planning de pâturage'!$A$14:$A$28,0,MATCH('Production laitière'!BT30,'Planning de pâturage'!$B$11:$NH$11))>0,0),))} -> #N/A | CA30: J355 | CB30: 41991 | CE30: =CC30/CD30 -> #DIV/0! | CF30: {=IF(COUNTIF(OFFSET('Planning de pâturage'!$A$14:$A$28,0,MATCH('Production laitière'!CA30,'Planning de pâturage'!$B$11:$NH$11)),">"&0)>1,"A CHOISIR", OFFSET('Planning de pâturage'!$A$13,MATCH(TRUE,OFFSET('Planning de pâturage'!$A$14:$A$28,0,MATCH('Production laitière'!CA30,'Planning de pâturage'!$B$11:$NH$11))>0,0),))} -> #N/A
B31: J20 | C31: 41656 | F31: =D31/E31 -> #DIV/0! | G31: {=IF(COUNTIF(OFFSET('Planning de pâturage'!$A$14:$A$28,,MATCH('Production laitière'!B31,'Planning de pâturage'!$B$11:$NH$11)),">"&0)>1,"A CHOISIR", OFFSET('Planning de pâturage'!$A$13,MATCH(TRUE,OFFSET('Planning de pâturage'!$A$14:$A$28,0,MATCH('Production laitière'!B31,'Planning de pâturage'!$B$11:$NH$11))>0,0),))} -> #N/A | I31: J55 | J31: 42056 | M31: =K31/L31 -> #DIV/0! | N31: {=IF(COUNTIF(OFFSET('Planning de pâturage'!$A$14:$A$28,0,MATCH('Production laitière'!I31,'Planning de pâturage'!$B$11:$NH$11)),">"&0)>1,"A CHOISIR", OFFSET('Planning de pâturage'!$A$13,MATCH(TRUE,OFFSET('Planning de pâturage'!$A$14:$A$28,0,MATCH('Production laitière'!I31,'Planning de pâturage'!$B$11:$NH$11))>0,0),))} -> #N/A | P31: J83 | Q31: 42084 | T31: =R31/S31 -> #DIV/0! | U31: {=IF(COUNTIF(OFFSET('Planning de pâturage'!$A$14:$A$28,0,MATCH('Production laitière'!P31,'Planning de pâturage'!$B$11:$NH$11)),">"&0)>1,"A CHOISIR", OFFSET('Planning de pâturage'!$A$13,MATCH(TRUE,OFFSET('Planning de pâturage'!$A$14:$A$28,0,MATCH('Production laitière'!P31,'Planning de pâturage'!$B$11:$NH$11))>0,0),))} -> #N/A | W31: J118 | X31: 42119 | AA31: =Y31/Z31 -> #DIV/0! | AB31: {=IF(COUNTIF(OFFSET('Planning de pâturage'!$A$14:$A$28,0,MATCH('Production laitière'!W31,'Planning de pâturage'!$B$11:$NH$11)),">"&0)>1,"A CHOISIR", OFFSET('Planning de pâturage'!$A$13,MATCH(TRUE,OFFSET('Planning de pâturage'!$A$14:$A$28,0,MATCH('Production laitière'!W31,'Planning de pâturage'!$B$11:$NH$11))>0,0),))} -> #N/A | AD31: J146 | AE31: 42147 | AH31: =AF31/AG31 -> #DIV/0! | AI31: {=IF(COUNTIF(OFFSET('Planning de pâturage'!$A$14:$A$28,0,MATCH('Production laitière'!AD31,'Planning de pâturage'!$B$11:$NH$11)),">"&0)>1,"A CHOISIR", OFFSET('Planning de pâturage'!$A$13,MATCH(TRUE,OFFSET('Planning de pâturage'!$A$14:$A$28,0,MATCH('Production laitière'!AD31,'Planning de pâturage'!$B$11:$NH$11))>0,0),))} -> #N/A | AK31: J174 | AL31: 42175 | AO31: =AM31/AN31 -> #DIV/0! | AP31: {=IF(COUNTIF(OFFSET('Planning de pâturage'!$A$14:$A$28,0,MATCH('Production laitière'!AK31,'Planning de pâturage'!$B$11:$NH$11)),">"&0)>1,"A CHOISIR", OFFSET('Planning de pâturage'!$A$13,MATCH(TRUE,OFFSET('Planning de pâturage'!$A$14:$A$28,0,MATCH('Production laitière'!AK31,'Planning de pâturage'!$B$11:$NH$11))>0,0),))} -> #N/A | AR31: J202 | AS31: 42203 | AV31: =AT31/AU31 -> #DIV/0! | AW31: {=IF(COUNTIF(OFFSET('Planning de pâturage'!$A$14:$A$28,0,MATCH('Production laitière'!AR31,'Planning de pâturage'!$B$11:$NH$11)),">"&0)>1,"A CHOISIR", OFFSET('Planning de pâturage'!$A$13,MATCH(TRUE,OFFSET('Planning de pâturage'!$A$14:$A$28,0,MATCH('Production laitière'!AR31,'Planning de pâturage'!$B$11:$NH$11))>0,0),))} -> #N/A | AY31: J237 | AZ31: 42238 | BC31: =BA31/BB31 -> #DIV/0! | BD31: {=IF(COUNTIF(OFFSET('Planning de pâturage'!$A$14:$A$28,0,MATCH('Production laitière'!AY31,'Planning de pâturage'!$B$11:$NH$11)),">"&0)>1,"A CHOISIR", OFFSET('Planning de pâturage'!$A$13,MATCH(TRUE,OFFSET('Planning de pâturage'!$A$14:$A$28,0,MATCH('Production laitière'!AY31,'Planning de pâturage'!$B$11:$NH$11))>0,0),))} -> #N/A | BF31: J265 | BG31: 42266 | BJ31: =BH31/BI31 -> #DIV/0! | BK31: {=IF(COUNTIF(OFFSET('Planning de pâturage'!$A$14:$A$28,0,MATCH('Production laitière'!BF31,'Planning de pâturage'!$B$11:$NH$11)),">"&0)>1,"A CHOISIR", OFFSET('Planning de pâturage'!$A$13,MATCH(TRUE,OFFSET('Planning de pâturage'!$A$14:$A$28,0,MATCH('Production laitière'!BF31,'Planning de pâturage'!$B$11:$NH$11))>0,0),))} -> #N/A | BM31: J293 | BN31: 42294 | BQ31: =BO31/BP31 -> #DIV/0! | BR31: {=IF(COUNTIF(OFFSET('Planning de pâturage'!$A$14:$A$28,0,MATCH('Production laitière'!BM31,'Planning de pâturage'!$B$11:$NH$11)),">"&0)>1,"A CHOISIR", OFFSET('Planning de pâturage'!$A$13,MATCH(TRUE,OFFSET('Planning de pâturage'!$A$14:$A$28,0,MATCH('Production laitière'!BM31,'Planning de pâturage'!$B$11:$NH$11))>0,0),))} -> #N/A | BT31: J328 | BU31: 42329 | BX31: =BV31/BW31 -> #DIV/0! | BY31: {=IF(COUNTIF(OFFSET('Planning de pâturage'!$A$14:$A$28,0,MATCH('Production laitière'!BT31,'Planning de pâturage'!$B$11:$NH$11)),">"&0)>1,"A CHOISIR", OFFSET('Planning de pâturage'!$A$13,MATCH(TRUE,OFFSET('Planning de pâturage'!$A$14:$A$28,0,MATCH('Production laitière'!BT31,'Planning de pâturage'!$B$11:$NH$11))>0,0),))} -> #N/A | CA31: J356 | CB31: 41992 | CE31: =CC31/CD31 -> #DIV/0! | CF31: {=IF(COUNTIF(OFFSET('Planning de pâturage'!$A$14:$A$28,0,MATCH('Production laitière'!CA31,'Planning de pâturage'!$B$11:$NH$11)),">"&0)>1,"A CHOISIR", OFFSET('Planning de pâturage'!$A$13,MATCH(TRUE,OFFSET('Planning de pâturage'!$A$14:$A$28,0,MATCH('Production laitière'!CA31,'Planning de pâturage'!$B$11:$NH$11))>0,0),))} -> #N/A
B32: J21 | C32: 41657 | F32: =D32/E32 -> #DIV/0! | G32: {=IF(COUNTIF(OFFSET('Planning de pâturage'!$A$14:$A$28,,MATCH('Production laitière'!B32,'Planning de pâturage'!$B$11:$NH$11)),">"&0)>1,"A CHOISIR", OFFSET('Planning de pâturage'!$A$13,MATCH(TRUE,OFFSET('Planning de pâturage'!$A$14:$A$28,0,MATCH('Production laitière'!B32,'Planning de pâturage'!$B$11:$NH$11))>0,0),))} -> #N/A | I32: J56 | J32: 42057 | M32: =K32/L32 -> #DIV/0! | N32: {=IF(COUNTIF(OFFSET('Planning de pâturage'!$A$14:$A$28,0,MATCH('Production laitière'!I32,'Planning de pâturage'!$B$11:$NH$11)),">"&0)>1,"A CHOISIR", OFFSET('Planning de pâturage'!$A$13,MATCH(TRUE,OFFSET('Planning de pâturage'!$A$14:$A$28,0,MATCH('Production laitière'!I32,'Planning de pâturage'!$B$11:$NH$11))>0,0),))} -> #N/A | P32: J84 | Q32: 42085 | T32: =R32/S32 -> #DIV/0! | U32: {=IF(COUNTIF(OFFSET('Planning de pâturage'!$A$14:$A$28,0,MATCH('Production laitière'!P32,'Planning de pâturage'!$B$11:$NH$11)),">"&0)>1,"A CHOISIR", OFFSET('Planning de pâturage'!$A$13,MATCH(TRUE,OFFSET('Planning de pâturage'!$A$14:$A$28,0,MATCH('Production laitière'!P32,'Planning de pâturage'!$B$11:$NH$11))>0,0),))} -> #N/A | W32: J119 | X32: 42120 | AA32: =Y32/Z32 -> #DIV/0! | AB32: {=IF(COUNTIF(OFFSET('Planning de pâturage'!$A$14:$A$28,0,MATCH('Production laitière'!W32,'Planning de pâturage'!$B$11:$NH$11)),">"&0)>1,"A CHOISIR", OFFSET('Planning de pâturage'!$A$13,MATCH(TRUE,OFFSET('Planning de pâturage'!$A$14:$A$28,0,MATCH('Production laitière'!W32,'Planning de pâturage'!$B$11:$NH$11))>0,0),))} -> #N/A | AD32: J147 | AE32: 42148 | AH32: =AF32/AG32 -> #DIV/0! | AI32: {=IF(COUNTIF(OFFSET('Planning de pâturage'!$A$14:$A$28,0,MATCH('Production laitière'!AD32,'Planning de pâturage'!$B$11:$NH$11)),">"&0)>1,"A CHOISIR", OFFSET('Planning de pâturage'!$A$13,MATCH(TRUE,OFFSET('Planning de pâturage'!$A$14:$A$28,0,MATCH('Production laitière'!AD32,'Planning de pâturage'!$B$11:$NH$11))>0,0),))} -> #N/A | AK32: J175 | AL32: 42176 | AO32: =AM32/AN32 -> #DIV/0! | AP32: {=IF(COUNTIF(OFFSET('Planning de pâturage'!$A$14:$A$28,0,MATCH('Production laitière'!AK32,'Planning de pâturage'!$B$11:$NH$11)),">"&0)>1,"A CHOISIR", OFFSET('Planning de pâturage'!$A$13,MATCH(TRUE,OFFSET('Planning de pâturage'!$A$14:$A$28,0,MATCH('Production laitière'!AK32,'Planning de pâturage'!$B$11:$NH$11))>0,0),))} -> #N/A | AR32: J203 | AS32: 42204 | AV32: =AT32/AU32 -> #DIV/0! | AW32: {=IF(COUNTIF(OFFSET('Planning de pâturage'!$A$14:$A$28,0,MATCH('Production laitière'!AR32,'Planning de pâturage'!$B$11:$NH$11)),">"&0)>1,"A CHOISIR", OFFSET('Planning de pâturage'!$A$13,MATCH(TRUE,OFFSET('Planning de pâturage'!$A$14:$A$28,0,MATCH('Production laitière'!AR32,'Planning de pâturage'!$B$11:$NH$11))>0,0),))} -> #N/A | AY32: J238 | AZ32: 42239 | BC32: =BA32/BB32 -> #DIV/0! | BD32: {=IF(COUNTIF(OFFSET('Planning de pâturage'!$A$14:$A$28,0,MATCH('Production laitière'!AY32,'Planning de pâturage'!$B$11:$NH$11)),">"&0)>1,"A CHOISIR", OFFSET('Planning de pâturage'!$A$13,MATCH(TRUE,OFFSET('Planning de pâturage'!$A$14:$A$28,0,MATCH('Production laitière'!AY32,'Planning de pâturage'!$B$11:$NH$11))>0,0),))} -> #N/A | BF32: J266 | BG32: 42267 | BJ32: =BH32/BI32 -> #DIV/0! | BK32: {=IF(COUNTIF(OFFSET('Planning de pâturage'!$A$14:$A$28,0,MATCH('Production laitière'!BF32,'Planning de pâturage'!$B$11:$NH$11)),">"&0)>1,"A CHOISIR", OFFSET('Planning de pâturage'!$A$13,MATCH(TRUE,OFFSET('Planning de pâturage'!$A$14:$A$28,0,MATCH('Production laitière'!BF32,'Planning de pâturage'!$B$11:$NH$11))>0,0),))} -> #N/A | BM32: J294 | BN32: 42295 | BQ32: =BO32/BP32 -> #DIV/0! | BR32: {=IF(COUNTIF(OFFSET('Planning de pâturage'!$A$14:$A$28,0,MATCH('Production laitière'!BM32,'Planning de pâturage'!$B$11:$NH$11)),">"&0)>1,"A CHOISIR", OFFSET('Planning de pâturage'!$A$13,MATCH(TRUE,OFFSET('Planning de pâturage'!$A$14:$A$28,0,MATCH('Production laitière'!BM32,'Planning de pâturage'!$B$11:$NH$11))>0,0),))} -> #N/A | BT32: J329 | BU32: 42330 | BX32: =BV32/BW32 -> #DIV/0! | BY32: {=IF(COUNTIF(OFFSET('Planning de pâturage'!$A$14:$A$28,0,MATCH('Production laitière'!BT32,'Planning de pâturage'!$B$11:$NH$11)),">"&0)>1,"A CHOISIR", OFFSET('Planning de pâturage'!$A$13,MATCH(TRUE,OFFSET('Planning de pâturage'!$A$14:$A$28,0,MATCH('Production laitière'!BT32,'Planning de pâturage'!$B$11:$NH$11))>0,0),))} -> #N/A | CA32: J357 | CB32: 41993 | CE32: =CC32/CD32 -> #DIV/0! | CF32: {=IF(COUNTIF(OFFSET('Planning de pâturage'!$A$14:$A$28,0,MATCH('Production laitière'!CA32,'Planning de pâturage'!$B$11:$NH$11)),">"&0)>1,"A CHOISIR", OFFSET('Planning de pâturage'!$A$13,MATCH(TRUE,OFFSET('Planning de pâturage'!$A$14:$A$28,0,MATCH('Production laitière'!CA32,'Planning de pâturage'!$B$11:$NH$11))>0,0),))} -> #N/A
A33: S4 | B33: J22 | C33: 41658 | F33: =D33/E33 -> #DIV/0! | G33: {=IF(COUNTIF(OFFSET('Planning de pâturage'!$A$14:$A$28,,MATCH('Production laitière'!B33,'Planning de pâturage'!$B$11:$NH$11)),">"&0)>1,"A CHOISIR", OFFSET('Planning de pâturage'!$A$13,MATCH(TRUE,OFFSET('Planning de pâturage'!$A$14:$A$28,0,MATCH('Production laitière'!B33,'Planning de pâturage'!$B$11:$NH$11))>0,0),))} -> #N/A | H33: S9 | I33: J57 | J33: 42058 | M33: =K33/L33 -> #DIV/0! | N33: {=IF(COUNTIF(OFFSET('Planning de pâturage'!$A$14:$A$28,0,MATCH('Production laitière'!I33,'Planning de pâturage'!$B$11:$NH$11)),">"&0)>1,"A CHOISIR", OFFSET('Planning de pâturage'!$A$13,MATCH(TRUE,OFFSET('Planning de pâturage'!$A$14:$A$28,0,MATCH('Production laitière'!I33,'Planning de pâturage'!$B$11:$NH$11))>0,0),))} -> #N/A | O33: S13 | P33: J85 | Q33: 42086 | T33: =R33/S33 -> #DIV/0! | U33: {=IF(COUNTIF(OFFSET('Planning de pâturage'!$A$14:$A$28,0,MATCH('Production laitière'!P33,'Planning de pâturage'!$B$11:$NH$11)),">"&0)>1,"A CHOISIR", OFFSET('Planning de pâturage'!$A$13,MATCH(TRUE,OFFSET('Planning de pâturage'!$A$14:$A$28,0,MATCH('Production laitière'!P33,'Planning de pâturage'!$B$11:$NH$11))>0,0),))} -> #N/A | V33: S18 | W33: J120 | X33: 42121 | AA33: =Y33/Z33 -> #DIV/0! | AB33: {=IF(COUNTIF(OFFSET('Planning de pâturage'!$A$14:$A$28,0,MATCH('Production laitière'!W33,'Planning de pâturage'!$B$11:$NH$11)),">"&0)>1,"A CHOISIR", OFFSET('Planning de pâturage'!$A$13,MATCH(TRUE,OFFSET('Planning de pâturage'!$A$14:$A$28,0,MATCH('Production laitière'!W33,'Planning de pâturage'!$B$11:$NH$11))>0,0),))} -> #N/A | AC33: S22 | AD33: J148 | AE33: 42149 | AH33: =AF33/AG33 -> #DIV/0! | AI33: {=IF(COUNTIF(OFFSET('Planning de pâturage'!$A$14:$A$28,0,MATCH('Production laitière'!AD33,'Planning de pâturage'!$B$11:$NH$11)),">"&0)>1,"A CHOISIR", OFFSET('Planning de pâturage'!$A$13,MATCH(TRUE,OFFSET('Planning de pâturage'!$A$14:$A$28,0,MATCH('Production laitière'!AD33,'Planning de pâturage'!$B$11:$NH$11))>0,0),))} -> #N/A | AJ33: S26 | AK33: J176 | AL33: 42177 | AO33: =AM33/AN33 -> #DIV/0! | AP33: {=IF(COUNTIF(OFFSET('Planning de pâturage'!$A$14:$A$28,0,MATCH('Production laitière'!AK33,'Planning de pâturage'!$B$11:$NH$11)),">"&0)>1,"A CHOISIR", OFFSET('Planning de pâturage'!$A$13,MATCH(TRUE,OFFSET('Planning de pâturage'!$A$14:$A$28,0,MATCH('Production laitière'!AK33,'Planning de pâturage'!$B$11:$NH$11))>0,0),))} -> #N/A | AQ33: S30 | AR33: J204 | AS33: 42205 | AV33: =AT33/AU33 -> #DIV/0! | AW33: {=IF(COUNTIF(OFFSET('Planning de pâturage'!$A$14:$A$28,0,MATCH('Production laitière'!AR33,'Planning de pâturage'!$B$11:$NH$11)),">"&0)>1,"A CHOISIR", OFFSET('Planning de pâturage'!$A$13,MATCH(TRUE,OFFSET('Planning de pâturage'!$A$14:$A$28,0,MATCH('Production laitière'!AR33,'Planning de pâturage'!$B$11:$NH$11))>0,0),))} -> #N/A | AX33: S35 | AY33: J239 | AZ33: 42240 | BC33: =BA33/BB33 -> #DIV/0! | BD33: {=IF(COUNTIF(OFFSET('Planning de pâturage'!$A$14:$A$28,0,MATCH('Production laitière'!AY33,'Planning de pâturage'!$B$11:$NH$11)),">"&0)>1,"A CHOISIR", OFFSET('Planning de pâturage'!$A$13,MATCH(TRUE,OFFSET('Planning de pâturage'!$A$14:$A$28,0,MATCH('Production laitière'!AY33,'Planning de pâturage'!$B$11:$NH$11))>0,0),))} -> #N/A | BE33: S39 | BF33: J267 | BG33: 42268 | BJ33: =BH33/BI33 -> #DIV/0! | BK33: {=IF(COUNTIF(OFFSET('Planning de pâturage'!$A$14:$A$28,0,MATCH('Production laitière'!BF33,'Planning de pâturage'!$B$11:$NH$11)),">"&0)>1,"A CHOISIR", OFFSET('Planning de pâturage'!$A$13,MATCH(TRUE,OFFSET('Planning de pâturage'!$A$14:$A$28,0,MATCH('Production laitière'!BF33,'Planning de pâturage'!$B$11:$NH$11))>0,0),))} -> #N/A | BL33: S43 | BM33: J295 | BN33: 42296 | BQ33: =BO33/BP33 -> #DIV/0! | BR33: {=IF(COUNTIF(OFFSET('Planning de pâturage'!$A$14:$A$28,0,MATCH('Production laitière'!BM33,'Planning de pâturage'!$B$11:$NH$11)),">"&0)>1,"A CHOISIR", OFFSET('Planning de pâturage'!$A$13,MATCH(TRUE,OFFSET('Planning de pâturage'!$A$14:$A$28,0,MATCH('Production laitière'!BM33,'Planning de pâturage'!$B$11:$NH$11))>0,0),))} -> #N/A | BS33: S48 | BT33: J330 | BU33: 42331 | BX33: =BV33/BW33 -> #DIV/0! | BY33: {=IF(COUNTIF(OFFSET('Planning de pâturage'!$A$14:$A$28,0,MATCH('Production laitière'!BT33,'Planning de pâturage'!$B$11:$NH$11)),">"&0)>1,"A CHOISIR", OFFSET('Planning de pâturage'!$A$13,MATCH(TRUE,OFFSET('Planning de pâturage'!$A$14:$A$28,0,MATCH('Production laitière'!BT33,'Planning de pâturage'!$B$11:$NH$11))>0,0),))} -> #N/A | BZ33: S52 | CA33: J358 | CB33: 41994 | CE33: =CC33/CD33 -> #DIV/0! | CF33: {=IF(COUNTIF(OFFSET('Planning de pâturage'!$A$14:$A$28,0,MATCH('Production laitière'!CA33,'Planning de pâturage'!$B$11:$NH$11)),">"&0)>1,"A CHOISIR", OFFSET('Planning de pâturage'!$A$13,MATCH(TRUE,OFFSET('Planning de pâturage'!$A$14:$A$28,0,MATCH('Production laitière'!CA33,'Planning de pâturage'!$B$11:$NH$11))>0,0),))} -> #N/A
B34: J23 | C34: 41659 | F34: =D34/E34 -> #DIV/0! | G34: {=IF(COUNTIF(OFFSET('Planning de pâturage'!$A$14:$A$28,,MATCH('Production laitière'!B34,'Planning de pâturage'!$B$11:$NH$11)),">"&0)>1,"A CHOISIR", OFFSET('Planning de pâturage'!$A$13,MATCH(TRUE,OFFSET('Planning de pâturage'!$A$14:$A$28,0,MATCH('Production laitière'!B34,'Planning de pâturage'!$B$11:$NH$11))>0,0),))} -> #N/A | I34: J58 | J34: 42059 | M34: =K34/L34 -> #DIV/0! | N34: {=IF(COUNTIF(OFFSET('Planning de pâturage'!$A$14:$A$28,0,MATCH('Production laitière'!I34,'Planning de pâturage'!$B$11:$NH$11)),">"&0)>1,"A CHOISIR", OFFSET('Planning de pâturage'!$A$13,MATCH(TRUE,OFFSET('Planning de pâturage'!$A$14:$A$28,0,MATCH('Production laitière'!I34,'Planning de pâturage'!$B$11:$NH$11))>0,0),))} -> #N/A | P34: J86 | Q34: 42087 | T34: =R34/S34 -> #DIV/0! | U34: {=IF(COUNTIF(OFFSET('Planning de pâturage'!$A$14:$A$28,0,MATCH('Production laitière'!P34,'Planning de pâturage'!$B$11:$NH$11)),">"&0)>1,"A CHOISIR", OFFSET('Planning de pâturage'!$A$13,MATCH(TRUE,OFFSET('Planning de pâturage'!$A$14:$A$28,0,MATCH('Production laitière'!P34,'Planning de pâturage'!$B$11:$NH$11))>0,0),))} -> #N/A | W34: J121 | X34: 42122 | AA34: =Y34/Z34 -> #DIV/0! | AB34: {=IF(COUNTIF(OFFSET('Planning de pâturage'!$A$14:$A$28,0,MATCH('Production laitière'!W34,'Planning de pâturage'!$B$11:$NH$11)),">"&0)>1,"A CHOISIR", OFFSET('Planning de pâturage'!$A$13,MATCH(TRUE,OFFSET('Planning de pâturage'!$A$14:$A$28,0,MATCH('Production laitière'!W34,'Planning de pâturage'!$B$11:$NH$11))>0,0),))} -> #N/A | AD34: J149 | AE34: 42150 | AH34: =AF34/AG34 -> #DIV/0! | AI34: {=IF(COUNTIF(OFFSET('Planning de pâturage'!$A$14:$A$28,0,MATCH('Production laitière'!AD34,'Planning de pâturage'!$B$11:$NH$11)),">"&0)>1,"A CHOISIR", OFFSET('Planning de pâturage'!$A$13,MATCH(TRUE,OFFSET('Planning de pâturage'!$A$14:$A$28,0,MATCH('Production laitière'!AD34,'Planning de pâturage'!$B$11:$NH$11))>0,0),))} -> #N/A | AK34: J177 | AL34: 42178 | AO34: =AM34/AN34 -> #DIV/0! | AP34: {=IF(COUNTIF(OFFSET('Planning de pâturage'!$A$14:$A$28,0,MATCH('Production laitière'!AK34,'Planning de pâturage'!$B$11:$NH$11)),">"&0)>1,"A CHOISIR", OFFSET('Planning de pâturage'!$A$13,MATCH(TRUE,OFFSET('Planning de pâturage'!$A$14:$A$28,0,MATCH('Production laitière'!AK34,'Planning de pâturage'!$B$11:$NH$11))>0,0),))} -> #N/A | AR34: J205 | AS34: 42206 | AV34: =AT34/AU34 -> #DIV/0! | AW34: {=IF(COUNTIF(OFFSET('Planning de pâturage'!$A$14:$A$28,0,MATCH('Production laitière'!AR34,'Planning de pâturage'!$B$11:$NH$11)),">"&0)>1,"A CHOISIR", OFFSET('Planning de pâturage'!$A$13,MATCH(TRUE,OFFSET('Planning de pâturage'!$A$14:$A$28,0,MATCH('Production laitière'!AR34,'Planning de pâturage'!$B$11:$NH$11))>0,0),))} -> #N/A | AY34: J240 | AZ34: 42241 | BC34: =BA34/BB34 -> #DIV/0! | BD34: {=IF(COUNTIF(OFFSET('Planning de pâturage'!$A$14:$A$28,0,MATCH('Production laitière'!AY34,'Planning de pâturage'!$B$11:$NH$11)),">"&0)>1,"A CHOISIR", OFFSET('Planning de pâturage'!$A$13,MATCH(TRUE,OFFSET('Planning de pâturage'!$A$14:$A$28,0,MATCH('Production laitière'!AY34,'Planning de pâturage'!$B$11:$NH$11))>0,0),))} -> #N/A | BF34: J268 | BG34: 42269 | BJ34: =BH34/BI34 -> #DIV/0! | BK34: {=IF(COUNTIF(OFFSET('Planning de pâturage'!$A$14:$A$28,0,MATCH('Production laitière'!BF34,'Planning de pâturage'!$B$11:$NH$11)),">"&0)>1,"A CHOISIR", OFFSET('Planning de pâturage'!$A$13,MATCH(TRUE,OFFSET('Planning de pâturage'!$A$14:$A$28,0,MATCH('Production laitière'!BF34,'Planning de pâturage'!$B$11:$NH$11))>0,0),))} -> #N/A | BM34: J296 | BN34: 42297 | BQ34: =BO34/BP34 -> #DIV/0! | BR34: {=IF(COUNTIF(OFFSET('Planning de pâturage'!$A$14:$A$28,0,MATCH('Production laitière'!BM34,'Planning de pâturage'!$B$11:$NH$11)),">"&0)>1,"A CHOISIR", OFFSET('Planning de pâturage'!$A$13,MATCH(TRUE,OFFSET('Planning de pâturage'!$A$14:$A$28,0,MATCH('Production laitière'!BM34,'Planning de pâturage'!$B$11:$NH$11))>0,0),))} -> #N/A | BT34: J331 | BU34: 42332 | BX34: =BV34/BW34 -> #DIV/0! | BY34: {=IF(COUNTIF(OFFSET('Planning de pâturage'!$A$14:$A$28,0,MATCH('Production laitière'!BT34,'Planning de pâturage'!$B$11:$NH$11)),">"&0)>1,"A CHOISIR", OFFSET('Planning de pâturage'!$A$13,MATCH(TRUE,OFFSET('Planning de pâturage'!$A$14:$A$28,0,MATCH('Production laitière'!BT34,'Planning de pâturage'!$B$11:$NH$11))>0,0),))} -> #N/A | CA34: J359 | CB34: 41995 | CE34: =CC34/CD34 -> #DIV/0! | CF34: {=IF(COUNTIF(OFFSET('Planning de pâturage'!$A$14:$A$28,0,MATCH('Production laitière'!CA34,'Planning de pâturage'!$B$11:$NH$11)),">"&0)>1,"A CHOISIR", OFFSET('Planning de pâturage'!$A$13,MATCH(TRUE,OFFSET('Planning de pâturage'!$A$14:$A$28,0,MATCH('Production laitière'!CA34,'Planning de pâturage'!$B$11:$NH$11))>0,0),))} -> #N/A
B35: J24 | C35: 41660 | F35: =D35/E35 -> #DIV/0! | G35: {=IF(COUNTIF(OFFSET('Planning de pâturage'!$A$14:$A$28,,MATCH('Production laitière'!B35,'Planning de pâturage'!$B$11:$NH$11)),">"&0)>1,"A CHOISIR", OFFSET('Planning de pâturage'!$A$13,MATCH(TRUE,OFFSET('Planning de pâturage'!$A$14:$A$28,0,MATCH('Production laitière'!B35,'Planning de pâturage'!$B$11:$NH$11))>0,0),))} -> #N/A | I35: J59 | J35: 42060 | M35: =K35/L35 -> #DIV/0! | N35: {=IF(COUNTIF(OFFSET('Planning de pâturage'!$A$14:$A$28,0,MATCH('Production laitière'!I35,'Planning de pâturage'!$B$11:$NH$11)),">"&0)>1,"A CHOISIR", OFFSET('Planning de pâturage'!$A$13,MATCH(TRUE,OFFSET('Planning de pâturage'!$A$14:$A$28,0,MATCH('Production laitière'!I35,'Planning de pâturage'!$B$11:$NH$11))>0,0),))} -> #N/A | P35: J87 | Q35: 42088 | T35: =R35/S35 -> #DIV/0! | U35: {=IF(COUNTIF(OFFSET('Planning de pâturage'!$A$14:$A$28,0,MATCH('Production laitière'!P35,'Planning de pâturage'!$B$11:$NH$11)),">"&0)>1,"A CHOISIR", OFFSET('Planning de pâturage'!$A$13,MATCH(TRUE,OFFSET('Planning de pâturage'!$A$14:$A$28,0,MATCH('Production laitière'!P35,'Planning de pâturage'!$B$11:$NH$11))>0,0),))} -> #N/A | W35: J122 | X35: 42123 | AA35: =Y35/Z35 -> #DIV/0! | AB35: {=IF(COUNTIF(OFFSET('Planning de pâturage'!$A$14:$A$28,0,MATCH('Production laitière'!W35,'Planning de pâturage'!$B$11:$NH$11)),">"&0)>1,"A CHOISIR", OFFSET('Planning de pâturage'!$A$13,MATCH(TRUE,OFFSET('Planning de pâturage'!$A$14:$A$28,0,MATCH('Production laitière'!W35,'Planning de pâturage'!$B$11:$NH$11))>0,0),))} -> #N/A | AD35: J150 | AE35: 42151 | AH35: =AF35/AG35 -> #DIV/0! | AI35: {=IF(COUNTIF(OFFSET('Planning de pâturage'!$A$14:$A$28,0,MATCH('Production laitière'!AD35,'Planning de pâturage'!$B$11:$NH$11)),">"&0)>1,"A CHOISIR", OFFSET('Planning de pâturage'!$A$13,MATCH(TRUE,OFFSET('Planning de pâturage'!$A$14:$A$28,0,MATCH('Production laitière'!AD35,'Planning de pâturage'!$B$11:$NH$11))>0,0),))} -> #N/A | AK35: J178 | AL35: 42179 | AO35: =AM35/AN35 -> #DIV/0! | AP35: {=IF(COUNTIF(OFFSET('Planning de pâturage'!$A$14:$A$28,0,MATCH('Production laitière'!AK35,'Planning de pâturage'!$B$11:$NH$11)),">"&0)>1,"A CHOISIR", OFFSET('Planning de pâturage'!$A$13,MATCH(TRUE,OFFSET('Planning de pâturage'!$A$14:$A$28,0,MATCH('Production laitière'!AK35,'Planning de pâturage'!$B$11:$NH$11))>0,0),))} -> #N/A | AR35: J206 | AS35: 42207 | AV35: =AT35/AU35 -> #DIV/0! | AW35: {=IF(COUNTIF(OFFSET('Planning de pâturage'!$A$14:$A$28,0,MATCH('Production laitière'!AR35,'Planning de pâturage'!$B$11:$NH$11)),">"&0)>1,"A CHOISIR", OFFSET('Planning de pâturage'!$A$13,MATCH(TRUE,OFFSET('Planning de pâturage'!$A$14:$A$28,0,MATCH('Production laitière'!AR35,'Planning de pâturage'!$B$11:$NH$11))>0,0),))} -> #N/A | AY35: J241 | AZ35: 42242 | BC35: =BA35/BB35 -> #DIV/0! | BD35: {=IF(COUNTIF(OFFSET('Planning de pâturage'!$A$14:$A$28,0,MATCH('Production laitière'!AY35,'Planning de pâturage'!$B$11:$NH$11)),">"&0)>1,"A CHOISIR", OFFSET('Planning de pâturage'!$A$13,MATCH(TRUE,OFFSET('Planning de pâturage'!$A$14:$A$28,0,MATCH('Production laitière'!AY35,'Planning de pâturage'!$B$11:$NH$11))>0,0),))} -> #N/A | BF35: J269 | BG35: 42270 | BJ35: =BH35/BI35 -> #DIV/0! | BK35: {=IF(COUNTIF(OFFSET('Planning de pâturage'!$A$14:$A$28,0,MATCH('Production laitière'!BF35,'Planning de pâturage'!$B$11:$NH$11)),">"&0)>1,"A CHOISIR", OFFSET('Planning de pâturage'!$A$13,MATCH(TRUE,OFFSET('Planning de pâturage'!$A$14:$A$28,0,MATCH('Production laitière'!BF35,'Planning de pâturage'!$B$11:$NH$11))>0,0),))} -> #N/A | BM35: J297 | BN35: 42298 | BQ35: =BO35/BP35 -> #DIV/0! | BR35: {=IF(COUNTIF(OFFSET('Planning de pâturage'!$A$14:$A$28,0,MATCH('Production laitière'!BM35,'Planning de pâturage'!$B$11:$NH$11)),">"&0)>1,"A CHOISIR", OFFSET('Planning de pâturage'!$A$13,MATCH(TRUE,OFFSET('Planning de pâturage'!$A$14:$A$28,0,MATCH('Production laitière'!BM35,'Planning de pâturage'!$B$11:$NH$11))>0,0),))} -> #N/A | BT35: J332 | BU35: 42333 | BX35: =BV35/BW35 -> #DIV/0! | BY35: {=IF(COUNTIF(OFFSET('Planning de pâturage'!$A$14:$A$28,0,MATCH('Production laitière'!BT35,'Planning de pâturage'!$B$11:$NH$11)),">"&0)>1,"A CHOISIR", OFFSET('Planning de pâturage'!$A$13,MATCH(TRUE,OFFSET('Planning de pâturage'!$A$14:$A$28,0,MATCH('Production laitière'!BT35,'Planning de pâturage'!$B$11:$NH$11))>0,0),))} -> #N/A | CA35: J360 | CB35: 41996 | CE35: =CC35/CD35 -> #DIV/0! | CF35: {=IF(COUNTIF(OFFSET('Planning de pâturage'!$A$14:$A$28,0,MATCH('Production laitière'!CA35,'Planning de pâturage'!$B$11:$NH$11)),">"&0)>1,"A CHOISIR", OFFSET('Planning de pâturage'!$A$13,MATCH(TRUE,OFFSET('Planning de pâturage'!$A$14:$A$28,0,MATCH('Production laitière'!CA35,'Planning de pâturage'!$B$11:$NH$11))>0,0),))} -> #N/A
B36: J25 | C36: 41661 | F36: =D36/E36 -> #DIV/0! | G36: {=IF(COUNTIF(OFFSET('Planning de pâturage'!$A$14:$A$28,,MATCH('Production laitière'!B36,'Planning de pâturage'!$B$11:$NH$11)),">"&0)>1,"A CHOISIR", OFFSET('Planning de pâturage'!$A$13,MATCH(TRUE,OFFSET('Planning de pâturage'!$A$14:$A$28,0,MATCH('Production laitière'!B36,'Planning de pâturage'!$B$11:$NH$11))>0,0),))} -> #N/A | I36: J60 | J36: 42061 | M36: =K36/L36 -> #DIV/0! | N36: {=IF(COUNTIF(OFFSET('Planning de pâturage'!$A$14:$A$28,0,MATCH('Production laitière'!I36,'Planning de pâturage'!$B$11:$NH$11)),">"&0)>1,"A CHOISIR", OFFSET('Planning de pâturage'!$A$13,MATCH(TRUE,OFFSET('Planning de pâturage'!$A$14:$A$28,0,MATCH('Production laitière'!I36,'Planning de pâturage'!$B$11:$NH$11))>0,0),))} -> #N/A | P36: J88 | Q36: 42089 | T36: =R36/S36 -> #DIV/0! | U36: {=IF(COUNTIF(OFFSET('Planning de pâturage'!$A$14:$A$28,0,MATCH('Production laitière'!P36,'Planning de pâturage'!$B$11:$NH$11)),">"&0)>1,"A CHOISIR", OFFSET('Planning de pâturage'!$A$13,MATCH(TRUE,OFFSET('Planning de pâturage'!$A$14:$A$28,0,MATCH('Production laitière'!P36,'Planning de pâturage'!$B$11:$NH$11))>0,0),))} -> #N/A | W36: J123 | X36: 42124 | AA36: =Y36/Z36 -> #DIV/0! | AB36: {=IF(COUNTIF(OFFSET('Planning de pâturage'!$A$14:$A$28,0,MATCH('Production laitière'!W36,'Planning de pâturage'!$B$11:$NH$11)),">"&0)>1,"A CHOISIR", OFFSET('Planning de pâturage'!$A$13,MATCH(TRUE,OFFSET('Planning de pâturage'!$A$14:$A$28,0,MATCH('Production laitière'!W36,'Planning de pâturage'!$B$11:$NH$11))>0,0),))} -> #N/A | AD36: J151 | AE36: 42152 | AH36: =AF36/AG36 -> #DIV/0! | AI36: {=IF(COUNTIF(OFFSET('Planning de pâturage'!$A$14:$A$28,0,MATCH('Production laitière'!AD36,'Planning de pâturage'!$B$11:$NH$11)),">"&0)>1,"A CHOISIR", OFFSET('Planning de pâturage'!$A$13,MATCH(TRUE,OFFSET('Planning de pâturage'!$A$14:$A$28,0,MATCH('Production laitière'!AD36,'Planning de pâturage'!$B$11:$NH$11))>0,0),))} -> #N/A | AK36: J179 | AL36: 42180 | AO36: =AM36/AN36 -> #DIV/0! | AP36: {=IF(COUNTIF(OFFSET('Planning de pâturage'!$A$14:$A$28,0,MATCH('Production laitière'!AK36,'Planning de pâturage'!$B$11:$NH$11)),">"&0)>1,"A CHOISIR", OFFSET('Planning de pâturage'!$A$13,MATCH(TRUE,OFFSET('Planning de pâturage'!$A$14:$A$28,0,MATCH('Production laitière'!AK36,'Planning de pâturage'!$B$11:$NH$11))>0,0),))} -> #N/A | AR36: J207 | AS36: 42208 | AV36: =AT36/AU36 -> #DIV/0! | AW36: {=IF(COUNTIF(OFFSET('Planning de pâturage'!$A$14:$A$28,0,MATCH('Production laitière'!AR36,'Planning de pâturage'!$B$11:$NH$11)),">"&0)>1,"A CHOISIR", OFFSET('Planning de pâturage'!$A$13,MATCH(TRUE,OFFSET('Planning de pâturage'!$A$14:$A$28,0,MATCH('Production laitière'!AR36,'Planning de pâturage'!$B$11:$NH$11))>0,0),))} -> #N/A | AY36: J242 | AZ36: 42243 | BC36: =BA36/BB36 -> #DIV/0! | BD36: {=IF(COUNTIF(OFFSET('Planning de pâturage'!$A$14:$A$28,0,MATCH('Production laitière'!AY36,'Planning de pâturage'!$B$11:$NH$11)),">"&0)>1,"A CHOISIR", OFFSET('Planning de pâturage'!$A$13,MATCH(TRUE,OFFSET('Planning de pâturage'!$A$14:$A$28,0,MATCH('Production laitière'!AY36,'Planning de pâturage'!$B$11:$NH$11))>0,0),))} -> #N/A | BF36: J270 | BG36: 42271 | BJ36: =BH36/BI36 -> #DIV/0! | BK36: {=IF(COUNTIF(OFFSET('Planning de pâturage'!$A$14:$A$28,0,MATCH('Production laitière'!BF36,'Planning de pâturage'!$B$11:$NH$11)),">"&0)>1,"A CHOISIR", OFFSET('Planning de pâturage'!$A$13,MATCH(TRUE,OFFSET('Planning de pâturage'!$A$14:$A$28,0,MATCH('Production laitière'!BF36,'Planning de pâturage'!$B$11:$NH$11))>0,0),))} -> #N/A | BM36: J298 | BN36: 42299 | BQ36: =BO36/BP36 -> #DIV/0! | BR36: {=IF(COUNTIF(OFFSET('Planning de pâturage'!$A$14:$A$28,0,MATCH('Production laitière'!BM36,'Planning de pâturage'!$B$11:$NH$11)),">"&0)>1,"A CHOISIR", OFFSET('Planning de pâturage'!$A$13,MATCH(TRUE,OFFSET('Planning de pâturage'!$A$14:$A$28,0,MATCH('Production laitière'!BM36,'Planning de pâturage'!$B$11:$NH$11))>0,0),))} -> #N/A | BT36: J333 | BU36: 42334 | BX36: =BV36/BW36 -> #DIV/0! | BY36: {=IF(COUNTIF(OFFSET('Planning de pâturage'!$A$14:$A$28,0,MATCH('Production laitière'!BT36,'Planning de pâturage'!$B$11:$NH$11)),">"&0)>1,"A CHOISIR", OFFSET('Planning de pâturage'!$A$13,MATCH(TRUE,OFFSET('Planning de pâturage'!$A$14:$A$28,0,MATCH('Production laitière'!BT36,'Planning de pâturage'!$B$11:$NH$11))>0,0),))} -> #N/A | CA36: J361 | CB36: 41997 | CE36: =CC36/CD36 -> #DIV/0! | CF36: {=IF(COUNTIF(OFFSET('Planning de pâturage'!$A$14:$A$28,0,MATCH('Production laitière'!CA36,'Planning de pâturage'!$B$11:$NH$11)),">"&0)>1,"A CHOISIR", OFFSET('Planning de pâturage'!$A$13,MATCH(TRUE,OFFSET('Planning de pâturage'!$A$14:$A$28,0,MATCH('Production laitière'!CA36,'Planning de pâturage'!$B$11:$NH$11))>0,0),))} -> #N/A
B37: J26 | C37: 41662 | F37: =D37/E37 -> #DIV/0! | G37: {=IF(COUNTIF(OFFSET('Planning de pâturage'!$A$14:$A$28,,MATCH('Production laitière'!B37,'Planning de pâturage'!$B$11:$NH$11)),">"&0)>1,"A CHOISIR", OFFSET('Planning de pâturage'!$A$13,MATCH(TRUE,OFFSET('Planning de pâturage'!$A$14:$A$28,0,MATCH('Production laitière'!B37,'Planning de pâturage'!$B$11:$NH$11))>0,0),))} -> #N/A | I37: J61 | J37: 42062 | M37: =K37/L37 -> #DIV/0! | N37: {=IF(COUNTIF(OFFSET('Planning de pâturage'!$A$14:$A$28,0,MATCH('Production laitière'!I37,'Planning de pâturage'!$B$11:$NH$11)),">"&0)>1,"A CHOISIR", OFFSET('Planning de pâturage'!$A$13,MATCH(TRUE,OFFSET('Planning de pâturage'!$A$14:$A$28,0,MATCH('Production laitière'!I37,'Planning de pâturage'!$B$11:$NH$11))>0,0),))} -> #N/A | P37: J89 | Q37: 42090 | T37: =R37/S37 -> #DIV/0! | U37: {=IF(COUNTIF(OFFSET('Planning de pâturage'!$A$14:$A$28,0,MATCH('Production laitière'!P37,'Planning de pâturage'!$B$11:$NH$11)),">"&0)>1,"A CHOISIR", OFFSET('Planning de pâturage'!$A$13,MATCH(TRUE,OFFSET('Planning de pâturage'!$A$14:$A$28,0,MATCH('Production laitière'!P37,'Planning de pâturage'!$B$11:$NH$11))>0,0),))} -> #N/A | W37: J124 | X37: 42125 | AA37: =Y37/Z37 -> #DIV/0! | AB37: {=IF(COUNTIF(OFFSET('Planning de pâturage'!$A$14:$A$28,0,MATCH('Production laitière'!W37,'Planning de pâturage'!$B$11:$NH$11)),">"&0)>1,"A CHOISIR", OFFSET('Planning de pâturage'!$A$13,MATCH(TRUE,OFFSET('Planning de pâturage'!$A$14:$A$28,0,MATCH('Production laitière'!W37,'Planning de pâturage'!$B$11:$NH$11))>0,0),))} -> #N/A | AD37: J152 | AE37: 42153 | AH37: =AF37/AG37 -> #DIV/0! | AI37: {=IF(COUNTIF(OFFSET('Planning de pâturage'!$A$14:$A$28,0,MATCH('Production laitière'!AD37,'Planning de pâturage'!$B$11:$NH$11)),">"&0)>1,"A CHOISIR", OFFSET('Planning de pâturage'!$A$13,MATCH(TRUE,OFFSET('Planning de pâturage'!$A$14:$A$28,0,MATCH('Production laitière'!AD37,'Planning de pâturage'!$B$11:$NH$11))>0,0),))} -> #N/A | AK37: J180 | AL37: 42181 | AO37: =AM37/AN37 -> #DIV/0! | AP37: {=IF(COUNTIF(OFFSET('Planning de pâturage'!$A$14:$A$28,0,MATCH('Production laitière'!AK37,'Planning de pâturage'!$B$11:$NH$11)),">"&0)>1,"A CHOISIR", OFFSET('Planning de pâturage'!$A$13,MATCH(TRUE,OFFSET('Planning de pâturage'!$A$14:$A$28,0,MATCH('Production laitière'!AK37,'Planning de pâturage'!$B$11:$NH$11))>0,0),))} -> #N/A | AR37: J208 | AS37: 42209 | AV37: =AT37/AU37 -> #DIV/0! | AW37: =IF(COUNTIF(OFFSET('Planning de pâturage'!$A$14:$A$28,0,MATCH('Production laitière'!AR37,'Planning de pâturage'!$B$11:$NH$11)),">"&0)>1,"A CHOISIR", OFFSET('Planning de pâturage'!$A$13,MATCH(TRUE,OFFSET('Planning de pâturage'!$A$14:$A$28,0,MATCH('Production laitière'!AR37,'Planning de pâturage'!$B$11:$NH$11))>0,0),)) -> #VALUE! | AY37: J243 | AZ37: 42244 | BC37: =BA37/BB37 -> #DIV/0! | BD37: {=IF(COUNTIF(OFFSET('Planning de pâturage'!$A$14:$A$28,0,MATCH('Production laitière'!AY37,'Planning de pâturage'!$B$11:$NH$11)),">"&0)>1,"A CHOISIR", OFFSET('Planning de pâturage'!$A$13,MATCH(TRUE,OFFSET('Planning de pâturage'!$A$14:$A$28,0,MATCH('Production laitière'!AY37,'Planning de pâturage'!$B$11:$NH$11))>0,0),))} -> #N/A | BF37: J271 | BG37: 42272 | BJ37: =BH37/BI37 -> #DIV/0! | BK37: {=IF(COUNTIF(OFFSET('Planning de pâturage'!$A$14:$A$28,0,MATCH('Production laitière'!BF37,'Planning de pâturage'!$B$11:$NH$11)),">"&0)>1,"A CHOISIR", OFFSET('Planning de pâturage'!$A$13,MATCH(TRUE,OFFSET('Planning de pâturage'!$A$14:$A$28,0,MATCH('Production laitière'!BF37,'Planning de pâturage'!$B$11:$NH$11))>0,0),))} -> #N/A | BM37: J299 | BN37: 42300 | BQ37: =BO37/BP37 -> #DIV/0! | BR37: {=IF(COUNTIF(OFFSET('Planning de pâturage'!$A$14:$A$28,0,MATCH('Production laitière'!BM37,'Planning de pâturage'!$B$11:$NH$11)),">"&0)>1,"A CHOISIR", OFFSET('Planning de pâturage'!$A$13,MATCH(TRUE,OFFSET('Planning de pâturage'!$A$14:$A$28,0,MATCH('Production laitière'!BM37,'Planning de pâturage'!$B$11:$NH$11))>0,0),))} -> #N/A | BT37: J334 | BU37: 42335 | BX37: =BV37/BW37 -> #DIV/0! | BY37: {=IF(COUNTIF(OFFSET('Planning de pâturage'!$A$14:$A$28,0,MATCH('Production laitière'!BT37,'Planning de pâturage'!$B$11:$NH$11)),">"&0)>1,"A CHOISIR", OFFSET('Planning de pâturage'!$A$13,MATCH(TRUE,OFFSET('Planning de pâturage'!$A$14:$A$28,0,MATCH('Production laitière'!BT37,'Planning de pâturage'!$B$11:$NH$11))>0,0),))} -> #N/A | CA37: J362 | CB37: 41998 | CE37: =CC37/CD37 -> #DIV/0! | CF37: {=IF(COUNTIF(OFFSET('Planning de pâturage'!$A$14:$A$28,0,MATCH('Production laitière'!CA37,'Planning de pâturage'!$B$11:$NH$11)),">"&0)>1,"A CHOISIR", OFFSET('Planning de pâturage'!$A$13,MATCH(TRUE,OFFSET('Planning de pâturage'!$A$14:$A$28,0,MATCH('Production laitière'!CA37,'Planning de pâturage'!$B$11:$NH$11))>0,0),))} -> #N/A
B38: J27 | C38: 41663 | F38: =D38/E38 -> #DIV/0! | G38: {=IF(COUNTIF(OFFSET('Planning de pâturage'!$A$14:$A$28,,MATCH('Production laitière'!B38,'Planning de pâturage'!$B$11:$NH$11)),">"&0)>1,"A CHOISIR", OFFSET('Planning de pâturage'!$A$13,MATCH(TRUE,OFFSET('Planning de pâturage'!$A$14:$A$28,0,MATCH('Production laitière'!B38,'Planning de pâturage'!$B$11:$NH$11))>0,0),))} -> #N/A | I38: J62 | J38: 42063 | M38: =K38/L38 -> #DIV/0! | N38: {=IF(COUNTIF(OFFSET('Planning de pâturage'!$A$14:$A$28,0,MATCH('Production laitière'!I38,'Planning de pâturage'!$B$11:$NH$11)),">"&0)>1,"A CHOISIR", OFFSET('Planning de pâturage'!$A$13,MATCH(TRUE,OFFSET('Planning de pâturage'!$A$14:$A$28,0,MATCH('Production laitière'!I38,'Planning de pâturage'!$B$11:$NH$11))>0,0),))} -> #N/A | P38: J90 | Q38: 42091 | T38: =R38/S38 -> #DIV/0! | U38: {=IF(COUNTIF(OFFSET('Planning de pâturage'!$A$14:$A$28,0,MATCH('Production laitière'!P38,'Planning de pâturage'!$B$11:$NH$11)),">"&0)>1,"A CHOISIR", OFFSET('Planning de pâturage'!$A$13,MATCH(TRUE,OFFSET('Planning de pâturage'!$A$14:$A$28,0,MATCH('Production laitière'!P38,'Planning de pâturage'!$B$11:$NH$11))>0,0),))} -> #N/A | W38: J125 | X38: 42126 | AA38: =Y38/Z38 -> #DIV/0! | AB38: {=IF(COUNTIF(OFFSET('Planning de pâturage'!$A$14:$A$28,0,MATCH('Production laitière'!W38,'Planning de pâturage'!$B$11:$NH$11)),">"&0)>1,"A CHOISIR", OFFSET('Planning de pâturage'!$A$13,MATCH(TRUE,OFFSET('Planning de pâturage'!$A$14:$A$28,0,MATCH('Production laitière'!W38,'Planning de pâturage'!$B$11:$NH$11))>0,0),))} -> #N/A | AD38: J153 | AE38: 42154 | AH38: =AF38/AG38 -> #DIV/0! | AI38: {=IF(COUNTIF(OFFSET('Planning de pâturage'!$A$14:$A$28,0,MATCH('Production laitière'!AD38,'Planning de pâturage'!$B$11:$NH$11)),">"&0)>1,"A CHOISIR", OFFSET('Planning de pâturage'!$A$13,MATCH(TRUE,OFFSET('Planning de pâturage'!$A$14:$A$28,0,MATCH('Production laitière'!AD38,'Planning de pâturage'!$B$11:$NH$11))>0,0),))} -> #N/A | AK38: J181 | AL38: 42182 | AO38: =AM38/AN38 -> #DIV/0! | AP38: {=IF(COUNTIF(OFFSET('Planning de pâturage'!$A$14:$A$28,0,MATCH('Production laitière'!AK38,'Planning de pâturage'!$B$11:$NH$11)),">"&0)>1,"A CHOISIR", OFFSET('Planning de pâturage'!$A$13,MATCH(TRUE,OFFSET('Planning de pâturage'!$A$14:$A$28,0,MATCH('Production laitière'!AK38,'Planning de pâturage'!$B$11:$NH$11))>0,0),))} -> #N/A | AR38: J209 | AS38: 42210 | AV38: =AT38/AU38 -> #DIV/0! | AW38: {=IF(COUNTIF(OFFSET('Planning de pâturage'!$A$14:$A$28,0,MATCH('Production laitière'!AR38,'Planning de pâturage'!$B$11:$NH$11)),">"&0)>1,"A CHOISIR", OFFSET('Planning de pâturage'!$A$13,MATCH(TRUE,OFFSET('Planning de pâturage'!$A$14:$A$28,0,MATCH('Production laitière'!AR38,'Planning de pâturage'!$B$11:$NH$11))>0,0),))} -> #N/A | AY38: J244 | AZ38: 42245 | BC38: =BA38/BB38 -> #DIV/0! | BD38: {=IF(COUNTIF(OFFSET('Planning de pâturage'!$A$14:$A$28,0,MATCH('Production laitière'!AY38,'Planning de pâturage'!$B$11:$NH$11)),">"&0)>1,"A CHOISIR", OFFSET('Planning de pâturage'!$A$13,MATCH(TRUE,OFFSET('Planning de pâturage'!$A$14:$A$28,0,MATCH('Production laitière'!AY38,'Planning de pâturage'!$B$11:$NH$11))>0,0),))} -> #N/A | BF38: J272 | BG38: 42273 | BJ38: =BH38/BI38 -> #DIV/0! | BK38: {=IF(COUNTIF(OFFSET('Planning de pâturage'!$A$14:$A$28,0,MATCH('Production laitière'!BF38,'Planning de pâturage'!$B$11:$NH$11)),">"&0)>1,"A CHOISIR", OFFSET('Planning de pâturage'!$A$13,MATCH(TRUE,OFFSET('Planning de pâturage'!$A$14:$A$28,0,MATCH('Production laitière'!BF38,'Planning de pâturage'!$B$11:$NH$11))>0,0),))} -> #N/A | BM38: J300 | BN38: 42301 | BQ38: =BO38/BP38 -> #DIV/0! | BR38: {=IF(COUNTIF(OFFSET('Planning de pâturage'!$A$14:$A$28,0,MATCH('Production laitière'!BM38,'Planning de pâturage'!$B$11:$NH$11)),">"&0)>1,"A CHOISIR", OFFSET('Planning de pâturage'!$A$13,MATCH(TRUE,OFFSET('Planning de pâturage'!$A$14:$A$28,0,MATCH('Production laitière'!BM38,'Planning de pâturage'!$B$11:$NH$11))>0,0),))} -> #N/A | BT38: J335 | BU38: 42336 | BX38: =BV38/BW38 -> #DIV/0! | BY38: {=IF(COUNTIF(OFFSET('Planning de pâturage'!$A$14:$A$28,0,MATCH('Production laitière'!BT38,'Planning de pâturage'!$B$11:$NH$11)),">"&0)>1,"A CHOISIR", OFFSET('Planning de pâturage'!$A$13,MATCH(TRUE,OFFSET('Planning de pâturage'!$A$14:$A$28,0,MATCH('Production laitière'!BT38,'Planning de pâturage'!$B$11:$NH$11))>0,0),))} -> #N/A | CA38: J363 | CB38: 41999 | CE38: =CC38/CD38 -> #DIV/0! | CF38: {=IF(COUNTIF(OFFSET('Planning de pâturage'!$A$14:$A$28,0,MATCH('Production laitière'!CA38,'Planning de pâturage'!$B$11:$NH$11)),">"&0)>1,"A CHOISIR", OFFSET('Planning de pâturage'!$A$13,MATCH(TRUE,OFFSET('Planning de pâturage'!$A$14:$A$28,0,MATCH('Production laitière'!CA38,'Planning de pâturage'!$B$11:$NH$11))>0,0),))} -> #N/A
B39: J28 | C39: 41664 | F39: =D39/E39 -> #DIV/0! | G39: {=IF(COUNTIF(OFFSET('Planning de pâturage'!$A$14:$A$28,,MATCH('Production laitière'!B39,'Planning de pâturage'!$B$11:$NH$11)),">"&0)>1,"A CHOISIR", OFFSET('Planning de pâturage'!$A$13,MATCH(TRUE,OFFSET('Planning de pâturage'!$A$14:$A$28,0,MATCH('Production laitière'!B39,'Planning de pâturage'!$B$11:$NH$11))>0,0),))} -> #N/A | I39: J63 | J39: 42064 | M39: =K39/L39 -> #DIV/0! | N39: {=IF(COUNTIF(OFFSET('Planning de pâturage'!$A$14:$A$28,0,MATCH('Production laitière'!I39,'Planning de pâturage'!$B$11:$NH$11)),">"&0)>1,"A CHOISIR", OFFSET('Planning de pâturage'!$A$13,MATCH(TRUE,OFFSET('Planning de pâturage'!$A$14:$A$28,0,MATCH('Production laitière'!I39,'Planning de pâturage'!$B$11:$NH$11))>0,0),))} -> #N/A | P39: J91 | Q39: 42092 | T39: =R39/S39 -> #DIV/0! | U39: {=IF(COUNTIF(OFFSET('Planning de pâturage'!$A$14:$A$28,0,MATCH('Production laitière'!P39,'Planning de pâturage'!$B$11:$NH$11)),">"&0)>1,"A CHOISIR", OFFSET('Planning de pâturage'!$A$13,MATCH(TRUE,OFFSET('Planning de pâturage'!$A$14:$A$28,0,MATCH('Production laitière'!P39,'Planning de pâturage'!$B$11:$NH$11))>0,0),))} -> #N/A | W39: J126 | X39: 42127 | AA39: =Y39/Z39 -> #DIV/0! | AB39: {=IF(COUNTIF(OFFSET('Planning de pâturage'!$A$14:$A$28,0,MATCH('Production laitière'!W39,'Planning de pâturage'!$B$11:$NH$11)),">"&0)>1,"A CHOISIR", OFFSET('Planning de pâturage'!$A$13,MATCH(TRUE,OFFSET('Planning de pâturage'!$A$14:$A$28,0,MATCH('Production laitière'!W39,'Planning de pâturage'!$B$11:$NH$11))>0,0),))} -> #N/A | AD39: J154 | AE39: 42155 | AH39: =AF39/AG39 -> #DIV/0! | AI39: {=IF(COUNTIF(OFFSET('Planning de pâturage'!$A$14:$A$28,0,MATCH('Production laitière'!AD39,'Planning de pâturage'!$B$11:$NH$11)),">"&0)>1,"A CHOISIR", OFFSET('Planning de pâturage'!$A$13,MATCH(TRUE,OFFSET('Planning de pâturage'!$A$14:$A$28,0,MATCH('Production laitière'!AD39,'Planning de pâturage'!$B$11:$NH$11))>0,0),))} -> #N/A | AK39: J182 | AL39: 42183 | AO39: =AM39/AN39 -> #DIV/0! | AP39: {=IF(COUNTIF(OFFSET('Planning de pâturage'!$A$14:$A$28,0,MATCH('Production laitière'!AK39,'Planning de pâturage'!$B$11:$NH$11)),">"&0)>1,"A CHOISIR", OFFSET('Planning de pâturage'!$A$13,MATCH(TRUE,OFFSET('Planning de pâturage'!$A$14:$A$28,0,MATCH('Production laitière'!AK39,'Planning de pâturage'!$B$11:$NH$11))>0,0),))} -> #N/A | AR39: J210 | AS39: 42211 | AV39: =AT39/AU39 -> #DIV/0! | AW39: {=IF(COUNTIF(OFFSET('Planning de pâturage'!$A$14:$A$28,0,MATCH('Production laitière'!AR39,'Planning de pâturage'!$B$11:$NH$11)),">"&0)>1,"A CHOISIR", OFFSET('Planning de pâturage'!$A$13,MATCH(TRUE,OFFSET('Planning de pâturage'!$A$14:$A$28,0,MATCH('Production laitière'!AR39,'Planning de pâturage'!$B$11:$NH$11))>0,0),))} -> #N/A | AY39: J245 | AZ39: 42246 | BC39: =BA39/BB39 -> #DIV/0! | BD39: {=IF(COUNTIF(OFFSET('Planning de pâturage'!$A$14:$A$28,0,MATCH('Production laitière'!AY39,'Planning de pâturage'!$B$11:$NH$11)),">"&0)>1,"A CHOISIR", OFFSET('Planning de pâturage'!$A$13,MATCH(TRUE,OFFSET('Planning de pâturage'!$A$14:$A$28,0,MATCH('Production laitière'!AY39,'Planning de pâturage'!$B$11:$NH$11))>0,0),))} -> #N/A | BF39: J273 | BG39: 42274 | BJ39: =BH39/BI39 -> #DIV/0! | BK39: {=IF(COUNTIF(OFFSET('Planning de pâturage'!$A$14:$A$28,0,MATCH('Production laitière'!BF39,'Planning de pâturage'!$B$11:$NH$11)),">"&0)>1,"A CHOISIR", OFFSET('Planning de pâturage'!$A$13,MATCH(TRUE,OFFSET('Planning de pâturage'!$A$14:$A$28,0,MATCH('Production laitière'!BF39,'Planning de pâturage'!$B$11:$NH$11))>0,0),))} -> #N/A | BM39: J301 | BN39: 42302 | BQ39: =BO39/BP39 -> #DIV/0! | BR39: {=IF(COUNTIF(OFFSET('Planning de pâturage'!$A$14:$A$28,0,MATCH('Production laitière'!BM39,'Planning de pâturage'!$B$11:$NH$11)),">"&0)>1,"A CHOISIR", OFFSET('Planning de pâturage'!$A$13,MATCH(TRUE,OFFSET('Planning de pâturage'!$A$14:$A$28,0,MATCH('Production laitière'!BM39,'Planning de pâturage'!$B$11:$NH$11))>0,0),))} -> #N/A | BT39: J336 | BU39: 42337 | BX39: =BV39/BW39 -> #DIV/0! | BY39: {=IF(COUNTIF(OFFSET('Planning de pâturage'!$A$14:$A$28,0,MATCH('Production laitière'!BT39,'Planning de pâturage'!$B$11:$NH$11)),">"&0)>1,"A CHOISIR", OFFSET('Planning de pâturage'!$A$13,MATCH(TRUE,OFFSET('Planning de pâturage'!$A$14:$A$28,0,MATCH('Production laitière'!BT39,'Planning de pâturage'!$B$11:$NH$11))>0,0),))} -> #N/A | CA39: J364 | CB39: 42000 | CE39: =CC39/CD39 -> #DIV/0! | CF39: {=IF(COUNTIF(OFFSET('Planning de pâturage'!$A$14:$A$28,0,MATCH('Production laitière'!CA39,'Planning de pâturage'!$B$11:$NH$11)),">"&0)>1,"A CHOISIR", OFFSET('Planning de pâturage'!$A$13,MATCH(TRUE,OFFSET('Planning de pâturage'!$A$14:$A$28,0,MATCH('Production laitière'!CA39,'Planning de pâturage'!$B$11:$NH$11))>0,0),))} -> #N/A
A40: S5 | B40: J29 | C40: 41665 | F40: =D40/E40 -> #DIV/0! | G40: {=IF(COUNTIF(OFFSET('Planning de pâturage'!$A$14:$A$28,,MATCH('Production laitière'!B40,'Planning de pâturage'!$B$11:$NH$11)),">"&0)>1,"A CHOISIR", OFFSET('Planning de pâturage'!$A$13,MATCH(TRUE,OFFSET('Planning de pâturage'!$A$14:$A$28,0,MATCH('Production laitière'!B40,'Planning de pâturage'!$B$11:$NH$11))>0,0),))} -> #N/A | J40: Prod totale mois | K40: =SUM(K5:K39) -> 0 | L40: Moy mois | M40: =AVERAGE(M5:M39) -> #DIV/0! | O40: S14 | P40: J92 | Q40: 42093 | T40: =R40/S40 -> #DIV/0! | U40: {=IF(COUNTIF(OFFSET('Planning de pâturage'!$A$14:$A$28,0,MATCH('Production laitière'!P40,'Planning de pâturage'!$B$11:$NH$11)),">"&0)>1,"A CHOISIR", OFFSET('Planning de pâturage'!$A$13,MATCH(TRUE,OFFSET('Planning de pâturage'!$A$14:$A$28,0,MATCH('Production laitière'!P40,'Planning de pâturage'!$B$11:$NH$11))>0,0),))} -> #N/A | X40: Prod totale mois | Y40: =SUM(Y5:Y39) -> 0 | Z40: Moy mois | AA40: =AVERAGE(AA5:AA39) -> #DIV/0! | AE40: Prod totale mois | AF40: =SUM(AF5:AF39) -> 0 | AG40: Moy mois | AH40: =AVERAGE(AH5:AH39) -> #DIV/0! | AL40: Prod totale mois | AM40: =SUM(AM5:AM39) -> 0 | AN40: Moy mois | AO40: =AVERAGE(AO5:AO39) -> #DIV/0! | AQ40: S31 | AR40: J211 | AS40: 42212 | AV40: =AT40/AU40 -> #DIV/0! | AW40: {=IF(COUNTIF(OFFSET('Planning de pâturage'!$A$14:$A$28,0,MATCH('Production laitière'!AR40,'Planning de pâturage'!$B$11:$NH$11)),">"&0)>1,"A CHOISIR", OFFSET('Planning de pâturage'!$A$13,MATCH(TRUE,OFFSET('Planning de pâturage'!$A$14:$A$28,0,MATCH('Production laitière'!AR40,'Planning de pâturage'!$B$11:$NH$11))>0,0),))} -> #N/A | AZ40: Prod totale mois | BA40: =SUM(BA5:BA39) -> 0 | BB40: Moy mois | BC40: =AVERAGE(BC5:BC39) -> #DIV/0! | BG40: Prod totale mois | BH40: =SUM(BH5:BH39) -> 0 | BI40: Moy mois | BJ40: =AVERAGE(BJ5:BJ39) -> #DIV/0! | BL40: S44 | BM40: J302 | BN40: 42303 | BQ40: =BO40/BP40 -> #DIV/0! | BR40: {=IF(COUNTIF(OFFSET('Planning de pâturage'!$A$14:$A$28,0,MATCH('Production laitière'!BM40,'Planning de pâturage'!$B$11:$NH$11)),">"&0)>1,"A CHOISIR", OFFSET('Planning de pâturage'!$A$13,MATCH(TRUE,OFFSET('Planning de pâturage'!$A$14:$A$28,0,MATCH('Production laitière'!BM40,'Planning de pâturage'!$B$11:$NH$11))>0,0),))} -> #N/A | BU40: Prod totale mois | BV40: =SUM(BV5:BV39) -> 0 | BW40: Moy mois | BX40: =AVERAGE(BX5:BX39) -> #DIV/0! | BZ40: S53 | CA40: J365 | CB40: 42001 | CE40: =CC40/CD40 -> #DIV/0! | CF40: {=IF(COUNTIF(OFFSET('Planning de pâturage'!$A$14:$A$28,0,MATCH('Production laitière'!CA40,'Planning de pâturage'!$B$11:$NH$11)),">"&0)>1,"A CHOISIR", OFFSET('Planning de pâturage'!$A$13,MATCH(TRUE,OFFSET('Planning de pâturage'!$A$14:$A$28,0,MATCH('Production laitière'!CA40,'Planning de pâturage'!$B$11:$NH$11))>0,0),))} -> #N/A
B41: J30 | C41: 41666 | F41: =D41/E41 -> #DIV/0! | G41: {=IF(COUNTIF(OFFSET('Planning de pâturage'!$A$14:$A$28,,MATCH('Production laitière'!B41,'Planning de pâturage'!$B$11:$NH$11)),">"&0)>1,"A CHOISIR", OFFSET('Planning de pâturage'!$A$13,MATCH(TRUE,OFFSET('Planning de pâturage'!$A$14:$A$28,0,MATCH('Production laitière'!B41,'Planning de pâturage'!$B$11:$NH$11))>0,0),))} -> #N/A | P41: J93 | Q41: 42094 | T41: =R41/S41 -> #DIV/0! | U41: {=IF(COUNTIF(OFFSET('Planning de pâturage'!$A$14:$A$28,0,MATCH('Production laitière'!P41,'Planning de pâturage'!$B$11:$NH$11)),">"&0)>1,"A CHOISIR", OFFSET('Planning de pâturage'!$A$13,MATCH(TRUE,OFFSET('Planning de pâturage'!$A$14:$A$28,0,MATCH('Production laitière'!P41,'Planning de pâturage'!$B$11:$NH$11))>0,0),))} -> #N/A | AR41: J212 | AS41: 42213 | AV41: =AT41/AU41 -> #DIV/0! | AW41: {=IF(COUNTIF(OFFSET('Planning de pâturage'!$A$14:$A$28,0,MATCH('Production laitière'!AR41,'Planning de pâturage'!$B$11:$NH$11)),">"&0)>1,"A CHOISIR", OFFSET('Planning de pâturage'!$A$13,MATCH(TRUE,OFFSET('Planning de pâturage'!$A$14:$A$28,0,MATCH('Production laitière'!AR41,'Planning de pâturage'!$B$11:$NH$11))>0,0),))} -> #N/A | BM41: J303 | BN41: 42304 | BQ41: =BO41/BP41 -> #DIV/0! | BR41: {=IF(COUNTIF(OFFSET('Planning de pâturage'!$A$14:$A$28,0,MATCH('Production laitière'!BM41,'Planning de pâturage'!$B$11:$NH$11)),">"&0)>1,"A CHOISIR", OFFSET('Planning de pâturage'!$A$13,MATCH(TRUE,OFFSET('Planning de pâturage'!$A$14:$A$28,0,MATCH('Production laitière'!BM41,'Planning de pâturage'!$B$11:$NH$11))>0,0),))} -> #N/A | CA41: J366 | CB41: 42002 | CE41: =CC41/CD41 -> #DIV/0! | CF41: {=IF(COUNTIF(OFFSET('Planning de pâturage'!$A$14:$A$28,0,MATCH('Production laitière'!CA41,'Planning de pâturage'!$B$11:$NH$11)),">"&0)>1,"A CHOISIR", OFFSET('Planning de pâturage'!$A$13,MATCH(TRUE,OFFSET('Planning de pâturage'!$A$14:$A$28,0,MATCH('Production laitière'!CA41,'Planning de pâturage'!$B$11:$NH$11))>0,0),))} -> #N/A
B42: J31 | C42: 41667 | F42: =D42/E42 -> #DIV/0! | G42: {=IF(COUNTIF(OFFSET('Planning de pâturage'!$A$14:$A$28,,MATCH('Production laitière'!B42,'Planning de pâturage'!$B$11:$NH$11)),">"&0)>1,"A CHOISIR", OFFSET('Planning de pâturage'!$A$13,MATCH(TRUE,OFFSET('Planning de pâturage'!$A$14:$A$28,0,MATCH('Production laitière'!B42,'Planning de pâturage'!$B$11:$NH$11))>0,0),))} -> #N/A | P42: J94 | Q42: 42095 | T42: =R42/S42 -> #DIV/0! | U42: {=IF(COUNTIF(OFFSET('Planning de pâturage'!$A$14:$A$28,0,MATCH('Production laitière'!P42,'Planning de pâturage'!$B$11:$NH$11)),">"&0)>1,"A CHOISIR", OFFSET('Planning de pâturage'!$A$13,MATCH(TRUE,OFFSET('Planning de pâturage'!$A$14:$A$28,0,MATCH('Production laitière'!P42,'Planning de pâturage'!$B$11:$NH$11))>0,0),))} -> #N/A | AR42: J213 | AS42: 42214 | AV42: =AT42/AU42 -> #DIV/0! | AW42: {=IF(COUNTIF(OFFSET('Planning de pâturage'!$A$14:$A$28,0,MATCH('Production laitière'!AR42,'Planning de pâturage'!$B$11:$NH$11)),">"&0)>1,"A CHOISIR", OFFSET('Planning de pâturage'!$A$13,MATCH(TRUE,OFFSET('Planning de pâturage'!$A$14:$A$28,0,MATCH('Production laitière'!AR42,'Planning de pâturage'!$B$11:$NH$11))>0,0),))} -> #N/A | BM42: J304 | BN42: 42305 | BQ42: =BO42/BP42 -> #DIV/0! | BR42: {=IF(COUNTIF(OFFSET('Planning de pâturage'!$A$14:$A$28,0,MATCH('Production laitière'!BM42,'Planning de pâturage'!$B$11:$NH$11)),">"&0)>1,"A CHOISIR", OFFSET('Planning de pâturage'!$A$13,MATCH(TRUE,OFFSET('Planning de pâturage'!$A$14:$A$28,0,MATCH('Production laitière'!BM42,'Planning de pâturage'!$B$11:$NH$11))>0,0),))} -> #N/A | CA42: J367 | CB42: 42003 | CE42: =CC42/CD42 -> #DIV/0! | CF42: {=IF(COUNTIF(OFFSET('Planning de pâturage'!$A$14:$A$28,0,MATCH('Production laitière'!CA42,'Planning de pâturage'!$B$11:$NH$11)),">"&0)>1,"A CHOISIR", OFFSET('Planning de pâturage'!$A$13,MATCH(TRUE,OFFSET('Planning de pâturage'!$A$14:$A$28,0,MATCH('Production laitière'!CA42,'Planning de pâturage'!$B$11:$NH$11))>0,0),))} -> #N/A
B43: J32 | C43: 41668 | F43: =D43/E43 -> #DIV/0! | G43: {=IF(COUNTIF(OFFSET('Planning de pâturage'!$A$14:$A$28,,MATCH('Production laitière'!B43,'Planning de pâturage'!$B$11:$NH$11)),">"&0)>1,"A CHOISIR", OFFSET('Planning de pâturage'!$A$13,MATCH(TRUE,OFFSET('Planning de pâturage'!$A$14:$A$28,0,MATCH('Production laitière'!B43,'Planning de pâturage'!$B$11:$NH$11))>0,0),))} -> #N/A | P43: J95 | Q43: 42096 | T43: =R43/S43 -> #DIV/0! | U43: {=IF(COUNTIF(OFFSET('Planning de pâturage'!$A$14:$A$28,0,MATCH('Production laitière'!P43,'Planning de pâturage'!$B$11:$NH$11)),">"&0)>1,"A CHOISIR", OFFSET('Planning de pâturage'!$A$13,MATCH(TRUE,OFFSET('Planning de pâturage'!$A$14:$A$28,0,MATCH('Production laitière'!P43,'Planning de pâturage'!$B$11:$NH$11))>0,0),))} -> #N/A | AR43: J214 | AS43: 42215 | AV43: =AT43/AU43 -> #DIV/0! | AW43: {=IF(COUNTIF(OFFSET('Planning de pâturage'!$A$14:$A$28,0,MATCH('Production laitière'!AR43,'Planning de pâturage'!$B$11:$NH$11)),">"&0)>1,"A CHOISIR", OFFSET('Planning de pâturage'!$A$13,MATCH(TRUE,OFFSET('Planning de pâturage'!$A$14:$A$28,0,MATCH('Production laitière'!AR43,'Planning de pâturage'!$B$11:$NH$11))>0,0),))} -> #N/A | BM43: J305 | BN43: 42306 | BQ43: =BO43/BP43 -> #DIV/0! | BR43: {=IF(COUNTIF(OFFSET('Planning de pâturage'!$A$14:$A$28,0,MATCH('Production laitière'!BM43,'Planning de pâturage'!$B$11:$NH$11)),">"&0)>1,"A CHOISIR", OFFSET('Planning de pâturage'!$A$13,MATCH(TRUE,OFFSET('Planning de pâturage'!$A$14:$A$28,0,MATCH('Production laitière'!BM43,'Planning de pâturage'!$B$11:$NH$11))>0,0),))} -> #N/A | CA43: J368 | CB43: 42004 | CE43: =CC43/CD43 -> #DIV/0! | CF43: {=IF(COUNTIF(OFFSET('Planning de pâturage'!$A$14:$A$28,0,MATCH('Production laitière'!CA43,'Planning de pâturage'!$B$11:$NH$11)),">"&0)>1,"A CHOISIR", OFFSET('Planning de pâturage'!$A$13,MATCH(TRUE,OFFSET('Planning de pâturage'!$A$14:$A$28,0,MATCH('Production laitière'!CA43,'Planning de pâturage'!$B$11:$NH$11))>0,0),))} -> #N/A
B44: J33 | C44: 41669 | F44: =D44/E44 -> #DIV/0! | G44: {=IF(COUNTIF(OFFSET('Planning de pâturage'!$A$14:$A$28,,MATCH('Production laitière'!B44,'Planning de pâturage'!$B$11:$NH$11)),">"&0)>1,"A CHOISIR", OFFSET('Planning de pâturage'!$A$13,MATCH(TRUE,OFFSET('Planning de pâturage'!$A$14:$A$28,0,MATCH('Production laitière'!B44,'Planning de pâturage'!$B$11:$NH$11))>0,0),))} -> #N/A | P44: J96 | Q44: 42097 | T44: =R44/S44 -> #DIV/0! | U44: {=IF(COUNTIF(OFFSET('Planning de pâturage'!$A$14:$A$28,0,MATCH('Production laitière'!P44,'Planning de pâturage'!$B$11:$NH$11)),">"&0)>1,"A CHOISIR", OFFSET('Planning de pâturage'!$A$13,MATCH(TRUE,OFFSET('Planning de pâturage'!$A$14:$A$28,0,MATCH('Production laitière'!P44,'Planning de pâturage'!$B$11:$NH$11))>0,0),))} -> #N/A | AR44: J215 | AS44: 42216 | AV44: =AT44/AU44 -> #DIV/0! | AW44: {=IF(COUNTIF(OFFSET('Planning de pâturage'!$A$14:$A$28,0,MATCH('Production laitière'!AR44,'Planning de pâturage'!$B$11:$NH$11)),">"&0)>1,"A CHOISIR", OFFSET('Planning de pâturage'!$A$13,MATCH(TRUE,OFFSET('Planning de pâturage'!$A$14:$A$28,0,MATCH('Production laitière'!AR44,'Planning de pâturage'!$B$11:$NH$11))>0,0),))} -> #N/A | BM44: J306 | BN44: 42307 | BQ44: =BO44/BP44 -> #DIV/0! | BR44: {=IF(COUNTIF(OFFSET('Planning de pâturage'!$A$14:$A$28,0,MATCH('Production laitière'!BM44,'Planning de pâturage'!$B$11:$NH$11)),">"&0)>1,"A CHOISIR", OFFSET('Planning de pâturage'!$A$13,MATCH(TRUE,OFFSET('Planning de pâturage'!$A$14:$A$28,0,MATCH('Production laitière'!BM44,'Planning de pâturage'!$B$11:$NH$11))>0,0),))} -> #N/A | CA44: J369 | CB44: 42005 | CE44: =CC44/CD44 -> #DIV/0! | CF44: {=IF(COUNTIF(OFFSET('Planning de pâturage'!$A$14:$A$28,0,MATCH('Production laitière'!CA44,'Planning de pâturage'!$B$11:$NH$11)),">"&0)>1,"A CHOISIR", OFFSET('Planning de pâturage'!$A$13,MATCH(TRUE,OFFSET('Planning de pâturage'!$A$14:$A$28,0,MATCH('Production laitière'!CA44,'Planning de pâturage'!$B$11:$NH$11))>0,0),))} -> #N/A
B45: J34 | C45: 41670 | F45: =D45/E45 -> #DIV/0! | G45: {=IF(COUNTIF(OFFSET('Planning de pâturage'!$A$14:$A$28,,MATCH('Production laitière'!B45,'Planning de pâturage'!$B$11:$NH$11)),">"&0)>1,"A CHOISIR", OFFSET('Planning de pâturage'!$A$13,MATCH(TRUE,OFFSET('Planning de pâturage'!$A$14:$A$28,0,MATCH('Production laitière'!B45,'Planning de pâturage'!$B$11:$NH$11))>0,0),))} -> #N/A | P45: J97 | Q45: 42098 | T45: =R45/S45 -> #DIV/0! | U45: {=IF(COUNTIF(OFFSET('Planning de pâturage'!$A$14:$A$28,0,MATCH('Production laitière'!P45,'Planning de pâturage'!$B$11:$NH$11)),">"&0)>1,"A CHOISIR", OFFSET('Planning de pâturage'!$A$13,MATCH(TRUE,OFFSET('Planning de pâturage'!$A$14:$A$28,0,MATCH('Production laitière'!P45,'Planning de pâturage'!$B$11:$NH$11))>0,0),))} -> #N/A | AR45: J216 | AS45: 42217 | AV45: =AT45/AU45 -> #DIV/0! | AW45: {=IF(COUNTIF(OFFSET('Planning de pâturage'!$A$14:$A$28,0,MATCH('Production laitière'!AR45,'Planning de pâturage'!$B$11:$NH$11)),">"&0)>1,"A CHOISIR", OFFSET('Planning de pâturage'!$A$13,MATCH(TRUE,OFFSET('Planning de pâturage'!$A$14:$A$28,0,MATCH('Production laitière'!AR45,'Planning de pâturage'!$B$11:$NH$11))>0,0),))} -> #N/A | BM45: J307 | BN45: 42308 | BQ45: =BO45/BP45 -> #DIV/0! | BR45: {=IF(COUNTIF(OFFSET('Planning de pâturage'!$A$14:$A$28,0,MATCH('Production laitière'!BM45,'Planning de pâturage'!$B$11:$NH$11)),">"&0)>1,"A CHOISIR", OFFSET('Planning de pâturage'!$A$13,MATCH(TRUE,OFFSET('Planning de pâturage'!$A$14:$A$28,0,MATCH('Production laitière'!BM45,'Planning de pâturage'!$B$11:$NH$11))>0,0),))} -> #N/A | CA45: J370 | CB45: 42006 | CE45: =CC45/CD45 -> #DIV/0! | CF45: {=IF(COUNTIF(OFFSET('Planning de pâturage'!$A$14:$A$28,0,MATCH('Production laitière'!CA45,'Planning de pâturage'!$B$11:$NH$11)),">"&0)>1,"A CHOISIR", OFFSET('Planning de pâturage'!$A$13,MATCH(TRUE,OFFSET('Planning de pâturage'!$A$14:$A$28,0,MATCH('Production laitière'!CA45,'Planning de pâturage'!$B$11:$NH$11))>0,0),))} -> #N/A
B46: J35 | C46: 41671 | F46: =D46/E46 -> #DIV/0! | G46: {=IF(COUNTIF(OFFSET('Planning de pâturage'!$A$14:$A$28,,MATCH('Production laitière'!B46,'Planning de pâturage'!$B$11:$NH$11)),">"&0)>1,"A CHOISIR", OFFSET('Planning de pâturage'!$A$13,MATCH(TRUE,OFFSET('Planning de pâturage'!$A$14:$A$28,0,MATCH('Production laitière'!B46,'Planning de pâturage'!$B$11:$NH$11))>0,0),))} -> #N/A | P46: J98 | Q46: 42099 | T46: =R46/S46 -> #DIV/0! | U46: {=IF(COUNTIF(OFFSET('Planning de pâturage'!$A$14:$A$28,0,MATCH('Production laitière'!P46,'Planning de pâturage'!$B$11:$NH$11)),">"&0)>1,"A CHOISIR", OFFSET('Planning de pâturage'!$A$13,MATCH(TRUE,OFFSET('Planning de pâturage'!$A$14:$A$28,0,MATCH('Production laitière'!P46,'Planning de pâturage'!$B$11:$NH$11))>0,0),))} -> #N/A | AR46: J217 | AS46: 42218 | AV46: =AT46/AU46 -> #DIV/0! | AW46: {=IF(COUNTIF(OFFSET('Planning de pâturage'!$A$14:$A$28,0,MATCH('Production laitière'!AR46,'Planning de pâturage'!$B$11:$NH$11)),">"&0)>1,"A CHOISIR", OFFSET('Planning de pâturage'!$A$13,MATCH(TRUE,OFFSET('Planning de pâturage'!$A$14:$A$28,0,MATCH('Production laitière'!AR46,'Planning de pâturage'!$B$11:$NH$11))>0,0),))} -> #N/A | BM46: J308 | BN46: 42309 | BQ46: =BO46/BP46 -> #DIV/0! | BR46: {=IF(COUNTIF(OFFSET('Planning de pâturage'!$A$14:$A$28,0,MATCH('Production laitière'!BM46,'Planning de pâturage'!$B$11:$NH$11)),">"&0)>1,"A CHOISIR", OFFSET('Planning de pâturage'!$A$13,MATCH(TRUE,OFFSET('Planning de pâturage'!$A$14:$A$28,0,MATCH('Production laitière'!BM46,'Planning de pâturage'!$B$11:$NH$11))>0,0),))} -> #N/A | CA46: J371 | CB46: 42007 | CE46: =CC46/CD46 -> #DIV/0! | CF46: {=IF(COUNTIF(OFFSET('Planning de pâturage'!$A$14:$A$28,0,MATCH('Production laitière'!CA46,'Planning de pâturage'!$B$11:$NH$11)),">"&0)>1,"A CHOISIR", OFFSET('Planning de pâturage'!$A$13,MATCH(TRUE,OFFSET('Planning de pâturage'!$A$14:$A$28,0,MATCH('Production laitière'!CA46,'Planning de pâturage'!$B$11:$NH$11))>0,0),))} -> #N/A
C47: Prod totale mois | D47: =SUM(D12:D46) -> 0 | E47: Moy mois | F47: =AVERAGE(F12:F46) -> #DIV/0! | Q47: Prod totale mois | R47: =SUM(R12:R46) -> 0 | S47: Moy mois | T47: =AVERAGE(T12:T46) -> #DIV/0! | AS47: Prod totale mois | AT47: =SUM(AT12:AT46) -> 0 | AU47: Moy mois | AV47: =AVERAGE(AV12:AV46) -> #DIV/0! | BN47: Prod totale mois | BO47: =SUM(BO12:BO46) -> 0 | BP47: Moy mois | BQ47: =AVERAGE(BQ12:BQ46) -> #DIV/0! | CB47: Prod totale mois | CC47: =SUM(CC9:CC46) -> 0 | CD47: Moy mois | CE47: =AVERAGE(CE9:CE46) -> #DIV/0!
A49: Production totale sur l'année (L) | E49: =SUM(D47,K40,R47,Y40,AF40,AM40,AT47,BA40,BH40,BO47,BV40,CC47) -> 0
A50: Production moyenne sur l'année (L/VL) | E50: =SUM(F48,M41,T48,AA41,AH41,AO41,AV48,BC41,BJ41,BQ48,BX41,CE45) -> #DIV/0!
A52: Bilan par semaine
C53: Prod totale semaine (L) | E53: Moy semaine (L/VL)
A54: S1 | C54: =SUM(D12:D18) -> 0 | E54: =AVERAGE(F12:F18) -> #DIV/0!
A55: S2 | C55: =SUM(D19:D25) -> 0 | E55: =AVERAGE(F19:F25) -> #DIV/0!
A56: S3 | C56: =SUM(D26:D32) -> 0 | E56: =AVERAGE(F26:F32) -> #DIV/0!
A57: S4 | C57: =SUM(D33:D39) -> 0 | E57: =AVERAGE(F33:F39) -> #DIV/0!
A58: S5 | C58: =SUM(D40:D46) -> 0 | E58: =AVERAGE(F40:F46) -> #DIV/0!
A59: S6 | C59: =SUM(K12:K18) -> 0 | E59: =AVERAGE(M12:M18) -> #DIV/0!
A60: S7 | C60: =SUM(K19:K25) -> 0 | E60: =AVERAGE(M19:M25) -> #DIV/0!
A61: S8 | C61: =SUM(K20:K26) -> 0 | E61: =AVERAGE(M20:M26) -> #DIV/0!
A62: S9 | C62: =SUM(K21:K27) -> 0 | E62: =AVERAGE(M21:M27) -> #DIV/0!
A63: S10 | C63: =SUM(K22:K28) -> 0 | E63: =AVERAGE(T12:T18) -> #DIV/0!
A64: S11 | C64: =SUM(K23:K29) -> 0 | E64: =AVERAGE(T19:T25) -> #DIV/0!
A65: S12 | C65: =SUM(K24:K30) -> 0 | E65: =AVERAGE(T26:T32) -> #DIV/0!
A66: S13 | C66: =SUM(K25:K31) -> 0 | E66: =AVERAGE(T33:T39) -> #DIV/0!
A67: S14 | C67: =SUM(K26:K32) -> 0 | E67: =AVERAGE(T40:T46) -> #DIV/0!
A68: S15 | C68: =SUM(Y12:Y18) -> 0 | E68: =AVERAGE(AA12:AA18) -> #DIV/0!
A69: S16 | C69: =SUM(Y19:Y25) -> 0 | E69: =AVERAGE(AA19:AA25) -> #DIV/0!
A70: S17 | C70: =SUM(Y26:Y32) -> 0 | E70: =AVERAGE(AA26:AA32) -> #DIV/0!
A71: S18 | C71: =SUM(Y33:Y39) -> 0 | E71: =AVERAGE(AA33:AA39) -> #DIV/0!
A72: S19 | C72: =SUM(AF12:AF18) -> 0 | E72: =AVERAGE(AH12:AH18) -> #DIV/0!
A73: S20 | C73: =SUM(AF19:AF25) -> 0 | E73: =AVERAGE(AH19:AH25) -> #DIV/0!
A74: S21 | C74: =SUM(AF26:AF32) -> 0 | E74: =AVERAGE(AH26:AH32) -> #DIV/0!
A75: S22 | C75: =SUM(AF33:AF39) -> 0 | E75: =AVERAGE(AH33:AH39) -> #DIV/0!
A76: S23 | C76: =SUM(AM12:AM18) -> 0 | E76: =AVERAGE(AO12:AO18) -> #DIV/0!
A77: S24 | C77: =SUM(AM19:AM25) -> 0 | E77: =AVERAGE(AO19:AO25) -> #DIV/0!
A78: S25 | C78: =SUM(AM26:AM32) -> 0 | E78: =AVERAGE(AO26:AO32) -> #DIV/0!
A79: S26 | C79: =SUM(AM33:AM39) -> 0 | E79: =AVERAGE(AO33:AO39) -> #DIV/0!
A80: S27 | C80: =SUM(AT12:AT18) -> 0 | E80: =AVERAGE(AV12:AV18) -> #DIV/0!
A81: S28 | C81: =SUM(AT19:AT25) -> 0 | E81: =AVERAGE(AV19:AV25) -> #DIV/0!
A82: S29 | C82: =SUM(AT26:AT32) -> 0 | E82: =AVERAGE(AV26:AV32) -> #DIV/0!
A83: S30 | C83: =SUM(AT33:AT39) -> 0 | E83: =AVERAGE(AV33:AV39) -> #DIV/0!
A84: S31 | C84: =SUM(AT40:AT46) -> 0 | E84: =AVERAGE(AV40:AV46) -> #DIV/0!
A85: S32 | C85: =SUM(BA12:BA18) -> 0 | E85: =AVERAGE(BC12:BC18) -> #DIV/0!
A86: S33 | C86: =SUM(BA19:BA25) -> 0 | E86: =AVERAGE(BC19:BC25) -> #DIV/0!
A87: S34 | C87: =SUM(BA26:BA32) -> 0 | E87: =AVERAGE(BC26:BC32) -> #DIV/0!
A88: S35 | C88: =SUM(BA33:BA39) -> 0 | E88: =AVERAGE(BC33:BC39) -> #DIV/0!
A89: S36 | C89: =SUM(BH12:BH18) -> 0 | E89: =AVERAGE(BJ12:BJ18) -> #DIV/0!
A90: S37 | C90: =SUM(BH19:BH25) -> 0 | E90: =AVERAGE(BJ19:BJ25) -> #DIV/0!
A91: S38 | C91: =SUM(BH26:BH32) -> 0 | E91: =AVERAGE(BJ26:BJ32) -> #DIV/0!
A92: S39 | C92: =SUM(BH33:BH39) -> 0 | E92: =AVERAGE(BJ33:BJ39) -> #DIV/0!
A93: S40 | C93: =SUM(BO12:BO18) -> 0 | E93: =AVERAGE(BQ12:BQ18) -> #DIV/0!
A94: S41 | C94: =SUM(BO19:BO25) -> 0 | E94: =AVERAGE(BQ19:BQ25) -> #DIV/0!
A95: S42 | C95: =SUM(BO26:BO32) -> 0 | E95: =AVERAGE(BQ26:BQ32) -> #DIV/0!
A96: S43 | C96: =SUM(BO33:BO39) -> 0 | E96: =AVERAGE(BQ33:BQ39) -> #DIV/0!
A97: S44 | C97: =SUM(BO40:BO46) -> 0 | E97: =AVERAGE(BQ40:BQ46) -> #DIV/0!
A98: S45 | C98: =SUM(BV12:BV18) -> 0 | E98: =AVERAGE(BX12:BX18) -> #DIV/0!
A99: S46 | C99: =SUM(BV19:BV25) -> 0 | E99: =AVERAGE(BX19:BX25) -> #DIV/0!
A100: S47 | C100: =SUM(BV26:BV32) -> 0 | E100: =AVERAGE(BX26:BX32) -> #DIV/0!
A101: S48 | C101: =SUM(BV33:BV39) -> 0 | E101: =AVERAGE(BX33:BX39) -> #DIV/0!
A102: S49 | C102: =SUM(CC12:CC18) -> 0 | E102: =AVERAGE(CF12:CF18) -> #N/A
A103: S50 | C103: =SUM(CC19:CC25) -> 0 | E103: =AVERAGE(CE19:CE25) -> #DIV/0!
A104: S51 | C104: =SUM(CC26:CC32) -> 0 | E104: =AVERAGE(CE26:CE32) -> #DIV/0!
A105: S52 | C105: =SUM(CC33:CC40) -> 0 | E105: =AVERAGE(CE33:CE39) -> #DIV/0!
A106: S53 | C106: =SUM(CC40:CC46) -> 0 | E106: =AVERAGE(CE40:CE46) -> #DIV/0!
A108: Production totale maximale (L) | E108: =MAX(C54:C106) -> 0
A109: Production moyenne maximale (L/VL) | E109: =MAX(E54:E106) -> #DIV/0!
A111: Production totale minimale (L) | E111: =MIN(C54:C106) -> 0
A112: Production moyenne minimale (L/VL) | E112: =MIN(E54:E106) -> #DIV/0!
