Workbook

Sheet Planning de pâturage
A9: Mois | B9: Janvier | AK9: Février | BM9: Mars | CV9: Avril | DX9: Mai | EZ9: Juin | GB9: Juillet | HK9: Août | IM9: Septembre | JO9: Octobre | KX9: Novembre | LZ9: Décembre
A10: Semaine | B10: S1 | I10: S2 | P10: S3 | W10: S4 | AD10: S5 | AK10: S6 | AR10: S7 | AY10: S8 | BF10: S9 | BM10: S10 | BT10: S11 | CA10: S12 | CH10: S13 | CO10: S14 | CV10: S15 | DC10: S16 | DJ10: S17 | DQ10: S18 | DX10: S19 | EE10: S20 | EL10: S21 | ES10: S22 | EZ10: S23 | FG10: S24 | FN10: S25 | FU10: S26 | GB10: S27 | GI10: S28 | GP10: S29 | GW10: S30 | HD10: S31 | HK10: S32 | HR10: S33 | HY10: S34 | IF10: S35 | IM10: S36 | IT10: S37 | JA10: S38 | JH10: S39 | JO10: S40 | JV10: S41 | KC10: S42 | KJ10: S43 | KQ10: S44 | KX10: S45 | LE10: S46 | LL10: S47 | LS10: S48 | LZ10: S49 | MG10: S50 | MN10: S51 | MU10: S52 | NB10: S53
A11: Jour | B11: J1 | C11: J2 | D11: J3 | E11: J4 | F11: J5 | G11: J6 | H11: J7 | I11: J8 | J11: J9 | K11: J10 | L11: J11 | M11: J12 | N11: J13 | O11: J14 | P11: J15 | Q11: J16 | R11: J17 | S11: J18 | T11: J19 | U11: J20 | V11: J21 | W11: J22 | X11: J23 | Y11: J24 | Z11: J25 | AA11: J26 | AB11: J27 | AC11: J28 | AD11: J29 | AE11: J30 | AF11: J31 | AG11: J32 | AH11: J33 | AI11: J34 | AJ11: J35 | AK11: J36 | AL11: J37 | AM11: J38 | AN11: J39 | AO11: J40 | AP11: J41 | AQ11: J42 | AR11: J43 | AS11: J44 | AT11: J45 | AU11: J46 | AV11: J47 | AW11: J48 | AX11: J49 | AY11: J50 | AZ11: J51 | BA11: J52 | BB11: J53 | BC11: J54 | BD11: J55 | BE11: J56 | BF11: J57 | BG11: J58 | BH11: J59 | BI11: J60 | BJ11: J61 | BK11: J62 | BL11: J63 | BM11: J64 | BN11: J65 | BO11: J66 | BP11: J67 | BQ11: J68 | BR11: J69 | BS11: J70 | BT11: J71 | BU11: J72 | BV11: J73 | BW11: J74 | BX11: J75 | BY11: J76 | BZ11: J77 | CA11: J78 | CB11: J79 | CC11: J80 | CD11: J81 | CE11: J82 | CF11: J83 | CG11: J84 | CH11: J85 | CI11: J86 | CJ11: J87 | CK11: J88 | CL11: J89 | CM11: J90 | CN11: J91 | CO11: J92 | CP11: J93 | CQ11: J94 | CR11: J95 | CS11: J96 | CT11: J97 | CU11: J98 | CV11: J99 | CW11: J100 | CX11: J101 | CY11: J102 | CZ11: J103 | DA11: J104 | DB11: J105 | DC11: J106 | DD11: J107 | DE11: J108 | DF11: J109 | DG11: J110 | DH11: J111 | DI11: J112 | DJ11: J113 | DK11: J114 | DL11: J115 | DM11: J116 | DN11: J117 | DO11: J118 | DP11: J119 | DQ11: J120 | DR11: J121 | DS11: J122 | DT11: J123 | DU11: J124 | DV11: J125 | DW11: J126 | DX11: J127 | DY11: J128 | DZ11: J129 | EA11: J130 | EB11: J131 | EC11: J132 | ED11: J133 | EE11: J134 | EF11: J135 | EG11: J136 | EH11: J137 | EI11: J138 | EJ11: J139 | EK11: J140 | EL11: J141 | EM11: J142 | EN11: J143 | EO11: J144 | EP11: J145 | EQ11: J146 | ER11: J147 | ES11: J148 | ET11: J149 | EU11: J150 | EV11: J151 | EW11: J152 | EX11: J153 | EY11: J154 | EZ11: J155 | FA11: J156 | FB11: J157 | FC11: J158 | FD11: J159 | FE11: J160 | FF11: J161 | FG11: J162 | FH11: J163 | FI11: J164 | FJ11: J165 | FK11: J166 | FL11: J167 | FM11: J168 | FN11: J169 | FO11: J170 | FP11: J171 | FQ11: J172 | FR11: J173 | FS11: J174 | FT11: J175 | FU11: J176 | FV11: J177 | FW11: J178 | FX11: J179 | FY11: J180 | FZ11: J181 | GA11: J182 | GB11: J183 | GC11: J184 | GD11: J185 | GE11: J186 | GF11: J187 | GG11: J188 | GH11: J189 | GI11: J190 | GJ11: J191 | GK11: J192 | GL11: J193 | GM11: J194 | GN11: J195 | GO11: J196 | GP11: J197 | GQ11: J198 | GR11: J199 | GS11: J200 | GT11: J201 | GU11: J202 | GV11: J203 | GW11: J204 | GX11: J205 | GY11: J206 | GZ11: J207 | HA11: J208 | HB11: J209 | HC11: J210 | HD11: J211 | HE11: J212 | HF11: J213 | HG11: J214 | HH11: J215 | HI11: J216 | HJ11: J217 | HK11: J218 | HL11: J219 | HM11: J220 | HN11: J221 | HO11: J222 | HP11: J223 | HQ11: J224 | HR11: J225 | HS11: J226 | HT11: J227 | HU11: J228 | HV11: J229 | HW11: J230 | HX11: J231 | HY11: J232 | HZ11: J233 | IA11: J234 | IB11: J235 | IC11: J236 | ID11: J237 | IE11: J238 | IF11: J239 | IG11: J240 | IH11: J241 | II11: J242 | IJ11: J243 | IK11: J244 | IL11: J245 | IM11: J246 | IN11: J247 | IO11: J248 | IP11: J249 | IQ11: J250 | IR11: J251 | IS11: J252 | IT11: J253 | IU11: J254 | IV11: J255 | IW11: J256 | IX11: J257 | IY11: J258 | IZ11: J259 | JA11: J260 | JB11: J261 | JC11: J262 | JD11: J263 | JE11: J264 | JF11: J265 | JG11: J266 | JH11: J267 | JI11: J268 | JJ11: J269 | JK11: J270 | JL11: J271 | JM11: J272 | JN11: J273 | JO11: J274 | JP11: J275 | JQ11: J276 | JR11: J277 | JS11: J278 | JT11: J279 | JU11: J280 | JV11: J281 | JW11: J282 | JX11: J283 | JY11: J284 | JZ11: J285 | KA11: J286 | KB11: J287 | KC11: J288 | KD11: J289 | KE11: J290 | KF11: J291 | KG11: J292 | KH11: J293 | KI11: J294 | KJ11: J295 | KK11: J296 | KL11: J297 | KM11: J298 | KN11: J299 | KO11: J300 | KP11: J301 | KQ11: J302 | KR11: J303 | KS11: J304 | KT11: J305 | KU11: J306 | KV11: J307 | KW11: J308 | KX11: J309 | KY11: J310 | KZ11: J311 | LA11: J312 | LB11: J313 | LC11: J314 | LD11: J315 | LE11: J316 | LF11: J317 | LG11: J318 | LH11: J319 | LI11: J320 | LJ11: J321 | LK11: J322 | LL11: J323 | LM11: J324 | LN11: J325 | LO11: J326 | LP11: J327 | LQ11: J328 | LR11: J329 | LS11: J330 | LT11: J331 | LU11: J332 | LV11: J333 | LW11: J334 | LX11: J335 | LY11: J336 | LZ11: J337 | MA11: J338 | MB11: J339 | MC11: J340 | MD11: J341 | ME11: J342 | MF11: J343 | MG11: J344 | MH11: J345 | MI11: J346 | MJ11: J347 | MK11: J348 | ML11: J349 | MM11: J350 | MN11: J351 | MO11: J352 | MP11: J353 | MQ11: J354 | MR11: J355 | MS11: J356 | MT11: J357 | MU11: J358 | MV11: J359 | MW11: J360 | MX11: J361 | MY11: J362 | MZ11: J363 | NA11: J364 | NB11: J365 | NC11: J366 | ND11: J367 | NE11: J368 | NF11: J369 | NG11: J370 | NH11: J371
A12: Date | B12: 41637 | C12: 41638 | D12: 41639 | E12: 41640 | F12: 41641 | G12: 41642 | H12: 41643 | I12: 41644 | J12: 41645 | K12: 41646 | L12: 41647 | M12: 41648 | N12: 41649 | O12: 41650 | P12: 41651 | Q12: 41652 | R12: 41653 | S12: 41654 | T12: 41655 | U12: 41656 | V12: 41657 | W12: 41658 | X12: 41659 | Y12: 41660 | Z12: 41661 | AA12: 41662 | AB12: 41663 | AC12: 41664 | AD12: 41665 | AE12: 41666 | AF12: 41667 | AG12: 41668 | AH12: 41669 | AI12: 41670 | AJ12: 41671 | AK12: 41672 | AL12: 41673 | AM12: 41674 | AN12: 41675 | AO12: 41676 | AP12: 41677 | AQ12: 41678 | AR12: 41679 | AS12: 41680 | AT12: 41681 | AU12: 41682 | AV12: 41683 | AW12: 41684 | AX12: 41685 | AY12: 41686 | AZ12: 41687 | BA12: 41688 | BB12: 41689 | BC12: 41690 | BD12: 41691 | BE12: 41692 | BF12: 41693 | BG12: 41694 | BH12: 41695 | BI12: 41696 | BJ12: 41697 | BK12: 41698 | BL12: 41699 | BM12: 41700 | BN12: 41701 | BO12: 41702 | BP12: 41703 | BQ12: 41704 | BR12: 41705 | BS12: 41706 | BT12: 41707 | BU12: 41708 | BV12: 41709 | BW12: 41710 | BX12: 41711 | BY12: 41712 | BZ12: 41713 | CA12: 41714 | CB12: 41715 | CC12: 41716 | CD12: 41717 | CE12: 41718 | CF12: 41719 | CG12: 41720 | CH12: 41721 | CI12: 41722 | CJ12: 41723 | CK12: 41724 | CL12: 41725 | CM12: 41726 | CN12: 41727 | CO12: 41728 | CP12: 41729 | CQ12: 41730 | CR12: 41731 | CS12: 41732 | CT12: 41733 | CU12: 41734 | CV12: 41735 | CW12: 41736 | CX12: 41737 | CY12: 41738 | CZ12: 41739 | DA12: 41740 | DB12: 41741 | DC12: 41742 | DD12: 41743 | DE12: 41744 | DF12: 41745 | DG12: 41746 | DH12: 41747 | DI12: 41748 | DJ12: 41749 | DK12: 41750 | DL12: 41751 | DM12: 41752 | DN12: 41753 | DO12: 41754 | DP12: 41755 | DQ12: 41756 | DR12: 41757 | DS12: 41758 | DT12: 41759 | DU12: 41760 | DV12: 41761 | DW12: 41762 | DX12: 41763 | DY12: 41764 | DZ12: 41765 | EA12: 41766 | EB12: 41767 | EC12: 41768 | ED12: 41769 | EE12: 41770 | EF12: 41771 | EG12: 41772 | EH12: 41773 | EI12: 41774 | EJ12: 41775 | EK12: 41776 | EL12: 41777 | EM12: 41778 | EN12: 41779 | EO12: 41780 | EP12: 41781 | EQ12: 41782 | ER12: 41783 | ES12: 41784 | ET12: 41785 | EU12: 41786 | EV12: 41787 | EW12: 41788 | EX12: 41789 | EY12: 41790 | EZ12: 41791 | FA12: 41792 | FB12: 41793 | FC12: 41794 | FD12: 41795 | FE12: 41796 | FF12: 41797 | FG12: 41798 | FH12: 41799 | FI12: 41800 | FJ12: 41801 | FK12: 41802 | FL12: 41803 | FM12: 41804 | FN12: 41805 | FO12: 41806 | FP12: 41807 | FQ12: 41808 | FR12: 41809 | FS12: 41810 | FT12: 41811 | FU12: 41812 | FV12: 41813 | FW12: 41814 | FX12: 41815 | FY12: 41816 | FZ12: 41817 | GA12: 41818 | GB12: 41819 | GC12: 41820 | GD12: 41821 | GE12: 41822 | GF12: 41823 | GG12: 41824 | GH12: 41825 | GI12: 41826 | GJ12: 41827 | GK12: 41828 | GL12: 41829 | GM12: 41830 | GN12: 41831 | GO12: 41832 | GP12: 41833 | GQ12: 41834 | GR12: 41835 | GS12: 41836 | GT12: 41837 | GU12: 41838 | GV12: 41839 | GW12: 41840 | GX12: 41841 | GY12: 41842 | GZ12: 41843 | HA12: 41844 | HB12: 41845 | HC12: 41846 | HD12: 41847 | HE12: 41848 | HF12: 41849 | HG12: 41850 | HH12: 41851 | HI12: 41852 | HJ12: 41853 | HK12: 41854 | HL12: 41855 | HM12: 41856 | HN12: 41857 | HO12: 41858 | HP12: 41859 | HQ12: 41860 | HR12: 41861 | HS12: 41862 | HT12: 41863 | HU12: 41864 | HV12: 41865 | HW12: 41866 | HX12: 41867 | HY12: 41868 | HZ12: 41869 | IA12: 41870 | IB12: 41871 | IC12: 41872 | ID12: 41873 | IE12: 41874 | IF12: 41875 | IG12: 41876 | IH12: 41877 | II12: 41878 | IJ12: 41879 | IK12: 41880 | IL12: 41881 | IM12: 41882 | IN12: 41883 | IO12: 41884 | IP12: 41885 | IQ12: 41886 | IR12: 41887 | IS12: 41888 | IT12: 41889 | IU12: 41890 | IV12: 41891 | IW12: 41892 | IX12: 41893 | IY12: 41894 | IZ12: 41895 | JA12: 41896 | JB12: 41897 | JC12: 41898 | JD12: 41899 | JE12: 41900 | JF12: 41901 | JG12: 41902 | JH12: 41903 | JI12: 41904 | JJ12: 41905 | JK12: 41906 | JL12: 41907 | JM12: 41908 | JN12: 41909 | JO12: 41910 | JP12: 41911 | JQ12: 41912 | JR12: 41913 | JS12: 41914 | JT12: 41915 | JU12: 41916 | JV12: 41917 | JW12: 41918 | JX12: 41919 | JY12: 41920 | JZ12: 41921 | KA12: 41922 | KB12: 41923 | KC12: 41924 | KD12: 41925 | KE12: 41926 | KF12: 41927 | KG12: 41928 | KH12: 41929 | KI12: 41930 | KJ12: 41931 | KK12: 41932 | KL12: 41933 | KM12: 41934 | KN12: 41935 | KO12: 41936 | KP12: 41937 | KQ12: 41938 | KR12: 41939 | KS12: 41940 | KT12: 41941 | KU12: 41942 | KV12: 41943 | KW12: 41944 | KX12: 41945 | KY12: 41946 | KZ12: 41947 | LA12: 41948 | LB12: 41949 | LC12: 41950 | LD12: 41951 | LE12: 41952 | LF12: 41953 | LG12: 41954 | LH12: 41955 | LI12: 41956 | LJ12: 41957 | LK12: 41958 | LL12: 41959 | LM12: 41960 | LN12: 41961 | LO12: 41962 | LP12: 41963 | LQ12: 41964 | LR12: 41965 | LS12: 41966 | LT12: 41967 | LU12: 41968 | LV12: 41969 | LW12: 41970 | LX12: 41971 | LY12: 41972 | LZ12: 41973 | MA12: 41974 | MB12: 41975 | MC12: 41976 | MD12: 41977 | ME12: 41978 | MF12: 41979 | MG12: 41980 | MH12: 41981 | MI12: 41982 | MJ12: 41983 | MK12: 41984 | ML12: 41985 | MM12: 41986 | MN12: 41987 | MO12: 41988 | MP12: 41989 | MQ12: 41990 | MR12: 41991 | MS12: 41992 | MT12: 41993 | MU12: 41994 | MV12: 41995 | MW12: 41996 | MX12: 41997 | MY12: 41998 | MZ12: 41999 | NA12: 42000 | NB12: 42001 | NC12: 42002 | ND12: 42003 | NE12: 42004 | NF12: 42005 | NG12: 42006 | NH12: 42007
A13: Nombre de VL
A14: Nom paddock 1
A15: Nom paddock 2 | B15: 0.5
A16: Nom paddock 3 | C16: 1
A17: Nom paddock 4 | D17: 0.2
A18: Nom paddock 5 | E18: 0.2
A19: Nom paddock 6 | E19: 0.2
A20: Nom paddock 7
A21: Nom paddock 8
A22: Nom paddock 9
A23: Nom paddock 10
A24: Nom paddock 11
A25: Nom paddock 12
A26: Nom paddock 13
A27: Nom paddock 14
A28: Nom paddock 15
B29: =IF(SUM(B14:B28)>1,"ERREUR"," ") | C29: =IF(SUM(C14:C28)>1,"ERREUR"," ") | D29: =IF(SUM(D14:D28)>1,"ERREUR"," ") | E29: =IF(SUM(E14:E28)>1,"ERREUR"," ") | F29: =IF(SUM(F14:F28)>1,"ERREUR"," ") | G29: =IF(SUM(G14:G28)>1,"ERREUR"," ") | H29: =IF(SUM(H14:H28)>1,"ERREUR"," ") | I29: =IF(SUM(I14:I28)>1,"ERREUR"," ") | ... NH29: =IF(SUM(NH14:NH28)>1,"ERREUR"," ")

Sheet Production laitière
A10: janvier | H10: février | O10: mars | V10: avril | AC10: mai | AJ10: juin | AQ10: juillet | AX10: août | BE10: septembre | BL10: octobre | BS10: novembre | BZ10: décembre
C11: Date | D11: Litres (L) | E11: Nbre VL | F11: L/VL | G11: Paddock pâturé | J11: Date | K11: Litres (L) | L11: Nbre VL | M11: L/VL | N11: Paddock pâturé | Q11: Date | R11: Litres (L) | S11: Nbre VL | T11: L/VL | U11: Paddock pâturé | X11: Date | Y11: Litres (L) | Z11: Nbre VL | AA11: L/VL | AB11: Paddock pâturé | AE11: Date | AF11: Litres (L) | AG11: Nbre VL | AH11: L/VL | AI11: Paddock pâturé | AL11: Date | AM11: Litres (L) | AN11: Nbre VL | AO11: L/VL | AP11: Paddock pâturé | AS11: Date | AT11: Litres (L) | AU11: Nbre VL | AV11: L/VL | AW11: Paddock pâturé | AZ11: Date | BA11: Litres (L) | BB11: Nbre VL | BC11: L/VL | BD11: Paddock pâturé | BG11: Date | BH11: Litres (L) | BI11: Nbre VL | BJ11: L/VL | BK11: Paddock pâturé | BN11: Date | BO11: Litres (L) | BP11: Nbre VL | BQ11: L/VL | BR11: Paddock pâturé | BU11: Date | BV11: Litres (L) | BW11: Nbre VL | BX11: L/VL | BY11: Paddock pâturé | CB11: Date | CC11: Litres (L) | CD11: Nbre VL | CE11: L/VL | CF11: Paddock pâturé
A12: S1 | B12: J1 | C12: 41637 | F12: =D12/E12 -> #DIV/0! | G12: {=IF(COUNTIF(OFFSET('Planning de pâturage'!$A$14:$A$28,,MATCH('Production laitière'!B12,'Planning de pâturage'!$B$11:$NH$11)),">"&0)>1,"A CHOISIR", OFFSET('Planning de pâturage'!$A$13,MATCH(TRUE,OFFSET('Planning de pâturage'!$A$14:$A$28,0,MATCH('Production laitière'!B12,'Planning de pâturage'!$B$11:$NH$11))>0,0),))} -> Nom paddock 2 | H12: S6 | I12: J36 | J12: 42037 | M12: =K12/L12 -> #DIV/0! | N12: {=IF(COUNTIF(OFFSET('Planning de pâturage'!$A$14:$A$28,0,MATCH('Production laitière'!I12,'Planning de pâturage'!$B$11:$NH$11)),">"&0)>1,"A CHOISIR", OFFSET('Planning de pâturage'!$A$13,MATCH(TRUE,OFFSET('Planning de pâturage'!$A$14:$A$28,0,MATCH('Production laitière'!I12,'Planning de pâturage'!$B$11:$NH$11))>0,0),))} -> #N/A | O12: S10 | P12: J64 | Q12: 42065 | T12: =R12/S12 -> #DIV/0! | U12: {=IF(COUNTIF(OFFSET('Planning de pâturage'!$A$14:$A$28,0,MATCH('Production laitière'!P12,'Planning de pâturage'!$B$11:$NH$11)),">"&0)>1,"A CHOISIR", OFFSET('Planning de pâturage'!$A$13,MATCH(TRUE,OFFSET('Planning de pâturage'!$A$14:$A$28,0,MATCH('Production laitière'!P12,'Planning de pâturage'!$B$11:$NH$11))>0,0),))} -> #N/A | V12: S15 | W12: J99 | X12: 42100 | AA12: =Y12/Z12 -> #DIV/0! | AB12: {=IF(COUNTIF(OFFSET('Planning de pâturage'!$A$14:$A$28,0,MATCH('Production laitière'!W12,'Planning de pâturage'!$B$11:$NH$11)),">"&0)>1,"A CHOISIR", OFFSET('Planning de pâturage'!$A$13,MATCH(TRUE,OFFSET('Planning de pâturage'!$A$14:$A$28,0,MATCH('Production laitière'!W12,'Planning de pâturage'!$B$11:$NH$11))>0,0),))} -> #N/A | AC12: S19 | AD12: J127 | AE12: 42128 | AH12: =AF12/AG12 -> #DIV/0! | AI12: {=IF(COUNTIF(OFFSET('Planning de pâturage'!$A$14:$A$28,0,MATCH('Production laitière'!AD12,'Planning de pâturage'!$B$11:$NH$11)),">"&0)>1,"A CHOISIR", OFFSET('Planning de pâturage'!$A$13,MATCH(TRUE,OFFSET('Planning de pâturage'!$A$14:$A$28,0,MATCH('Production laitière'!AD12,'Planning de pâturage'!$B$11:$NH$11))>0,0),))} -> #N/A | AJ12: S23 | AK12: J155 | AL12: 42156 | AO12: =AM12/AN12 -> #DIV/0! | AP12: {=IF(COUNTIF(OFFSET('Planning de pâturage'!$A$14:$A$28,0,MATCH('Production laitière'!AK12,'Planning de pâturage'!$B$11:$NH$11)),">"&0)>1,"A CHOISIR", OFFSET('Planning de pâturage'!$A$13,MATCH(TRUE,OFFSET('Planning de pâturage'!$A$14:$A$28,0,MATCH('Production laitière'!AK12,'Planning de pâturage'!$B$11:$NH$11))>0,0),))} -> #N/A | AQ12: S27 | AR12: J183 | AS12: 42184 | AV12: =AT12/AU12 -> #DIV/0! | AW12: {=IF(COUNTIF(OFFSET('Planning de pâturage'!$A$14:$A$28,0,MATCH('Production laitière'!AR12,'Planning de pâturage'!$B$11:$NH$11)),">"&0)>1,"A CHOISIR", OFFSET('Planning de pâturage'!$A$13,MATCH(TRUE,OFFSET('Planning de pâturage'!$A$14:$A$28,0,MATCH('Production laitière'!AR12,'Planning de pâturage'!$B$11:$NH$11))>0,0),))} -> #N/A | AX12: S32 | AY12: J218 | AZ12: 42219 | BC12: =BA12/BB12 -> #DIV/0! | BD12: {=IF(COUNTIF(OFFSET('Planning de pâturage'!$A$14:$A$28,0,MATCH('Production laitière'!AY12,'Planning de pâturage'!$B$11:$NH$11)),">"&0)>1,"A CHOISIR", OFFSET('Planning de pâturage'!$A$13,MATCH(TRUE,OFFSET('Planning de pâturage'!$A$14:$A$28,0,MATCH('Production laitière'!AY12,'Planning de pâturage'!$B$11:$NH$11))>0,0),))} -> #N/A | BE12: S36 | BF12: J246 | BG12: 42247 | BJ12: =BH12/BI12 -> #DIV/0! | BK12: {=IF(COUNTIF(OFFSET('Planning de pâturage'!$A$14:$A$28,0,MATCH('Production laitière'!BF12,'Planning de pâturage'!$B$11:$NH$11)),">"&0)>1,"A CHOISIR", OFFSET('Planning de pâturage'!$A$13,MATCH(TRUE,OFFSET('Planning de pâturage'!$A$14:$A$28,0,MATCH('Production laitière'!BF12,'Planning de pâturage'!$B$11:$NH$11))>0,0),))} -> #N/A | BL12: S40 | BM12: J274 | BN12: 42275 | BQ12: =BO12/BP12 -> #DIV/0! | BR12: {=IF(COUNTIF(OFFSET('Planning de pâturage'!$A$14:$A$28,0,MATCH('Production laitière'!BM12,'Planning de pâturage'!$B$11:$NH$11)),">"&0)>1,"A CHOISIR", OFFSET('Planning de pâturage'!$A$13,MATCH(TRUE,OFFSET('Planning de pâturage'!$A$14:$A$28,0,MATCH('Production laitière'!BM12,'Planning de pâturage'!$B$11:$NH$11))>0,0),))} -> #N/A | BS12: S45 | BT12: J309 | BU12: 42310 | BX12: =BV12/BW12 -> #DIV/0! | BY12: {=IF(COUNTIF(OFFSET('Planning de pâturage'!$A$14:$A$28,0,MATCH('Production laitière'!BT12,'Planning de pâturage'!$B$11:$NH$11)),">"&0)>1,"A CHOISIR", OFFSET('Planning de pâturage'!$A$13,MATCH(TRUE,OFFSET('Planning de pâturage'!$A$14:$A$28,0,MATCH('Production laitière'!BT12,'Planning de pâturage'!$B$11:$NH$11))>0,0),))} -> #N/A | BZ12: S49 | CA12: J337 | CB12: 41973 | CE12: =CC12/CD12 -> #DIV/0! | CF12: {=IF(COUNTIF(OFFSET('Planning de pâturage'!$A$14:$A$28,0,MATCH('Production laitière'!CA12,'Planning de pâturage'!$B$11:$NH$11)),">"&0)>1,"A CHOISIR", OFFSET('Planning de pâturage'!$A$13,MATCH(TRUE,OFFSET('Planning de pâturage'!$A$14:$A$28,0,MATCH('Production laitière'!CA12,'Planning de pâturage'!$B$11:$NH$11))>0,0),))} -> #N/A
B13: J2 | C13: 41638 | F13: =D13/E13 -> #DIV/0! | G13: {=IF(COUNTIF(OFFSET('Planning de pâturage'!$A$14:$A$28,,MATCH('Production laitière'!B13,'Planning de pâturage'!$B$11:$NH$11)),">"&0)>1,"A CHOISIR", OFFSET('Planning de pâturage'!$A$13,MATCH(TRUE,OFFSET('Planning de pâturage'!$A$14:$A$28,0,MATCH('Production laitière'!B13,'Planning de pâturage'!$B$11:$NH$11))>0,0),))} -> #N/A | I13: J37 | J13: 42038 | M13: =K13/L13 -> #DIV/0! | N13: {=IF(COUNTIF(OFFSET('Planning de pâturage'!$A$14:$A$28,0,MATCH('Production laitière'!I13,'Planning de pâturage'!$B$11:$NH$11)),">"&0)>1,"A CHOISIR", OFFSET('Planning de pâturage'!$A$13,MATCH(TRUE,OFFSET('Planning de pâturage'!$A$14:$A$28,0,MATCH('Production laitière'!I13,'Planning de pâturage'!$B$11:$NH$11))>0,0),))} -> #N/A | P13: J65 | Q13: 42066 | T13: =R13/S13 -> #DIV/0! | U13: {=IF(COUNTIF(OFFSET('Planning de pâturage'!$A$14:$A$28,0,MATCH('Production laitière'!P13,'Planning de pâturage'!$B$11:$NH$11)),">"&0)>1,"A CHOISIR", OFFSET('Planning de pâturage'!$A$13,MATCH(TRUE,OFFSET('Planning de pâturage'!$A$14:$A$28,0,MATCH('Production laitière'!P13,'Planning de pâturage'!$B$11:$NH$11))>0,0),))} -> #N/A | W13: J100 | X13: 42101 | AA13: =Y13/Z13 -> #DIV/0! | AB13: {=IF(COUNTIF(OFFSET('Planning de pâturage'!$A$14:$A$28,0,MATCH('Production laitière'!W13,'Planning de pâturage'!$B$11:$NH$11)),">"&0)>1,"A CHOISIR", OFFSET('Planning de pâturage'!$A$13,MATCH(TRUE,OFFSET('Planning de pâturage'!$A$14:$A$28,0,MATCH('Production laitière'!W13,'Planning de pâturage'!$B$11:$NH$11))>0,0),))} -> Nom paddock 2 | AD13: J128 | AE13: 42129 | AH13: =AF13/AG13 -> #DIV/0! | AI13: {=IF(COUNTIF(OFFSET('Planning de pâturage'!$A$14:$A$28,0,MATCH('Production laitière'!AD13,'Planning de pâturage'!$B$11:$NH$11)),">"&0)>1,"A CHOISIR", OFFSET('Planning de pâturage'!$A$13,MATCH(TRUE,OFFSET('Planning de pâturage'!$A$14:$A$28,0,MATCH('Production laitière'!AD13,'Planning de pâturage'!$B$11:$NH$11))>0,0),))} -> #N/A | AK13: J156 | AL13: 42157 | AO13: =AM13/AN13 -> #DIV/0! | AP13: {=IF(COUNTIF(OFFSET('Planning de pâturage'!$A$14:$A$28,0,MATCH('Production laitière'!AK13,'Planning de pâturage'!$B$11:$NH$11)),">"&0)>1,"A CHOISIR", OFFSET('Planning de pâturage'!$A$13,MATCH(TRUE,OFFSET('Planning de pâturage'!$A$14:$A$28,0,MATCH('Production laitière'!AK13,'Planning de pâturage'!$B$11:$NH$11))>0,0),))} -> #N/A | AR13: J184 | AS13: 42185 | AV13: =AT13/AU13 -> #DIV/0! | AW13: {=IF(COUNTIF(OFFSET('Planning de pâturage'!$A$14:$A$28,0,MATCH('Production laitière'!AR13,'Planning de pâturage'!$B$11:$NH$11)),">"&0)>1,"A CHOISIR", OFFSET('Planning de pâturage'!$A$13,MATCH(TRUE,OFFSET('Planning de pâturage'!$A$14:$A$28,0,MATCH('Production laitière'!AR13,'Planning de pâturage'!$B$11:$NH$11))>0,0),))} -> #N/A | AY13: J219 | AZ13: 42220 | BC13: =BA13/BB13 -> #DIV/0! | BD13: {=IF(COUNTIF(OFFSET('Planning de pâturage'!$A$14:$A$28,0,MATCH('Production laitière'!AY13,'Planning de pâturage'!$B$11:$NH$11)),">"&0)>1,"A CHOISIR", OFFSET('Planning de pâturage'!$A$13,MATCH(TRUE,OFFSET('Planning de pâturage'!$A$14:$A$28,0,MATCH('Production laitière'!AY13,'Planning de pâturage'!$B$11:$NH$11))>0,0),))} -> #N/A | BF13: J247 | BG13: 42248 | BJ13: =BH13/BI13 -> #DIV/0! | BK13: {=IF(COUNTIF(OFFSET('Planning de pâturage'!$A$14:$A$28,0,MATCH('Production laitière'!BF13,'Planning de pâturage'!$B$11:$NH$11)),">"&0)>1,"A CHOISIR", OFFSET('Planning de pâturage'!$A$13,MATCH(TRUE,OFFSET('Planning de pâturage'!$A$14:$A$28,0,MATCH('Production laitière'!BF13,'Planning de pâturage'!$B$11:$NH$11))>0,0),))} -> #N/A | BM13: J275 | BN13: 42276 | BQ13: =BO13/BP13 -> #DIV/0! | BR13: {=IF(COUNTIF(OFFSET('Planning de pâturage'!$A$14:$A$28,0,MATCH('Production laitière'!BM13,'Planning de pâturage'!$B$11:$NH$11)),">"&0)>1,"A CHOISIR", OFFSET('Planning de pâturage'!$A$13,MATCH(TRUE,OFFSET('Planning de pâturage'!$A$14:$A$28,0,MATCH('Production laitière'!BM13,'Planning de pâturage'!$B$11:$NH$11))>0,0),))} -> #N/A | BT13: J310 | BU13: 42311 | BX13: =BV13/BW13 -> #DIV/0! | BY13: {=IF(COUNTIF(OFFSET('Planning de pâturage'!$A$14:$A$28,0,MATCH('Production laitière'!BT13,'Planning de pâturage'!$B$11:$NH$11)),">"&0)>1,"A CHOISIR", OFFSET('Planning de pâturage'!$A$13,MATCH(TRUE,OFFSET('Planning de pâturage'!$A$14:$A$28,0,MATCH('Production laitière'!BT13,'Planning de pâturage'!$B$11:$NH$11))>0,0),))} -> #N/A | CA13: J338 | CB13: 41974 | CE13: =CC13/CD13 -> #DIV/0! | CF13: {=IF(COUNTIF(OFFSET('Planning de pâturage'!$A$14:$A$28,0,MATCH('Production laitière'!CA13,'Planning de pâturage'!$B$11:$NH$11)),">"&0)>1,"A CHOISIR", OFFSET('Planning de pâturage'!$A$13,MATCH(TRUE,OFFSET('Planning de pâturage'!$A$14:$A$28,0,MATCH('Production laitière'!CA13,'Planning de pâturage'!$B$11:$NH$11))>0,0),))} -> #N/A
B14: J3 | C14: 41639 | F14: =D14/E14 -> #DIV/0! | G14: {=IF(COUNTIF(OFFSET('Planning de pâturage'!$A$14:$A$28,,MATCH('Production laitière'!B14,'Planning de pâturage'!$B$11:$NH$11)),">"&0)>1,"A CHOISIR", OFFSET('Planning de pâturage'!$A$13,MATCH(TRUE,OFFSET('Planning de pâturage'!$A$14:$A$28,0,MATCH('Production laitière'!B14,'Planning de pâturage'!$B$11:$NH$11))>0,0),))} -> #N/A | I14: J38 | J14: 42039 | M14: =K14/L14 -> #DIV/0! | N14: {=IF(COUNTIF(OFFSET('Planning de pâturage'!$A$14:$A$28,0,MATCH('Production laitière'!I14,'Planning de pâturage'!$B$11:$NH$11)),">"&0)>1,"A CHOISIR", OFFSET('Planning de pâturage'!$A$13,MATCH(TRUE,OFFSET('Planning de pâturage'!$A$14:$A$28,0,MATCH('Production laitière'!I14,'Planning de pâturage'!$B$11:$NH$11))>0,0),))} -> #N/A | P14: J66 | Q14: 42067 | T14: =R14/S14 -> #DIV/0! | U14: {=IF(COUNTIF(OFFSET('Planning de pâturage'!$A$14:$A$28,0,MATCH('Production laitière'!P14,'Planning de pâturage'!$B$11:$NH$11)),">"&0)>1,"A CHOISIR", OFFSET('Planning de pâturage'!$A$13,MATCH(TRUE,OFFSET('Planning de pâturage'!$A$14:$A$28,0,MATCH('Production laitière'!P14,'Planning de pâturage'!$B$11:$NH$11))>0,0),))} -> #N/A | W14: J101 | X14: 42102 | AA14: =Y14/Z14 -> #DIV/0! | AB14: {=IF(COUNTIF(OFFSET('Planning de pâturage'!$A$14:$A$28,0,MATCH('Production laitière'!W14,'Planning de pâturage'!$B$11:$NH$11)),">"&0)>1,"A CHOISIR", OFFSET('Planning de pâturage'!$A$13,MATCH(TRUE,OFFSET('Planning de pâturage'!$A$14:$A$28,0,MATCH('Production laitière'!W14,'Planning de pâturage'!$B$11:$NH$11))>0,0),))} -> Nom paddock 2 | AD14: J129 | AE14: 42130 | AH14: =AF14/AG14 -> #DIV/0! | AI14: {=IF(COUNTIF(OFFSET('Planning de pâturage'!$A$14:$A$28,0,MATCH('Production laitière'!AD14,'Planning de pâturage'!$B$11:$NH$11)),">"&0)>1,"A CHOISIR", OFFSET('Planning de pâturage'!$A$13,MATCH(TRUE,OFFSET('Planning de pâturage'!$A$14:$A$28,0,MATCH('Production laitière'!AD14,'Planning de pâturage'!$B$11:$NH$11))>0,0),))} -> #N/A | AK14: J157 | AL14: 42158 | AO14: =AM14/AN14 -> #DIV/0! | AP14: {=IF(COUNTIF(OFFSET('Planning de pâturage'!$A$14:$A$28,0,MATCH('Production laitière'!AK14,'Planning de pâturage'!$B$11:$NH$11)),">"&0)>1,"A CHOISIR", OFFSET('Planning de pâturage'!$A$13,MATCH(TRUE,OFFSET('Planning de pâturage'!$A$14:$A$28,0,MATCH('Production laitière'!AK14,'Planning de pâturage'!$B$11:$NH$11))>0,0),))} -> #N/A | AR14: J185 | AS14: 42186 | AV14: =AT14/AU14 -> #DIV/0! | AW14: {=IF(COUNTIF(OFFSET('Planning de pâturage'!$A$14:$A$28,0,MATCH('Production laitière'!AR14,'Planning de pâturage'!$B$11:$NH$11)),">"&0)>1,"A CHOISIR", OFFSET('Planning de pâturage'!$A$13,MATCH(TRUE,OFFSET('Planning de pâturage'!$A$14:$A$28,0,MATCH('Production laitière'!AR14,'Planning de pâturage'!$B$11:$NH$11))>0,0),))} -> #N/A | AY14: J220 | AZ14: 42221 | BC14: =BA14/BB14 -> #DIV/0! | BD14: {=IF(COUNTIF(OFFSET('Planning de pâturage'!$A$14:$A$28,0,MATCH('Production laitière'!AY14,'Planning de pâturage'!$B$11:$NH$11)),">"&0)>1,"A CHOISIR", OFFSET('Planning de pâturage'!$A$13,MATCH(TRUE,OFFSET('Planning de pâturage'!$A$14:$A$28,0,MATCH('Production laitière'!AY14,'Planning de pâturage'!$B$11:$NH$11))>0,0),))} -> #N/A | BF14: J248 | BG14: 42249 | BJ14: =BH14/BI14 -> #DIV/0! | BK14: {=IF(COUNTIF(OFFSET('Planning de pâturage'!$A$14:$A$28,0,MATCH('Production laitière'!BF14,'Planning de pâturage'!$B$11:$NH$11)),">"&0)>1,"A CHOISIR", OFFSET('Planning de pâturage'!$A$13,MATCH(TRUE,OFFSET('Planning de pâturage'!$A$14:$A$28,0,MATCH('Production laitière'!BF14,'Planning de pâturage'!$B$11:$NH$11))>0,0),))} -> #N/A | BM14: J276 | BN14: 42277 | BQ14: =BO14/BP14 -> #DIV/0! | BR14: {=IF(COUNTIF(OFFSET('Planning de pâturage'!$A$14:$A$28,0,MATCH('Production laitière'!BM14,'Planning de pâturage'!$B$11:$NH$11)),">"&0)>1,"A CHOISIR", OFFSET('Planning de pâturage'!$A$13,MATCH(TRUE,OFFSET('Planning de pâturage'!$A$14:$A$28,0,MATCH('Production laitière'!BM14,'Planning de pâturage'!$B$11:$NH$11))>0,0),))} -> #N/A | BT14: J311 | BU14: 42312 | BX14: =BV14/BW14 -> #DIV/0! | BY14: {=IF(COUNTIF(OFFSET('Planning de pâturage'!$A$14:$A$28,0,MATCH('Production laitière'!BT14,'Planning de pâturage'!$B$11:$NH$11)),">"&0)>1,"A CHOISIR", OFFSET('Planning de pâturage'!$A$13,MATCH(TRUE,OFFSET('Planning de pâturage'!$A$14:$A$28,0,MATCH('Production laitière'!BT14,'Planning de pâturage'!$B$11:$NH$11))>0,0),))} -> #N/A | CA14: J339 | CB14: 41975 | CE14: =CC14/CD14 -> #DIV/0! | CF14: {=IF(COUNTIF(OFFSET('Planning de pâturage'!$A$14:$A$28,0,MATCH('Production laitière'!CA14,'Planning de pâturage'!$B$11:$NH$11)),">"&0)>1,"A CHOISIR", OFFSET('Planning de pâturage'!$A$13,MATCH(TRUE,OFFSET('Planning de pâturage'!$A$14:$A$28,0,MATCH('Production laitière'!CA14,'Planning de pâturage'!$B$11:$NH$11))>0,0),))} -> #N/A
B15: J4 | C15: 41640 | F15: =D15/E15 -> #DIV/0! | G15: =IF(COUNTIF(OFFSET('Planning de pâturage'!$A$14:$A$28,,MATCH('Production laitière'!B15,'Planning de pâturage'!$B$11:$NH$11)),">"&0)>1,"A CHOISIR", OFFSET('Planning de pâturage'!$A$13,MATCH(TRUE,OFFSET('Planning de pâturage'!$A$14:$A$28,0,MATCH('Production laitière'!B15,'Planning de pâturage'!$B$11:$NH$11))>0,0),)) -> #N/A | I15: J39 | J15: 42040 | M15: =K15/L15 -> #DIV/0! | N15: {=IF(COUNTIF(OFFSET('Planning de pâturage'!$A$14:$A$28,0,MATCH('Production laitière'!I15,'Planning de pâturage'!$B$11:$NH$11)),">"&0)>1,"A CHOISIR", OFFSET('Planning de pâturage'!$A$13,MATCH(TRUE,OFFSET('Planning de pâturage'!$A$14:$A$28,0,MATCH('Production laitière'!I15,'Planning de pâturage'!$B$11:$NH$11))>0,0),))} -> #N/A | P15: J67 | Q15: 42068 | T15: =R15/S15 -> #DIV/0! | U15: {=IF(COUNTIF(OFFSET('Planning de pâturage'!$A$14:$A$28,0,MATCH('Production laitière'!P15,'Planning de pâturage'!$B$11:$NH$11)),">"&0)>1,"A CHOISIR", OFFSET('Planning de pâturage'!$A$13,MATCH(TRUE,OFFSET('Planning de pâturage'!$A$14:$A$28,0,MATCH('Production laitière'!P15,'Planning de pâturage'!$B$11:$NH$11))>0,0),))} -> #N/A | W15: J102 | X15: 42103 | AA15: =Y15/Z15 -> #DIV/0! | AB15: {=IF(COUNTIF(OFFSET('Planning de pâturage'!$A$14:$A$28,0,MATCH('Production laitière'!W15,'Planning de pâturage'!$B$11:$NH$11)),">"&0)>1,"A CHOISIR", OFFSET('Planning de pâturage'!$A$13,MATCH(TRUE,OFFSET('Planning de pâturage'!$A$14:$A$28,0,MATCH('Production laitière'!W15,'Planning de pâturage'!$B$11:$NH$11))>0,0),))} -> Nom paddock 2 | AD15: J130 | AE15: 42131 | AH15: =AF15/AG15 -> #DIV/0! | AI15: {=IF(COUNTIF(OFFSET('Planning de pâturage'!$A$14:$A$28,0,MATCH('Production laitière'!AD15,'Planning de pâturage'!$B$11:$NH$11)),">"&0)>1,"A CHOISIR", OFFSET('Planning de pâturage'!$A$13,MATCH(TRUE,OFFSET('Planning de pâturage'!$A$14:$A$28,0,MATCH('Production laitière'!AD15,'Planning de pâturage'!$B$11:$NH$11))>0,0),))} -> #N/A | AK15: J158 | AL15: 42159 | AO15: =AM15/AN15 -> #DIV/0! | AP15: {=IF(COUNTIF(OFFSET('Planning de pâturage'!$A$14:$A$28,0,MATCH('Production laitière'!AK15,'Planning de pâturage'!$B$11:$NH$11)),">"&0)>1,"A CHOISIR", OFFSET('Planning de pâturage'!$A$13,MATCH(TRUE,OFFSET('Planning de pâturage'!$A$14:$A$28,0,MATCH('Production laitière'!AK15,'Planning de pâturage'!$B$11:$NH$11))>0,0),))} -> #N/A | AR15: J186 | AS15: 42187 | AV15: =AT15/AU15 -> #DIV/0! | AW15: {=IF(COUNTIF(OFFSET('Planning de pâturage'!$A$14:$A$28,0,MATCH('Production laitière'!AR15,'Planning de pâturage'!$B$11:$NH$11)),">"&0)>1,"A CHOISIR", OFFSET('Planning de pâturage'!$A$13,MATCH(TRUE,OFFSET('Planning de pâturage'!$A$14:$A$28,0,MATCH('Production laitière'!AR15,'Planning de pâturage'!$B$11:$NH$11))>0,0),))} -> #N/A | AY15: J221 | AZ15: 42222 | BC15: =BA15/BB15 -> #DIV/0! | BD15: {=IF(COUNTIF(OFFSET('Planning de pâturage'!$A$14:$A$28,0,MATCH('Production laitière'!AY15,'Planning de pâturage'!$B$11:$NH$11)),">"&0)>1,"A CHOISIR", OFFSET('Planning de pâturage'!$A$13,MATCH(TRUE,OFFSET('Planning de pâturage'!$A$14:$A$28,0,MATCH('Production laitière'!AY15,'Planning de pâturage'!$B$11:$NH$11))>0,0),))} -> #N/A | BF15: J249 | BG15: 42250 | BJ15: =BH15/BI15 -> #DIV/0! | BK15: {=IF(COUNTIF(OFFSET('Planning de pâturage'!$A$14:$A$28,0,MATCH('Production laitière'!BF15,'Planning de pâturage'!$B$11:$NH$11)),">"&0)>1,"A CHOISIR", OFFSET('Planning de pâturage'!$A$13,MATCH(TRUE,OFFSET('Planning de pâturage'!$A$14:$A$28,0,MATCH('Production laitière'!BF15,'Planning de pâturage'!$B$11:$NH$11))>0,0),))} -> #N/A | BM15: J277 | BN15: 42278 | BQ15: =BO15/BP15 -> #DIV/0! | BR15: {=IF(COUNTIF(OFFSET('Planning de pâturage'!$A$14:$A$28,0,MATCH('Production laitière'!BM15,'Planning de pâturage'!$B$11:$NH$11)),">"&0)>1,"A CHOISIR", OFFSET('Planning de pâturage'!$A$13,MATCH(TRUE,OFFSET('Planning de pâturage'!$A$14:$A$28,0,MATCH('Production laitière'!BM15,'Planning de pâturage'!$B$11:$NH$11))>0,0),))} -> #N/A | BT15: J312 | BU15: 42313 | BX15: =BV15/BW15 -> #DIV/0! | BY15: {=IF(COUNTIF(OFFSET('Planning de pâturage'!$A$14:$A$28,0,MATCH('Production laitière'!BT15,'Planning de pâturage'!$B$11:$NH$11)),">"&0)>1,"A CHOISIR", OFFSET('Planning de pâturage'!$A$13,MATCH(TRUE,OFFSET('Planning de pâturage'!$A$14:$A$28,0,MATCH('Production laitière'!BT15,'Planning de pâturage'!$B$11:$NH$11))>0,0),))} -> #N/A | CA15: J340 | CB15: 41976 | CE15: =CC15/CD15 -> #DIV/0! | CF15: {=IF(COUNTIF(OFFSET('Planning de pâturage'!$A$14:$A$28,0,MATCH('Production laitière'!CA15,'Planning de pâturage'!$B$11:$NH$11)),">"&0)>1,"A CHOISIR", OFFSET('Planning de pâturage'!$A$13,MATCH(TRUE,OFFSET('Planning de pâturage'!$A$14:$A$28,0,MATCH('Production laitière'!CA15,'Planning de pâturage'!$B$11:$NH$11))>0,0),))} -> #N/A
B16: J5 | C16: 41641 | F16: =D16/E16 -> #DIV/0! | G16: {=IF(COUNTIF(OFFSET('Planning de pâturage'!$A$14:$A$28,,MATCH('Production laitière'!B16,'Planning de pâturage'!$B$11:$NH$11)),">"&0)>1,"A CHOISIR", OFFSET('Planning de pâturage'!$A$13,MATCH(TRUE,OFFSET('Planning de pâturage'!$A$14:$A$28,0,MATCH('Production laitière'!B16,'Planning de pâturage'!$B$11:$NH$11))>0,0),))} -> #N/A | I16: J40 | J16: 42041 | M16: =K16/L16 -> #DIV/0! | N16: {=IF(COUNTIF(OFFSET('Planning de pâturage'!$A$14:$A$28,0,MATCH('Production laitière'!I16,'Planning de pâturage'!$B$11:$NH$11)),">"&0)>1,"A CHOISIR", OFFSET('Planning de pâturage'!$A$13,MATCH(TRUE,OFFSET('Planning de pâturage'!$A$14:$A$28,0,MATCH('Production laitière'!I16,'Planning de pâturage'!$B$11:$NH$11))>0,0),))} -> #N/A | P16: J68 | Q16: 42069 | T16: =R16/S16 -> #DIV/0! | U16: {=IF(COUNTIF(OFFSET('Planning de pâturage'!$A$14:$A$28,0,MATCH('Production laitière'!P16,'Planning de pâturage'!$B$11:$NH$11)),">"&0)>1,"A CHOISIR", OFFSET('Planning de pâturage'!$A$13,MATCH(TRUE,OFFSET('Planning de pâturage'!$A$14:$A$28,0,MATCH('Production laitière'!P16,'Planning de pâturage'!$B$11:$NH$11))>0,0),))} -> #N/A | W16: J103 | X16: 42104 | AA16: =Y16/Z16 -> #DIV/0! | AB16: {=IF(COUNTIF(OFFSET('Planning de pâturage'!$A$14:$A$28,0,MATCH('Production laitière'!W16,'Planning de pâturage'!$B$11:$NH$11)),">"&0)>1,"A CHOISIR", OFFSET('Planning de pâturage'!$A$13,MATCH(TRUE,OFFSET('Planning de pâturage'!$A$14:$A$28,0,MATCH('Production laitière'!W16,'Planning de pâturage'!$B$11:$NH$11))>0,0),))} -> Nom paddock 2 | AD16: J131 | AE16: 42132 | AH16: =AF16/AG16 -> #DIV/0! | AI16: {=IF(COUNTIF(OFFSET('Planning de pâturage'!$A$14:$A$28,0,MATCH('Production laitière'!AD16,'Planning de pâturage'!$B$11:$NH$11)),">"&0)>1,"A CHOISIR", OFFSET('Planning de pâturage'!$A$13,MATCH(TRUE,OFFSET('Planning de pâturage'!$A$14:$A$28,0,MATCH('Production laitière'!AD16,'Planning de pâturage'!$B$11:$NH$11))>0,0),))} -> #N/A | AK16: J159 | AL16: 42160 | AO16: =AM16/AN16 -> #DIV/0! | AP16: {=IF(COUNTIF(OFFSET('Planning de pâturage'!$A$14:$A$28,0,MATCH('Production laitière'!AK16,'Planning de pâturage'!$B$11:$NH$11)),">"&0)>1,"A CHOISIR", OFFSET('Planning de pâturage'!$A$13,MATCH(TRUE,OFFSET('Planning de pâturage'!$A$14:$A$28,0,MATCH('Production laitière'!AK16,'Planning de pâturage'!$B$11:$NH$11))>0,0),))} -> #N/A | AR16: J187 | AS16: 42188 | AV16: =AT16/AU16 -> #DIV/0! | AW16: {=IF(COUNTIF(OFFSET('Planning de pâturage'!$A$14:$A$28,0,MATCH('Production laitière'!AR16,'Planning de pâturage'!$B$11:$NH$11)),">"&0)>1,"A CHOISIR", OFFSET('Planning de pâturage'!$A$13,MATCH(TRUE,OFFSET('Planning de pâturage'!$A$14:$A$28,0,MATCH('Production laitière'!AR16,'Planning de pâturage'!$B$11:$NH$11))>0,0),))} -> #N/A | AY16: J222 | AZ16: 42223 | BC16: =BA16/BB16 -> #DIV/0! | BD16: {=IF(COUNTIF(OFFSET('Planning de pâturage'!$A$14:$A$28,0,MATCH('Production laitière'!AY16,'Planning de pâturage'!$B$11:$NH$11)),">"&0)>1,"A CHOISIR", OFFSET('Planning de pâturage'!$A$13,MATCH(TRUE,OFFSET('Planning de pâturage'!$A$14:$A$28,0,MATCH('Production laitière'!AY16,'Planning de pâturage'!$B$11:$NH$11))>0,0),))} -> #N/A | BF16: J250 | BG16: 42251 | BJ16: =BH16/BI16 -> #DIV/0! | BK16: {=IF(COUNTIF(OFFSET('Planning de pâturage'!$A$14:$A$28,0,MATCH('Production laitière'!BF16,'Planning de pâturage'!$B$11:$NH$11)),">"&0)>1,"A CHOISIR", OFFSET('Planning de pâturage'!$A$13,MATCH(TRUE,OFFSET('Planning de pâturage'!$A$14:$A$28,0,MATCH('Production laitière'!BF16,'Planning de pâturage'!$B$11:$NH$11))>0,0),))} -> #N/A | BM16: J278 | BN16: 42279 | BQ16: =BO16/BP16 -> #DIV/0! | BR16: {=IF(COUNTIF(OFFSET('Planning de pâturage'!$A$14:$A$28,0,MATCH('Production laitière'!BM16,'Planning de pâturage'!$B$11:$NH$11)),">"&0)>1,"A CHOISIR", OFFSET('Planning de pâturage'!$A$13,MATCH(TRUE,OFFSET('Planning de pâturage'!$A$14:$A$28,0,MATCH('Production laitière'!BM16,'Planning de pâturage'!$B$11:$NH$11))>0,0),))} -> #N/A | BT16: J313 | BU16: 42314 | BX16: =BV16/BW16 -> #DIV/0! | BY16: {=IF(COUNTIF(OFFSET('Planning de pâturage'!$A$14:$A$28,0,MATCH('Production laitière'!BT16,'Planning de pâturage'!$B$11:$NH$11)),">"&0)>1,"A CHOISIR", OFFSET('Planning de pâturage'!$A$13,MATCH(TRUE,OFFSET('Planning de pâturage'!$A$14:$A$28,0,MATCH('Production laitière'!BT16,'Planning de pâturage'!$B$11:$NH$11))>0,0),))} -> #N/A | CA16: J341 | CB16: 41977 | CE16: =CC16/CD16 -> #DIV/0! | CF16: {=IF(COUNTIF(OFFSET('Planning de pâturage'!$A$14:$A$28,0,MATCH('Production laitière'!CA16,'Planning de pâturage'!$B$11:$NH$11)),">"&0)>1,"A CHOISIR", OFFSET('Planning de pâturage'!$A$13,MATCH(TRUE,OFFSET('Planning de pâturage'!$A$14:$A$28,0,MATCH('Production laitière'!CA16,'Planning de pâturage'!$B$11:$NH$11))>0,0),))} -> #N/A
B17: J6 | C17: 41642 | F17: =D17/E17 -> #DIV/0! | G17: {=IF(COUNTIF(OFFSET('Planning de pâturage'!$A$14:$A$28,,MATCH('Production laitière'!B17,'Planning de pâturage'!$B$11:$NH$11)),">"&0)>1,"A CHOISIR", OFFSET('Planning de pâturage'!$A$13,MATCH(TRUE,OFFSET('Planning de pâturage'!$A$14:$A$28,0,MATCH('Production laitière'!B17,'Planning de pâturage'!$B$11:$NH$11))>0,0),))} -> #N/A | I17: J41 | J17: 42042 | M17: =K17/L17 -> #DIV/0! | N17: {=IF(COUNTIF(OFFSET('Planning de pâturage'!$A$14:$A$28,0,MATCH('Production laitière'!I17,'Planning de pâturage'!$B$11:$NH$11)),">"&0)>1,"A CHOISIR", OFFSET('Planning de pâturage'!$A$13,MATCH(TRUE,OFFSET('Planning de pâturage'!$A$14:$A$28,0,MATCH('Production laitière'!I17,'Planning de pâturage'!$B$11:$NH$11))>0,0),))} -> #N/A | P17: J69 | Q17: 42070 | T17: =R17/S17 -> #DIV/0! | U17: {=IF(COUNTIF(OFFSET('Planning de pâturage'!$A$14:$A$28,0,MATCH('Production laitière'!P17,'Planning de pâturage'!$B$11:$NH$11)),">"&0)>1,"A CHOISIR", OFFSET('Planning de pâturage'!$A$13,MATCH(TRUE,OFFSET('Planning de pâturage'!$A$14:$A$28,0,MATCH('Production laitière'!P17,'Planning de pâturage'!$B$11:$NH$11))>0,0),))} -> #N/A | W17: J104 | X17: 42105 | AA17: =Y17/Z17 -> #DIV/0! | AB17: {=IF(COUNTIF(OFFSET('Planning de pâturage'!$A$14:$A$28,0,MATCH('Production laitière'!W17,'Planning de pâturage'!$B$11:$NH$11)),">"&0)>1,"A CHOISIR", OFFSET('Planning de pâturage'!$A$13,MATCH(TRUE,OFFSET('Planning de pâturage'!$A$14:$A$28,0,MATCH('Production laitière'!W17,'Planning de pâturage'!$B$11:$NH$11))>0,0),))} -> Nom paddock 2 | AD17: J132 | AE17: 42133 | AH17: =AF17/AG17 -> #DIV/0! | AI17: {=IF(COUNTIF(OFFSET('Planning de pâturage'!$A$14:$A$28,0,MATCH('Production laitière'!AD17,'Planning de pâturage'!$B$11:$NH$11)),">"&0)>1,"A CHOISIR", OFFSET('Planning de pâturage'!$A$13,MATCH(TRUE,OFFSET('Planning de pâturage'!$A$14:$A$28,0,MATCH('Production laitière'!AD17,'Planning de pâturage'!$B$11:$NH$11))>0,0),))} -> #N/A | AK17: J160 | AL17: 42161 | AO17: =AM17/AN17 -> #DIV/0! | AP17: {=IF(COUNTIF(OFFSET('Planning de pâturage'!$A$14:$A$28,0,MATCH('Production laitière'!AK17,'Planning de pâturage'!$B$11:$NH$11)),">"&0)>1,"A CHOISIR", OFFSET('Planning de pâturage'!$A$13,MATCH(TRUE,OFFSET('Planning de pâturage'!$A$14:$A$28,0,MATCH('Production laitière'!AK17,'Planning de pâturage'!$B$11:$NH$11))>0,0),))} -> #N/A | AR17: J188 | AS17: 42189 | AV17: =AT17/AU17 -> #DIV/0! | AW17: {=IF(COUNTIF(OFFSET('Planning de pâturage'!$A$14:$A$28,0,MATCH('Production laitière'!AR17,'Planning de pâturage'!$B$11:$NH$11)),">"&0)>1,"A CHOISIR", OFFSET('Planning de pâturage'!$A$13,MATCH(TRUE,OFFSET('Planning de pâturage'!$A$14:$A$28,0,MATCH('Production laitière'!AR17,'Planning de pâturage'!$B$11:$NH$11))>0,0),))} -> #N/A | AY17: J223 | AZ17: 42224 | BC17: =BA17/BB17 -> #DIV/0! | BD17: {=IF(COUNTIF(OFFSET('Planning de pâturage'!$A$14:$A$28,0,MATCH('Production laitière'!AY17,'Planning de pâturage'!$B$11:$NH$11)),">"&0)>1,"A CHOISIR", OFFSET('Planning de pâturage'!$A$13,MATCH(TRUE,OFFSET('Planning de pâturage'!$A$14:$A$28,0,MATCH('Production laitière'!AY17,'Planning de pâturage'!$B$11:$NH$11))>0,0),))} -> #N/A | BF17: J251 | BG17: 42252 | BJ17: =BH17/BI17 -> #DIV/0! | BK17: {=IF(COUNTIF(OFFSET('Planning de pâturage'!$A$14:$A$28,0,MATCH('Production laitière'!BF17,'Planning de pâturage'!$B$11:$NH$11)),">"&0)>1,"A CHOISIR", OFFSET('Planning de pâturage'!$A$13,MATCH(TRUE,OFFSET('Planning de pâturage'!$A$14:$A$28,0,MATCH('Production laitière'!BF17,'Planning de pâturage'!$B$11:$NH$11))>0,0),))} -> #N/A | BM17: J279 | BN17: 42280 | BQ17: =BO17/BP17 -> #DIV/0! | BR17: {=IF(COUNTIF(OFFSET('Planning de pâturage'!$A$14:$A$28,0,MATCH('Production laitière'!BM17,'Planning de pâturage'!$B$11:$NH$11)),">"&0)>1,"A CHOISIR", OFFSET('Planning de pâturage'!$A$13,MATCH(TRUE,OFFSET('Planning de pâturage'!$A$14:$A$28,0,MATCH('Production laitière'!BM17,'Planning de pâturage'!$B$11:$NH$11))>0,0),))} -> #N/A | BT17: J314 | BU17: 42315 | BX17: =BV17/BW17 -> #DIV/0! | BY17: {=IF(COUNTIF(OFFSET('Planning de pâturage'!$A$14:$A$28,0,MATCH('Production laitière'!BT17,'Planning de pâturage'!$B$11:$NH$11)),">"&0)>1,"A CHOISIR", OFFSET('Planning de pâturage'!$A$13,MATCH(TRUE,OFFSET('Planning de pâturage'!$A$14:$A$28,0,MATCH('Production laitière'!BT17,'Planning de pâturage'!$B$11:$NH$11))>0,0),))} -> #N/A | CA17: J342 | CB17: 41978 | CE17: =CC17/CD17 -> #DIV/0! | CF17: {=IF(COUNTIF(OFFSET('Planning de pâturage'!$A$14:$A$28,0,MATCH('Production laitière'!CA17,'Planning de pâturage'!$B$11:$NH$11)),">"&0)>1,"A CHOISIR", OFFSET('Planning de pâturage'!$A$13,MATCH(TRUE,OFFSET('Planning de pâturage'!$A$14:$A$28,0,MATCH('Production laitière'!CA17,'Planning de pâturage'!$B$11:$NH$11))>0,0),))} -> #N/A
B18: J7 | C18: 41643 | F18: =D18/E18 -> #DIV/0! | G18: {=IF(COUNTIF(OFFSET('Planning de pâturage'!$A$14:$A$28,,MATCH('Production laitière'!B18,'Planning de pâturage'!$B$11:$NH$11)),">"&0)>1,"A CHOISIR", OFFSET('Planning de pâturage'!$A$13,MATCH(TRUE,OFFSET('Planning de pâturage'!$A$14:$A$28,0,MATCH('Production laitière'!B18,'Planning de pâturage'!$B$11:$NH$11))>0,0),))} -> #N/A | I18: J42 | J18: 42043 | M18: =K18/L18 -> #DIV/0! | N18: {=IF(COUNTIF(OFFSET('Planning de pâturage'!$A$14:$A$28,0,MATCH('Production laitière'!I18,'Planning de pâturage'!$B$11:$NH$11)),">"&0)>1,"A CHOISIR", OFFSET('Planning de pâturage'!$A$13,MATCH(TRUE,OFFSET('Planning de pâturage'!$A$14:$A$28,0,MATCH('Production laitière'!I18,'Planning de pâturage'!$B$11:$NH$11))>0,0),))} -> #N/A | P18: J70 | Q18: 42071 | T18: =R18/S18 -> #DIV/0! | U18: {=IF(COUNTIF(OFFSET('Planning de pâturage'!$A$14:$A$28,0,MATCH('Production laitière'!P18,'Planning de pâturage'!$B$11:$NH$11)),">"&0)>1,"A CHOISIR", OFFSET('Planning de pâturage'!$A$13,MATCH(TRUE,OFFSET('Planning de pâturage'!$A$14:$A$28,0,MATCH('Production laitière'!P18,'Planning de pâturage'!$B$11:$NH$11))>0,0),))} -> #N/A | W18: J105 | X18: 42106 | AA18: =Y18/Z18 -> #DIV/0! | AB18: {=IF(COUNTIF(OFFSET('Planning de pâturage'!$A$14:$A$28,0,MATCH('Production laitière'!W18,'Planning de pâturage'!$B$11:$NH$11)),">"&0)>1,"A CHOISIR", OFFSET('Planning de pâturage'!$A$13,MATCH(TRUE,OFFSET('Planning de pâturage'!$A$14:$A$28,0,MATCH('Production laitière'!W18,'Planning de pâturage'!$B$11:$NH$11))>0,0),))} -> Nom paddock 2 | AD18: J133 | AE18: 42134 | AH18: =AF18/AG18 -> #DIV/0! | AI18: {=IF(COUNTIF(OFFSET('Planning de pâturage'!$A$14:$A$28,0,MATCH('Production laitière'!AD18,'Planning de pâturage'!$B$11:$NH$11)),">"&0)>1,"A CHOISIR", OFFSET('Planning de pâturage'!$A$13,MATCH(TRUE,OFFSET('Planning de pâturage'!$A$14:$A$28,0,MATCH('Production laitière'!AD18,'Planning de pâturage'!$B$11:$NH$11))>0,0),))} -> #N/A | AK18: J161 | AL18: 42162 | AO18: =AM18/AN18 -> #DIV/0! | AP18: {=IF(COUNTIF(OFFSET('Planning de pâturage'!$A$14:$A$28,0,MATCH('Production laitière'!AK18,'Planning de pâturage'!$B$11:$NH$11)),">"&0)>1,"A CHOISIR", OFFSET('Planning de pâturage'!$A$13,MATCH(TRUE,OFFSET('Planning de pâturage'!$A$14:$A$28,0,MATCH('Production laitière'!AK18,'Planning de pâturage'!$B$11:$NH$11))>0,0),))} -> #N/A | AR18: J189 | AS18: 42190 | AV18: =AT18/AU18 -> #DIV/0! | AW18: {=IF(COUNTIF(OFFSET('Planning de pâturage'!$A$14:$A$28,0,MATCH('Production laitière'!AR18,'Planning de pâturage'!$B$11:$NH$11)),">"&0)>1,"A CHOISIR", OFFSET('Planning de pâturage'!$A$13,MATCH(TRUE,OFFSET('Planning de pâturage'!$A$14:$A$28,0,MATCH('Production laitière'!AR18,'Planning de pâturage'!$B$11:$NH$11))>0,0),))} -> #N/A | AY18: J224 | AZ18: 42225 | BC18: =BA18/BB18 -> #DIV/0! | BD18: {=IF(COUNTIF(OFFSET('Planning de pâturage'!$A$14:$A$28,0,MATCH('Production laitière'!AY18,'Planning de pâturage'!$B$11:$NH$11)),">"&0)>1,"A CHOISIR", OFFSET('Planning de pâturage'!$A$13,MATCH(TRUE,OFFSET('Planning de pâturage'!$A$14:$A$28,0,MATCH('Production laitière'!AY18,'Planning de pâturage'!$B$11:$NH$11))>0,0),))} -> #N/A | BF18: J252 | BG18: 42253 | BJ18: =BH18/BI18 -> #DIV/0! | BK18: {=IF(COUNTIF(OFFSET('Planning de pâturage'!$A$14:$A$28,0,MATCH('Production laitière'!BF18,'Planning de pâturage'!$B$11:$NH$11)),">"&0)>1,"A CHOISIR", OFFSET('Planning de pâturage'!$A$13,MATCH(TRUE,OFFSET('Planning de pâturage'!$A$14:$A$28,0,MATCH('Production laitière'!BF18,'Planning de pâturage'!$B$11:$NH$11))>0,0),))} -> #N/A | BM18: J280 | BN18: 42281 | BQ18: =BO18/BP18 -> #DIV/0! | BR18: {=IF(COUNTIF(OFFSET('Planning de pâturage'!$A$14:$A$28,0,MATCH('Production laitière'!BM18,'Planning de pâturage'!$B$11:$NH$11)),">"&0)>1,"A CHOISIR", OFFSET('Planning de pâturage'!$A$13,MATCH(TRUE,OFFSET('Planning de pâturage'!$A$14:$A$28,0,MATCH('Production laitière'!BM18,'Planning de pâturage'!$B$11:$NH$11))>0,0),))} -> #N/A | BT18: J315 | BU18: 42316 | BX18: =BV18/BW18 -> #DIV/0! | BY18: {=IF(COUNTIF(OFFSET('Planning de pâturage'!$A$14:$A$28,0,MATCH('Production laitière'!BT18,'Planning de pâturage'!$B$11:$NH$11)),">"&0)>1,"A CHOISIR", OFFSET('Planning de pâturage'!$A$13,MATCH(TRUE,OFFSET('Planning de pâturage'!$A$14:$A$28,0,MATCH('Production laitière'!BT18,'Planning de pâturage'!$B$11:$NH$11))>0,0),))} -> #N/A | CA18: J343 | CB18: 41979 | CE18: =CC18/CD18 -> #DIV/0! | CF18: {=IF(COUNTIF(OFFSET('Planning de pâturage'!$A$14:$A$28,0,MATCH('Production laitière'!CA18,'Planning de pâturage'!$B$11:$NH$11)),">"&0)>1,"A CHOISIR", OFFSET('Planning de pâturage'!$A$13,MATCH(TRUE,OFFSET('Planning de pâturage'!$A$14:$A$28,0,MATCH('Production laitière'!CA18,'Planning de pâturage'!$B$11:$NH$11))>0,0),))} -> #N/A
A19: S2 | B19: J8 | C19: 41644 | F19: =D19/E19 -> #DIV/0! | G19: {=IF(COUNTIF(OFFSET('Planning de pâturage'!$A$14:$A$28,,MATCH('Production laitière'!B19,'Planning de pâturage'!$B$11:$NH$11)),">"&0)>1,"A CHOISIR", OFFSET('Planning de pâturage'!$A$13,MATCH(TRUE,OFFSET('Planning de pâturage'!$A$14:$A$28,0,MATCH('Production laitière'!B19,'Planning de pâturage'!$B$11:$NH$11))>0,0),))} -> #N/A | H19: S7 | I19: J43 | J19: 42044 | M19: =K19/L19 -> #DIV/0! | N19: {=IF(COUNTIF(OFFSET('Planning de pâturage'!$A$14:$A$28,0,MATCH('Production laitière'!I19,'Planning de pâturage'!$B$11:$NH$11)),">"&0)>1,"A CHOISIR", OFFSET('Planning de pâturage'!$A$13,MATCH(TRUE,OFFSET('Planning de pâturage'!$A$14:$A$28,0,MATCH('Production laitière'!I19,'Planning de pâturage'!$B$11:$NH$11))>0,0),))} -> #N/A | O19: S11 | P19: J71 | Q19: 42072 | T19: =R19/S19 -> #DIV/0! | U19: {=IF(COUNTIF(OFFSET('Planning de pâturage'!$A$14:$A$28,0,MATCH('Production laitière'!P19,'Planning de pâturage'!$B$11:$NH$11)),">"&0)>1,"A CHOISIR", OFFSET('Planning de pâturage'!$A$13,MATCH(TRUE,OFFSET('Planning de pâturage'!$A$14:$A$28,0,MATCH('Production laitière'!P19,'Planning de pâturage'!$B$11:$NH$11))>0,0),))} -> #N/A | V19: S16 | W19: J106 | X19: 42107 | AA19: =Y19/Z19 -> #DIV/0! | AB19: {=IF(COUNTIF(OFFSET('Planning de pâturage'!$A$14:$A$28,0,MATCH('Production laitière'!W19,'Planning de pâturage'!$B$11:$NH$11)),">"&0)>1,"A CHOISIR", OFFSET('Planning de pâturage'!$A$13,MATCH(TRUE,OFFSET('Planning de pâturage'!$A$14:$A$28,0,MATCH('Production laitière'!W19,'Planning de pâturage'!$B$11:$NH$11))>0,0),))} -> Nom paddock 2 | AC19: S20 | AD19: J134 | AE19: 42135 | AH19: =AF19/AG19 -> #DIV/0! | AI19: {=IF(COUNTIF(OFFSET('Planning de pâturage'!$A$14:$A$28,0,MATCH('Production laitière'!AD19,'Planning de pâturage'!$B$11:$NH$11)),">"&0)>1,"A CHOISIR", OFFSET('Planning de pâturage'!$A$13,MATCH(TRUE,OFFSET('Planning de pâturage'!$A$14:$A$28,0,MATCH('Production laitière'!AD19,'Planning de pâturage'!$B$11:$NH$11))>0,0),))} -> #N/A | AJ19: S24 | AK19: J162 | AL19: 42163 | AO19: =AM19/AN19 -> #DIV/0! | AP19: {=IF(COUNTIF(OFFSET('Planning de pâturage'!$A$14:$A$28,0,MATCH('Production laitière'!AK19,'Planning de pâturage'!$B$11:$NH$11)),">"&0)>1,"A CHOISIR", OFFSET('Planning de pâturage'!$A$13,MATCH(TRUE,OFFSET('Planning de pâturage'!$A$14:$A$28,0,MATCH('Production laitière'!AK19,'Planning de pâturage'!$B$11:$NH$11))>0,0),))} -> #N/A | AQ19: S28 | AR19: J190 | AS19: 42191 | AV19: =AT19/AU19 -> #DIV/0! | AW19: {=IF(COUNTIF(OFFSET('Planning de pâturage'!$A$14:$A$28,0,MATCH('Production laitière'!AR19,'Planning de pâturage'!$B$11:$NH$11)),">"&0)>1,"A CHOISIR", OFFSET('Planning de pâturage'!$A$13,MATCH(TRUE,OFFSET('Planning de pâturage'!$A$14:$A$28,0,MATCH('Production laitière'!AR19,'Planning de pâturage'!$B$11:$NH$11))>0,0),))} -> #N/A | AX19: S33 | AY19: J225 | AZ19: 42226 | BC19: =BA19/BB19 -> #DIV/0! | BD19: {=IF(COUNTIF(OFFSET('Planning de pâturage'!$A$14:$A$28,0,MATCH('Production laitière'!AY19,'Planning de pâturage'!$B$11:$NH$11)),">"&0)>1,"A CHOISIR", OFFSET('Planning de pâturage'!$A$13,MATCH(TRUE,OFFSET('Planning de pâturage'!$A$14:$A$28,0,MATCH('Production laitière'!AY19,'Planning de pâturage'!$B$11:$NH$11))>0,0),))} -> #N/A | BE19: S37 | BF19: J253 | BG19: 42254 | BJ19: =BH19/BI19 -> #DIV/0! | BK19: {=IF(COUNTIF(OFFSET('Planning de pâturage'!$A$14:$A$28,0,MATCH('Production laitière'!BF19,'Planning de pâturage'!$B$11:$NH$11)),">"&0)>1,"A CHOISIR", OFFSET('Planning de pâturage'!$A$13,MATCH(TRUE,OFFSET('Planning de pâturage'!$A$14:$A$28,0,MATCH('Production laitière'!BF19,'Planning de pâturage'!$B$11:$NH$11))>0,0),))} -> #N/A | BL19: S41 | BM19: J281 | BN19: 42282 | BQ19: =BO19/BP19 -> #DIV/0! | BR19: {=IF(COUNTIF(OFFSET('Planning de pâturage'!$A$14:$A$28,0,MATCH('Production laitière'!BM19,'Planning de pâturage'!$B$11:$NH$11)),">"&0)>1,"A CHOISIR", OFFSET('Planning de pâturage'!$A$13,MATCH(TRUE,OFFSET('Planning de pâturage'!$A$14:$A$28,0,MATCH('Production laitière'!BM19,'Planning de pâturage'!$B$11:$NH$11))>0,0),))} -> #N/A | BS19: S46 | BT19: J316 | BU19: 42317 | BX19: =BV19/BW19 -> #DIV/0! | BY19: {=IF(COUNTIF(OFFSET('Planning de pâturage'!$A$14:$A$28,0,MATCH('Production laitière'!BT19,'Planning de pâturage'!$B$11:$NH$11)),">"&0)>1,"A CHOISIR", OFFSET('Planning de pâturage'!$A$13,MATCH(TRUE,OFFSET('Planning de pâturage'!$A$14:$A$28,0,MATCH('Production laitière'!BT19,'Planning de pâturage'!$B$11:$NH$11))>0,0),))} -> #N/A | BZ19: S50 | CA19: J344 | CB19: 41980 | CE19: =CC19/CD19 -> #DIV/0! | CF19: {=IF(COUNTIF(OFFSET('Planning de pâturage'!$A$14:$A$28,0,MATCH('Production laitière'!CA19,'Planning de pâturage'!$B$11:$NH$11)),">"&0)>1,"A CHOISIR", OFFSET('Planning de pâturage'!$A$13,MATCH(TRUE,OFFSET('Planning de pâturage'!$A$14:$A$28,0,MATCH('Production laitière'!CA19,'Planning de pâturage'!$B$11:$NH$11))>0,0),))} -> #N/A
B20: J9 | C20: 41645 | F20: =D20/E20 -> #DIV/0! | G20: {=IF(COUNTIF(OFFSET('Planning de pâturage'!$A$14:$A$28,,MATCH('Production laitière'!B20,'Planning de pâturage'!$B$11:$NH$11)),">"&0)>1,"A CHOISIR", OFFSET('Planning de pâturage'!$A$13,MATCH(TRUE,OFFSET('Planning de pâturage'!$A$14:$A$28,0,MATCH('Production laitière'!B20,'Planning de pâturage'!$B$11:$NH$11))>0,0),))} -> #N/A | I20: J44 | J20: 42045 | M20: =K20/L20 -> #DIV/0! | N20: {=IF(COUNTIF(OFFSET('Planning de pâturage'!$A$14:$A$28,0,MATCH('Production laitière'!I20,'Planning de pâturage'!$B$11:$NH$11)),">"&0)>1,"A CHOISIR", OFFSET('Planning de pâturage'!$A$13,MATCH(TRUE,OFFSET('Planning de pâturage'!$A$14:$A$28,0,MATCH('Production laitière'!I20,'Planning de pâturage'!$B$11:$NH$11))>0,0),))} -> #N/A | P20: J72 | Q20: 42073 | T20: =R20/S20 -> #DIV/0! | U20: {=IF(COUNTIF(OFFSET('Planning de pâturage'!$A$14:$A$28,0,MATCH('Production laitière'!P20,'Planning de pâturage'!$B$11:$NH$11)),">"&0)>1,"A CHOISIR", OFFSET('Planning de pâturage'!$A$13,MATCH(TRUE,OFFSET('Planning de pâturage'!$A$14:$A$28,0,MATCH('Production laitière'!P20,'Planning de pâturage'!$B$11:$NH$11))>0,0),))} -> #N/A | W20: J107 | X20: 42108 | AA20: =Y20/Z20 -> #DIV/0! | AB20: {=IF(COUNTIF(OFFSET('Planning de pâturage'!$A$14:$A$28,0,MATCH('Production laitière'!W20,'Planning de pâturage'!$B$11:$NH$11)),">"&0)>1,"A CHOISIR", OFFSET('Planning de pâturage'!$A$13,MATCH(TRUE,OFFSET('Planning de pâturage'!$A$14:$A$28,0,MATCH('Production laitière'!W20,'Planning de pâturage'!$B$11:$NH$11))>0,0),))} -> Nom paddock 2 | AD20: J135 | AE20: 42136 | AH20: =AF20/AG20 -> #DIV/0! | AI20: {=IF(COUNTIF(OFFSET('Planning de pâturage'!$A$14:$A$28,0,MATCH('Production laitière'!AD20,'Planning de pâturage'!$B$11:$NH$11)),">"&0)>1,"A CHOISIR", OFFSET('Planning de pâturage'!$A$13,MATCH(TRUE,OFFSET('Planning de pâturage'!$A$14:$A$28,0,MATCH('Production laitière'!AD20,'Planning de pâturage'!$B$11:$NH$11))>0,0),))} -> #N/A | AK20: J163 | AL20: 42164 | AO20: =AM20/AN20 -> #DIV/0! | AP20: {=IF(COUNTIF(OFFSET('Planning de pâturage'!$A$14:$A$28,0,MATCH('Production laitière'!AK20,'Planning de pâturage'!$B$11:$NH$11)),">"&0)>1,"A CHOISIR", OFFSET('Planning de pâturage'!$A$13,MATCH(TRUE,OFFSET('Planning de pâturage'!$A$14:$A$28,0,MATCH('Production laitière'!AK20,'Planning de pâturage'!$B$11:$NH$11))>0,0),))} -> #N/A | AR20: J191 | AS20: 42192 | AV20: =AT20/AU20 -> #DIV/0! | AW20: {=IF(COUNTIF(OFFSET('Planning de pâturage'!$A$14:$A$28,0,MATCH('Production laitière'!AR20,'Planning de pâturage'!$B$11:$NH$11)),">"&0)>1,"A CHOISIR", OFFSET('Planning de pâturage'!$A$13,MATCH(TRUE,OFFSET('Planning de pâturage'!$A$14:$A$28,0,MATCH('Production laitière'!AR20,'Planning de pâturage'!$B$11:$NH$11))>0,0),))} -> #N/A | AY20: J226 | AZ20: 42227 | BC20: =BA20/BB20 -> #DIV/0! | BD20: {=IF(COUNTIF(OFFSET('Planning de pâturage'!$A$14:$A$28,0,MATCH('Production laitière'!AY20,'Planning de pâturage'!$B$11:$NH$11)),">"&0)>1,"A CHOISIR", OFFSET('Planning de pâturage'!$A$13,MATCH(TRUE,OFFSET('Planning de pâturage'!$A$14:$A$28,0,MATCH('Production laitière'!AY20,'Planning de pâturage'!$B$11:$NH$11))>0,0),))} -> #N/A | BF20: J254 | BG20: 42255 | BJ20: =BH20/BI20 -> #DIV/0! | BK20: {=IF(COUNTIF(OFFSET('Planning de pâturage'!$A$14:$A$28,0,MATCH('Production laitière'!BF20,'Planning de pâturage'!$B$11:$NH$11)),">"&0)>1,"A CHOISIR", OFFSET('Planning de pâturage'!$A$13,MATCH(TRUE,OFFSET('Planning de pâturage'!$A$14:$A$28,0,MATCH('Production laitière'!BF20,'Planning de pâturage'!$B$11:$NH$11))>0,0),))} -> #N/A | BM20: J282 | BN20: 42283 | BQ20: =BO20/BP20 -> #DIV/0! | BR20: {=IF(COUNTIF(OFFSET('Planning de pâturage'!$A$14:$A$28,0,MATCH('Production laitière'!BM20,'Planning de pâturage'!$B$11:$NH$11)),">"&0)>1,"A CHOISIR", OFFSET('Planning de pâturage'!$A$13,MATCH(TRUE,OFFSET('Planning de pâturage'!$A$14:$A$28,0,MATCH('Production laitière'!BM20,'Planning de pâturage'!$B$11:$NH$11))>0,0),))} -> #N/A | BT20: J317 | BU20: 42318 | BX20: =BV20/BW20 -> #DIV/0! | BY20: {=IF(COUNTIF(OFFSET('Planning de pâturage'!$A$14:$A$28,0,MATCH('Production laitière'!BT20,'Planning de pâturage'!$B$11:$NH$11)),">"&0)>1,"A CHOISIR", OFFSET('Planning de pâturage'!$A$13,MATCH(TRUE,OFFSET('Planning de pâturage'!$A$14:$A$28,0,MATCH('Production laitière'!BT20,'Planning de pâturage'!$B$11:$NH$11))>0,0),))} -> #N/A | CA20: J345 | CB20: 41981 | CE20: =CC20/CD20 -> #DIV/0! | CF20: {=IF(COUNTIF(OFFSET('Planning de pâturage'!$A$14:$A$28,0,MATCH('Production laitière'!CA20,'Planning de pâturage'!$B$11:$NH$11)),">"&0)>1,"A CHOISIR", OFFSET('Planning de pâturage'!$A$13,MATCH(TRUE,OFFSET('Planning de pâturage'!$A$14:$A$28,0,MATCH('Production laitière'!CA20,'Planning de pâturage'!$B$11:$NH$11))>0,0),))} -> #N/A
B21: J10 | C21: 41646 | F21: =D21/E21 -> #DIV/0! | G21: {=IF(COUNTIF(OFFSET('Planning de pâturage'!$A$14:$A$28,,MATCH('Production laitière'!B21,'Planning de pâturage'!$B$11:$NH$11)),">"&0)>1,"A CHOISIR", OFFSET('Planning de pâturage'!$A$13,MATCH(TRUE,OFFSET('Planning de pâturage'!$A$14:$A$28,0,MATCH('Production laitière'!B21,'Planning de pâturage'!$B$11:$NH$11))>0,0),))} -> Nom paddock 2 | I21: J45 | J21: 42046 | M21: =K21/L21 -> #DIV/0! | N21: {=IF(COUNTIF(OFFSET('Planning de pâturage'!$A$14:$A$28,0,MATCH('Production laitière'!I21,'Planning de pâturage'!$B$11:$NH$11)),">"&0)>1,"A CHOISIR", OFFSET('Planning de pâturage'!$A$13,MATCH(TRUE,OFFSET('Planning de pâturage'!$A$14:$A$28,0,MATCH('Production laitière'!I21,'Planning de pâturage'!$B$11:$NH$11))>0,0),))} -> #N/A | P21: J73 | Q21: 42074 | T21: =R21/S21 -> #DIV/0! | U21: {=IF(COUNTIF(OFFSET('Planning de pâturage'!$A$14:$A$28,0,MATCH('Production laitière'!P21,'Planning de pâturage'!$B$11:$NH$11)),">"&0)>1,"A CHOISIR", OFFSET('Planning de pâturage'!$A$13,MATCH(TRUE,OFFSET('Planning de pâturage'!$A$14:$A$28,0,MATCH('Production laitière'!P21,'Planning de pâturage'!$B$11:$NH$11))>0,0),))} -> #N/A | W21: J108 | X21: 42109 | AA21: =Y21/Z21 -> #DIV/0! | AB21: {=IF(COUNTIF(OFFSET('Planning de pâturage'!$A$14:$A$28,0,MATCH('Production laitière'!W21,'Planning de pâturage'!$B$11:$NH$11)),">"&0)>1,"A CHOISIR", OFFSET('Planning de pâturage'!$A$13,MATCH(TRUE,OFFSET('Planning de pâturage'!$A$14:$A$28,0,MATCH('Production laitière'!W21,'Planning de pâturage'!$B$11:$NH$11))>0,0),))} -> Nom paddock 2 | AD21: J136 | AE21: 42137 | AH21: =AF21/AG21 -> #DIV/0! | AI21: {=IF(COUNTIF(OFFSET('Planning de pâturage'!$A$14:$A$28,0,MATCH('Production laitière'!AD21,'Planning de pâturage'!$B$11:$NH$11)),">"&0)>1,"A CHOISIR", OFFSET('Planning de pâturage'!$A$13,MATCH(TRUE,OFFSET('Planning de pâturage'!$A$14:$A$28,0,MATCH('Production laitière'!AD21,'Planning de pâturage'!$B$11:$NH$11))>0,0),))} -> #N/A | AK21: J164 | AL21: 42165 | AO21: =AM21/AN21 -> #DIV/0! | AP21: {=IF(COUNTIF(OFFSET('Planning de pâturage'!$A$14:$A$28,0,MATCH('Production laitière'!AK21,'Planning de pâturage'!$B$11:$NH$11)),">"&0)>1,"A CHOISIR", OFFSET('Planning de pâturage'!$A$13,MATCH(TRUE,OFFSET('Planning de pâturage'!$A$14:$A$28,0,MATCH('Production laitière'!AK21,'Planning de pâturage'!$B$11:$NH$11))>0,0),))} -> #N/A | AR21: J192 | AS21: 42193 | AV21: =AT21/AU21 -> #DIV/0! | AW21: {=IF(COUNTIF(OFFSET('Planning de pâturage'!$A$14:$A$28,0,MATCH('Production laitière'!AR21,'Planning de pâturage'!$B$11:$NH$11)),">"&0)>1,"A CHOISIR", OFFSET('Planning de pâturage'!$A$13,MATCH(TRUE,OFFSET('Planning de pâturage'!$A$14:$A$28,0,MATCH('Production laitière'!AR21,'Planning de pâturage'!$B$11:$NH$11))>0,0),))} -> #N/A | AY21: J227 | AZ21: 42228 | BC21: =BA21/BB21 -> #DIV/0! | BD21: {=IF(COUNTIF(OFFSET('Planning de pâturage'!$A$14:$A$28,0,MATCH('Production laitière'!AY21,'Planning de pâturage'!$B$11:$NH$11)),">"&0)>1,"A CHOISIR", OFFSET('Planning de pâturage'!$A$13,MATCH(TRUE,OFFSET('Planning de pâturage'!$A$14:$A$28,0,MATCH('Production laitière'!AY21,'Planning de pâturage'!$B$11:$NH$11))>0,0),))} -> #N/A | BF21: J255 | BG21: 42256 | BJ21: =BH21/BI21 -> #DIV/0! | BK21: {=IF(COUNTIF(OFFSET('Planning de pâturage'!$A$14:$A$28,0,MATCH('Production laitière'!BF21,'Planning de pâturage'!$B$11:$NH$11)),">"&0)>1,"A CHOISIR", OFFSET('Planning de pâturage'!$A$13,MATCH(TRUE,OFFSET('Planning de pâturage'!$A$14:$A$28,0,MATCH('Production laitière'!BF21,'Planning de pâturage'!$B$11:$NH$11))>0,0),))} -> #N/A | BM21: J283 | BN21: 42284 | BQ21: =BO21/BP21 -> #DIV/0! | BR21: {=IF(COUNTIF(OFFSET('Planning de pâturage'!$A$14:$A$28,0,MATCH('Production laitière'!BM21,'Planning de pâturage'!$B$11:$NH$11)),">"&0)>1,"A CHOISIR", OFFSET('Planning de pâturage'!$A$13,MATCH(TRUE,OFFSET('Planning de pâturage'!$A$14:$A$28,0,MATCH('Production laitière'!BM21,'Planning de pâturage'!$B$11:$NH$11))>0,0),))} -> #N/A | BT21: J318 | BU21: 42319 | BX21: =BV21/BW21 -> #DIV/0! | BY21: {=IF(COUNTIF(OFFSET('Planning de pâturage'!$A$14:$A$28,0,MATCH('Production laitière'!BT21,'Planning de pâturage'!$B$11:$NH$11)),">"&0)>1,"A CHOISIR", OFFSET('Planning de pâturage'!$A$13,MATCH(TRUE,OFFSET('Planning de pâturage'!$A$14:$A$28,0,MATCH('Production laitière'!BT21,'Planning de pâturage'!$B$11:$NH$11))>0,0),))} -> #N/A | CA21: J346 | CB21: 41982 | CE21: =CC21/CD21 -> #DIV/0! | CF21: {=IF(COUNTIF(OFFSET('Planning de pâturage'!$A$14:$A$28,0,MATCH('Production laitière'!CA21,'Planning de pâturage'!$B$11:$NH$11)),">"&0)>1,"A CHOISIR", OFFSET('Planning de pâturage'!$A$13,MATCH(TRUE,OFFSET('Planning de pâturage'!$A$14:$A$28,0,MATCH('Production laitière'!CA21,'Planning de pâturage'!$B$11:$NH$11))>0,0),))} -> #N/A
