Workbook

Sheet Ration alimentaire
A1: remplir les cases non grisées
A2: Noter tous les aliments distribués au cours de la saison de pâturage
A3: Nom | B3: %MS | C3: €/TMS
A4: Nom aliment 1
A5: Nom aliment 2
A6: Nom aliment 3
A7: Nom aliment 4
A8: Nom aliment 5
A9: Nom aliment 6
A10: Nom aliment 7
A11: Nom aliment 8
A12: Nom aliment 9
A13: Nom aliment 10
A15: Noter les quantités distribués chaque semaine en kgbrut/vL
A16: Dates pour 2015, à adapter en fonction des années
B18: Janvier
B19: S1 | D19: S2 | F19: S3 | H19: S4 | J19: S5
B20: 01 au 04 janvier | D20: 05 au 11 janvier | F20: 12 au 18 janvier | H20: 19 au 25 janvier | J20: 26 janvier au 01 février
B21: kgbrut / VL | C21: kgMS / VL | D21: kgbrut / VL | E21: kgMS / VL | F21: kgbrut / VL | G21: kgMS / VL | H21: kgbrut / VL | I21: kgMS / VL | J21: kgbrut / VL | K21: kgMS / VL
A22: =A4 -> Nom aliment 1 | C22: =B22*$B$4/100 -> 0 | E22: =D22*$B$4/100 -> 0 | G22: =F22*$B$4/100 -> 0 | I22: =H22*$B$4/100 -> 0 | K22: =J22*$B$4/100 -> 0
A23: =A5 -> Nom aliment 2 | C23: =B23*$B$5/100 -> 0 | E23: =D23*$B$5/100 -> 0 | G23: =F23*$B$5/100 -> 0 | I23: =H23*$B$5/100 -> 0 | K23: =J23*$B$5/100 -> 0
A24: =A6 -> Nom aliment 3 | C24: =B24*$B$6/100 -> 0 | E24: =D24*$B$6/100 -> 0 | G24: =F24*$B$6/100 -> 0 | I24: =H24*$B$6/100 -> 0 | K24: =J24*$B$6/100 -> 0
A25: =A7 -> Nom aliment 4 | C25: =B25*$B$7/100 -> 0 | E25: =D25*$B$7/100 -> 0 | G25: =F25*$B$7/100 -> 0 | I25: =H25*$B$7/100 -> 0 | K25: =J25*$B$7/100 -> 0
A26: =A8 -> Nom aliment 5 | C26: =B26*$B$8/100 -> 0 | E26: =D26*$B$8/100 -> 0 | G26: =F26*$B$8/100 -> 0 | I26: =H26*$B$8/100 -> 0 | K26: =J26*$B$8/100 -> 0
A27: =A9 -> Nom aliment 6 | C27: =B27*$B$9/100 -> 0 | E27: =D27*$B$9/100 -> 0 | G27: =F27*$B$9/100 -> 0 | I27: =H27*$B$9/100 -> 0 | K27: =J27*$B$9/100 -> 0
A28: =A10 -> Nom aliment 7 | C28: =B28*$B$10/100 -> 0 | E28: =D28*$B$10/100 -> 0 | G28: =F28*$B$10/100 -> 0 | I28: =H28*$B$10/100 -> 0 | K28: =J28*$B$10/100 -> 0
A29: =A11 -> Nom aliment 8 | C29: =B29*$B$11/100 -> 0 | E29: =D29*$B$11/100 -> 0 | G29: =F29*$B$11/100 -> 0 | I29: =H29*$B$11/100 -> 0 | K29: =J29*$B$11/100 -> 0
A30: =A12 -> Nom aliment 9 | C30: =B30*$B$12/100 -> 0 | E30: =D30*$B$12/100 -> 0 | G30: =F30*$B$12/100 -> 0 | I30: =H30*$B$12/100 -> 0 | K30: =J30*$B$12/100 -> 0
A31: =A13 -> Nom aliment 10 | C31: =B31*$B$13/100 -> 0 | E31: =D31*$B$13/100 -> 0 | G31: =F31*$B$13/100 -> 0 | I31: =H31*$B$13/100 -> 0 | K31: =J31*$B$13/100 -> 0
A32: Total | B32: =SUM(B22:B31) -> 0 | C32: =SUM(C22:C31) -> 0 | D32: =SUM(D22:D31) -> 0 | E32: =SUM(E22:E31) -> 0 | F32: =SUM(F22:F31) -> 0 | G32: =SUM(G22:G31) -> 0 | H32: =SUM(H22:H31) -> 0 | I32: =SUM(I22:I31) -> 0 | ... K32: =SUM(K22:K31) -> 0
B35: Février | J35: Mars | T35: Avril
B36: S6 | D36: S7 | F36: S8 | H36: S9 | J36: S10 | L36: S11 | N36: S12 | P36: S13 | R36: S14 | T36: S15 | V36: S16 | X36: S17 | Z36: S18
B37: 02 au 08 février | D37: 09 au 15 février | F37: 16 au 22 février | H37: 23 février au 01 mars | J37: 02 au 08 mars | L37: 09 au 15 mars | N37: 16 au 22 mars | P37: 23 au 29 mars | R37: 30 mars au 05 avril | T37: 06 au 12 avril | V37: 13 au 19 avril | X37: 20 au 26 avril | Z37: 27 avril au 03 mai
B38: kgbrut / VL | C38: kgMS / VL | D38: kgbrut / VL | E38: kgMS / VL | F38: kgbrut / VL | G38: kgMS / VL | H38: kgbrut / VL | I38: kgMS / VL | J38: kgbrut / VL | K38: kgMS / VL | L38: kgbrut / VL | M38: kgMS / VL | N38: kgbrut / VL | O38: kgMS / VL | P38: kgbrut / VL | Q38: kgMS / VL | R38: kgbrut / VL | S38: kgMS / VL | T38: kgbrut / VL | U38: kgMS / VL | V38: kgbrut / VL | W38: kgMS / VL | X38: kgbrut / VL | Y38: kgMS / VL | Z38: kgbrut / VL | AA38: kgMS / VL
A39: =A4 -> Nom aliment 1 | C39: =B39*$B$4/100 -> 0 | E39: =D39*$B$4/100 -> 0 | G39: =F39*$B$4/100 -> 0 | I39: =H39*$B$4/100 -> 0 | K39: =J39*$B$4/100 -> 0 | M39: =L39*$B$4/100 -> 0 | O39: =N39*$B$4/100 -> 0 | Q39: =P39*$B$4/100 -> 0 | S39: =R39*$B$4/100 -> 0 | U39: =T39*$B$4/100 -> 0 | W39: =V39*$B$4/100 -> 0 | Y39: =X39*$B$4/100 -> 0 | AA39: =Z39*$B$4/100 -> 0
A40: =A5 -> Nom aliment 2 | C40: =B40*$B$5/100 -> 0 | E40: =D40*$B$5/100 -> 0 | G40: =F40*$B$5/100 -> 0 | I40: =H40*$B$4/100 -> 0 | K40: =J40*$B$5/100 -> 0 | M40: =L40*$B$5/100 -> 0 | O40: =N40*$B$5/100 -> 0 | Q40: =P40*$B$5/100 -> 0 | S40: =R40*$B$5/100 -> 0 | U40: =T40*$B$5/100 -> 0 | W40: =V40*$B$5/100 -> 0 | Y40: =X40*$B$5/100 -> 0 | AA40: =Z40*$B$5/100 -> 0
A41: =A6 -> Nom aliment 3 | C41: =B41*$B$6/100 -> 0 | E41: =D41*$B$6/100 -> 0 | G41: =F41*$B$6/100 -> 0 | I41: =H41*$B$4/100 -> 0 | K41: =J41*$B$6/100 -> 0 | M41: =L41*$B$6/100 -> 0 | O41: =N41*$B$6/100 -> 0 | Q41: =P41*$B$6/100 -> 0 | S41: =R41*$B$6/100 -> 0 | U41: =T41*$B$6/100 -> 0 | W41: =V41*$B$6/100 -> 0 | Y41: =X41*$B$6/100 -> 0 | AA41: =Z41*$B$6/100 -> 0
A42: =A7 -> Nom aliment 4 | C42: =B42*$B$7/100 -> 0 | E42: =D42*$B$7/100 -> 0 | G42: =F42*$B$7/100 -> 0 | I42: =H42*$B$4/100 -> 0 | K42: =J42*$B$7/100 -> 0 | M42: =L42*$B$7/100 -> 0 | O42: =N42*$B$7/100 -> 0 | Q42: =P42*$B$7/100 -> 0 | S42: =R42*$B$7/100 -> 0 | U42: =T42*$B$7/100 -> 0 | W42: =V42*$B$7/100 -> 0 | Y42: =X42*$B$7/100 -> 0 | AA42: =Z42*$B$7/100 -> 0
A43: =A8 -> Nom aliment 5 | C43: =B43*$B$8/100 -> 0 | E43: =D43*$B$8/100 -> 0 | G43: =F43*$B$8/100 -> 0 | I43: =H43*$B$4/100 -> 0 | K43: =J43*$B$8/100 -> 0 | M43: =L43*$B$8/100 -> 0 | O43: =N43*$B$8/100 -> 0 | Q43: =P43*$B$8/100 -> 0 | S43: =R43*$B$8/100 -> 0 | U43: =T43*$B$8/100 -> 0 | W43: =V43*$B$8/100 -> 0 | Y43: =X43*$B$8/100 -> 0 | AA43: =Z43*$B$8/100 -> 0
A44: =A9 -> Nom aliment 6 | C44: =B44*$B$9/100 -> 0 | E44: =D44*$B$9/100 -> 0 | G44: =F44*$B$9/100 -> 0 | I44: =H44*$B$4/100 -> 0 | K44: =J44*$B$9/100 -> 0 | M44: =L44*$B$9/100 -> 0 | O44: =N44*$B$9/100 -> 0 | Q44: =P44*$B$9/100 -> 0 | S44: =R44*$B$9/100 -> 0 | U44: =T44*$B$9/100 -> 0 | W44: =V44*$B$9/100 -> 0 | Y44: =X44*$B$9/100 -> 0 | AA44: =Z44*$B$9/100 -> 0
...

Sheet Production d'herbe 
A1: Production d'herbe (en kgMS)
A2: Calculs effectués en considérant que les VL ingèrent 17 kgMS/jr
C4: Janvier
C5: S1 | D5: S2 | E5: S3 | F5: S4 | G5: S5
B6: Nombre VL
B7: Concentrés et fourrages (kgMS/VL/jr) | C7: ='Ration alimentaire'!C32 -> 0 | D7: ='Ration alimentaire'!E32 -> 0 | E7: ='Ration alimentaire'!G32 -> 0 | F7: ='Ration alimentaire'!I32 -> 0 | G7: ='Ration alimentaire'!K32 -> 0
B8: Herbe pâturée (kgMS/VL/jr) | C8: =IF(C7<17, 17-C7, 0) -> 17 | D8: =IF(D7<17, 17-D7, 0) -> 17 | E8: =IF(E7<17, 17-E7, 0) -> 17 | F8: =IF(F7<17, 17-F7, 0) -> 17 | G8: =IF(G7<17, 17-G7, 0) -> 17
B9: Herbe pâturée totale (kgMS/jr)
B11: Nom paddock 1
B12: Nom paddock 2
B13: Nom paddock 3
B14: Nom paddock 4
B15: Nom paddock 5
B16: Nom paddock 6
B17: Nom paddock 7
B18: Nom paddock 8
B19: Nom paddock 9
B20: Nom paddock 10
B21: Nom paddock 11
... B25: Nom paddock 15
B27: Total par semaine | C27: =SUM(C11:C25) -> 0 | D27: =SUM(D11:D25) -> 0 | E27: =SUM(E11:E25) -> 0 | F27: =SUM(F11:F25) -> 0 | G27: =SUM(G11:G25) -> 0
B28: Total par mois | C28: =SUM(C27:G27) -> 0
C30: Février | G30: Mars | L30: Avril
C31: S6 | D31: S7 | E31: S8 | F31: S9 | G31: S10 | H31: S11 | I31: S12 | J31: S13 | K31: S14 | L31: S15 | M31: S16 | N31: S17 | O31: S18
B32: Nombre VL
B33: Concentrés et fourrages (kgMS/VL/jr) | C33: ='Ration alimentaire'!C49 -> 0 | D33: ='Ration alimentaire'!E49 -> 0 | E33: ='Ration alimentaire'!G49 -> 0 | F33: ='Ration alimentaire'!H49 -> 0 | G33: ='Ration alimentaire'!K49 -> 0 | H33: ='Ration alimentaire'!M49 -> 0 | I33: ='Ration alimentaire'!O49 -> 0 | J33: ='Ration alimentaire'!Q49 -> 0 | K33: ='Ration alimentaire'!S49 -> 0 | L33: ='Ration alimentaire'!U49 -> 0 | M33: ='Ration alimentaire'!W49 -> 0 | N33: ='Ration alimentaire'!Y49 -> 0 | O33: ='Ration alimentaire'!AA49 -> 0
B34: Herbe pâturée (kgMS/VL/jr) | C34: =IF(C33<17, 17-C33, 0) -> 17 | D34: =IF(D33<17, 17-D33, 0) -> 17 | E34: =IF(E33<17, 17-E33, 0) -> 17 | F34: =IF(F33<17, 17-F33, 0) -> 17 | G34: =IF(G33<17, 17-G33, 0) -> 17 | H34: =IF(H33<17, 17-H33, 0) -> 17 | I34: =IF(I33<17, 17-I33, 0) -> 17 | J34: =IF(J33<17, 17-J33, 0) -> 17 | ... O34: =IF(O33<17, 17-O33, 0) -> 17
B35: Herbe pâturée totale (kgMS/jr) | C35: =C34*C32 -> 0 | D35: =D34*D32 -> 0 | E35: =E34*E32 -> 0 | F35: =F34*F32 -> 0 | G35: =G34*G32 -> 0 | H35: =H34*H32 -> 0 | I35: =I34*I32 -> 0 | J35: =J34*J32 -> 0 | ... O35: =O34*O32 -> 0
B37: ='Production d''herbe '!B11 -> Nom paddock 1
B38: ='Production d''herbe '!B12 -> Nom paddock 2
B39: ='Production d''herbe '!B13 -> Nom paddock 3
B40: ='Production d''herbe '!B14 -> Nom paddock 4
B41: ='Production d''herbe '!B15 -> Nom paddock 5
B42: ='Production d''herbe '!B16 -> Nom paddock 6
B43: ='Production d''herbe '!B17 -> Nom paddock 7
B44: ='Production d''herbe '!B18 -> Nom paddock 8
B45: ='Production d''herbe '!B19 -> Nom paddock 9
B46: ='Production d''herbe '!B20 -> Nom paddock 10
B47: ='Production d''herbe '!B21 -> Nom paddock 11
B48: ='Production d''herbe '!B22 -> Nom paddock 12
...

Sheet Bilan sur les cycles
B2: Date de début | C2: Semaine début | D2: Date de fin | E2: Semaine fin | F2: Durée (jr)
A3: 1er tour | B3: Rentrée par l'utilisateur | C3: Rentrée par l'utilisateur | D3: Rentrée par l'utilisateur | E3: Rentrée par l'utilisateur | F3: =D3-B3 -> #VALUE!
A4: 2e tour | B4: Rentrée par l'utilisateur | C4: Rentrée par l'utilisateur | D4: Rentrée par l'utilisateur | E4: Rentrée par l'utilisateur | F4: =D4-B4 -> #VALUE!
A5: 3e tour | B5: Rentrée par l'utilisateur | C5: Rentrée par l'utilisateur | D5: Rentrée par l'utilisateur | E5: Rentrée par l'utilisateur | F5: =D5-B5 -> #VALUE!
A6: 4e tour | B6: Rentrée par l'utilisateur | C6: Rentrée par l'utilisateur | D6: Rentrée par l'utilisateur | E6: Rentrée par l'utilisateur | F6: =D6-B6 -> #VALUE!
A7: 5e tour | B7: Rentrée par l'utilisateur | C7: Rentrée par l'utilisateur | D7: Rentrée par l'utilisateur | E7: Rentrée par l'utilisateur | F7: =D7-B7 -> #VALUE!
A8: 6e tour | B8: Rentrée par l'utilisateur | C8: Rentrée par l'utilisateur | D8: Rentrée par l'utilisateur | E8: Rentrée par l'utilisateur | F8: =D8-B8 -> #VALUE!
A9: 7e tour | B9: Rentrée par l'utilisateur | C9: Rentrée par l'utilisateur | D9: Rentrée par l'utilisateur | E9: Rentrée par l'utilisateur | F9: =D9-B9 -> #VALUE!
C12: Ration distribuée | L12: Production d'herbe
C13: 1er tour | D13: 2ème tour | E13: 3ème tour | F13: 4ème tour | G13: 5ème tour | H13: 6ème tour | I13: 7ème tour | L13: 1er tour | M13: 2ème tour | N13: 3ème tour | O13: 4ème tour | P13: 5ème tour | Q13: 6ème tour | R13: 7ème tour
B14: ='Ration alimentaire'!A22 -> Nom aliment 1 | K14: ='Production d''herbe '!B11 -> Nom paddock 1
B15: ='Ration alimentaire'!A23 -> Nom aliment 2 | K15: ='Production d''herbe '!B12 -> Nom paddock 2
B16: ='Ration alimentaire'!A24 -> Nom aliment 3 | K16: ='Production d''herbe '!B13 -> Nom paddock 3
B17: ='Ration alimentaire'!A25 -> Nom aliment 4 | K17: ='Production d''herbe '!B14 -> Nom paddock 4
B18: ='Ration alimentaire'!A26 -> Nom aliment 5 | K18: ='Production d''herbe '!B15 -> Nom paddock 5
B19: ='Ration alimentaire'!A27 -> Nom aliment 6 | K19: ='Production d''herbe '!B16 -> Nom paddock 6
B20: ='Ration alimentaire'!A28 -> Nom aliment 7 | K20: ='Production d''herbe '!B17 -> Nom paddock 7
B21: ='Ration alimentaire'!A29 -> Nom aliment 8 | K21: ='Production d''herbe '!B18 -> Nom paddock 8
B22: ='Ration alimentaire'!A30 -> Nom aliment 9 | K22: ='Production d''herbe '!B19 -> Nom paddock 9
B23: ='Ration alimentaire'!A31 -> Nom aliment 10 | K23: ='Production d''herbe '!B20 -> Nom paddock 10
K24: ='Production d''herbe '!B21 -> Nom paddock 11
C25: Sachant la semaine de début du tour et la semaine de fin, je voudrais avoir la ration moyenne au cours du tour (donc en la semaine de début et la semaine de fin) ainsi que les productions des différents paddocks pendant ces tours | K25: ='Production d''herbe '!B22 -> Nom paddock 12
K26: ='Production d''herbe '!B23 -> Nom paddock 13
K27: ='Production d''herbe '!B24 -> Nom paddock 14
K28: ='Production d''herbe '!B25 -> Nom paddock 15
C30: A mon avis il faut créer un endroit où on copie les données que l'on va chercher dans les autres feuilles puis faire la moyenne de ces données. En fait, je ne sais pas comment aller chercher ces données sachant que les semaines varient et en plus qu'il faut prendre plusieurs colonnes en fonction du lapse de temps des tours
