Workbook

Sheet Ration alimentaire
A1: remplir les cases non grisées
A2: Noter tous les aliments distribués au cours de la saison de pâturage
A3: Nom | B3: %MS | C3: €/TMS
A4: Nom aliment 1
A5: Nom aliment 2
A6: Nom aliment 3
A7: Nom aliment 4
A8: Nom aliment 5
A9: Nom aliment 6
A10: Nom aliment 7
A11: Nom aliment 8
A12: Nom aliment 9
A13: Nom aliment 10
A15: Noter les quantités distribués chaque semaine en kgbrut/vL
A16: Dates pour 2015, à adapter en fonction des années
B18: Janvier
B19: S1 | D19: S2 | F19: S3 | H19: S4 | J19: S5
B20: 01 au 04 janvier | D20: 05 au 11 janvier | F20: 12 au 18 janvier | H20: 19 au 25 janvier | J20: 26 janvier au 01 février
B21: kgbrut / VL | C21: kgMS / VL | D21: kgbrut / VL | E21: kgMS / VL | F21: kgbrut / VL | G21: kgMS / VL | H21: kgbrut / VL | I21: kgMS / VL | J21: kgbrut / VL | K21: kgMS / VL
A22: =A4 -> Nom aliment 1 | C22: =B22*$B$4/100 -> 0 | E22: =D22*$B$4/100 -> 0 | G22: =F22*$B$4/100 -> 0 | I22: =H22*$B$4/100 -> 0 | K22: =J22*$B$4/100 -> 0
A23: =A5 -> Nom aliment 2 | C23: =B23*$B$5/100 -> 0 | E23: =D23*$B$5/100 -> 0 | G23: =F23*$B$5/100 -> 0 | I23: =H23*$B$5/100 -> 0 | K23: =J23*$B$5/100 -> 0
A24: =A6 -> Nom aliment 3 | C24: =B24*$B$6/100 -> 0 | E24: =D24*$B$6/100 -> 0 | G24: =F24*$B$6/100 -> 0 | I24: =H24*$B$6/100 -> 0 | K24: =J24*$B$6/100 -> 0
A25: =A7 -> Nom aliment 4 | C25: =B25*$B$7/100 -> 0 | E25: =D25*$B$7/100 -> 0 | G25: =F25*$B$7/100 -> 0 | I25: =H25*$B$7/100 -> 0 | K25: =J25*$B$7/100 -> 0
A26: =A8 -> Nom aliment 5 | C26: =B26*$B$8/100 -> 0 | E26: =D26*$B$8/100 -> 0 | G26: =F26*$B$8/100 -> 0 | I26: =H26*$B$8/100 -> 0 | K26: =J26*$B$8/100 -> 0
A27: =A9 -> Nom aliment 6 | C27: =B27*$B$9/100 -> 0 | E27: =D27*$B$9/100 -> 0 | G27: =F27*$B$9/100 -> 0 | I27: =H27*$B$9/100 -> 0 | K27: =J27*$B$9/100 -> 0
A28: =A10 -> Nom aliment 7 | C28: =B28*$B$10/100 -> 0 | E28: =D28*$B$10/100 -> 0 | G28: =F28*$B$10/100 -> 0 | I28: =H28*$B$10/100 -> 0 | K28: =J28*$B$10/100 -> 0
A29: =A11 -> Nom aliment 8 | C29: =B29*$B$11/100 -> 0 | E29: =D29*$B$11/100 -> 0 | G29: =F29*$B$11/100 -> 0 | I29: =H29*$B$11/100 -> 0 | K29: =J29*$B$11/100 -> 0
A30: =A12 -> Nom aliment 9 | C30: =B30*$B$12/100 -> 0 | E30: =D30*$B$12/100 -> 0 | G30: =F30*$B$12/100 -> 0 | I30: =H30*$B$12/100 -> 0 | K30: =J30*$B$12/100 -> 0
A31: =A13 -> Nom aliment 10 | C31: =B31*$B$13/100 -> 0 | E31: =D31*$B$13/100 -> 0 | G31: =F31*$B$13/100 -> 0 | I31: =H31*$B$13/100 -> 0 | K31: =J31*$B$13/100 -> 0
A32: Total | B32: =SUM(B22:B31) -> 0 | C32: =SUM(C22:C31) -> 0 | D32: =SUM(D22:D31) -> 0 | E32: =SUM(E22:E31) -> 0 | F32: =SUM(F22:F31) -> 0 | G32: =SUM(G22:G31) -> 0 | H32: =SUM(H22:H31) -> 0 | I32: =SUM(I22:I31) -> 0 | ... K32: =SUM(K22:K31) -> 0
B35: Février | J35: Mars | T35: Avril
B36: S6 | D36: S7 | F36: S8 | H36: S9 | J36: S10 | L36: S11 | N36: S12 | P36: S13 | R36: S14 | T36: S15 | V36: S16 | X36: S17 | Z36: S18
B37: 02 au 08 février | D37: 09 au 15 février | F37: 16 au 22 février | H37: 23 février au 01 mars | J37: 02 au 08 mars | L37: 09 au 15 mars | N37: 16 au 22 mars | P37: 23 au 29 mars | R37: 30 mars au 05 avril | T37: 06 au 12 avril | V37: 13 au 19 avril | X37: 20 au 26 avril | Z37: 27 avril au 03 mai
B38: kgbrut / VL | C38: kgMS / VL | D38: kgbrut / VL | E38: kgMS / VL | F38: kgbrut / VL | G38: kgMS / VL | H38: kgbrut / VL | I38: kgMS / VL | J38: kgbrut / VL | K38: kgMS / VL | L38: kgbrut / VL | M38: kgMS / VL | N38: kgbrut / VL | O38: kgMS / VL | P38: kgbrut / VL | Q38: kgMS / VL | R38: kgbrut / VL | S38: kgMS / VL | T38: kgbrut / VL | U38: kgMS / VL | V38: kgbrut / VL | W38: kgMS / VL | X38: kgbrut / VL | Y38: kgMS / VL | Z38: kgbrut / VL | AA38: kgMS / VL
A39: =A4 -> Nom aliment 1 | C39: =B39*$B$4/100 -> 0 | E39: =D39*$B$4/100 -> 0 | G39: =F39*$B$4/100 -> 0 | I39: =H39*$B$4/100 -> 0 | K39: =J39*$B$4/100 -> 0 | M39: =L39*$B$4/100 -> 0 | O39: =N39*$B$4/100 -> 0 | Q39: =P39*$B$4/100 -> 0 | S39: =R39*$B$4/100 -> 0 | U39: =T39*$B$4/100 -> 0 | W39: =V39*$B$4/100 -> 0 | Y39: =X39*$B$4/100 -> 0 | AA39: =Z39*$B$4/100 -> 0
A40: =A5 -> Nom aliment 2 | C40: =B40*$B$5/100 -> 0 | E40: =D40*$B$5/100 -> 0 | G40: =F40*$B$5/100 -> 0 | I40: =H40*$B$4/100 -> 0 | K40: =J40*$B$5/100 -> 0 | M40: =L40*$B$5/100 -> 0 | O40: =N40*$B$5/100 -> 0 | Q40: =P40*$B$5/100 -> 0 | S40: =R40*$B$5/100 -> 0 | U40: =T40*$B$5/100 -> 0 | W40: =V40*$B$5/100 -> 0 | Y40: =X40*$B$5/100 -> 0 | AA40: =Z40*$B$5/100 -> 0
A41: =A6 -> Nom aliment 3 | C41: =B41*$B$6/100 -> 0 | E41: =D41*$B$6/100 -> 0 | G41: =F41*$B$6/100 -> 0 | I41: =H41*$B$4/100 -> 0 | K41: =J41*$B$6/100 -> 0 | M41: =L41*$B$6/100 -> 0 | O41: =N41*$B$6/100 -> 0 | Q41: =P41*$B$6/100 -> 0 | S41: =R41*$B$6/100 -> 0 | U41: =T41*$B$6/100 -> 0 | W41: =V41*$B$6/100 -> 0 | Y41: =X41*$B$6/100 -> 0 | AA41: =Z41*$B$6/100 -> 0
A42: =A7 -> Nom aliment 4 | C42: =B42*$B$7/100 -> 0 | E42: =D42*$B$7/100 -> 0 | G42: =F42*$B$7/100 -> 0 | I42: =H42*$B$4/100 -> 0 | K42: =J42*$B$7/100 -> 0 | M42: =L42*$B$7/100 -> 0 | O42: =N42*$B$7/100 -> 0 | Q42: =P42*$B$7/100 -> 0 | S42: =R42*$B$7/100 -> 0 | U42: =T42*$B$7/100 -> 0 | W42: =V42*$B$7/100 -> 0 | Y42: =X42*$B$7/100 -> 0 | AA42: =Z42*$B$7/100 -> 0
A43: =A8 -> Nom aliment 5 | C43: =B43*$B$8/100 -> 0 | E43: =D43*$B$8/100 -> 0 | G43: =F43*$B$8/100 -> 0 | I43: =H43*$B$4/100 -> 0 | K43: =J43*$B$8/100 -> 0 | M43: =L43*$B$8/100 -> 0 | O43: =N43*$B$8/100 -> 0 | Q43: =P43*$B$8/100 -> 0 | S43: =R43*$B$8/100 -> 0 | U43: =T43*$B$8/100 -> 0 | W43: =V43*$B$8/100 -> 0 | Y43: =X43*$B$8/100 -> 0 | AA43: =Z43*$B$8/100 -> 0
A44: =A9 -> Nom aliment 6 | C44: =B44*$B$9/100 -> 0 | E44: =D44*$B$9/100 -> 0 | G44: =F44*$B$9/100 -> 0 | I44: =H44*$B$4/100 -> 0 | K44: =J44*$B$9/100 -> 0 | M44: =L44*$B$9/100 -> 0 | O44: =N44*$B$9/100 -> 0 | Q44: =P44*$B$9/100 -> 0 | S44: =R44*$B$9/100 -> 0 | U44: =T44*$B$9/100 -> 0 | W44: =V44*$B$9/100 -> 0 | Y44: =X44*$B$9/100 -> 0 | AA44: =Z44*$B$9/100 -> 0
A45: =A10 -> Nom aliment 7 | C45: =B45*$B$10/100 -> 0 | E45: =D45*$B$10/100 -> 0 | G45: =F45*$B$10/100 -> 0 | I45: =H45*$B$4/100 -> 0 | K45: =J45*$B$10/100 -> 0 | M45: =L45*$B$10/100 -> 0 | O45: =N45*$B$10/100 -> 0 | Q45: =P45*$B$10/100 -> 0 | S45: =R45*$B$10/100 -> 0 | U45: =T45*$B$10/100 -> 0 | W45: =V45*$B$10/100 -> 0 | Y45: =X45*$B$10/100 -> 0 | AA45: =Z45*$B$10/100 -> 0
A46: =A11 -> Nom aliment 8 | C46: =B46*$B$11/100 -> 0 | E46: =D46*$B$11/100 -> 0 | G46: =F46*$B$11/100 -> 0 | I46: =H46*$B$4/100 -> 0 | K46: =J46*$B$11/100 -> 0 | M46: =L46*$B$11/100 -> 0 | O46: =N46*$B$11/100 -> 0 | Q46: =P46*$B$11/100 -> 0 | S46: =R46*$B$11/100 -> 0 | U46: =T46*$B$11/100 -> 0 | W46: =V46*$B$11/100 -> 0 | Y46: =X46*$B$11/100 -> 0 | AA46: =Z46*$B$11/100 -> 0
A47: =A12 -> Nom aliment 9 | C47: =B47*$B$12/100 -> 0 | E47: =D47*$B$12/100 -> 0 | G47: =F47*$B$12/100 -> 0 | I47: =H47*$B$4/100 -> 0 | K47: =J47*$B$12/100 -> 0 | M47: =L47*$B$12/100 -> 0 | O47: =N47*$B$12/100 -> 0 | Q47: =P47*$B$12/100 -> 0 | S47: =R47*$B$12/100 -> 0 | U47: =T47*$B$12/100 -> 0 | W47: =V47*$B$12/100 -> 0 | Y47: =X47*$B$12/100 -> 0 | AA47: =Z47*$B$12/100 -> 0
A48: =A13 -> Nom aliment 10 | C48: =B48*$B$13/100 -> 0 | E48: =D48*$B$13/100 -> 0 | G48: =F48*$B$13/100 -> 0 | I48: =H48*$B$4/100 -> 0 | K48: =J48*$B$13/100 -> 0 | M48: =L48*$B$13/100 -> 0 | O48: =N48*$B$13/100 -> 0 | Q48: =P48*$B$13/100 -> 0 | S48: =R48*$B$13/100 -> 0 | U48: =T48*$B$13/100 -> 0 | W48: =V48*$B$13/100 -> 0 | Y48: =X48*$B$13/100 -> 0 | AA48: =Z48*$B$13/100 -> 0
A49: Total | B49: =SUM(B39:B48) -> 0 | C49: =SUM(C39:C48) -> 0 | D49: =SUM(D39:D48) -> 0 | E49: =SUM(E39:E48) -> 0 | F49: =SUM(F39:F48) -> 0 | G49: =SUM(G39:G48) -> 0 | H49: =SUM(H39:H48) -> 0 | I49: =SUM(I39:I48) -> 0 | ... AA49: =SUM(AA39:AA48) -> 0
B51: Mai | J51: Juin | R51: Juillet
B52: S19 | D52: S20 | F52: S21 | H52: S22 | J52: S23 | L52: S24 | N52: S25 | P52: S26 | R52: S27 | T52: S28 | V52: S29 | X52: S30 | Z52: S31
B53: 04 au 10 mai | D53: 11 au 17 mai | F53: 18 au 24 mai | H53: 25 au 31 mai | J53: 01 au 07 juin | L53: 08 au 14 juin | N53: 15 au 21 juin | P53: 22 au 28 juin | R53: 29 juin au 05 juillet | T53: 06 au 12 juillet | V53: 13 au 19 juillet | X53: 20 au 26 juillet | Z53: 27 juillet au 02 août
B54: kgbrut / VL | C54: kgMS / VL | D54: kgbrut / VL | E54: kgMS / VL | F54: kgbrut / VL | G54: kgMS / VL | H54: kgbrut / VL | I54: kgMS / VL | J54: kgbrut / VL | K54: kgMS / VL | L54: kgbrut / VL | M54: kgMS / VL | N54: kgbrut / VL | O54: kgMS / VL | P54: kgbrut / VL | Q54: kgMS / VL | R54: kgbrut / VL | S54: kgMS / VL | T54: kgbrut / VL | U54: kgMS / VL | V54: kgbrut / VL | W54: kgMS / VL | X54: kgbrut / VL | Y54: kgMS / VL | Z54: kgbrut / VL | AA54: kgMS / VL
A55: =A4 -> Nom aliment 1 | C55: =B55*$B$4/100 -> 0 | E55: =D55*$B$4/100 -> 0 | G55: =F55*$B$4/100 -> 0 | I55: =H55*$B$4/100 -> 0 | K55: 0 | M55: =L55*$B$4/100 -> 0 | O55: =N55*$B$4/100 -> 0 | Q55: =P55*$B$4/100 -> 0 | S55: =R55*$B$4/100 -> 0 | U55: =T55*$B$4/100 -> 0 | W55: =V55*$B$4/100 -> 0 | Y55: =X55*$B$4/100 -> 0 | AA55: =Z55*$B$4/100 -> 0
A56: =A5 -> Nom aliment 2 | C56: =B56*$B$5/100 -> 0 | E56: =D56*$B$5/100 -> 0 | G56: =F56*$B$5/100 -> 0 | I56: =H56*$B$5/100 -> 0 | K56: 0 | M56: =L56*$B$5/100 -> 0 | O56: =N56*$B$5/100 -> 0 | Q56: =P56*$B$5/100 -> 0 | S56: =R56*$B$5/100 -> 0 | U56: =T56*$B$5/100 -> 0 | W56: =V56*$B$5/100 -> 0 | Y56: =X56*$B$5/100 -> 0 | AA56: =Z56*$B$5/100 -> 0
A57: =A6 -> Nom aliment 3 | C57: =B57*$B$6/100 -> 0 | E57: =D57*$B$6/100 -> 0 | G57: =F57*$B$6/100 -> 0 | I57: =H57*$B$6/100 -> 0 | K57: 0 | M57: =L57*$B$6/100 -> 0 | O57: =N57*$B$6/100 -> 0 | Q57: =P57*$B$6/100 -> 0 | S57: =R57*$B$6/100 -> 0 | U57: =T57*$B$6/100 -> 0 | W57: =V57*$B$6/100 -> 0 | Y57: =X57*$B$6/100 -> 0 | AA57: =Z57*$B$6/100 -> 0
A58: =A7 -> Nom aliment 4 | C58: =B58*$B$7/100 -> 0 | E58: =D58*$B$7/100 -> 0 | G58: =F58*$B$7/100 -> 0 | I58: =H58*$B$7/100 -> 0 | K58: 0 | M58: =L58*$B$7/100 -> 0 | O58: =N58*$B$7/100 -> 0 | Q58: =P58*$B$7/100 -> 0 | S58: =R58*$B$7/100 -> 0 | U58: =T58*$B$7/100 -> 0 | W58: =V58*$B$7/100 -> 0 | Y58: =X58*$B$7/100 -> 0 | AA58: =Z58*$B$7/100 -> 0
A59: =A8 -> Nom aliment 5 | C59: =B59*$B$8/100 -> 0 | E59: =D59*$B$8/100 -> 0 | G59: =F59*$B$8/100 -> 0 | I59: =H59*$B$8/100 -> 0 | K59: 0 | M59: =L59*$B$8/100 -> 0 | O59: =N59*$B$8/100 -> 0 | Q59: =P59*$B$8/100 -> 0 | S59: =R59*$B$8/100 -> 0 | U59: =T59*$B$8/100 -> 0 | W59: =V59*$B$8/100 -> 0 | Y59: =X59*$B$8/100 -> 0 | AA59: =Z59*$B$8/100 -> 0
A60: =A9 -> Nom aliment 6 | C60: =B60*$B$9/100 -> 0 | E60: =D60*$B$9/100 -> 0 | G60: =F60*$B$9/100 -> 0 | I60: =H60*$B$9/100 -> 0 | K60: 0 | M60: =L60*$B$9/100 -> 0 | O60: =N60*$B$9/100 -> 0 | Q60: =P60*$B$9/100 -> 0 | S60: =R60*$B$9/100 -> 0 | U60: =T60*$B$9/100 -> 0 | W60: =V60*$B$9/100 -> 0 | Y60: =X60*$B$9/100 -> 0 | AA60: =Z60*$B$9/100 -> 0
A61: =A10 -> Nom aliment 7 | C61: =B61*$B$10/100 -> 0 | E61: =D61*$B$10/100 -> 0 | G61: =F61*$B$10/100 -> 0 | I61: =H61*$B$10/100 -> 0 | K61: 0 | M61: =L61*$B$10/100 -> 0 | O61: =N61*$B$10/100 -> 0 | Q61: =P61*$B$10/100 -> 0 | S61: =R61*$B$10/100 -> 0 | U61: =T61*$B$10/100 -> 0 | W61: =V61*$B$10/100 -> 0 | Y61: =X61*$B$10/100 -> 0 | AA61: =Z61*$B$10/100 -> 0
A62: =A11 -> Nom aliment 8 | C62: =B62*$B$11/100 -> 0 | E62: =D62*$B$11/100 -> 0 | G62: =F62*$B$11/100 -> 0 | I62: =H62*$B$11/100 -> 0 | K62: 0 | M62: =L62*$B$11/100 -> 0 | O62: =N62*$B$11/100 -> 0 | Q62: =P62*$B$11/100 -> 0 | S62: =R62*$B$11/100 -> 0 | U62: =T62*$B$11/100 -> 0 | W62: =V62*$B$11/100 -> 0 | Y62: =X62*$B$11/100 -> 0 | AA62: =Z62*$B$11/100 -> 0
A63: =A12 -> Nom aliment 9 | C63: =B63*$B$12/100 -> 0 | E63: =D63*$B$12/100 -> 0 | G63: =F63*$B$12/100 -> 0 | I63: =H63*$B$12/100 -> 0 | K63: 0 | M63: =L63*$B$12/100 -> 0 | O63: =N63*$B$12/100 -> 0 | Q63: =P63*$B$12/100 -> 0 | S63: =R63*$B$12/100 -> 0 | U63: =T63*$B$12/100 -> 0 | W63: =V63*$B$12/100 -> 0 | Y63: =X63*$B$12/100 -> 0 | AA63: =Z63*$B$12/100 -> 0
A64: =A13 -> Nom aliment 10 | C64: =B64*$B$13/100 -> 0 | E64: =D64*$B$13/100 -> 0 | G64: =F64*$B$13/100 -> 0 | I64: =H64*$B$13/100 -> 0 | K64: 0 | M64: =L64*$B$13/100 -> 0 | O64: =N64*$B$13/100 -> 0 | Q64: =P64*$B$13/100 -> 0 | S64: =R64*$B$13/100 -> 0 | U64: =T64*$B$13/100 -> 0 | W64: =V64*$B$13/100 -> 0 | Y64: =X64*$B$13/100 -> 0 | AA64: =Z64*$B$13/100 -> 0
A65: Total | B65: =SUM(B55:B64) -> 0 | C65: =SUM(C55:C64) -> 0 | D65: =SUM(D55:D64) -> 0 | E65: =SUM(E55:E64) -> 0 | F65: =SUM(F55:F64) -> 0 | G65: =SUM(G55:G64) -> 0 | H65: =SUM(H55:H64) -> 0 | I65: =SUM(I55:I64) -> 0 | ... AA65: =SUM(AA55:AA64) -> 0
B67: Août | J67: Septembre | R67: Octobre
B68: S32 | D68: S33 | F68: S34 | H68: S35 | J68: S36 | L68: S37 | N68: S38 | P68: S39 | R68: S40 | T68: S41 | V68: S42 | X68: S43 | Z68: S44
B69: 03 au 09 août | D69: 10 au 16 août | F69: 17 au 23 août | H69: 24 au 30 août | J69: 31 août au 06 septembre | L69: 07 au 13 septembre | N69: 14 au 20 septembre | P69: 21 au 27 septembre | R69: 28 septembre au 04 octobre | T69: 05 au 11 octobre | V69: 12 au 18 octobre | X69: 19 au 25 octobre | Z69: 26 octobre au 01 novembre
B70: kgbrut / VL | C70: kgMS / VL | D70: kgbrut / VL | E70: kgMS / VL | F70: kgbrut / VL | G70: kgMS / VL | H70: kgbrut / VL | I70: kgMS / VL | J70: kgbrut / VL | K70: kgMS / VL | L70: kgbrut / VL | M70: kgMS / VL | N70: kgbrut / VL | O70: kgMS / VL | P70: kgbrut / VL | Q70: kgMS / VL | R70: kgbrut / VL | S70: kgMS / VL | T70: kgbrut / VL | U70: kgMS / VL | V70: kgbrut / VL | W70: kgMS / VL | X70: kgbrut / VL | Y70: kgMS / VL | Z70: kgbrut / VL | AA70: kgMS / VL
A71: =A39 -> Nom aliment 1 | C71: =B71*$B$4/100 -> 0 | E71: =D71*$B$4/100 -> 0 | G71: =F71*$B$4/100 -> 0 | I71: =H71*$B$4/100 -> 0 | K71: =J71*$B$4/100 -> 0 | M71: =L71*$B$4/100 -> 0 | O71: =N71*$B$4/100 -> 0 | Q71: =P71*$B$4/100 -> 0 | S71: =R71*$B$4/100 -> 0 | U71: =T71*$B$4/100 -> 0 | W71: =V71*$B$4/100 -> 0 | Y71: =X71*$B$4/100 -> 0 | AA71: =Z71*$B$4/100 -> 0
A72: =A40 -> Nom aliment 2 | C72: =B72*$B$5/100 -> 0 | E72: =D72*$B$5/100 -> 0 | G72: =F72*$B$5/100 -> 0 | I72: =H72*$B$5/100 -> 0 | K72: =J72*$B$5/100 -> 0 | M72: =L72*$B$5/100 -> 0 | O72: =N72*$B$5/100 -> 0 | Q72: =P72*$B$5/100 -> 0 | S72: =R72*$B$5/100 -> 0 | U72: =T72*$B$5/100 -> 0 | W72: =V72*$B$5/100 -> 0 | Y72: =X72*$B$5/100 -> 0 | AA72: =Z72*$B$5/100 -> 0
A73: =A41 -> Nom aliment 3 | C73: =B73*$B$6/100 -> 0 | E73: =D73*$B$6/100 -> 0 | G73: =F73*$B$6/100 -> 0 | I73: =H73*$B$6/100 -> 0 | K73: =J73*$B$6/100 -> 0 | M73: =L73*$B$6/100 -> 0 | O73: =N73*$B$6/100 -> 0 | Q73: =P73*$B$6/100 -> 0 | S73: =R73*$B$6/100 -> 0 | U73: =T73*$B$6/100 -> 0 | W73: =V73*$B$6/100 -> 0 | Y73: =X73*$B$6/100 -> 0 | AA73: =Z73*$B$6/100 -> 0
A74: =A42 -> Nom aliment 4 | C74: =B74*$B$7/100 -> 0 | E74: =D74*$B$7/100 -> 0 | G74: =F74*$B$7/100 -> 0 | I74: =H74*$B$7/100 -> 0 | K74: =J74*$B$7/100 -> 0 | M74: =L74*$B$7/100 -> 0 | O74: =N74*$B$7/100 -> 0 | Q74: =P74*$B$7/100 -> 0 | S74: =R74*$B$7/100 -> 0 | U74: =T74*$B$7/100 -> 0 | W74: =V74*$B$7/100 -> 0 | Y74: =X74*$B$7/100 -> 0 | AA74: =Z74*$B$7/100 -> 0
A75: =A43 -> Nom aliment 5 | C75: =B75*$B$8/100 -> 0 | E75: =D75*$B$8/100 -> 0 | G75: =F75*$B$8/100 -> 0 | I75: =H75*$B$8/100 -> 0 | K75: =J75*$B$8/100 -> 0 | M75: =L75*$B$8/100 -> 0 | O75: =N75*$B$8/100 -> 0 | Q75: =P75*$B$8/100 -> 0 | S75: =R75*$B$8/100 -> 0 | U75: =T75*$B$8/100 -> 0 | W75: =V75*$B$8/100 -> 0 | Y75: =X75*$B$8/100 -> 0 | AA75: =Z75*$B$8/100 -> 0
A76: =A44 -> Nom aliment 6 | C76: =B76*$B$9/100 -> 0 | E76: =D76*$B$9/100 -> 0 | G76: =F76*$B$9/100 -> 0 | I76: =H76*$B$9/100 -> 0 | K76: =J76*$B$9/100 -> 0 | M76: =L76*$B$9/100 -> 0 | O76: =N76*$B$9/100 -> 0 | Q76: =P76*$B$9/100 -> 0 | S76: =R76*$B$9/100 -> 0 | U76: =T76*$B$9/100 -> 0 | W76: =V76*$B$9/100 -> 0 | Y76: =X76*$B$9/100 -> 0 | AA76: =Z76*$B$9/100 -> 0
A77: =A45 -> Nom aliment 7 | C77: =B77*$B$10/100 -> 0 | E77: =D77*$B$10/100 -> 0 | G77: =F77*$B$10/100 -> 0 | I77: =H77*$B$10/100 -> 0 | K77: =J77*$B$10/100 -> 0 | M77: =L77*$B$10/100 -> 0 | O77: =N77*$B$10/100 -> 0 | Q77: =P77*$B$10/100 -> 0 | S77: =R77*$B$10/100 -> 0 | U77: =T77*$B$10/100 -> 0 | W77: =V77*$B$10/100 -> 0 | Y77: =X77*$B$10/100 -> 0 | AA77: =Z77*$B$10/100 -> 0
A78: =A46 -> Nom aliment 8 | C78: =B78*$B$11/100 -> 0 | E78: =D78*$B$11/100 -> 0 | G78: =F78*$B$11/100 -> 0 | I78: =H78*$B$11/100 -> 0 | K78: =J78*$B$11/100 -> 0 | M78: =L78*$B$11/100 -> 0 | O78: =N78*$B$11/100 -> 0 | Q78: =P78*$B$11/100 -> 0 | S78: =R78*$B$11/100 -> 0 | U78: =T78*$B$11/100 -> 0 | W78: =V78*$B$11/100 -> 0 | Y78: =X78*$B$11/100 -> 0 | AA78: =Z78*$B$11/100 -> 0
A79: =A47 -> Nom aliment 9 | C79: =B79*$B$12/100 -> 0 | E79: =D79*$B$12/100 -> 0 | G79: =F79*$B$12/100 -> 0 | I79: =H79*$B$12/100 -> 0 | K79: =J79*$B$12/100 -> 0 | M79: =L79*$B$12/100 -> 0 | O79: =N79*$B$12/100 -> 0 | Q79: =P79*$B$12/100 -> 0 | S79: =R79*$B$12/100 -> 0 | U79: =T79*$B$12/100 -> 0 | W79: =V79*$B$12/100 -> 0 | Y79: =X79*$B$12/100 -> 0 | AA79: =Z79*$B$12/100 -> 0
A80: =A13 -> Nom aliment 10 | C80: =B80*$B$13/100 -> 0 | E80: =D80*$B$13/100 -> 0 | G80: =F80*$B$13/100 -> 0 | I80: =H80*$B$13/100 -> 0 | K80: =J80*$B$13/100 -> 0 | M80: =L80*$B$13/100 -> 0 | O80: =N80*$B$13/100 -> 0 | Q80: =P80*$B$13/100 -> 0 | S80: =R80*$B$13/100 -> 0 | U80: =T80*$B$13/100 -> 0 | W80: =V80*$B$13/100 -> 0 | Y80: =X80*$B$13/100 -> 0 | AA80: =Z80*$B$13/100 -> 0
A81: Total | B81: =SUM(B71:B80) -> 0 | C81: =SUM(C71:C80) -> 0 | D81: =SUM(D71:D80) -> 0 | E81: =SUM(E71:E80) -> 0 | F81: =SUM(F71:F80) -> 0 | G81: =SUM(G71:G80) -> 0 | H81: =SUM(H71:H80) -> 0 | I81: =SUM(I71:I80) -> 0 | ... V81: =SUM(V71:V80) -> 0 | W81: =SUM(U71:U80) -> 0 | X81: =SUM(V71:V80) -> 0 | Y81: =SUM(W71:W80) -> 0 | Z81: =SUM(X71:X80) -> 0 | AA81: =SUM(Y71:Y80) -> 0
B83: Novembre | J83: Décembre
B84: S45 | D84: S46 | F84: S47 | H84: S48 | J84: S49 | L84: S50 | N84: S51 | P84: S52 | R84: S53
B85: 02 au 08 novembre | D85: 09 au 15 novembre | F85: 16 au 22 novembre | H85: 23 au 29 novembre | J85: 30 nov au 06 déc | L85: 07 au 13 décembre | N85: 14 au 20 décembre | P85: 21 au 27 décembre | R85: 28 au 31 décembre
B86: kgbrut / VL | C86: kgMS / VL | D86: kgbrut / VL | E86: kgMS / VL | F86: kgbrut / VL | G86: kgMS / VL | H86: kgbrut / VL | I86: kgMS / VL | J86: kgbrut / VL | K86: kgMS / VL | L86: kgbrut / VL | M86: kgMS / VL | N86: kgbrut / VL | O86: kgMS / VL | P86: kgbrut / VL | Q86: kgMS / VL | R86: kgbrut / VL | S86: kgMS / VL
A87: =A55 -> Nom aliment 1 | C87: =B87*$B$4/100 -> 0 | E87: =D87*$B$4/100 -> 0 | G87: =F87*$B$4/100 -> 0 | I87: =H87*$B$4/100 -> 0 | K87: =J87*$B$4/100 -> 0 | M87: =L87*$B$4/100 -> 0 | O87: =N87*$B$4/100 -> 0 | Q87: =P87*$B$4/100 -> 0 | S87: =R87*$B$4/100 -> 0
A88: =A56 -> Nom aliment 2 | C88: =B88*$B$5/100 -> 0 | E88: =D88*$B$5/100 -> 0 | G88: =F88*$B$5/100 -> 0 | I88: =H88*$B$5/100 -> 0 | K88: =J88*$B$4/100 -> 0 | M88: =L88*$B$4/100 -> 0 | O88: =N88*$B$4/100 -> 0 | Q88: =P88*$B$4/100 -> 0 | S88: =R88*$B$4/100 -> 0
A89: =A57 -> Nom aliment 3 | C89: =B89*$B$6/100 -> 0 | E89: =D89*$B$6/100 -> 0 | G89: =F89*$B$6/100 -> 0 | I89: =H89*$B$6/100 -> 0 | K89: =J89*$B$4/100 -> 0 | M89: =L89*$B$4/100 -> 0 | O89: =N89*$B$4/100 -> 0 | Q89: =P89*$B$4/100 -> 0 | S89: =R89*$B$4/100 -> 0
A90: =A58 -> Nom aliment 4 | C90: =B90*$B$7/100 -> 0 | E90: =D90*$B$7/100 -> 0 | G90: =F90*$B$7/100 -> 0 | I90: =H90*$B$7/100 -> 0 | K90: =J90*$B$4/100 -> 0 | M90: =L90*$B$4/100 -> 0 | O90: =N90*$B$4/100 -> 0 | Q90: =P90*$B$4/100 -> 0 | S90: =R90*$B$4/100 -> 0
A91: =A59 -> Nom aliment 5 | C91: =B91*$B$8/100 -> 0 | E91: =D91*$B$8/100 -> 0 | G91: =F91*$B$8/100 -> 0 | I91: =H91*$B$8/100 -> 0 | K91: =J91*$B$4/100 -> 0 | M91: =L91*$B$4/100 -> 0 | O91: =N91*$B$4/100 -> 0 | Q91: =P91*$B$4/100 -> 0 | S91: =R91*$B$4/100 -> 0
A92: =A60 -> Nom aliment 6 | C92: =B92*$B$9/100 -> 0 | E92: =D92*$B$9/100 -> 0 | G92: =F92*$B$9/100 -> 0 | I92: =H92*$B$9/100 -> 0 | K92: =J92*$B$4/100 -> 0 | M92: =L92*$B$4/100 -> 0 | O92: =N92*$B$4/100 -> 0 | Q92: =P92*$B$4/100 -> 0 | S92: =R92*$B$4/100 -> 0
A93: =A61 -> Nom aliment 7 | C93: =B93*$B$10/100 -> 0 | E93: =D93*$B$10/100 -> 0 | G93: =F93*$B$10/100 -> 0 | I93: =H93*$B$10/100 -> 0 | K93: =J93*$B$4/100 -> 0 | M93: =L93*$B$4/100 -> 0 | O93: =N93*$B$4/100 -> 0 | Q93: =P93*$B$4/100 -> 0 | S93: =R93*$B$4/100 -> 0
A94: =A62 -> Nom aliment 8 | C94: =B94*$B$11/100 -> 0 | E94: =D94*$B$11/100 -> 0 | G94: =F94*$B$11/100 -> 0 | I94: =H94*$B$11/100 -> 0 | K94: =J94*$B$4/100 -> 0 | M94: =L94*$B$4/100 -> 0 | O94: =N94*$B$4/100 -> 0 | Q94: =P94*$B$4/100 -> 0 | S94: =R94*$B$4/100 -> 0
A95: =A12 -> Nom aliment 9 | C95: =B95*$B$12/100 -> 0 | E95: =D95*$B$12/100 -> 0 | G95: =F95*$B$12/100 -> 0 | I95: =H95*$B$12/100 -> 0 | K95: =J95*$B$4/100 -> 0 | M95: =L95*$B$4/100 -> 0 | O95: =N95*$B$4/100 -> 0 | Q95: =P95*$B$4/100 -> 0 | S95: =R95*$B$4/100 -> 0
A96: =A13 -> Nom aliment 10 | C96: =B96*$B$13/100 -> 0 | E96: =D96*$B$13/100 -> 0 | G96: =F96*$B$13/100 -> 0 | I96: =H96*$B$13/100 -> 0 | K96: =J96*$B$4/100 -> 0 | M96: =L96*$B$4/100 -> 0 | O96: =N96*$B$4/100 -> 0 | Q96: =P96*$B$4/100 -> 0 | S96: =R96*$B$4/100 -> 0
A97: Total | B97: =SUM(B87:B96) -> 0 | C97: =SUM(C87:C96) -> 0 | D97: =SUM(D87:D96) -> 0 | E97: =SUM(E87:E96) -> 0 | F97: =SUM(F87:F96) -> 0 | G97: =SUM(G87:G96) -> 0 | H97: =SUM(H87:H96) -> 0 | I97: =SUM(I87:I96) -> 0 | ... S97: =SUM(S87:S96) -> 0

Sheet Production d'herbe 
A1: Production d'herbe (en kgMS)
A2: Calculs effectués en considérant que les VL ingèrent 17 kgMS/jr
C4: Janvier
C5: S1 | D5: S2 | E5: S3 | F5: S4 | G5: S5
B6: Nombre VL
B7: Concentrés et fourrages (kgMS/VL/jr) | C7: ='Ration alimentaire'!C32 -> 0 | D7: ='Ration alimentaire'!E32 -> 0 | E7: ='Ration alimentaire'!G32 -> 0 | F7: ='Ration alimentaire'!I32 -> 0 | G7: ='Ration alimentaire'!K32 -> 0
B8: Herbe pâturée (kgMS/VL/jr) | C8: =IF(C7<17, 17-C7, 0) -> 17 | D8: =IF(D7<17, 17-D7, 0) -> 17 | E8: =IF(E7<17, 17-E7, 0) -> 17 | F8: =IF(F7<17, 17-F7, 0) -> 17 | G8: =IF(G7<17, 17-G7, 0) -> 17
B9: Herbe pâturée totale (kgMS/jr)
B11: Nom paddock 1
B12: Nom paddock 2
B13: Nom paddock 3
B14: Nom paddock 4
B15: Nom paddock 5
B16: Nom paddock 6
B17: Nom paddock 7
B18: Nom paddock 8
B19: Nom paddock 9
B20: Nom paddock 10
B21: Nom paddock 11
... B25: Nom paddock 15
B27: Total par semaine | C27: =SUM(C11:C25) -> 0 | D27: =SUM(D11:D25) -> 0 | E27: =SUM(E11:E25) -> 0 | F27: =SUM(F11:F25) -> 0 | G27: =SUM(G11:G25) -> 0
B28: Total par mois | C28: =SUM(C27:G27) -> 0
C30: Février | G30: Mars | L30: Avril
C31: S6 | D31: S7 | E31: S8 | F31: S9 | G31: S10 | H31: S11 | I31: S12 | J31: S13 | K31: S14 | L31: S15 | M31: S16 | N31: S17 | O31: S18
B32: Nombre VL
B33: Concentrés et fourrages (kgMS/VL/jr) | C33: ='Ration alimentaire'!C49 -> 0 | D33: ='Ration alimentaire'!E49 -> 0 | E33: ='Ration alimentaire'!G49 -> 0 | F33: ='Ration alimentaire'!H49 -> 0 | G33: ='Ration alimentaire'!K49 -> 0 | H33: ='Ration alimentaire'!M49 -> 0 | I33: ='Ration alimentaire'!O49 -> 0 | J33: ='Ration alimentaire'!Q49 -> 0 | K33: ='Ration alimentaire'!S49 -> 0 | L33: ='Ration alimentaire'!U49 -> 0 | M33: ='Ration alimentaire'!W49 -> 0 | N33: ='Ration alimentaire'!Y49 -> 0 | O33: ='Ration alimentaire'!AA49 -> 0
B34: Herbe pâturée (kgMS/VL/jr) | C34: =IF(C33<17, 17-C33, 0) -> 17 | D34: =IF(D33<17, 17-D33, 0) -> 17 | E34: =IF(E33<17, 17-E33, 0) -> 17 | F34: =IF(F33<17, 17-F33, 0) -> 17 | G34: =IF(G33<17, 17-G33, 0) -> 17 | H34: =IF(H33<17, 17-H33, 0) -> 17 | I34: =IF(I33<17, 17-I33, 0) -> 17 | J34: =IF(J33<17, 17-J33, 0) -> 17 | ... O34: =IF(O33<17, 17-O33, 0) -> 17
B35: Herbe pâturée totale (kgMS/jr) | C35: =C34*C32 -> 0 | D35: =D34*D32 -> 0 | E35: =E34*E32 -> 0 | F35: =F34*F32 -> 0 | G35: =G34*G32 -> 0 | H35: =H34*H32 -> 0 | I35: =I34*I32 -> 0 | J35: =J34*J32 -> 0 | ... O35: =O34*O32 -> 0
B37: ='Production d''herbe '!B11 -> Nom paddock 1
B38: ='Production d''herbe '!B12 -> Nom paddock 2
B39: ='Production d''herbe '!B13 -> Nom paddock 3
B40: ='Production d''herbe '!B14 -> Nom paddock 4
B41: ='Production d''herbe '!B15 -> Nom paddock 5
B42: ='Production d''herbe '!B16 -> Nom paddock 6
B43: ='Production d''herbe '!B17 -> Nom paddock 7
B44: ='Production d''herbe '!B18 -> Nom paddock 8
B45: ='Production d''herbe '!B19 -> Nom paddock 9
B46: ='Production d''herbe '!B20 -> Nom paddock 10
B47: ='Production d''herbe '!B21 -> Nom paddock 11
B48: ='Production d''herbe '!B22 -> Nom paddock 12
... B51: ='Production d''herbe '!B25 -> Nom paddock 15
B53: Total par semaine | C53: =SUM(C37:C51) -> 0 | D53: =SUM(D37:D51) -> 0 | E53: =SUM(E37:E51) -> 0 | F53: =SUM(F37:F51) -> 0 | G53: =SUM(G37:G51) -> 0 | H53: =SUM(H37:H51) -> 0 | I53: =SUM(I37:I51) -> 0 | J53: =SUM(J37:J51) -> 0 | ... O53: =SUM(O37:O51) -> 0
B54: Total par mois | C54: =SUM(C53:F53) -> 0 | G54: =SUM(G53:K53) -> 0 | L54: =SUM(L53:O53) -> 0
C56: Mai | G56: Juin | K56: Juillet
C57: S19 | D57: S20 | E57: S21 | F57: S22 | G57: S23 | H57: S24 | I57: S25 | J57: S26 | K57: S27 | L57: S28 | M57: S29 | N57: S30 | O57: S31
B58: ='Production d''herbe '!B32 -> Nombre VL
B59: ='Production d''herbe '!B33 -> Concentrés et fourrages (kgMS/VL/jr) | C59: ='Ration alimentaire'!C65 -> 0 | D59: ='Ration alimentaire'!E65 -> 0 | E59: ='Ration alimentaire'!G65 -> 0 | F59: ='Ration alimentaire'!I65 -> 0 | G59: ='Ration alimentaire'!K65 -> 0 | H59: ='Ration alimentaire'!M65 -> 0 | I59: ='Ration alimentaire'!O65 -> 0 | J59: ='Ration alimentaire'!Q65 -> 0 | K59: ='Ration alimentaire'!S65 -> 0 | L59: ='Ration alimentaire'!U65 -> 0 | M59: ='Ration alimentaire'!W65 -> 0 | N59: ='Ration alimentaire'!Y65 -> 0 | O59: ='Ration alimentaire'!AA65 -> 0
B60: ='Production d''herbe '!B34 -> Herbe pâturée (kgMS/VL/jr) | C60: =IF(C59<17, 17-C59, 0) -> 17 | D60: =IF(D59<17, 17-D59, 0) -> 17 | E60: =IF(E59<17, 17-E59, 0) -> 17 | F60: =IF(F59<17, 17-F59, 0) -> 17 | G60: =IF(G59<17, 17-G59, 0) -> 17 | H60: =IF(H59<17, 17-H59, 0) -> 17 | I60: =IF(I59<17, 17-I59, 0) -> 17 | J60: =IF(J59<17, 17-J59, 0) -> 17 | ... O60: =IF(O59<17, 17-O59, 0) -> 17
B61: ='Production d''herbe '!B35 -> Herbe pâturée totale (kgMS/jr) | C61: =C60*C58 -> 0 | D61: =D60*D58 -> 0 | E61: =E60*E58 -> 0 | F61: =F60*F58 -> 0 | G61: =G60*G58 -> 0 | H61: =H60*H58 -> 0 | I61: =I60*I58 -> 0 | J61: =J60*J58 -> 0 | ... O61: =O60*O58 -> 0
B63: Nom paddock 1
B64: Nom paddock 2
B65: Nom paddock 3
B66: Nom paddock 4
B67: Nom paddock 5
B68: Nom paddock 6
B69: Nom paddock 7
B70: Nom paddock 8
B71: Nom paddock 9
B72: Nom paddock 10
B73: Nom paddock 11
B74: Nom paddock 12
... B77: Nom paddock 15
B79: ='Production d''herbe '!B53 -> Total par semaine | C79: =SUM(C63:C77) -> 0 | D79: =SUM(D63:D77) -> 0 | E79: =SUM(E63:E77) -> 0 | F79: =SUM(F63:F77) -> 0 | G79: =SUM(G63:G77) -> 0 | H79: =SUM(H63:H77) -> 0 | I79: =SUM(I63:I77) -> 0 | J79: =SUM(J63:J77) -> 0 | ... O79: =SUM(O63:O77) -> 0
B80: ='Production d''herbe '!B54 -> Total par mois | C80: =SUM(C79:F79) -> 0 | G80: =SUM(G79:J79) -> 0 | K80: =SUM(K79:O79) -> 0
C82: Août | G82: Septembre | K82: Octobre
C83: S32 | D83: S33 | E83: S34 | F83: S35 | G83: S36 | H83: S37 | I83: S38 | J83: S39 | K83: S40 | L83: S41 | M83: S42 | N83: S43 | O83: S44
B84: ='Production d''herbe '!B32 -> Nombre VL
B85: ='Production d''herbe '!B33 -> Concentrés et fourrages (kgMS/VL/jr) | C85: ='Ration alimentaire'!C81 -> 0 | D85: ='Ration alimentaire'!E81 -> 0 | E85: ='Ration alimentaire'!G81 -> 0 | F85: ='Ration alimentaire'!I81 -> 0 | G85: ='Ration alimentaire'!K81 -> 0 | H85: ='Ration alimentaire'!M81 -> 0 | I85: ='Ration alimentaire'!O81 -> 0 | J85: ='Ration alimentaire'!Q81 -> 0 | K85: ='Ration alimentaire'!S81 -> 0 | L85: ='Ration alimentaire'!U81 -> 0 | M85: ='Ration alimentaire'!W81 -> 0 | N85: ='Ration alimentaire'!Y81 -> 0 | O85: ='Ration alimentaire'!AA81 -> 0
B86: ='Production d''herbe '!B34 -> Herbe pâturée (kgMS/VL/jr) | C86: =IF(C85<17, 17-C85, 0) -> 17 | D86: =IF(D85<17, 17-D85, 0) -> 17 | E86: =IF(E85<17, 17-E85, 0) -> 17 | F86: =IF(F85<17, 17-F85, 0) -> 17 | G86: =IF(G85<17, 17-G85, 0) -> 17 | H86: =IF(H85<17, 17-H85, 0) -> 17 | I86: =IF(I85<17, 17-I85, 0) -> 17 | J86: =IF(J85<17, 17-J85, 0) -> 17 | ... O86: =IF(O85<17, 17-O85, 0) -> 17
B87: ='Production d''herbe '!B35 -> Herbe pâturée totale (kgMS/jr) | C87: =C86*C84 -> 0 | D87: =D86*D84 -> 0 | E87: =E86*E84 -> 0 | F87: =F86*F84 -> 0 | G87: =G86*G84 -> 0 | H87: =H86*H84 -> 0 | I87: =I86*I84 -> 0 | J87: =J86*J84 -> 0 | ... O87: =O86*O84 -> 0
B89: Nom paddock 1
B90: Nom paddock 2
B91: Nom paddock 3
B92: Nom paddock 4
B93: Nom paddock 5
B94: Nom paddock 6
B95: Nom paddock 7
B96: Nom paddock 8
B97: Nom paddock 9
B98: Nom paddock 10
B99: Nom paddock 11
B100: Nom paddock 12
... B103: Nom paddock 15
B105: ='Production d''herbe '!B79 -> Total par semaine | C105: =SUM(C89:C103) -> 0 | D105: =SUM(D89:D103) -> 0 | E105: =SUM(E89:E103) -> 0 | F105: =SUM(F89:F103) -> 0 | G105: =SUM(G89:G103) -> 0 | H105: =SUM(H89:H103) -> 0 | I105: =SUM(I89:I103) -> 0 | J105: =SUM(J89:J103) -> 0 | ... O105: =SUM(O89:O103) -> 0
B106: ='Production d''herbe '!B80 -> Total par mois | C106: =SUM(C105:F105) -> 0 | G106: =SUM(G105:J105) -> 0 | L106: =SUM(L105:O105) -> 0
C108: Novembre | G108: Décembre
C109: S45 | D109: S46 | E109: S47 | F109: S48 | G109: S49 | H109: S50 | I109: S51 | J109: S52 | K109: S53
B110: ='Production d''herbe '!B32 -> Nombre VL
B111: ='Production d''herbe '!B33 -> Concentrés et fourrages (kgMS/VL/jr) | C111: ='Ration alimentaire'!C97 -> 0 | D111: ='Ration alimentaire'!E97 -> 0 | E111: ='Ration alimentaire'!G97 -> 0 | F111: ='Ration alimentaire'!I97 -> 0 | G111: ='Ration alimentaire'!J97 -> 0 | H111: ='Ration alimentaire'!K97 -> 0 | I111: ='Ration alimentaire'!L97 -> 0 | J111: ='Ration alimentaire'!M97 -> 0 | K111: ='Ration alimentaire'!N97 -> 0
B112: ='Production d''herbe '!B34 -> Herbe pâturée (kgMS/VL/jr) | C112: =IF(C111<17, 17-C111, 0) -> 17 | D112: =IF(D111<17, 17-D111, 0) -> 17 | E112: =IF(E111<17, 17-E111, 0) -> 17 | F112: =IF(F111<17, 17-F111, 0) -> 17 | G112: =IF(G111<17, 17-G111, 0) -> 17 | H112: =IF(H111<17, 17-H111, 0) -> 17 | I112: =IF(I111<17, 17-I111, 0) -> 17 | J112: =IF(J111<17, 17-J111, 0) -> 17 | K112: =IF(K111<17, 17-K111, 0) -> 17
B113: ='Production d''herbe '!B35 -> Herbe pâturée totale (kgMS/jr) | C113: =C112*C110 -> 0 | D113: =D112*D110 -> 0 | E113: =E112*E110 -> 0 | F113: =F112*F110 -> 0 | G113: =G112*G110 -> 0 | H113: =H112*H110 -> 0 | I113: =I112*I110 -> 0 | J113: =J112*J110 -> 0 | K113: =K112*K110 -> 0
B115: Nom paddock 1
B116: Nom paddock 2
B117: Nom paddock 3
B118: Nom paddock 4
B119: Nom paddock 5
B120: Nom paddock 6
B121: Nom paddock 7
B122: Nom paddock 8
B123: Nom paddock 9
...

Sheet Bilan sur les cycles
B2: Date de début | C2: Semaine début | D2: Date de fin | E2: Semaine fin | F2: Durée (jr)
A3: 1er tour | B3: Rentrée par l'utilisateur | C3: Rentrée par l'utilisateur | D3: Rentrée par l'utilisateur | E3: Rentrée par l'utilisateur | F3: =D3-B3 -> #VALUE!
A4: 2e tour | B4: Rentrée par l'utilisateur | C4: Rentrée par l'utilisateur | D4: Rentrée par l'utilisateur | E4: Rentrée par l'utilisateur | F4: =D4-B4 -> #VALUE!
A5: 3e tour | B5: Rentrée par l'utilisateur | C5: Rentrée par l'utilisateur | D5: Rentrée par l'utilisateur | E5: Rentrée par l'utilisateur | F5: =D5-B5 -> #VALUE!
A6: 4e tour | B6: Rentrée par l'utilisateur | C6: Rentrée par l'utilisateur | D6: Rentrée par l'utilisateur | E6: Rentrée par l'utilisateur | F6: =D6-B6 -> #VALUE!
A7: 5e tour | B7: Rentrée par l'utilisateur | C7: Rentrée par l'utilisateur | D7: Rentrée par l'utilisateur | E7: Rentrée par l'utilisateur | F7: =D7-B7 -> #VALUE!
A8: 6e tour | B8: Rentrée par l'utilisateur | C8: Rentrée par l'utilisateur | D8: Rentrée par l'utilisateur | E8: Rentrée par l'utilisateur | F8: =D8-B8 -> #VALUE!
A9: 7e tour | B9: Rentrée par l'utilisateur | C9: Rentrée par l'utilisateur | D9: Rentrée par l'utilisateur | E9: Rentrée par l'utilisateur | F9: =D9-B9 -> #VALUE!
C12: Ration distribuée | L12: Production d'herbe
C13: 1er tour | D13: 2ème tour | E13: 3ème tour | F13: 4ème tour | G13: 5ème tour | H13: 6ème tour | I13: 7ème tour | L13: 1er tour | M13: 2ème tour | N13: 3ème tour | O13: 4ème tour | P13: 5ème tour | Q13: 6ème tour | R13: 7ème tour
B14: ='Ration alimentaire'!A22 -> Nom aliment 1 | K14: ='Production d''herbe '!B11 -> Nom paddock 1
B15: ='Ration alimentaire'!A23 -> Nom aliment 2 | K15: ='Production d''herbe '!B12 -> Nom paddock 2
B16: ='Ration alimentaire'!A24 -> Nom aliment 3 | K16: ='Production d''herbe '!B13 -> Nom paddock 3
B17: ='Ration alimentaire'!A25 -> Nom aliment 4 | K17: ='Production d''herbe '!B14 -> Nom paddock 4
B18: ='Ration alimentaire'!A26 -> Nom aliment 5 | K18: ='Production d''herbe '!B15 -> Nom paddock 5
B19: ='Ration alimentaire'!A27 -> Nom aliment 6 | K19: ='Production d''herbe '!B16 -> Nom paddock 6
B20: ='Ration alimentaire'!A28 -> Nom aliment 7 | K20: ='Production d''herbe '!B17 -> Nom paddock 7
B21: ='Ration alimentaire'!A29 -> Nom aliment 8 | K21: ='Production d''herbe '!B18 -> Nom paddock 8
B22: ='Ration alimentaire'!A30 -> Nom aliment 9 | K22: ='Production d''herbe '!B19 -> Nom paddock 9
B23: ='Ration alimentaire'!A31 -> Nom aliment 10 | K23: ='Production d''herbe '!B20 -> Nom paddock 10
K24: ='Production d''herbe '!B21 -> Nom paddock 11
C25: Sachant la semaine de début du tour et la semaine de fin, je voudrais avoir la ration moyenne au cours du tour (donc en la semaine de début et la semaine de fin) ainsi que les productions des différents paddocks pendant ces tours | K25: ='Production d''herbe '!B22 -> Nom paddock 12
K26: ='Production d''herbe '!B23 -> Nom paddock 13
K27: ='Production d''herbe '!B24 -> Nom paddock 14
K28: ='Production d''herbe '!B25 -> Nom paddock 15
C30: A mon avis il faut créer un endroit où on copie les données que l'on va chercher dans les autres feuilles puis faire la moyenne de ces données. En fait, je ne sais pas comment aller chercher ces données sachant que les semaines varient et en plus qu'il faut prendre plusieurs colonnes en fonction du lapse de temps des tours
