Workbook

Sheet Feuil1
A1: Mois | C1: Septembre | E1: Année
A3: Nom
A4: Prénom
A6: Date | B6: Jour (NB) | C6: Jour | D6: Heure d'arrivée | E6: Début pause déjeuner | F6: Fin pause déjeuner | G6: Heure de départ | H6: Temps de travail journalier | I6: Heures sup. | J6: Panier?
A7: 41883 | B7: =WEEKDAY(A7,2) -> 1 | C7: =VLOOKUP(B:B,Feuil2!$A:$B,2) -> Lundi | D7: =IF(C7="dimanche","non travaillé","") | E7: =IF(C7="dimanche","non travaillé","") | F7: =IF(C7="dimanche","non travaillé","") | G7: =IF(C7="dimanche","non travaillé","") | H7: =IF(C7="dimanche","non travaillé","")
A8: 41884 | B8: =WEEKDAY(A8,2) -> 2 | C8: =VLOOKUP(B:B,Feuil2!$A:$B,2) -> Mardi | D8: =IF(C8="dimanche","non travaillé","") | E8: =IF(C8="dimanche","non travaillé","") | F8: =IF(C8="dimanche","non travaillé","") | G8: =IF(C8="dimanche","non travaillé","") | H8: =IF(C8="dimanche","non travaillé","")
A9: 41885 | B9: =WEEKDAY(A9,2) -> 3 | C9: =VLOOKUP(B:B,Feuil2!$A:$B,2) -> Mercredi | D9: =IF(C9="dimanche","non travaillé","") | E9: =IF(C9="dimanche","non travaillé","") | F9: =IF(C9="dimanche","non travaillé","") | G9: =IF(C9="dimanche","non travaillé","") | H9: =IF(C9="dimanche","non travaillé","")
A10: 41886 | B10: =WEEKDAY(A10,2) -> 4 | C10: =VLOOKUP(B:B,Feuil2!$A:$B,2) -> Jeudi | D10: =IF(C10="dimanche","non travaillé","") | E10: =IF(C10="dimanche","non travaillé","") | F10: =IF(C10="dimanche","non travaillé","") | G10: =IF(C10="dimanche","non travaillé","") | H10: =IF(C10="dimanche","non travaillé","")
A11: 41887 | B11: =WEEKDAY(A11,2) -> 5 | C11: =VLOOKUP(B:B,Feuil2!$A:$B,2) -> Vendredi | D11: =IF(C11="dimanche","non travaillé","") | E11: =IF(C11="dimanche","non travaillé","") | F11: =IF(C11="dimanche","non travaillé","") | G11: =IF(C11="dimanche","non travaillé","") | H11: =IF(C11="dimanche","non travaillé","")
A12: 41888 | B12: =WEEKDAY(A12,2) -> 6 | C12: =VLOOKUP(B:B,Feuil2!$A:$B,2) -> Samedi | D12: =IF(C12="dimanche","non travaillé","") | E12: =IF(C12="dimanche","non travaillé","") | F12: =IF(C12="dimanche","non travaillé","") | G12: =IF(C12="dimanche","non travaillé","") | H12: =IF(C12="dimanche","non travaillé","")
A13: 41889 | B13: =WEEKDAY(A13,2) -> 7 | C13: =VLOOKUP(B:B,Feuil2!$A:$B,2) -> Dimanche | D13: =IF(C13="dimanche","non travaillé","") -> non travaillé | E13: =IF(C13="dimanche","non travaillé","") -> non travaillé | F13: =IF(C13="dimanche","non travaillé","") -> non travaillé | G13: =IF(C13="dimanche","non travaillé","") -> non travaillé | H13: =IF(C13="dimanche","non travaillé","") -> non travaillé
A14: 41890 | B14: =WEEKDAY(A14,2) -> 1 | C14: =VLOOKUP(B:B,Feuil2!$A:$B,2) -> Lundi | D14: =IF(C14="dimanche","non travaillé","") | E14: =IF(C14="dimanche","non travaillé","") | F14: =IF(C14="dimanche","non travaillé","") | G14: =IF(C14="dimanche","non travaillé","") | H14: =IF(C14="dimanche","non travaillé","")
A15: 41891 | B15: =WEEKDAY(A15,2) -> 2 | C15: =VLOOKUP(B:B,Feuil2!$A:$B,2) -> Mardi | D15: =IF(C15="dimanche","non travaillé","") | E15: =IF(C15="dimanche","non travaillé","") | F15: =IF(C15="dimanche","non travaillé","") | G15: =IF(C15="dimanche","non travaillé","") | H15: =IF(C15="dimanche","non travaillé","")
A16: 41892 | B16: =WEEKDAY(A16,2) -> 3 | C16: =VLOOKUP(B:B,Feuil2!$A:$B,2) -> Mercredi | D16: =IF(C16="dimanche","non travaillé","") | E16: =IF(C16="dimanche","non travaillé","") | F16: =IF(C16="dimanche","non travaillé","") | G16: =IF(C16="dimanche","non travaillé","") | H16: =IF(C16="dimanche","non travaillé","")
A17: 41893 | B17: =WEEKDAY(A17,2) -> 4 | C17: =VLOOKUP(B:B,Feuil2!$A:$B,2) -> Jeudi | D17: =IF(C17="dimanche","non travaillé","") | E17: =IF(C17="dimanche","non travaillé","") | F17: =IF(C17="dimanche","non travaillé","") | G17: =IF(C17="dimanche","non travaillé","") | H17: =IF(C17="dimanche","non travaillé","")
A18: 41894 | B18: =WEEKDAY(A18,2) -> 5 | C18: =VLOOKUP(B:B,Feuil2!$A:$B,2) -> Vendredi | D18: =IF(C18="dimanche","non travaillé","") | E18: =IF(C18="dimanche","non travaillé","") | F18: =IF(C18="dimanche","non travaillé","") | G18: =IF(C18="dimanche","non travaillé","") | H18: =IF(C18="dimanche","non travaillé","")
... A36: 41912 | B36: =WEEKDAY(A36,2) -> 2 | C36: =VLOOKUP(B:B,Feuil2!$A:$B,2) -> Mardi | D36: =IF(C36="dimanche","non travaillé","") | E36: =IF(C36="dimanche","non travaillé","") | F36: =IF(C36="dimanche","non travaillé","") | G36: =IF(C36="dimanche","non travaillé","") | H36: =IF(C36="dimanche","non travaillé","")

Sheet Feuil2
A1: 1 | B1: Lundi | D1: Janvier
A2: 2 | B2: Mardi | D2: Février
A3: 3 | B3: Mercredi | D3: Mars
A4: 4 | B4: Jeudi | D4: Avril
A5: 5 | B5: Vendredi | D5: Mai
A6: 6 | B6: Samedi | D6: Juin
A7: 7 | B7: Dimanche | D7: Juillet
D8: Août
B9: Non travaillé | D9: Septembre
D10: Octobre
D11: Novembre
D12: Décembre

Sheet Feuil3
