Workbook

Sheet Feuil1
B1: Lundi | D1: Mardi | F1: Mercredi | H1: Jeudi | J1: Vendredi | L1: Samedi | N1: Dimanche
A2: Caisse | B2: Karine S. | C2: 9hrs à 17h30 | D2: Karine S. | E2: 9hrs à 17h30 | F2: Diane | G2: 9hrs à 17h30 | H2: Diane | I2: 9hrs à 17h30 | J2: Karine S. | K2: 9hrs à 17h30 | L2: Kim | M2: 9hrs à 17hrs | N2: Kim | O2: 10hrs à 16hrs
A3: Plancher 1 | B3: Manon P. | C3: 9hrs à 12hrs | D3: Diane | E3: 9hrs à 17hrs | H3: Manon P. | I3: 9hrs à 17h30 | J3: Manon P. | K3: 9hrs à 14h30
A4: Plancher 2 | B4: Diane | C4: 12hrs à 17hrs | F4: Manon P. | G4: 9hrs à 17h30
A5: Tech 1 | B5: Karine T. | C5: 9hrs à 17hrs | D5: Gaytane | E5: 9hrs à 17h30 | F5: Manon T. | G5: 9hrs à 17hrs | H5: Guylaine | I5: 9hrs à 16hrs | J5: Karine T. | K5: 9hrs à 17h30
A6: Tech 2 | B6: Gaytane | C6: 9hrs à 17h30 | D6: Manon T. | E6: 9hrs à 16hrs | F6: Gaytane | G6: 9hrs à 17h30 | H6: Gaytane | I6: 9hrs à 17h30 | J6: Manon T. | K6: 9hrs à 16hrs | L6: Alexandra | M6: 9hrs à 17hrs | N6: Alexandra | O6: 10hrs à 16hrs
A7: Dispill | B7: Guylaine | C7: 9hrs à 16hrs | D7: Guylaine | E7: 9hrs à 16hrs | F7: (Manon P.) | G7: (9hrs à 11h30) | H7: Manon T. | I7: 9hrs à 17hrs | J7: Guylaine | K7: 9hrs à 16hrs
A8: Soir Labo | D8: Karine T. | E8: 15hrs à 21hrs | F8: Guylaine | G8: 15hrs à 21hrs | H8: Alexandra | I8: 17h30 à 21hrs | J8: Alexandra | K8: 17h30 à 21hrs
A9: Soir Caisse | B9: Kim | C9: 17h30 à 21hrs | D9: Joanie | E9: 17h30 à 21hrs | F9: Karine S. | G9: 17h30 à 21hrs | H9: Karine S. | I9: 17h30 à 21hrs | J9: Kim | K9: 17h30 à 21hrs

Sheet Feuil2
D1: Horaire par employé
C3: Lundi | D3: Mardi | E3: Mercredi | F3: Jeudi | G3: Vendredi | H3: Samedi | I3: Dimanche
B4: Diane | C4: =IF(OR(Feuil1!$B$2=Feuil2!B4,Feuil1!$B$3=Feuil2!B4,Feuil1!$B$4=Feuil2!B4,),VLOOKUP(B4,Feuil1!B2:C9,2,FALSE),"Congé") -> 12hrs à 17hrs | D4: =IF(OR(Feuil1!D2=Feuil2!B4,Feuil1!D3=Feuil2!B4,Feuil1!D4=Feuil2!B4,Feuil1!D5=Feuil2!B4,Feuil1!D6=Feuil2!B4,Feuil1!D7=Feuil2!B4,Feuil1!D8=Feuil2!B4,Feuil1!D9=Feuil2!B4),VLOOKUP(B4,Feuil1!D2:E9,2,FALSE),"Congé") -> 9hrs à 17hrs | E4: =IF(OR(Feuil1!F2=Feuil2!B4,Feuil1!F3=Feuil2!B4,Feuil1!F4=Feuil2!B4,Feuil1!F5=Feuil2!B4,Feuil1!F6=Feuil2!B4,Feuil1!F7=Feuil2!B4,Feuil1!F8=Feuil2!B4,Feuil1!F9=Feuil2!B4),LOOKUP(Feuil2!B4,Feuil1!F2:F9,Feuil1!G2:G9),"Congé") -> 9hrs à 17h30 | F4: =IF(OR(Feuil1!H2=Feuil2!B4,Feuil1!H3=Feuil2!B4,Feuil1!H4=Feuil2!B4,Feuil1!H5=Feuil2!B4,Feuil1!H6=Feuil2!B4,Feuil1!H7=Feuil2!B4,Feuil1!H8=Feuil2!B4,Feuil1!H9=Feuil2!B4),LOOKUP(Feuil2!B4,Feuil1!H2:H9,Feuil1!I2:I9),"Congé") -> 9hrs à 17h30 | G4: =IF(OR(Feuil1!J2=Feuil2!B4,Feuil1!J3=Feuil2!B4,Feuil1!J4=Feuil2!B4,Feuil1!J5=Feuil2!B4,Feuil1!J6=Feuil2!B4,Feuil1!J7=Feuil2!B4,Feuil1!J8=Feuil2!B4,Feuil1!J9=Feuil2!B4),LOOKUP(Feuil2!B4,Feuil1!J2:J9,Feuil1!K2:K9),"Congé") -> Congé | H4: =IF(OR(Feuil1!L2=Feuil2!B4,Feuil1!L3=Feuil2!B4,Feuil1!L4=Feuil2!B4,Feuil1!L5=Feuil2!B4,Feuil1!L6=Feuil2!B4,Feuil1!L7=Feuil2!B4,Feuil1!L8=Feuil2!B4,Feuil1!L9=Feuil2!B4),LOOKUP(Feuil2!B4,Feuil1!L2:L9,Feuil1!M2:M9),"Congé") -> Congé | I4: =IF(OR(Feuil1!N2=Feuil2!B4,Feuil1!N3=Feuil2!B4,Feuil1!N4=Feuil2!B4,Feuil1!N5=Feuil2!B4,Feuil1!N6=Feuil2!B4,Feuil1!N7=Feuil2!B4,Feuil1!N8=Feuil2!B4,Feuil1!N9=Feuil2!B4),LOOKUP(Feuil2!B4,Feuil1!N2:N9,Feuil1!O2:O9),"Congé") -> Congé
B5: Gaytane | C5: =IF(OR(Feuil1!$B$2=Feuil2!B5,Feuil1!$B$3=Feuil2!B5,Feuil1!$B$4=Feuil2!B5,Feuil1!$B$5=Feuil2!B5,Feuil1!$B$6=Feuil2!B5),VLOOKUP(B5,Feuil1!B3:C10,2,FALSE),"Congé") -> 9hrs à 17h30 | D5: =IF(OR(Feuil1!D2=Feuil2!B5,Feuil1!D3=Feuil2!B5,Feuil1!D4=Feuil2!B5,Feuil1!D5=Feuil2!B5,Feuil1!D6=Feuil2!B5,Feuil1!D7=Feuil2!B5,Feuil1!D8=Feuil2!B5,Feuil1!D9=Feuil2!B5),LOOKUP(Feuil2!B5,Feuil1!D2:D9,Feuil1!E2:E9),"Congé") -> 9hrs à 17h30 | E5: =IF(OR(Feuil1!F2=Feuil2!B5,Feuil1!F3=Feuil2!B5,Feuil1!F4=Feuil2!B5,Feuil1!F5=Feuil2!B5,Feuil1!F6=Feuil2!B5,Feuil1!F7=Feuil2!B5,Feuil1!F8=Feuil2!B5,Feuil1!F9=Feuil2!B5),LOOKUP(Feuil2!B5,Feuil1!F2:F9,Feuil1!G2:G9),"Congé") -> 9hrs à 17h30 | F5: =IF(OR(Feuil1!H2=Feuil2!B5,Feuil1!H3=Feuil2!B5,Feuil1!H4=Feuil2!B5,Feuil1!H5=Feuil2!B5,Feuil1!H6=Feuil2!B5,Feuil1!H7=Feuil2!B5,Feuil1!H8=Feuil2!B5,Feuil1!H9=Feuil2!B5),LOOKUP(Feuil2!B5,Feuil1!H2:H9,Feuil1!I2:I9),"Congé") -> 9hrs à 17h30 | G5: =IF(OR(Feuil1!J2=Feuil2!B5,Feuil1!J3=Feuil2!B5,Feuil1!J4=Feuil2!B5,Feuil1!J5=Feuil2!B5,Feuil1!J6=Feuil2!B5,Feuil1!J7=Feuil2!B5,Feuil1!J8=Feuil2!B5,Feuil1!J9=Feuil2!B5),LOOKUP(Feuil2!B5,Feuil1!J2:J9,Feuil1!K2:K9),"Congé") -> Congé | H5: =IF(OR(Feuil1!L2=Feuil2!B5,Feuil1!L3=Feuil2!B5,Feuil1!L4=Feuil2!B5,Feuil1!L5=Feuil2!B5,Feuil1!L6=Feuil2!B5,Feuil1!L7=Feuil2!B5,Feuil1!L8=Feuil2!B5,Feuil1!L9=Feuil2!B5),LOOKUP(Feuil2!B5,Feuil1!L2:L9,Feuil1!M2:M9),"Congé") -> Congé | I5: =IF(OR(Feuil1!N2=Feuil2!B5,Feuil1!N3=Feuil2!B5,Feuil1!N4=Feuil2!B5,Feuil1!N5=Feuil2!B5,Feuil1!N6=Feuil2!B5,Feuil1!N7=Feuil2!B5,Feuil1!N8=Feuil2!B5,Feuil1!N9=Feuil2!B5),LOOKUP(Feuil2!B5,Feuil1!N2:N9,Feuil1!O2:O9),"Congé") -> Congé
B6: Guylaine | C6: =IF(OR(Feuil1!B2=Feuil2!B6,Feuil1!B3=Feuil2!B6,Feuil1!B4=Feuil2!B6,Feuil1!B5=Feuil2!B6,Feuil1!B6=Feuil2!B6,Feuil1!B7=Feuil2!B6,Feuil1!B8=Feuil2!B6,Feuil1!B9=Feuil2!B6),LOOKUP(Feuil2!B6,Feuil1!B2:B9,Feuil1!C2:C9),"Congé") -> #N/A | D6: =IF(OR(Feuil1!D2=Feuil2!B6,Feuil1!D3=Feuil2!B6,Feuil1!D4=Feuil2!B6,Feuil1!D5=Feuil2!B6,Feuil1!D6=Feuil2!B6,Feuil1!D7=Feuil2!B6,Feuil1!D8=Feuil2!B6,Feuil1!D9=Feuil2!B6),LOOKUP(Feuil2!B6,Feuil1!D2:D9,Feuil1!E2:E9),"Congé") -> 9hrs à 16hrs | E6: =IF(OR(Feuil1!F2=Feuil2!B6,Feuil1!F3=Feuil2!B6,Feuil1!F4=Feuil2!B6,Feuil1!F5=Feuil2!B6,Feuil1!F6=Feuil2!B6,Feuil1!F7=Feuil2!B6,Feuil1!F8=Feuil2!B6,Feuil1!F9=Feuil2!B6),LOOKUP(Feuil2!B6,Feuil1!F2:F9,Feuil1!G2:G9),"Congé") -> 9hrs à 17h30 | F6: =IF(OR(Feuil1!H2=Feuil2!B6,Feuil1!H3=Feuil2!B6,Feuil1!H4=Feuil2!B6,Feuil1!H5=Feuil2!B6,Feuil1!H6=Feuil2!B6,Feuil1!H7=Feuil2!B6,Feuil1!H8=Feuil2!B6,Feuil1!H9=Feuil2!B6),LOOKUP(Feuil2!B6,Feuil1!H2:H9,Feuil1!I2:I9),"Congé") -> 9hrs à 16hrs | G6: =IF(OR(Feuil1!J2=Feuil2!B6,Feuil1!J3=Feuil2!B6,Feuil1!J4=Feuil2!B6,Feuil1!J5=Feuil2!B6,Feuil1!J6=Feuil2!B6,Feuil1!J7=Feuil2!B6,Feuil1!J8=Feuil2!B6,Feuil1!J9=Feuil2!B6),LOOKUP(Feuil2!B6,Feuil1!J2:J9,Feuil1!K2:K9),"Congé") -> #N/A | H6: =IF(OR(Feuil1!L2=Feuil2!B6,Feuil1!L3=Feuil2!B6,Feuil1!L4=Feuil2!B6,Feuil1!L5=Feuil2!B6,Feuil1!L6=Feuil2!B6,Feuil1!L7=Feuil2!B6,Feuil1!L8=Feuil2!B6,Feuil1!L9=Feuil2!B6),LOOKUP(Feuil2!B6,Feuil1!L2:L9,Feuil1!M2:M9),"Congé") -> Congé | I6: =IF(OR(Feuil1!N2=Feuil2!B6,Feuil1!N3=Feuil2!B6,Feuil1!N4=Feuil2!B6,Feuil1!N5=Feuil2!B6,Feuil1!N6=Feuil2!B6,Feuil1!N7=Feuil2!B6,Feuil1!N8=Feuil2!B6,Feuil1!N9=Feuil2!B6),LOOKUP(Feuil2!B6,Feuil1!N2:N9,Feuil1!O2:O9),"Congé") -> Congé
B7: Karine S. | C7: =IF(OR(Feuil1!B2=Feuil2!B7,Feuil1!B3=Feuil2!B7,Feuil1!B4=Feuil2!B7,Feuil1!B5=Feuil2!B7,Feuil1!B6=Feuil2!B7,Feuil1!B7=Feuil2!B7,Feuil1!B8=Feuil2!B7,Feuil1!B9=Feuil2!B7),LOOKUP(Feuil2!B7,Feuil1!B2:B9,Feuil1!C2:C9),"Congé") -> 9hrs à 17h30 | D7: =IF(OR(Feuil1!D2=Feuil2!B7,Feuil1!D3=Feuil2!B7,Feuil1!D4=Feuil2!B7,Feuil1!D5=Feuil2!B7,Feuil1!D6=Feuil2!B7,Feuil1!D7=Feuil2!B7,Feuil1!D8=Feuil2!B7,Feuil1!D9=Feuil2!B7),LOOKUP(Feuil2!B7,Feuil1!D2:D9,Feuil1!E2:E9),"Congé") -> 9hrs à 16hrs | E7: =IF(OR(Feuil1!F2=Feuil2!B7,Feuil1!F3=Feuil2!B7,Feuil1!F4=Feuil2!B7,Feuil1!F5=Feuil2!B7,Feuil1!F6=Feuil2!B7,Feuil1!F7=Feuil2!B7,Feuil1!F8=Feuil2!B7,Feuil1!F9=Feuil2!B7),LOOKUP(Feuil2!B7,Feuil1!F2:F9,Feuil1!G2:G9),"Congé") -> 9hrs à 17h30 | F7: =IF(OR(Feuil1!H2=Feuil2!B7,Feuil1!H3=Feuil2!B7,Feuil1!H4=Feuil2!B7,Feuil1!H5=Feuil2!B7,Feuil1!H6=Feuil2!B7,Feuil1!H7=Feuil2!B7,Feuil1!H8=Feuil2!B7,Feuil1!H9=Feuil2!B7),LOOKUP(Feuil2!B7,Feuil1!H2:H9,Feuil1!I2:I9),"Congé") -> 9hrs à 17h30 | G7: =IF(OR(Feuil1!J2=Feuil2!B7,Feuil1!J3=Feuil2!B7,Feuil1!J4=Feuil2!B7,Feuil1!J5=Feuil2!B7,Feuil1!J6=Feuil2!B7,Feuil1!J7=Feuil2!B7,Feuil1!J8=Feuil2!B7,Feuil1!J9=Feuil2!B7),LOOKUP(Feuil2!B7,Feuil1!J2:J9,Feuil1!K2:K9),"Congé") -> 9hrs à 17h30 | H7: =IF(OR(Feuil1!L2=Feuil2!B7,Feuil1!L3=Feuil2!B7,Feuil1!L4=Feuil2!B7,Feuil1!L5=Feuil2!B7,Feuil1!L6=Feuil2!B7,Feuil1!L7=Feuil2!B7,Feuil1!L8=Feuil2!B7,Feuil1!L9=Feuil2!B7),LOOKUP(Feuil2!B7,Feuil1!L2:L9,Feuil1!M2:M9),"Congé") -> Congé | I7: =IF(OR(Feuil1!N2=Feuil2!B7,Feuil1!N3=Feuil2!B7,Feuil1!N4=Feuil2!B7,Feuil1!N5=Feuil2!B7,Feuil1!N6=Feuil2!B7,Feuil1!N7=Feuil2!B7,Feuil1!N8=Feuil2!B7,Feuil1!N9=Feuil2!B7),LOOKUP(Feuil2!B7,Feuil1!N2:N9,Feuil1!O2:O9),"Congé") -> Congé
B8: Karine T. | C8: =IF(OR(Feuil1!B2=Feuil2!B8,Feuil1!B3=Feuil2!B8,Feuil1!B4=Feuil2!B8,Feuil1!B5=Feuil2!B8,Feuil1!B6=Feuil2!B8,Feuil1!B7=Feuil2!B8,Feuil1!B8=Feuil2!B8,Feuil1!B9=Feuil2!B8),LOOKUP(Feuil2!B8,Feuil1!B2:B9,Feuil1!C2:C9),"Congé") -> 9hrs à 17hrs | D8: =IF(OR(Feuil1!D2=Feuil2!B8,Feuil1!D3=Feuil2!B8,Feuil1!D4=Feuil2!B8,Feuil1!D5=Feuil2!B8,Feuil1!D6=Feuil2!B8,Feuil1!D7=Feuil2!B8,Feuil1!D8=Feuil2!B8,Feuil1!D9=Feuil2!B8),LOOKUP(Feuil2!B8,Feuil1!D2:D9,Feuil1!E2:E9),"Congé") -> 15hrs à 21hrs | E8: =IF(OR(Feuil1!F2=Feuil2!B8,Feuil1!F3=Feuil2!B8,Feuil1!F4=Feuil2!B8,Feuil1!F5=Feuil2!B8,Feuil1!F6=Feuil2!B8,Feuil1!F7=Feuil2!B8,Feuil1!F8=Feuil2!B8,Feuil1!F9=Feuil2!B8),LOOKUP(Feuil2!B8,Feuil1!F2:F9,Feuil1!G2:G9),"Congé") -> Congé | F8: =IF(OR(Feuil1!H2=Feuil2!B8,Feuil1!H3=Feuil2!B8,Feuil1!H4=Feuil2!B8,Feuil1!H5=Feuil2!B8,Feuil1!H6=Feuil2!B8,Feuil1!H7=Feuil2!B8,Feuil1!H8=Feuil2!B8,Feuil1!H9=Feuil2!B8),LOOKUP(Feuil2!B8,Feuil1!H2:H9,Feuil1!I2:I9),"Congé") -> Congé | G8: =IF(OR(Feuil1!J2=Feuil2!B8,Feuil1!J3=Feuil2!B8,Feuil1!J4=Feuil2!B8,Feuil1!J5=Feuil2!B8,Feuil1!J6=Feuil2!B8,Feuil1!J7=Feuil2!B8,Feuil1!J8=Feuil2!B8,Feuil1!J9=Feuil2!B8),LOOKUP(Feuil2!B8,Feuil1!J2:J9,Feuil1!K2:K9),"Congé") -> 9hrs à 17h30 | H8: =IF(OR(Feuil1!L2=Feuil2!B8,Feuil1!L3=Feuil2!B8,Feuil1!L4=Feuil2!B8,Feuil1!L5=Feuil2!B8,Feuil1!L6=Feuil2!B8,Feuil1!L7=Feuil2!B8,Feuil1!L8=Feuil2!B8,Feuil1!L9=Feuil2!B8),LOOKUP(Feuil2!B8,Feuil1!L2:L9,Feuil1!M2:M9),"Congé") -> Congé | I8: =IF(OR(Feuil1!N2=Feuil2!B8,Feuil1!N3=Feuil2!B8,Feuil1!N4=Feuil2!B8,Feuil1!N5=Feuil2!B8,Feuil1!N6=Feuil2!B8,Feuil1!N7=Feuil2!B8,Feuil1!N8=Feuil2!B8,Feuil1!N9=Feuil2!B8),LOOKUP(Feuil2!B8,Feuil1!N2:N9,Feuil1!O2:O9),"Congé") -> Congé
B9: Manon P. | C9: =IF(OR(Feuil1!B2=Feuil2!B9,Feuil1!B3=Feuil2!B9,Feuil1!B4=Feuil2!B9,Feuil1!B5=Feuil2!B9,Feuil1!B6=Feuil2!B9,Feuil1!B7=Feuil2!B9,Feuil1!B8=Feuil2!B9,Feuil1!B9=Feuil2!B9),LOOKUP(Feuil2!B9,Feuil1!B2:B9,Feuil1!C2:C9),"Congé") -> 17h30 à 21hrs | D9: =IF(OR(Feuil1!D2=Feuil2!B9,Feuil1!D3=Feuil2!B9,Feuil1!D4=Feuil2!B9,Feuil1!D5=Feuil2!B9,Feuil1!D6=Feuil2!B9,Feuil1!D7=Feuil2!B9,Feuil1!D8=Feuil2!B9,Feuil1!D9=Feuil2!B9),LOOKUP(Feuil2!B9,Feuil1!D2:D9,Feuil1!E2:E9),"Congé") -> Congé | E9: =IF(OR(Feuil1!F2=Feuil2!B9,Feuil1!F3=Feuil2!B9,Feuil1!F4=Feuil2!B9,Feuil1!F5=Feuil2!B9,Feuil1!F6=Feuil2!B9,Feuil1!F7=Feuil2!B9,Feuil1!F8=Feuil2!B9,Feuil1!F9=Feuil2!B9),LOOKUP(Feuil2!B9,Feuil1!F2:F9,Feuil1!G2:G9),"Congé") -> 9hrs à 17h30 | F9: =IF(OR(Feuil1!H2=Feuil2!B9,Feuil1!H3=Feuil2!B9,Feuil1!H4=Feuil2!B9,Feuil1!H5=Feuil2!B9,Feuil1!H6=Feuil2!B9,Feuil1!H7=Feuil2!B9,Feuil1!H8=Feuil2!B9,Feuil1!H9=Feuil2!B9),LOOKUP(Feuil2!B9,Feuil1!H2:H9,Feuil1!I2:I9),"Congé") -> 9hrs à 17h30 | G9: =IF(OR(Feuil1!J2=Feuil2!B9,Feuil1!J3=Feuil2!B9,Feuil1!J4=Feuil2!B9,Feuil1!J5=Feuil2!B9,Feuil1!J6=Feuil2!B9,Feuil1!J7=Feuil2!B9,Feuil1!J8=Feuil2!B9,Feuil1!J9=Feuil2!B9),LOOKUP(Feuil2!B9,Feuil1!J2:J9,Feuil1!K2:K9),"Congé") -> 17h30 à 21hrs | H9: =IF(OR(Feuil1!L2=Feuil2!B9,Feuil1!L3=Feuil2!B9,Feuil1!L4=Feuil2!B9,Feuil1!L5=Feuil2!B9,Feuil1!L6=Feuil2!B9,Feuil1!L7=Feuil2!B9,Feuil1!L8=Feuil2!B9,Feuil1!L9=Feuil2!B9),LOOKUP(Feuil2!B9,Feuil1!L2:L9,Feuil1!M2:M9),"Congé") -> Congé | I9: =IF(OR(Feuil1!N2=Feuil2!B9,Feuil1!N3=Feuil2!B9,Feuil1!N4=Feuil2!B9,Feuil1!N5=Feuil2!B9,Feuil1!N6=Feuil2!B9,Feuil1!N7=Feuil2!B9,Feuil1!N8=Feuil2!B9,Feuil1!N9=Feuil2!B9),LOOKUP(Feuil2!B9,Feuil1!N2:N9,Feuil1!O2:O9),"Congé") -> Congé
B10: Manon T. | C10: =IF(OR(Feuil1!B2=Feuil2!B10,Feuil1!B3=Feuil2!B10,Feuil1!B4=Feuil2!B10,Feuil1!B5=Feuil2!B10,Feuil1!B6=Feuil2!B10,Feuil1!B7=Feuil2!B10,Feuil1!B8=Feuil2!B10,Feuil1!B9=Feuil2!B10),LOOKUP(Feuil2!B10,Feuil1!B2:B9,Feuil1!C2:C9),"Congé") -> Congé | D10: =IF(OR(Feuil1!D2=Feuil2!B10,Feuil1!D3=Feuil2!B10,Feuil1!D4=Feuil2!B10,Feuil1!D5=Feuil2!B10,Feuil1!D6=Feuil2!B10,Feuil1!D7=Feuil2!B10,Feuil1!D8=Feuil2!B10,Feuil1!D9=Feuil2!B10),LOOKUP(Feuil2!B10,Feuil1!D2:D9,Feuil1!E2:E9),"Congé") -> 17h30 à 21hrs | E10: =IF(OR(Feuil1!F2=Feuil2!B10,Feuil1!F3=Feuil2!B10,Feuil1!F4=Feuil2!B10,Feuil1!F5=Feuil2!B10,Feuil1!F6=Feuil2!B10,Feuil1!F7=Feuil2!B10,Feuil1!F8=Feuil2!B10,Feuil1!F9=Feuil2!B10),LOOKUP(Feuil2!B10,Feuil1!F2:F9,Feuil1!G2:G9),"Congé") -> 9hrs à 17hrs | F10: =IF(OR(Feuil1!H2=Feuil2!B10,Feuil1!H3=Feuil2!B10,Feuil1!H4=Feuil2!B10,Feuil1!H5=Feuil2!B10,Feuil1!H6=Feuil2!B10,Feuil1!H7=Feuil2!B10,Feuil1!H8=Feuil2!B10,Feuil1!H9=Feuil2!B10),LOOKUP(Feuil2!B10,Feuil1!H2:H9,Feuil1!I2:I9),"Congé") -> 9hrs à 17hrs | G10: =IF(OR(Feuil1!J2=Feuil2!B10,Feuil1!J3=Feuil2!B10,Feuil1!J4=Feuil2!B10,Feuil1!J5=Feuil2!B10,Feuil1!J6=Feuil2!B10,Feuil1!J7=Feuil2!B10,Feuil1!J8=Feuil2!B10,Feuil1!J9=Feuil2!B10),LOOKUP(Feuil2!B10,Feuil1!J2:J9,Feuil1!K2:K9),"Congé") -> 17h30 à 21hrs | H10: =IF(OR(Feuil1!L2=Feuil2!B10,Feuil1!L3=Feuil2!B10,Feuil1!L4=Feuil2!B10,Feuil1!L5=Feuil2!B10,Feuil1!L6=Feuil2!B10,Feuil1!L7=Feuil2!B10,Feuil1!L8=Feuil2!B10,Feuil1!L9=Feuil2!B10),LOOKUP(Feuil2!B10,Feuil1!L2:L9,Feuil1!M2:M9),"Congé") -> Congé | I10: =IF(OR(Feuil1!N2=Feuil2!B10,Feuil1!N3=Feuil2!B10,Feuil1!N4=Feuil2!B10,Feuil1!N5=Feuil2!B10,Feuil1!N6=Feuil2!B10,Feuil1!N7=Feuil2!B10,Feuil1!N8=Feuil2!B10,Feuil1!N9=Feuil2!B10),LOOKUP(Feuil2!B10,Feuil1!N2:N9,Feuil1!O2:O9),"Congé") -> Congé
B11: Alexandra | C11: =IF(OR(Feuil1!B2=Feuil2!B11,Feuil1!B3=Feuil2!B11,Feuil1!B4=Feuil2!B11,Feuil1!B5=Feuil2!B11,Feuil1!B6=Feuil2!B11,Feuil1!B7=Feuil2!B11,Feuil1!B8=Feuil2!B11,Feuil1!B9=Feuil2!B11),LOOKUP(Feuil2!B11,Feuil1!B2:B9,Feuil1!C2:C9),"Congé") -> Congé | D11: =IF(OR(Feuil1!D2=Feuil2!B11,Feuil1!D3=Feuil2!B11,Feuil1!D4=Feuil2!B11,Feuil1!D5=Feuil2!B11,Feuil1!D6=Feuil2!B11,Feuil1!D7=Feuil2!B11,Feuil1!D8=Feuil2!B11,Feuil1!D9=Feuil2!B11),LOOKUP(Feuil2!B11,Feuil1!D2:D9,Feuil1!E2:E9),"Congé") -> Congé | E11: =IF(OR(Feuil1!F2=Feuil2!B11,Feuil1!F3=Feuil2!B11,Feuil1!F4=Feuil2!B11,Feuil1!F5=Feuil2!B11,Feuil1!F6=Feuil2!B11,Feuil1!F7=Feuil2!B11,Feuil1!F8=Feuil2!B11,Feuil1!F9=Feuil2!B11),LOOKUP(Feuil2!B11,Feuil1!F2:F9,Feuil1!G2:G9),"Congé") -> Congé | F11: =IF(OR(Feuil1!H2=Feuil2!B11,Feuil1!H3=Feuil2!B11,Feuil1!H4=Feuil2!B11,Feuil1!H5=Feuil2!B11,Feuil1!H6=Feuil2!B11,Feuil1!H7=Feuil2!B11,Feuil1!H8=Feuil2!B11,Feuil1!H9=Feuil2!B11),LOOKUP(Feuil2!B11,Feuil1!H2:H9,Feuil1!I2:I9),"Congé") -> #N/A | G11: =IF(OR(Feuil1!J2=Feuil2!B11,Feuil1!J3=Feuil2!B11,Feuil1!J4=Feuil2!B11,Feuil1!J5=Feuil2!B11,Feuil1!J6=Feuil2!B11,Feuil1!J7=Feuil2!B11,Feuil1!J8=Feuil2!B11,Feuil1!J9=Feuil2!B11),LOOKUP(Feuil2!B11,Feuil1!J2:J9,Feuil1!K2:K9),"Congé") -> #N/A | H11: =IF(OR(Feuil1!L2=Feuil2!B11,Feuil1!L3=Feuil2!B11,Feuil1!L4=Feuil2!B11,Feuil1!L5=Feuil2!B11,Feuil1!L6=Feuil2!B11,Feuil1!L7=Feuil2!B11,Feuil1!L8=Feuil2!B11,Feuil1!L9=Feuil2!B11),LOOKUP(Feuil2!B11,Feuil1!L2:L9,Feuil1!M2:M9),"Congé") -> 9hrs à 17hrs | I11: =IF(OR(Feuil1!N2=Feuil2!B11,Feuil1!N3=Feuil2!B11,Feuil1!N4=Feuil2!B11,Feuil1!N5=Feuil2!B11,Feuil1!N6=Feuil2!B11,Feuil1!N7=Feuil2!B11,Feuil1!N8=Feuil2!B11,Feuil1!N9=Feuil2!B11),LOOKUP(Feuil2!B11,Feuil1!N2:N9,Feuil1!O2:O9),"Congé") -> 10hrs à 16hrs
B12: Joanie | C12: =IF(OR(Feuil1!B2=Feuil2!B12,Feuil1!B3=Feuil2!B12,Feuil1!B4=Feuil2!B12,Feuil1!B5=Feuil2!B12,Feuil1!B6=Feuil2!B12,Feuil1!B7=Feuil2!B12,Feuil1!B8=Feuil2!B12,Feuil1!B9=Feuil2!B12),LOOKUP(Feuil2!B12,Feuil1!B2:B9,Feuil1!C2:C9),"Congé") -> Congé | D12: =IF(OR(Feuil1!D2=Feuil2!B12,Feuil1!D3=Feuil2!B12,Feuil1!D4=Feuil2!B12,Feuil1!D5=Feuil2!B12,Feuil1!D6=Feuil2!B12,Feuil1!D7=Feuil2!B12,Feuil1!D8=Feuil2!B12,Feuil1!D9=Feuil2!B12),LOOKUP(Feuil2!B12,Feuil1!D2:D9,Feuil1!E2:E9),"Congé") -> 9hrs à 16hrs | E12: =IF(OR(Feuil1!F2=Feuil2!B12,Feuil1!F3=Feuil2!B12,Feuil1!F4=Feuil2!B12,Feuil1!F5=Feuil2!B12,Feuil1!F6=Feuil2!B12,Feuil1!F7=Feuil2!B12,Feuil1!F8=Feuil2!B12,Feuil1!F9=Feuil2!B12),LOOKUP(Feuil2!B12,Feuil1!F2:F9,Feuil1!G2:G9),"Congé") -> Congé | F12: =IF(OR(Feuil1!H2=Feuil2!B12,Feuil1!H3=Feuil2!B12,Feuil1!H4=Feuil2!B12,Feuil1!H5=Feuil2!B12,Feuil1!H6=Feuil2!B12,Feuil1!H7=Feuil2!B12,Feuil1!H8=Feuil2!B12,Feuil1!H9=Feuil2!B12),LOOKUP(Feuil2!B12,Feuil1!H2:H9,Feuil1!I2:I9),"Congé") -> Congé | G12: =IF(OR(Feuil1!J2=Feuil2!B12,Feuil1!J3=Feuil2!B12,Feuil1!J4=Feuil2!B12,Feuil1!J5=Feuil2!B12,Feuil1!J6=Feuil2!B12,Feuil1!J7=Feuil2!B12,Feuil1!J8=Feuil2!B12,Feuil1!J9=Feuil2!B12),LOOKUP(Feuil2!B12,Feuil1!J2:J9,Feuil1!K2:K9),"Congé") -> Congé | H12: =IF(OR(Feuil1!L2=Feuil2!B12,Feuil1!L3=Feuil2!B12,Feuil1!L4=Feuil2!B12,Feuil1!L5=Feuil2!B12,Feuil1!L6=Feuil2!B12,Feuil1!L7=Feuil2!B12,Feuil1!L8=Feuil2!B12,Feuil1!L9=Feuil2!B12),LOOKUP(Feuil2!B12,Feuil1!L2:L9,Feuil1!M2:M9),"Congé") -> Congé | I12: =IF(OR(Feuil1!N2=Feuil2!B12,Feuil1!N3=Feuil2!B12,Feuil1!N4=Feuil2!B12,Feuil1!N5=Feuil2!B12,Feuil1!N6=Feuil2!B12,Feuil1!N7=Feuil2!B12,Feuil1!N8=Feuil2!B12,Feuil1!N9=Feuil2!B12),LOOKUP(Feuil2!B12,Feuil1!N2:N9,Feuil1!O2:O9),"Congé") -> Congé
B13: Kim | C13: =IF(OR(Feuil1!B2=Feuil2!B13,Feuil1!B3=Feuil2!B13,Feuil1!B4=Feuil2!B13,Feuil1!B5=Feuil2!B13,Feuil1!B6=Feuil2!B13,Feuil1!B7=Feuil2!B13,Feuil1!B8=Feuil2!B13,Feuil1!B9=Feuil2!B13),LOOKUP(Feuil2!B13,Feuil1!B2:B9,Feuil1!C2:C9),"Congé") -> 17h30 à 21hrs | D13: =IF(OR(Feuil1!D2=Feuil2!B13,Feuil1!D3=Feuil2!B13,Feuil1!D4=Feuil2!B13,Feuil1!D5=Feuil2!B13,Feuil1!D6=Feuil2!B13,Feuil1!D7=Feuil2!B13,Feuil1!D8=Feuil2!B13,Feuil1!D9=Feuil2!B13),LOOKUP(Feuil2!B13,Feuil1!D2:D9,Feuil1!E2:E9),"Congé") -> Congé | E13: =IF(OR(Feuil1!F2=Feuil2!B13,Feuil1!F3=Feuil2!B13,Feuil1!F4=Feuil2!B13,Feuil1!F5=Feuil2!B13,Feuil1!F6=Feuil2!B13,Feuil1!F7=Feuil2!B13,Feuil1!F8=Feuil2!B13,Feuil1!F9=Feuil2!B13),LOOKUP(Feuil2!B13,Feuil1!F2:F9,Feuil1!G2:G9),"Congé") -> Congé | F13: =IF(OR(Feuil1!H2=Feuil2!B13,Feuil1!H3=Feuil2!B13,Feuil1!H4=Feuil2!B13,Feuil1!H5=Feuil2!B13,Feuil1!H6=Feuil2!B13,Feuil1!H7=Feuil2!B13,Feuil1!H8=Feuil2!B13,Feuil1!H9=Feuil2!B13),LOOKUP(Feuil2!B13,Feuil1!H2:H9,Feuil1!I2:I9),"Congé") -> Congé | G13: =IF(OR(Feuil1!J2=Feuil2!B13,Feuil1!J3=Feuil2!B13,Feuil1!J4=Feuil2!B13,Feuil1!J5=Feuil2!B13,Feuil1!J6=Feuil2!B13,Feuil1!J7=Feuil2!B13,Feuil1!J8=Feuil2!B13,Feuil1!J9=Feuil2!B13),LOOKUP(Feuil2!B13,Feuil1!J2:J9,Feuil1!K2:K9),"Congé") -> 17h30 à 21hrs | H13: =IF(OR(Feuil1!L2=Feuil2!B13,Feuil1!L3=Feuil2!B13,Feuil1!L4=Feuil2!B13,Feuil1!L5=Feuil2!B13,Feuil1!L6=Feuil2!B13,Feuil1!L7=Feuil2!B13,Feuil1!L8=Feuil2!B13,Feuil1!L9=Feuil2!B13),LOOKUP(Feuil2!B13,Feuil1!L2:L9,Feuil1!M2:M9),"Congé") -> 9hrs à 17hrs | I13: =IF(OR(Feuil1!N2=Feuil2!B13,Feuil1!N3=Feuil2!B13,Feuil1!N4=Feuil2!B13,Feuil1!N5=Feuil2!B13,Feuil1!N6=Feuil2!B13,Feuil1!N7=Feuil2!B13,Feuil1!N8=Feuil2!B13,Feuil1!N9=Feuil2!B13),LOOKUP(Feuil2!B13,Feuil1!N2:N9,Feuil1!O2:O9),"Congé") -> 10hrs à 16hrs

Sheet Feuil3
