Workbook

Sheet Feuil1

Sheet Feuil2

Sheet Feuil3
A1: Chantier | B1: annee creation AE | C1: anee initialisation FNC | D1: mois creation AE | E1: Criticite | F1: mois intialisation FNC | G1: FNC | H1: mois validation BE | I1: validation BE | J1: mois validation calcul | K1: MRB calcul | L1: mois validation qualite | M1: MRB valide qualite | N1: etat du piece apres qualite | O1: mois reparation | P1: solde avec of | Q1: mois Solde final | R1: solde final | T1: =DATE(2014,10,17) -> 41929 | U1: 1 NN SOLDE | V1: 2 SOLDE fnc | W1: 3 NN SOLDE | X1: 4 SOLDE design | Y1: 5 solde calcul | Z1: 6 nn solde QUALITE | AA1: 7 solde qualite | AB1: 8 NN SOLDE | AC1: 9 SOLDE AVEC OF | AD1: 10 SOLDE FINAL | AF1: annee validation BE | AG1: annee validation calcul | AH1: anee validation qualite | AI1: annee reparation | AJ1: annee Solde final
A2: =LEFT(Feuil1!B2,3) | B2: =IF(Feuil1!D2="","PAS DATE CREATION AE!!",YEAR(Feuil1!D2)) -> PAS DATE CREATION AE!! | C2: =IF(Feuil1!AZ2="","FNC non inittialiser",YEAR(Feuil1!AZ2)) -> FNC non inittialiser | D2: =IF(Feuil1!D2="","PAS DATE CREATION AE!!",MONTH(Feuil1!D2)) -> PAS DATE CREATION AE!! | E2: =IF(ISNUMBER(SEARCH("Non bloquant",Feuil1!AC2,1)),"Criticite 1",IF(ISNUMBER(SEARCH("bloquant station",Feuil1!AC2,1)),"Criticite 2",IF(ISNUMBER(SEARCH("bloquant zone",Feuil1!AC2,1)),"Criticite 3",IF(ISNUMBER(SEARCH("bloquant livraison",Feuil1!AC2,1)),"Criticite 4","a voir!!")))) -> a voir!! | F2: =IF(Feuil1!AZ2="","RESTER AE",MONTH(Feuil1!AZ2)) -> RESTER AE | G2: =IF(Feuil1!AZ2="","non solde",IF(Feuil1!AZ2=";","Non solde","solde")) -> non solde | H2: =IF(G2="Non solde","rester AE",IF(Feuil1!BA2="","RESTER AE",IF(Feuil1!BA2=";","pas valide BE",MONTH(Feuil1!BA2)))) -> rester AE | I2: =IF(G2="Non solde","rester AE",IF(Feuil1!BA2="","RESTER AE",IF(Feuil1!BA2=";","Non Solde","Valide BE"))) -> rester AE | J2: =IF(I2="Non solde","Non solde chez BE",IF(Feuil1!BB2="","RESTER AE",IF(Feuil1!BB2=";","pas valide CALCUL",MONTH(Feuil1!BB2)))) -> RESTER AE | K2: =IF(I2="Non solde","Non solde chez BE",IF(Feuil1!BB2="","RESTER AE",IF(Feuil1!BB2=";","Pas Solde calcul","Solde Calcul"))) -> RESTER AE | L2: =IF(I2="Non Solde","non solde chez BE",IF(Feuil1!BC2="","RESTER AE",IF(Feuil1!BC2=";","pas valide qualite",MONTH(Feuil1!BC2)))) -> RESTER AE | M2: =IF(I2="Non Solde","non solde chez BE",IF(Feuil1!BC2="","Rester AE",IF(Feuil1!BC2=";","Non solde","Solde"))) -> Rester AE | N2: =IF(M2="Non Solde","non solde qualite",IF(I2="Non Solde","non solde chez BE",IF(Feuil1!BD2="","RESTER AE OU arreter avant",IF(ISNUMBER(SEARCH("Réparation",Feuil1!BD2,1)),"Réparation","use as is")))) -> RESTER AE OU arreter avant | O2: =IF(M2="Non Solde","non solde qualite",IF(I2="Non Solde","non solde chez BE",IF(Feuil1!BK2="",IF(N2="use as is","use as is",IF(N2="RESTER AE OU arreter avant","RESTER AE",IF(N2="Réparation","en cours de reparation"))),IF(Feuil1!BK2=";","EN COURS DE REPARATION",MONTH(Feuil1!BK2))))) -> RESTER AE | P2: =IF(M2="Non Solde","non solde qualite",IF(I2="Non Solde","non solde chez BE",IF(Feuil1!BK2="",IF(N2="use as is","use as is",IF(N2="RESTER AE OU arreter avant","RESTER AE",IF(N2="Réparation","en cours de reparation"))),IF(AND(Feuil1!BK2=";",N2="Réparation"),"EN COURS DE REPARATION","Solde avec of")))) -> RESTER AE | Q2: =IF(M2="Non Solde","non solde qualite",IF(I2="Non Solde","non solde chez BE",IF(Feuil1!BE2="","RESTER AE",IF(Feuil1!BE2=";","pas valide fin",MONTH(Feuil1!BE2))))) -> RESTER AE | R2: =IF(M2="Non Solde","non solde qualite",IF(I2="Non Solde","non solde chez BE",IF(Feuil1!BE2="","RESTER AE",IF(Feuil1!BE2=";","Non solde","Solde final")))) -> RESTER AE | U2: =IF(G2="Non solde",NETWORKDAYS(Feuil1!D2,$T$1),"00") -> 29950 | V2: =IF(G2="solde",NETWORKDAYS(Feuil1!D2,Feuil1!AZ2),"00") -> 00 | W2: =IF(I2="Non Solde",NETWORKDAYS(Feuil1!AZ2,$T$1),"00") -> 00 | X2: =IF(I2="Valide BE",NETWORKDAYS(Feuil1!AZ2,Feuil1!BA2),"00") -> 00 | Y2: =IF(K2="Solde Calcul",NETWORKDAYS(Feuil1!BA2,Feuil1!BB2),"00") -> 00 | Z2: =IF(I2="Non Solde","000",IF(M2="Non solde",NETWORKDAYS(Feuil1!BA2,$T$1),"0")) -> 0 | AA2: =IF(AND(M2="Solde",K2="Solde Calcul"),NETWORKDAYS(Feuil1!BB2,Feuil1!BC2),IF(AND(M2="Solde",I2="Valide BE"),NETWORKDAYS(Feuil1!BA2,Feuil1!BC2),"00")) -> 00 | AB2: =IF(I2="Non Solde","000",IF(OR(P2="EN COURS DE REPARATION",R2="Non solde"),NETWORKDAYS(Feuil1!BC2,$T$1),"00")) -> 00 | AC2: =IF(P2="Solde avec of",NETWORKDAYS(Feuil1!BC2,Feuil1!BK2),"00") -> 00 | AD2: =IF(AND(R2="Solde final",P2="Solde avec of"),NETWORKDAYS(Feuil1!BK2,Feuil1!BE2),IF(AND(R2="Solde final",P2<>"Solde avec of"),NETWORKDAYS(Feuil1!BC2,Feuil1!BE2),"00")) -> 00 | AF2: =IF(G2="Non solde","rester AE",IF(Feuil1!BA2="","RESTER AE",IF(Feuil1!BA2=";","pas valide BE",YEAR(Feuil1!BA2)))) -> rester AE | AG2: =IF(I2="Non solde","Non solde chez BE",IF(Feuil1!BB2="","RESTER AE",IF(Feuil1!BB2=";","pas valide CALCUL",YEAR(Feuil1!BB2)))) -> RESTER AE | AH2: =IF(I2="Non solde","Non solde chez BE",IF(Feuil1!BC2="","RESTER AE",IF(Feuil1!BC2=";","pas valide qualite",YEAR(Feuil1!BC2)))) -> RESTER AE | AI2: =IF(M2="Non Solde","non solde qualite",IF(I2="Non Solde","non solde chez BE",IF(Feuil1!BK2="",IF(N2="use as is","use as is",IF(N2="RESTER AE OU arreter avant","RESTER AE",IF(N2="Réparation","en cours de reparation"))),IF(Feuil1!BK2=";","EN COURS DE REPARATION",YEAR(Feuil1!BK2))))) -> RESTER AE | AJ2: =IF(M2="Non Solde","non solde qualite",IF(I2="Non Solde","non solde chez BE",IF(Feuil1!BE2="","RESTER AE",IF(Feuil1!BE2=";","pas valide fin",YEAR(Feuil1!BE2))))) -> RESTER AE
E21: dans le lignes 2 j'ai des formules sous la forme presente j'aimerai bien selectioner la plage des cellules que je voulai glisser et la glisse vers un ligne que je le renseigne moi-même
