Workbook

Sheet Sheet1
A1: Cut.Mch | C1: TermA | D1: TermB | E1: SealA | F1: SealB | G1: Length | H1: terminal | I1: seal | J1: Temps | K1: Produitxtemps
A2: 433H | B2: 500 | G2: 150 | H2: =+COUNTA(C2:D2) -> 0 | I2: =+COUNTA(E2:F2) -> 0 | J2: =IF(AND(H2=2,I2=0),Sheet2!Q$4,IF(AND(H2=2,I2=1),Sheet2!P$4,IF(AND(H2=2,I2=2),Sheet2!O$4,IF(AND(H2=1,I2=0),Sheet2!S$4,IF(AND(H2=0,I2=1),0,IF(AND(H2=1,I2=1),Sheet2!R$4,IF(AND(H2=0,I2=0),0,""))))))) -> 0 | K2: =B2*J2 -> 0
A3: 433H | B3: 700 | G3: 160 | H3: =+COUNTA(C3:D3) -> 0 | I3: =+COUNTA(E3:F3) -> 0 | J3: =IF(AND(H3=2,I3=0),Sheet2!Q$4,IF(AND(H3=2,I3=1),Sheet2!P$4,IF(AND(H3=2,I3=2),Sheet2!O$4,IF(AND(H3=1,I3=0),Sheet2!S$4,IF(AND(H3=0,I3=1),0,IF(AND(H3=1,I3=1),Sheet2!R$4,IF(AND(H3=0,I3=0),0,""))))))) -> 0 | K3: =B3*J3 -> 0
A4: 433H | B4: 100 | G4: 195 | H4: =+COUNTA(C4:D4) -> 0 | I4: =+COUNTA(E4:F4) -> 0 | J4: =IF(AND(H4=2,I4=0),Sheet2!Q$4,IF(AND(H4=2,I4=1),Sheet2!P$4,IF(AND(H4=2,I4=2),Sheet2!O$4,IF(AND(H4=1,I4=0),Sheet2!S$4,IF(AND(H4=0,I4=1),0,IF(AND(H4=1,I4=1),Sheet2!R$4,IF(AND(H4=0,I4=0),0,""))))))) -> 0 | K4: =B4*J4 -> 0
A5: 433H | B5: 100 | G5: 195 | H5: =+COUNTA(C5:D5) -> 0 | I5: =+COUNTA(E5:F5) -> 0 | J5: =IF(AND(H5=2,I5=0),Sheet2!Q$4,IF(AND(H5=2,I5=1),Sheet2!P$4,IF(AND(H5=2,I5=2),Sheet2!O$4,IF(AND(H5=1,I5=0),Sheet2!S$4,IF(AND(H5=0,I5=1),0,IF(AND(H5=1,I5=1),Sheet2!R$4,IF(AND(H5=0,I5=0),0,""))))))) -> 0 | K5: =B5*J5 -> 0
A6: 433H | B6: 100 | G6: 195 | H6: =+COUNTA(C6:D6) -> 0 | I6: =+COUNTA(E6:F6) -> 0 | J6: =IF(AND(H6=2,I6=0),Sheet2!Q$4,IF(AND(H6=2,I6=1),Sheet2!P$4,IF(AND(H6=2,I6=2),Sheet2!O$4,IF(AND(H6=1,I6=0),Sheet2!S$4,IF(AND(H6=0,I6=1),0,IF(AND(H6=1,I6=1),Sheet2!R$4,IF(AND(H6=0,I6=0),0,""))))))) -> 0 | K6: =B6*J6 -> 0
A7: 433H | B7: 100 | G7: 195 | H7: =+COUNTA(C7:D7) -> 0 | I7: =+COUNTA(E7:F7) -> 0 | J7: =IF(AND(H7=2,I7=0),Sheet2!Q$4,IF(AND(H7=2,I7=1),Sheet2!P$4,IF(AND(H7=2,I7=2),Sheet2!O$4,IF(AND(H7=1,I7=0),Sheet2!S$4,IF(AND(H7=0,I7=1),0,IF(AND(H7=1,I7=1),Sheet2!R$4,IF(AND(H7=0,I7=0),0,""))))))) -> 0 | K7: =B7*J7 -> 0
A8: 433H | B8: 100 | G8: 195 | H8: =+COUNTA(C8:D8) -> 0 | I8: =+COUNTA(E8:F8) -> 0 | J8: =IF(AND(H8=2,I8=0),Sheet2!Q$4,IF(AND(H8=2,I8=1),Sheet2!P$4,IF(AND(H8=2,I8=2),Sheet2!O$4,IF(AND(H8=1,I8=0),Sheet2!S$4,IF(AND(H8=0,I8=1),0,IF(AND(H8=1,I8=1),Sheet2!R$4,IF(AND(H8=0,I8=0),0,""))))))) -> 0 | K8: =B8*J8 -> 0
A9: 433H | B9: 100 | G9: 195 | H9: =+COUNTA(C9:D9) -> 0 | I9: =+COUNTA(E9:F9) -> 0 | J9: =IF(AND(H9=2,I9=0),Sheet2!Q$4,IF(AND(H9=2,I9=1),Sheet2!P$4,IF(AND(H9=2,I9=2),Sheet2!O$4,IF(AND(H9=1,I9=0),Sheet2!S$4,IF(AND(H9=0,I9=1),0,IF(AND(H9=1,I9=1),Sheet2!R$4,IF(AND(H9=0,I9=0),0,""))))))) -> 0 | K9: =B9*J9 -> 0
A10: 433H | B10: 100 | G10: 195 | H10: =+COUNTA(C10:D10) -> 0 | I10: =+COUNTA(E10:F10) -> 0 | J10: =IF(AND(H10=2,I10=0),Sheet2!Q$4,IF(AND(H10=2,I10=1),Sheet2!P$4,IF(AND(H10=2,I10=2),Sheet2!O$4,IF(AND(H10=1,I10=0),Sheet2!S$4,IF(AND(H10=0,I10=1),0,IF(AND(H10=1,I10=1),Sheet2!R$4,IF(AND(H10=0,I10=0),0,""))))))) -> 0 | K10: =B10*J10 -> 0
A11: 433H | B11: 100 | G11: 195 | H11: =+COUNTA(C11:D11) -> 0 | I11: =+COUNTA(E11:F11) -> 0 | J11: =IF(AND(H11=2,I11=0),Sheet2!Q$4,IF(AND(H11=2,I11=1),Sheet2!P$4,IF(AND(H11=2,I11=2),Sheet2!O$4,IF(AND(H11=1,I11=0),Sheet2!S$4,IF(AND(H11=0,I11=1),0,IF(AND(H11=1,I11=1),Sheet2!R$4,IF(AND(H11=0,I11=0),0,""))))))) -> 0 | K11: =B11*J11 -> 0
A12: 433H | B12: 100 | G12: 195 | H12: =+COUNTA(C12:D12) -> 0 | I12: =+COUNTA(E12:F12) -> 0 | J12: =IF(AND(H12=2,I12=0),Sheet2!Q$4,IF(AND(H12=2,I12=1),Sheet2!P$4,IF(AND(H12=2,I12=2),Sheet2!O$4,IF(AND(H12=1,I12=0),Sheet2!S$4,IF(AND(H12=0,I12=1),0,IF(AND(H12=1,I12=1),Sheet2!R$4,IF(AND(H12=0,I12=0),0,""))))))) -> 0 | K12: =B12*J12 -> 0
A13: 433H | B13: 100 | G13: 195 | H13: =+COUNTA(C13:D13) -> 0 | I13: =+COUNTA(E13:F13) -> 0 | J13: =IF(AND(H13=2,I13=0),Sheet2!Q$4,IF(AND(H13=2,I13=1),Sheet2!P$4,IF(AND(H13=2,I13=2),Sheet2!O$4,IF(AND(H13=1,I13=0),Sheet2!S$4,IF(AND(H13=0,I13=1),0,IF(AND(H13=1,I13=1),Sheet2!R$4,IF(AND(H13=0,I13=0),0,""))))))) -> 0 | K13: =B13*J13 -> 0
... A20: 433H | B20: 100 | G20: 195 | H20: =+COUNTA(C20:D20) -> 0 | I20: =+COUNTA(E20:F20) -> 0 | J20: =IF(AND(H20=2,I20=0),Sheet2!Q$4,IF(AND(H20=2,I20=1),Sheet2!P$4,IF(AND(H20=2,I20=2),Sheet2!O$4,IF(AND(H20=1,I20=0),Sheet2!S$4,IF(AND(H20=0,I20=1),0,IF(AND(H20=1,I20=1),Sheet2!R$4,IF(AND(H20=0,I20=0),0,""))))))) -> 0 | K20: =B20*J20 -> 0
A21: 433H | B21: 100 | C21: 320257HH4 | G21: 195 | H21: =+COUNTA(C21:D21) -> 1 | I21: =+COUNTA(E21:F21) -> 0 | J21: =IF(AND(H21=2,I21=0),Sheet2!U$4,IF(AND(H21=2,I21=1),Sheet2!T$4,IF(AND(H21=2,I21=2),Sheet2!O$4,IF(AND(H21=1,I21=0),Sheet2!V$4,IF(AND(H21=0,I21=1),0,IF(AND(H21=1,I21=1),Sheet2!W$4,IF(AND(H21=0,I21=0),0,""))))))) -> 1.68 | K21: =B21*J21 -> 168
A22: 433H | B22: 100 | C22: 320257HH4 | G22: 195 | H22: =+COUNTA(C22:D22) -> 1 | I22: =+COUNTA(E22:F22) -> 0 | J22: =IF(AND(H22=2,I22=0),Sheet2!U$4,IF(AND(H22=2,I22=1),Sheet2!T$4,IF(AND(H22=2,I22=2),Sheet2!O$4,IF(AND(H22=1,I22=0),Sheet2!V$4,IF(AND(H22=0,I22=1),0,IF(AND(H22=1,I22=1),Sheet2!W$4,IF(AND(H22=0,I22=0),0,""))))))) -> 1.68 | K22: =B22*J22 -> 168
A23: 433H | B23: 100 | C23: 320257HH4 | G23: 195 | H23: =+COUNTA(C23:D23) -> 1 | I23: =+COUNTA(E23:F23) -> 0 | J23: =IF(AND(H23=2,I23=0),Sheet2!U$4,IF(AND(H23=2,I23=1),Sheet2!T$4,IF(AND(H23=2,I23=2),Sheet2!O$4,IF(AND(H23=1,I23=0),Sheet2!V$4,IF(AND(H23=0,I23=1),0,IF(AND(H23=1,I23=1),Sheet2!W$4,IF(AND(H23=0,I23=0),0,""))))))) -> 1.68 | K23: =B23*J23 -> 168
A24: 433H | B24: 100 | C24: 320257HH4 | G24: 195 | H24: =+COUNTA(C24:D24) -> 1 | I24: =+COUNTA(E24:F24) -> 0 | J24: =IF(AND(H24=2,I24=0),Sheet2!U$4,IF(AND(H24=2,I24=1),Sheet2!T$4,IF(AND(H24=2,I24=2),Sheet2!O$4,IF(AND(H24=1,I24=0),Sheet2!V$4,IF(AND(H24=0,I24=1),0,IF(AND(H24=1,I24=1),Sheet2!W$4,IF(AND(H24=0,I24=0),0,""))))))) -> 1.68 | K24: =B24*J24 -> 168
A25: 433H | B25: 200 | C25: 320257HH4 | G25: 195 | H25: =+COUNTA(C25:D25) -> 1 | I25: =+COUNTA(E25:F25) -> 0 | J25: =IF(AND(H25=2,I25=0),Sheet2!U$4,IF(AND(H25=2,I25=1),Sheet2!T$4,IF(AND(H25=2,I25=2),Sheet2!O$4,IF(AND(H25=1,I25=0),Sheet2!V$4,IF(AND(H25=0,I25=1),0,IF(AND(H25=1,I25=1),Sheet2!W$4,IF(AND(H25=0,I25=0),0,""))))))) -> 1.68 | K25: =B25*J25 -> 336
A26: 433H | B26: 100 | G26: 200 | H26: =+COUNTA(C26:D26) -> 0 | I26: =+COUNTA(E26:F26) -> 0 | J26: =IF(AND(H26=2,I26=0),Sheet2!Q$4,IF(AND(H26=2,I26=1),Sheet2!P$4,IF(AND(H26=2,I26=2),Sheet2!O$4,IF(AND(H26=1,I26=0),Sheet2!S$4,IF(AND(H26=0,I26=1),0,IF(AND(H26=1,I26=1),Sheet2!R$4,IF(AND(H26=0,I26=0),0,""))))))) -> 0 | K26: =B26*J26 -> 0
A27: 433H | B27: 100 | G27: 200 | H27: =+COUNTA(C27:D27) -> 0 | I27: =+COUNTA(E27:F27) -> 0 | J27: =IF(AND(H27=2,I27=0),Sheet2!Q$4,IF(AND(H27=2,I27=1),Sheet2!P$4,IF(AND(H27=2,I27=2),Sheet2!O$4,IF(AND(H27=1,I27=0),Sheet2!S$4,IF(AND(H27=0,I27=1),0,IF(AND(H27=1,I27=1),Sheet2!R$4,IF(AND(H27=0,I27=0),0,""))))))) -> 0 | K27: =B27*J27 -> 0
A28: 433H | B28: 100 | G28: 200 | H28: =+COUNTA(C28:D28) -> 0 | I28: =+COUNTA(E28:F28) -> 0 | J28: =IF(AND(H28=2,I28=0),Sheet2!Q$4,IF(AND(H28=2,I28=1),Sheet2!P$4,IF(AND(H28=2,I28=2),Sheet2!O$4,IF(AND(H28=1,I28=0),Sheet2!S$4,IF(AND(H28=0,I28=1),0,IF(AND(H28=1,I28=1),Sheet2!R$4,IF(AND(H28=0,I28=0),0,""))))))) -> 0 | K28: =B28*J28 -> 0
A29: 433H | B29: 100 | G29: 200 | H29: =+COUNTA(C29:D29) -> 0 | I29: =+COUNTA(E29:F29) -> 0 | J29: =IF(AND(H29=2,I29=0),Sheet2!Q$4,IF(AND(H29=2,I29=1),Sheet2!P$4,IF(AND(H29=2,I29=2),Sheet2!O$4,IF(AND(H29=1,I29=0),Sheet2!S$4,IF(AND(H29=0,I29=1),0,IF(AND(H29=1,I29=1),Sheet2!R$4,IF(AND(H29=0,I29=0),0,""))))))) -> 0 | K29: =B29*J29 -> 0
A30: 433H | B30: 100 | G30: 200 | H30: =+COUNTA(C30:D30) -> 0 | I30: =+COUNTA(E30:F30) -> 0 | J30: =IF(AND(H30=2,I30=0),Sheet2!Q$4,IF(AND(H30=2,I30=1),Sheet2!P$4,IF(AND(H30=2,I30=2),Sheet2!O$4,IF(AND(H30=1,I30=0),Sheet2!S$4,IF(AND(H30=0,I30=1),0,IF(AND(H30=1,I30=1),Sheet2!R$4,IF(AND(H30=0,I30=0),0,""))))))) -> 0 | K30: =B30*J30 -> 0
A31: 433H | B31: 100 | G31: 200 | H31: =+COUNTA(C31:D31) -> 0 | I31: =+COUNTA(E31:F31) -> 0 | J31: =IF(AND(H31=2,I31=0),Sheet2!Q$4,IF(AND(H31=2,I31=1),Sheet2!P$4,IF(AND(H31=2,I31=2),Sheet2!O$4,IF(AND(H31=1,I31=0),Sheet2!S$4,IF(AND(H31=0,I31=1),0,IF(AND(H31=1,I31=1),Sheet2!R$4,IF(AND(H31=0,I31=0),0,""))))))) -> 0 | K31: =B31*J31 -> 0
A32: 433H | B32: 100 | G32: 200 | H32: =+COUNTA(C32:D32) -> 0 | I32: =+COUNTA(E32:F32) -> 0 | J32: =IF(AND(H32=2,I32=0),Sheet2!Q$4,IF(AND(H32=2,I32=1),Sheet2!P$4,IF(AND(H32=2,I32=2),Sheet2!O$4,IF(AND(H32=1,I32=0),Sheet2!S$4,IF(AND(H32=0,I32=1),0,IF(AND(H32=1,I32=1),Sheet2!R$4,IF(AND(H32=0,I32=0),0,""))))))) -> 0 | K32: =B32*J32 -> 0
A33: 433H | B33: 300 | C33: 320151CX2 | G33: 200 | H33: =+COUNTA(C33:D33) -> 1 | I33: =+COUNTA(E33:F33) -> 0 | J33: =IF(AND(H33=2,I33=0),Sheet2!U$4,IF(AND(H33=2,I33=1),Sheet2!T$4,IF(AND(H33=2,I33=2),Sheet2!O$4,IF(AND(H33=1,I33=0),Sheet2!V$4,IF(AND(H33=0,I33=1),0,IF(AND(H33=1,I33=1),Sheet2!W$4,IF(AND(H33=0,I33=0),0,""))))))) -> 1.68 | K33: =B33*J33 -> 504
A34: 433H | B34: 200 | G34: 200 | H34: =+COUNTA(C34:D34) -> 0 | I34: =+COUNTA(E34:F34) -> 0 | J34: =IF(AND(H34=2,I34=0),Sheet2!Q$4,IF(AND(H34=2,I34=1),Sheet2!P$4,IF(AND(H34=2,I34=2),Sheet2!O$4,IF(AND(H34=1,I34=0),Sheet2!S$4,IF(AND(H34=0,I34=1),0,IF(AND(H34=1,I34=1),Sheet2!R$4,IF(AND(H34=0,I34=0),0,""))))))) -> 0 | K34: =B34*J34 -> 0
A35: 433H | B35: 100 | G35: 200 | H35: =+COUNTA(C35:D35) -> 0 | I35: =+COUNTA(E35:F35) -> 0 | J35: =IF(AND(H35=2,I35=0),Sheet2!Q$4,IF(AND(H35=2,I35=1),Sheet2!P$4,IF(AND(H35=2,I35=2),Sheet2!O$4,IF(AND(H35=1,I35=0),Sheet2!S$4,IF(AND(H35=0,I35=1),0,IF(AND(H35=1,I35=1),Sheet2!R$4,IF(AND(H35=0,I35=0),0,""))))))) -> 0 | K35: =B35*J35 -> 0
A36: 433H | B36: 400 | C36: 320151CX2 | G36: 200 | H36: =+COUNTA(C36:D36) -> 1 | I36: =+COUNTA(E36:F36) -> 0 | J36: =IF(AND(H36=2,I36=0),Sheet2!U$4,IF(AND(H36=2,I36=1),Sheet2!T$4,IF(AND(H36=2,I36=2),Sheet2!O$4,IF(AND(H36=1,I36=0),Sheet2!V$4,IF(AND(H36=0,I36=1),0,IF(AND(H36=1,I36=1),Sheet2!W$4,IF(AND(H36=0,I36=0),0,""))))))) -> 1.68 | K36: =B36*J36 -> 672
A37: 433H | B37: 200 | C37: 320151CX2 | G37: 200 | H37: =+COUNTA(C37:D37) -> 1 | I37: =+COUNTA(E37:F37) -> 0 | J37: =IF(AND(H37=2,I37=0),Sheet2!U$4,IF(AND(H37=2,I37=1),Sheet2!T$4,IF(AND(H37=2,I37=2),Sheet2!O$4,IF(AND(H37=1,I37=0),Sheet2!V$4,IF(AND(H37=0,I37=1),0,IF(AND(H37=1,I37=1),Sheet2!W$4,IF(AND(H37=0,I37=0),0,""))))))) -> 1.68 | K37: =B37*J37 -> 336
A38: 433H | B38: 300 | C38: 320151CX2 | G38: 200 | H38: =+COUNTA(C38:D38) -> 1 | I38: =+COUNTA(E38:F38) -> 0 | J38: =IF(AND(H38=2,I38=0),Sheet2!U$4,IF(AND(H38=2,I38=1),Sheet2!T$4,IF(AND(H38=2,I38=2),Sheet2!O$4,IF(AND(H38=1,I38=0),Sheet2!V$4,IF(AND(H38=0,I38=1),0,IF(AND(H38=1,I38=1),Sheet2!W$4,IF(AND(H38=0,I38=0),0,""))))))) -> 1.68 | K38: =B38*J38 -> 504
A39: 433H | B39: 100 | C39: 320257HH4 | G39: 200 | H39: =+COUNTA(C39:D39) -> 1 | I39: =+COUNTA(E39:F39) -> 0 | J39: =IF(AND(H39=2,I39=0),Sheet2!U$4,IF(AND(H39=2,I39=1),Sheet2!T$4,IF(AND(H39=2,I39=2),Sheet2!O$4,IF(AND(H39=1,I39=0),Sheet2!V$4,IF(AND(H39=0,I39=1),0,IF(AND(H39=1,I39=1),Sheet2!W$4,IF(AND(H39=0,I39=0),0,""))))))) -> 1.68 | K39: =B39*J39 -> 168
A40: 433H | B40: 200 | G40: 200 | H40: =+COUNTA(C40:D40) -> 0 | I40: =+COUNTA(E40:F40) -> 0 | J40: =IF(AND(H40=2,I40=0),Sheet2!Q$4,IF(AND(H40=2,I40=1),Sheet2!P$4,IF(AND(H40=2,I40=2),Sheet2!O$4,IF(AND(H40=1,I40=0),Sheet2!S$4,IF(AND(H40=0,I40=1),0,IF(AND(H40=1,I40=1),Sheet2!R$4,IF(AND(H40=0,I40=0),0,""))))))) -> 0 | K40: =B40*J40 -> 0
A41: 433H | B41: 800 | G41: 200 | H41: =+COUNTA(C41:D41) -> 0 | I41: =+COUNTA(E41:F41) -> 0 | J41: =IF(AND(H41=2,I41=0),Sheet2!Q$4,IF(AND(H41=2,I41=1),Sheet2!P$4,IF(AND(H41=2,I41=2),Sheet2!O$4,IF(AND(H41=1,I41=0),Sheet2!S$4,IF(AND(H41=0,I41=1),0,IF(AND(H41=1,I41=1),Sheet2!R$4,IF(AND(H41=0,I41=0),0,""))))))) -> 0 | K41: =B41*J41 -> 0
A42: 433H | B42: 100 | G42: 200 | H42: =+COUNTA(C42:D42) -> 0 | I42: =+COUNTA(E42:F42) -> 0 | J42: =IF(AND(H42=2,I42=0),Sheet2!Q$4,IF(AND(H42=2,I42=1),Sheet2!P$4,IF(AND(H42=2,I42=2),Sheet2!O$4,IF(AND(H42=1,I42=0),Sheet2!S$4,IF(AND(H42=0,I42=1),0,IF(AND(H42=1,I42=1),Sheet2!R$4,IF(AND(H42=0,I42=0),0,""))))))) -> 0 | K42: =B42*J42 -> 0
A43: 433H | B43: 100 | G43: 200 | H43: =+COUNTA(C43:D43) -> 0 | I43: =+COUNTA(E43:F43) -> 0 | J43: =IF(AND(H43=2,I43=0),Sheet2!Q$4,IF(AND(H43=2,I43=1),Sheet2!P$4,IF(AND(H43=2,I43=2),Sheet2!O$4,IF(AND(H43=1,I43=0),Sheet2!S$4,IF(AND(H43=0,I43=1),0,IF(AND(H43=1,I43=1),Sheet2!R$4,IF(AND(H43=0,I43=0),0,""))))))) -> 0 | K43: =B43*J43 -> 0
A44: 433H | B44: 400 | G44: 200 | H44: =+COUNTA(C44:D44) -> 0 | I44: =+COUNTA(E44:F44) -> 0 | J44: =IF(AND(H44=2,I44=0),Sheet2!Q$4,IF(AND(H44=2,I44=1),Sheet2!P$4,IF(AND(H44=2,I44=2),Sheet2!O$4,IF(AND(H44=1,I44=0),Sheet2!S$4,IF(AND(H44=0,I44=1),0,IF(AND(H44=1,I44=1),Sheet2!R$4,IF(AND(H44=0,I44=0),0,""))))))) -> 0 | K44: =B44*J44 -> 0
A45: 433H | B45: 300 | G45: 200 | H45: =+COUNTA(C45:D45) -> 0 | I45: =+COUNTA(E45:F45) -> 0 | J45: =IF(AND(H45=2,I45=0),Sheet2!Q$4,IF(AND(H45=2,I45=1),Sheet2!P$4,IF(AND(H45=2,I45=2),Sheet2!O$4,IF(AND(H45=1,I45=0),Sheet2!S$4,IF(AND(H45=0,I45=1),0,IF(AND(H45=1,I45=1),Sheet2!R$4,IF(AND(H45=0,I45=0),0,""))))))) -> 0 | K45: =B45*J45 -> 0
A46: 433H | B46: 100 | G46: 200 | H46: =+COUNTA(C46:D46) -> 0 | I46: =+COUNTA(E46:F46) -> 0 | J46: =IF(AND(H46=2,I46=0),Sheet2!Q$4,IF(AND(H46=2,I46=1),Sheet2!P$4,IF(AND(H46=2,I46=2),Sheet2!O$4,IF(AND(H46=1,I46=0),Sheet2!S$4,IF(AND(H46=0,I46=1),0,IF(AND(H46=1,I46=1),Sheet2!R$4,IF(AND(H46=0,I46=0),0,""))))))) -> 0 | K46: =B46*J46 -> 0
A47: 433H | B47: 400 | G47: 200 | H47: =+COUNTA(C47:D47) -> 0 | I47: =+COUNTA(E47:F47) -> 0 | J47: =IF(AND(H47=2,I47=0),Sheet2!Q$4,IF(AND(H47=2,I47=1),Sheet2!P$4,IF(AND(H47=2,I47=2),Sheet2!O$4,IF(AND(H47=1,I47=0),Sheet2!S$4,IF(AND(H47=0,I47=1),0,IF(AND(H47=1,I47=1),Sheet2!R$4,IF(AND(H47=0,I47=0),0,""))))))) -> 0 | K47: =B47*J47 -> 0
A48: 433H | B48: 600 | G48: 200 | H48: =+COUNTA(C48:D48) -> 0 | I48: =+COUNTA(E48:F48) -> 0 | J48: =IF(AND(H48=2,I48=0),Sheet2!Q$4,IF(AND(H48=2,I48=1),Sheet2!P$4,IF(AND(H48=2,I48=2),Sheet2!O$4,IF(AND(H48=1,I48=0),Sheet2!S$4,IF(AND(H48=0,I48=1),0,IF(AND(H48=1,I48=1),Sheet2!R$4,IF(AND(H48=0,I48=0),0,""))))))) -> 0 | K48: =B48*J48 -> 0
A49: 433H | B49: 100 | G49: 200 | H49: =+COUNTA(C49:D49) -> 0 | I49: =+COUNTA(E49:F49) -> 0 | J49: =IF(AND(H49=2,I49=0),Sheet2!Q$4,IF(AND(H49=2,I49=1),Sheet2!P$4,IF(AND(H49=2,I49=2),Sheet2!O$4,IF(AND(H49=1,I49=0),Sheet2!S$4,IF(AND(H49=0,I49=1),0,IF(AND(H49=1,I49=1),Sheet2!R$4,IF(AND(H49=0,I49=0),0,""))))))) -> 0 | K49: =B49*J49 -> 0
A50: 433H | B50: 200 | G50: 210 | H50: =+COUNTA(C50:D50) -> 0 | I50: =+COUNTA(E50:F50) -> 0 | J50: =IF(AND(H50=2,I50=0),Sheet2!Q$4,IF(AND(H50=2,I50=1),Sheet2!P$4,IF(AND(H50=2,I50=2),Sheet2!O$4,IF(AND(H50=1,I50=0),Sheet2!S$4,IF(AND(H50=0,I50=1),0,IF(AND(H50=1,I50=1),Sheet2!R$4,IF(AND(H50=0,I50=0),0,""))))))) -> 0 | K50: =B50*J50 -> 0
A51: 433H | B51: 350 | G51: 220 | H51: =+COUNTA(C51:D51) -> 0 | I51: =+COUNTA(E51:F51) -> 0 | J51: =IF(AND(H51=2,I51=0),Sheet2!Q$4,IF(AND(H51=2,I51=1),Sheet2!P$4,IF(AND(H51=2,I51=2),Sheet2!O$4,IF(AND(H51=1,I51=0),Sheet2!S$4,IF(AND(H51=0,I51=1),0,IF(AND(H51=1,I51=1),Sheet2!R$4,IF(AND(H51=0,I51=0),0,""))))))) -> 0 | K51: =B51*J51 -> 0
... A67: 433H | B67: 200 | G67: 470 | H67: =+COUNTA(C67:D67) -> 0 | I67: =+COUNTA(E67:F67) -> 0 | J67: =IF(AND(H67=2,I67=0),Sheet2!Q$4,IF(AND(H67=2,I67=1),Sheet2!P$4,IF(AND(H67=2,I67=2),Sheet2!O$4,IF(AND(H67=1,I67=0),Sheet2!S$4,IF(AND(H67=0,I67=1),0,IF(AND(H67=1,I67=1),Sheet2!R$4,IF(AND(H67=0,I67=0),0,""))))))) -> 0 | K67: =B67*J67 -> 0
A68: 433H | B68: 200 | G68: 530 | H68: =+COUNTA(C68:D68) -> 0 | I68: =+COUNTA(E68:F68) -> 0 | J68: 0 | K68: =B68*J68 -> 0
A69: 433H | B69: 200 | G69: 630 | H69: =+COUNTA(C69:D69) -> 0 | I69: =+COUNTA(E69:F69) -> 0 | J69: 0 | K69: =B69*J69 -> 0
A70: 433H | B70: 300 | G70: 640 | H70: =+COUNTA(C70:D70) -> 0 | I70: =+COUNTA(E70:F70) -> 0 | J70: 0 | K70: =B70*J70 -> 0
A71: 433H | B71: 200 | G71: 660 | H71: =+COUNTA(C71:D71) -> 0 | I71: =+COUNTA(E71:F71) -> 0 | J71: 0 | K71: =B71*J71 -> 0
A72: 433H | B72: 200 | G72: 665 | H72: =+COUNTA(C72:D72) -> 0 | I72: =+COUNTA(E72:F72) -> 0 | J72: 0 | K72: =B72*J72 -> 0
A73: 433H | B73: 200 | G73: 665 | H73: =+COUNTA(C73:D73) -> 0 | I73: =+COUNTA(E73:F73) -> 0 | J73: 0 | K73: =B73*J73 -> 0
A74: 433H | B74: 200 | G74: 735 | H74: =+COUNTA(C74:D74) -> 0 | I74: =+COUNTA(E74:F74) -> 0 | J74: 0 | K74: =B74*J74 -> 0
A75: 433H | B75: 200 | G75: 750 | H75: =+COUNTA(C75:D75) -> 0 | I75: =+COUNTA(E75:F75) -> 0 | J75: 0 | K75: =B75*J75 -> 0
A76: 433H | B76: 200 | G76: 760 | H76: =+COUNTA(C76:D76) -> 0 | I76: =+COUNTA(E76:F76) -> 0 | J76: 0 | K76: =B76*J76 -> 0
A77: 433H | B77: 200 | G77: 765 | H77: =+COUNTA(C77:D77) -> 0 | I77: =+COUNTA(E77:F77) -> 0 | J77: 0 | K77: =B77*J77 -> 0
A78: 433H | B78: 200 | G78: 880 | H78: =+COUNTA(C78:D78) -> 0 | I78: =+COUNTA(E78:F78) -> 0 | J78: 0 | K78: =B78*J78 -> 0
A79: 433H | B79: 200 | G79: 905 | H79: =+COUNTA(C79:D79) -> 0 | I79: =+COUNTA(E79:F79) -> 0 | J79: 0 | K79: =B79*J79 -> 0
... A97: 433H | B97: 200 | G97: 1820 | H97: =+COUNTA(C97:D97) -> 0 | I97: =+COUNTA(E97:F97) -> 0 | J97: 0 | K97: =B97*J97 -> 0
A98: JLM01 | B98: 150 | D98: 320251275 | G98: 130 | H98: =+COUNTA(C98:D98) -> 1 | I98: =+COUNTA(E98:F98) -> 0
A99: JLM01 | B99: 100 | C99: 320251275 | G99: 140 | H99: =+COUNTA(C99:D99) -> 1 | I99: =+COUNTA(E99:F99) -> 0
A100: JLM01 | B100: 100 | C100: 320251275 | G100: 190 | H100: =+COUNTA(C100:D100) -> 1 | I100: =+COUNTA(E100:F100) -> 0
A101: JLM01 | B101: 100 | C101: 320251275 | G101: 195 | H101: =+COUNTA(C101:D101) -> 1 | I101: =+COUNTA(E101:F101) -> 0
A102: JLM01 | B102: 100 | C102: 320251275 | G102: 225 | H102: =+COUNTA(C102:D102) -> 1 | I102: =+COUNTA(E102:F102) -> 0
A103: JLM01 | B103: 100 | C103: 320251275 | G103: 230 | H103: =+COUNTA(C103:D103) -> 1 | I103: =+COUNTA(E103:F103) -> 0
A104: JLM01 | B104: 200 | C104: 320251275 | G104: 245 | H104: =+COUNTA(C104:D104) -> 1 | I104: =+COUNTA(E104:F104) -> 0
A105: JLM01 | B105: 100 | C105: 320251275 | G105: 255 | H105: =+COUNTA(C105:D105) -> 1 | I105: =+COUNTA(E105:F105) -> 0
A106: JLM01 | B106: 1550 | C106: 3202509S1 | G106: 260 | H106: =+COUNTA(C106:D106) -> 1 | I106: =+COUNTA(E106:F106) -> 0
A107: JLM01 | B107: 400 | C107: 3202509S1 | G107: 270 | H107: =+COUNTA(C107:D107) -> 1 | I107: =+COUNTA(E107:F107) -> 0
A108: JLM01 | B108: 100 | C108: 320251275 | G108: 285 | H108: =+COUNTA(C108:D108) -> 1 | I108: =+COUNTA(E108:F108) -> 0
A109: JLM01 | B109: 200 | D109: 320251275 | G109: 285 | H109: =+COUNTA(C109:D109) -> 1 | I109: =+COUNTA(E109:F109) -> 0
A110: JLM01 | B110: 100 | D110: 320251275 | G110: 300 | H110: =+COUNTA(C110:D110) -> 1 | I110: =+COUNTA(E110:F110) -> 0
A111: JLM01 | B111: 100 | C111: 320251275 | G111: 315 | H111: =+COUNTA(C111:D111) -> 1 | I111: =+COUNTA(E111:F111) -> 0
A112: JLM01 | B112: 350 | C112: 320251275 | G112: 315 | H112: =+COUNTA(C112:D112) -> 1 | I112: =+COUNTA(E112:F112) -> 0
A113: JLM01 | B113: 150 | C113: 320251275 | G113: 315 | H113: =+COUNTA(C113:D113) -> 1 | I113: =+COUNTA(E113:F113) -> 0
A114: JLM01 | B114: 100 | C114: 320251275 | G114: 320 | H114: =+COUNTA(C114:D114) -> 1 | I114: =+COUNTA(E114:F114) -> 0
A115: JLM01 | B115: 600 | C115: 320251275 | G115: 325 | H115: =+COUNTA(C115:D115) -> 1 | I115: =+COUNTA(E115:F115) -> 0
A116: JLM01 | B116: 400 | C116: 3202509S1 | G116: 340 | H116: =+COUNTA(C116:D116) -> 1 | I116: =+COUNTA(E116:F116) -> 0
A117: JLM01 | B117: 100 | C117: 320251275 | G117: 375 | H117: =+COUNTA(C117:D117) -> 1 | I117: =+COUNTA(E117:F117) -> 0
A118: JLM01 | B118: 200 | C118: 320251275 | G118: 375 | H118: =+COUNTA(C118:D118) -> 1 | I118: =+COUNTA(E118:F118) -> 0
A119: JLM01 | B119: 100 | C119: 320251275 | G119: 395 | H119: =+COUNTA(C119:D119) -> 1 | I119: =+COUNTA(E119:F119) -> 0
A120: JLM01 | B120: 400 | C120: 320251275 | G120: 405 | H120: =+COUNTA(C120:D120) -> 1 | I120: =+COUNTA(E120:F120) -> 0
A121: JLM01 | B121: 100 | C121: 320251275 | D121: 3202509S1 | G121: 440 | H121: =+COUNTA(C121:D121) -> 2 | I121: =+COUNTA(E121:F121) -> 0
A122: JLM01 | B122: 600 | C122: 320251275 | D122: 3202509S1 | G122: 440 | H122: =+COUNTA(C122:D122) -> 2 | I122: =+COUNTA(E122:F122) -> 0
A123: JLM01 | B123: 400 | C123: 320251275 | D123: 3202509S1 | G123: 440 | H123: =+COUNTA(C123:D123) -> 2 | I123: =+COUNTA(E123:F123) -> 0
A124: JLM01 | B124: 100 | C124: 320251275 | G124: 445 | H124: =+COUNTA(C124:D124) -> 1 | I124: =+COUNTA(E124:F124) -> 0
A125: JLM01 | B125: 50 | C125: 320251275 | G125: 455 | H125: =+COUNTA(C125:D125) -> 1 | I125: =+COUNTA(E125:F125) -> 0
A126: JLM01 | B126: 25 | C126: 320251275 | G126: 455 | H126: =+COUNTA(C126:D126) -> 1 | I126: =+COUNTA(E126:F126) -> 0
A127: JLM01 | B127: 25 | C127: 320251275 | G127: 455 | H127: =+COUNTA(C127:D127) -> 1 | I127: =+COUNTA(E127:F127) -> 0
A128: JLM01 | B128: 25 | C128: 320251275 | G128: 455 | H128: =+COUNTA(C128:D128) -> 1 | I128: =+COUNTA(E128:F128) -> 0
A129: JLM01 | B129: 300 | C129: 320251275 | G129: 460 | H129: =+COUNTA(C129:D129) -> 1 | I129: =+COUNTA(E129:F129) -> 0
A130: JLM01 | B130: 100 | C130: 320251275 | G130: 460 | H130: =+COUNTA(C130:D130) -> 1 | I130: =+COUNTA(E130:F130) -> 0
A131: JLM01 | B131: 250 | C131: 320251275 | G131: 460 | H131: =+COUNTA(C131:D131) -> 1 | I131: =+COUNTA(E131:F131) -> 0
A132: JLM01 | B132: 200 | C132: 320251275 | G132: 460 | H132: =+COUNTA(C132:D132) -> 1 | I132: =+COUNTA(E132:F132) -> 0
A133: JLM01 | B133: 300 | C133: 320251275 | D133: 3202509S1 | G133: 470 | H133: =+COUNTA(C133:D133) -> 2 | I133: =+COUNTA(E133:F133) -> 0
A134: JLM01 | B134: 300 | C134: 320251275 | D134: 3202509S1 | G134: 470 | H134: =+COUNTA(C134:D134) -> 2 | I134: =+COUNTA(E134:F134) -> 0
A135: JLM01 | B135: 400 | C135: 320251275 | G135: 470 | H135: =+COUNTA(C135:D135) -> 1 | I135: =+COUNTA(E135:F135) -> 0
A136: JLM01 | B136: 500 | C136: 320251275 | G136: 470 | H136: =+COUNTA(C136:D136) -> 1 | I136: =+COUNTA(E136:F136) -> 0
A137: JLM01 | B137: 200 | C137: 320251275 | G137: 470 | H137: =+COUNTA(C137:D137) -> 1 | I137: =+COUNTA(E137:F137) -> 0
A138: JLM01 | B138: 100 | C138: 320251275 | D138: 3202509S1 | G138: 480 | H138: =+COUNTA(C138:D138) -> 2 | I138: =+COUNTA(E138:F138) -> 0
...

Sheet Sheet2
B1: Komax 411S | F1: Komax 411 | J1: Komax 422 | O1: Komax 433 | T1: 433 H | X1: CC63
A2: Up to length mm | B2: 2 terminal 1 seal | C2: 1 terminal 1 seal | D2: 2 terminal | E2: 1 terminal | F2: 2 terminal | G2: 2 terminal 2 seal | H2: 2 terminal 1 seal | I2: 1 terminal | J2: 1 terminal 1 seal | K2: 2 terminal | L2: 1 terminal | M2: 2 terminal 1 seal | N2: 2 terminal 2 seal | O2: 2 terminal 2 seal | P2: 2 terminal 1 seal | Q2: 2 terminal | R2: 1 terminal 1 seal | S2: 1 terminal | T2: 2 terminal 1 seal | U2: 2 terminal | V2: 1 terminal | W2: 1 terminal 1 seal | X2: 2 terminal 1 seal | Y2: 1 terminal 1 seal | Z2: 2 terminal | AA2: 1 terminal
A4: 500 | B4: 1.4285714 | C4: 1.3935902 | D4: 1 | E4: 1 | F4: 1 | G4: 1.226158 | H4: 1.125 | I4: 1 | J4: 1.1991358 | K4: 0.95744681 | L4: 0.95744681 | M4: 1.2639539 | N4: 1.5789474 | O4: 1.226158 | P4: 1.125 | Q4: 1 | R4: 1.2639539 | S4: 1 | T4: 1.8365142 | U4: 1.68 | V4: 1.68 | W4: 1.68 | X4: 1.15 | Y4: 1.19 | Z4: 1 | AA4: 1.02
A5: 1000 | B5: 1.5254237 | C5: 1.4692114 | D5: 1.0588235 | E5: 1.0588235 | F5: 1.0588235 | G5: 1.3846154 | H5: 1.1538462 | I5: 1.0588235 | J5: 1.1991358 | K5: 1.0465116 | L5: 1.0465116 | M5: 1.2639539 | N5: 1.6666667 | O5: 1.3846154 | P5: 1.1538462 | Q5: 1.0714286 | R5: 1.3359741 | S5: 1.0714286 | T5: 2.0849838 | U5: 1.85 | V5: 1.85 | W5: 1.85 | X5: 1.16 | Y5: 1.2 | Z5: 1.01 | AA5: 1.02
A6: 1500 | B6: 1.5789474 | C6: 1.5304285 | D6: 1.125 | E6: 1.125 | F6: 1.125 | G6: 1.4950166 | H6: 1.2162162 | I6: 1.125 | J6: 1.1991358 | K6: 1.1111111 | L6: 1.1111111 | M6: 1.310767 | N6: 1.7647059 | O6: 1.4950166 | P6: 1.2162162 | Q6: 1.1688312 | R6: 1.4115952 | S6: 1.1688312 | T6: 2.3586604 | U6: 2.1 | V6: 2.1 | W6: 2.1 | X6: 1.16 | Y6: 1.2 | Z6: 1.01 | AA6: 1.02
A7: 2000 | B7: 1.6363636 | C7: 1.6312568 | D7: 1.1904762 | E7: 1.1904762 | F7: 1.1904762 | G7: 1.5652174 | H7: 1.3043478 | I7: 1.1904762 | J7: 1.1991358 | K7: 1.1842105 | L7: 1.1842105 | M7: 1.4223983 | N7: 1.9565217 | O7: 1.5652174 | P7: 1.3043478 | Q7: 1.2676056 | R7: 1.4800144 | S7: 1.2676056 | T7: 2.599928 | U7: 2.26 | V7: 2.26 | W7: 2.26 | X7: 1.18 | Y7: 1.22 | Z7: 1.02 | AA7: 1.02
A8: 2500 | B8: 1.6981132 | C8: 1.8005041 | D8: 1.2676056 | E8: 1.2676056 | F8: 1.2676056 | G8: 1.6363636 | H8: 1.3846154 | I8: 1.2676056 | J8: 1.296363 | K8: 1.25 | L8: 1.25 | M8: 1.5016205 | N8: 2.0454545 | O8: 1.6363636 | P8: 1.3846154 | Q8: 1.3432836 | R8: 1.5556356 | S8: 1.3432836 | T8: 2.7655744 | U8: 2.42 | V8: 2.42 | W8: 2.42 | X8: 1.21 | Y8: 1.24 | Z8: 1.05 | AA8: 1.08
A9: 3000 | B9: 1.7647059 | C9: 1.8905293 | D9: 1.3432836 | E9: 1.3432836 | F9: 1.3432836 | G9: 1.7142857 | H9: 1.4516129 | I9: 1.3432836 | J9: 1.296363 | K9: 1.3457789 | L9: 1.3457789 | M9: 1.5772416 | N9: 2.1987545 | O9: 1.7142857 | P9: 1.4516129 | Q9: 1.4150943 | R9: 1.5880447 | S9: 1.4150943 | T9: 2.8628016 | U9: 2.58 | V9: 2.58 | W9: 2.58 | X9: 1.23 | Y9: 1.27 | Z9: 1.07 | AA9: 1.1
A10: 3500 | B10: 1.8367347 | C10: 1.9661505 | D10: 1.40625 | E10: 1.40625 | F10: 1.40625 | G10: 1.7647059 | H10: 1.5463918 | I10: 1.40625 | J10: 1.296363 | K10: 1.4371472 | L10: 1.4371472 | M10: 1.6456608 | N10: 2.3530154 | O10: 1.7647059 | P10: 1.5463918 | Q10: 1.4950166 | R10: 1.6636658 | S10: 1.4950166 | T10: 2.9636298 | U10: 2.74 | V10: 2.74 | W10: 2.74 | X10: 1.3 | Y10: 1.33 | Z10: 1.19 | AA10: 1.21
A11: 4000 | B11: 1.9148936 | C11: 2.0705798 | D11: 1.4754098 | E11: 1.4754098 | F11: 1.4754098 | G11: 1.8108652 | H11: 1.6129032 | I11: 1.4754098 | J11: 1.296363 | K11: 1.5347188 | L11: 1.5347188 | M11: 1.732085 | N11: 2.518099 | O11: 1.8108652 | P11: 1.6129032 | Q11: 1.5517241 | R11: 1.735686 | S11: 1.5517241 | T11: 3.1364782 | U11: 2.9 | V11: 2.9 | W11: 2.9 | X11: 1.4 | Y11: 1.44 | Z11: 1.3 | AA11: 1.33
A12: 4500 | B12: 2 | C12: 2.153403 | D12: 1.5517241 | E12: 1.5517241 | F12: 1.5517241 | G12: 1.8556701 | H12: 1.6981132 | I12: 1.5517241 | J12: 1.296363 | K12: 1.6389148 | L12: 1.6389148 | M12: 1.7933021 | N12: 2.6947645 | O12: 1.8556701 | P12: 1.6981132 | Q12: 1.6363636 | R12: 1.8401152 | S12: 1.6363636 | T12: 3.2373064 | U12: 3.06 | V12: 3.06 | W12: 3.06 | X12: 1.53 | Y12: 1.56 | Z12: 1.49 | AA12: 1.49
A13: 5000 | B13: 2.0454545 | C13: 2.2002161 | D13: 1.6363636 | E13: 1.6363636 | F13: 1.6363636 | G13: 1.8947368 | H13: 1.7647059 | I13: 1.6363636 | J13: 1.3359741 | K13: 1.7501849 | L13: 1.7501849 | M13: 1.8545193 | N13: 2.8838247 | O13: 1.8947368 | P13: 1.7647059 | Q13: 1.6981132 | R13: 1.8761253 | S13: 1.6981132 | T13: 3.3741448 | U13: 3.14 | V13: 3.14 | W13: 3.14 | X13: 1.6 | Y13: 1.62 | Z13: 1.55 | AA13: 1.58
A14: 5500 | B14: 2.1428571 | C14: 2.2974433 | D14: 1.7307692 | E14: 1.7307692 | F14: 1.7307692 | G14: 1.9354839 | H14: 1.8404908 | I14: 1.7307692 | J14: 1.4043932 | K14: 1.8690094 | L14: 1.8690094 | M14: 1.9517465 | N14: 3.0861489 | O14: 1.9354839 | P14: 1.8404908 | Q14: 1.7612524 | R14: 1.9481455 | S14: 1.7612524 | T14: 3.5073821 | U14: 3.22 | V14: 3.22 | W14: 3.22 | X14: 1.72 | Y14: 1.74 | Z14: 1.67 | AA14: 1.7
A15: 6000 | B15: 2.195122 | C15: 2.4126755 | D15: 1.8 | E15: 1.8 | F15: 1.8 | G15: 1.978022 | H15: 1.875 | I15: 1.8 | J15: 1.5196255 | K15: 1.9959012 | L15: 1.9959012 | M15: 2.0561757 | N15: 3.3026679 | O15: 1.978022 | P15: 1.875 | Q15: 1.8 | R15: 2.0201656 | S15: 1.8 | T15: 3.6406194 | U15: 3.3 | V15: 3.3 | W15: 3.3 | X15: 1.86 | Y15: 1.9 | Z15: 1.8 | AA15: 1.83
... A21: 9000 | B21: 2.6470588 | C21: 3.04 | D21: 2.173913 | E21: 2.173913 | F21: 2.173913 | G21: 2.3076923 | H21: 2.1428571 | I21: 2.173913 | J21: 2.06 | K21: 2.9600864 | L21: 2.9600864 | M21: 2.69 | N21: 4.9608155 | O21: 2.3076923 | P21: 2.1428571 | Q21: 2.0454545 | R21: 2.44 | S21: 2.0454545 | T21: 4.0403313 | U21: 3.78 | V21: 3.78 | W21: 3.78 | X21: 2.64 | Y21: 2.74 | Z21: 2.55 | AA21: 2.58
A22: 10000 | C22: 3.25 | J22: 2.24 | M22: 2.9 | R22: 2.58 | T22: 4.1735686 | U22: 3.94 | V22: 3.94 | W22: 3.94 | X22: 2.9 | Y22: 3.02 | Z22: 2.8 | AA22: 2.83
