Workbook

Sheet Sheet1
A1: Cut.Mch | C1: TermA | D1: TermB | E1: SealA | F1: SealB | G1: Length | H1: terminal | I1: seal | J1: Temps | K1: Produitxtemps
A2: 433H | B2: 500 | G2: 150 | H2: =+COUNTA(C2:D2) -> 0 | I2: =+COUNTA(E2:F2) -> 0 | J2: =IF(AND(H2=2,I2=0),Sheet2!Q$4,IF(AND(H2=2,I2=1),Sheet2!P$4,IF(AND(H2=2,I2=2),Sheet2!O$4,IF(AND(H2=1,I2=0),Sheet2!S$4,IF(AND(H2=0,I2=1),0,IF(AND(H2=1,I2=1),Sheet2!R$4,IF(AND(H2=0,I2=0),0,""))))))) -> 0 | K2: =B2*J2 -> 0
A3: 433H | B3: 700 | G3: 160 | H3: =+COUNTA(C3:D3) -> 0 | I3: =+COUNTA(E3:F3) -> 0 | J3: =IF(AND(H3=2,I3=0),Sheet2!Q$4,IF(AND(H3=2,I3=1),Sheet2!P$4,IF(AND(H3=2,I3=2),Sheet2!O$4,IF(AND(H3=1,I3=0),Sheet2!S$4,IF(AND(H3=0,I3=1),0,IF(AND(H3=1,I3=1),Sheet2!R$4,IF(AND(H3=0,I3=0),0,""))))))) -> 0 | K3: =B3*J3 -> 0
A4: 433H | B4: 100 | G4: 195 | H4: =+COUNTA(C4:D4) -> 0 | I4: =+COUNTA(E4:F4) -> 0 | J4: =IF(AND(H4=2,I4=0),Sheet2!Q$4,IF(AND(H4=2,I4=1),Sheet2!P$4,IF(AND(H4=2,I4=2),Sheet2!O$4,IF(AND(H4=1,I4=0),Sheet2!S$4,IF(AND(H4=0,I4=1),0,IF(AND(H4=1,I4=1),Sheet2!R$4,IF(AND(H4=0,I4=0),0,""))))))) -> 0 | K4: =B4*J4 -> 0
A5: 433H | B5: 100 | G5: 195 | H5: =+COUNTA(C5:D5) -> 0 | I5: =+COUNTA(E5:F5) -> 0 | J5: =IF(AND(H5=2,I5=0),Sheet2!Q$4,IF(AND(H5=2,I5=1),Sheet2!P$4,IF(AND(H5=2,I5=2),Sheet2!O$4,IF(AND(H5=1,I5=0),Sheet2!S$4,IF(AND(H5=0,I5=1),0,IF(AND(H5=1,I5=1),Sheet2!R$4,IF(AND(H5=0,I5=0),0,""))))))) -> 0 | K5: =B5*J5 -> 0
A6: 433H | B6: 100 | G6: 195 | H6: =+COUNTA(C6:D6) -> 0 | I6: =+COUNTA(E6:F6) -> 0 | J6: =IF(AND(H6=2,I6=0),Sheet2!Q$4,IF(AND(H6=2,I6=1),Sheet2!P$4,IF(AND(H6=2,I6=2),Sheet2!O$4,IF(AND(H6=1,I6=0),Sheet2!S$4,IF(AND(H6=0,I6=1),0,IF(AND(H6=1,I6=1),Sheet2!R$4,IF(AND(H6=0,I6=0),0,""))))))) -> 0 | K6: =B6*J6 -> 0
A7: 433H | B7: 100 | G7: 195 | H7: =+COUNTA(C7:D7) -> 0 | I7: =+COUNTA(E7:F7) -> 0 | J7: =IF(AND(H7=2,I7=0),Sheet2!Q$4,IF(AND(H7=2,I7=1),Sheet2!P$4,IF(AND(H7=2,I7=2),Sheet2!O$4,IF(AND(H7=1,I7=0),Sheet2!S$4,IF(AND(H7=0,I7=1),0,IF(AND(H7=1,I7=1),Sheet2!R$4,IF(AND(H7=0,I7=0),0,""))))))) -> 0 | K7: =B7*J7 -> 0
A8: 433H | B8: 100 | G8: 195 | H8: =+COUNTA(C8:D8) -> 0 | I8: =+COUNTA(E8:F8) -> 0 | J8: =IF(AND(H8=2,I8=0),Sheet2!Q$4,IF(AND(H8=2,I8=1),Sheet2!P$4,IF(AND(H8=2,I8=2),Sheet2!O$4,IF(AND(H8=1,I8=0),Sheet2!S$4,IF(AND(H8=0,I8=1),0,IF(AND(H8=1,I8=1),Sheet2!R$4,IF(AND(H8=0,I8=0),0,""))))))) -> 0 | K8: =B8*J8 -> 0
A9: 433H | B9: 100 | G9: 195 | H9: =+COUNTA(C9:D9) -> 0 | I9: =+COUNTA(E9:F9) -> 0 | J9: =IF(AND(H9=2,I9=0),Sheet2!Q$4,IF(AND(H9=2,I9=1),Sheet2!P$4,IF(AND(H9=2,I9=2),Sheet2!O$4,IF(AND(H9=1,I9=0),Sheet2!S$4,IF(AND(H9=0,I9=1),0,IF(AND(H9=1,I9=1),Sheet2!R$4,IF(AND(H9=0,I9=0),0,""))))))) -> 0 | K9: =B9*J9 -> 0
A10: 433H | B10: 100 | G10: 195 | H10: =+COUNTA(C10:D10) -> 0 | I10: =+COUNTA(E10:F10) -> 0 | J10: =IF(AND(H10=2,I10=0),Sheet2!Q$4,IF(AND(H10=2,I10=1),Sheet2!P$4,IF(AND(H10=2,I10=2),Sheet2!O$4,IF(AND(H10=1,I10=0),Sheet2!S$4,IF(AND(H10=0,I10=1),0,IF(AND(H10=1,I10=1),Sheet2!R$4,IF(AND(H10=0,I10=0),0,""))))))) -> 0 | K10: =B10*J10 -> 0
A11: 433H | B11: 100 | G11: 195 | H11: =+COUNTA(C11:D11) -> 0 | I11: =+COUNTA(E11:F11) -> 0 | J11: =IF(AND(H11=2,I11=0),Sheet2!Q$4,IF(AND(H11=2,I11=1),Sheet2!P$4,IF(AND(H11=2,I11=2),Sheet2!O$4,IF(AND(H11=1,I11=0),Sheet2!S$4,IF(AND(H11=0,I11=1),0,IF(AND(H11=1,I11=1),Sheet2!R$4,IF(AND(H11=0,I11=0),0,""))))))) -> 0 | K11: =B11*J11 -> 0
A12: 433H | B12: 100 | G12: 195 | H12: =+COUNTA(C12:D12) -> 0 | I12: =+COUNTA(E12:F12) -> 0 | J12: =IF(AND(H12=2,I12=0),Sheet2!Q$4,IF(AND(H12=2,I12=1),Sheet2!P$4,IF(AND(H12=2,I12=2),Sheet2!O$4,IF(AND(H12=1,I12=0),Sheet2!S$4,IF(AND(H12=0,I12=1),0,IF(AND(H12=1,I12=1),Sheet2!R$4,IF(AND(H12=0,I12=0),0,""))))))) -> 0 | K12: =B12*J12 -> 0
A13: 433H | B13: 100 | G13: 195 | H13: =+COUNTA(C13:D13) -> 0 | I13: =+COUNTA(E13:F13) -> 0 | J13: =IF(AND(H13=2,I13=0),Sheet2!Q$4,IF(AND(H13=2,I13=1),Sheet2!P$4,IF(AND(H13=2,I13=2),Sheet2!O$4,IF(AND(H13=1,I13=0),Sheet2!S$4,IF(AND(H13=0,I13=1),0,IF(AND(H13=1,I13=1),Sheet2!R$4,IF(AND(H13=0,I13=0),0,""))))))) -> 0 | K13: =B13*J13 -> 0
... A20: 433H | B20: 100 | G20: 195 | H20: =+COUNTA(C20:D20) -> 0 | I20: =+COUNTA(E20:F20) -> 0 | J20: =IF(AND(H20=2,I20=0),Sheet2!Q$4,IF(AND(H20=2,I20=1),Sheet2!P$4,IF(AND(H20=2,I20=2),Sheet2!O$4,IF(AND(H20=1,I20=0),Sheet2!S$4,IF(AND(H20=0,I20=1),0,IF(AND(H20=1,I20=1),Sheet2!R$4,IF(AND(H20=0,I20=0),0,""))))))) -> 0 | K20: =B20*J20 -> 0
A21: 433H | B21: 100 | C21: 320257HH4 | G21: 195 | H21: =+COUNTA(C21:D21) -> 1 | I21: =+COUNTA(E21:F21) -> 0 | J21: =IF(AND(H21=2,I21=0),Sheet2!U$4,IF(AND(H21=2,I21=1),Sheet2!T$4,IF(AND(H21=2,I21=2),Sheet2!O$4,IF(AND(H21=1,I21=0),Sheet2!V$4,IF(AND(H21=0,I21=1),0,IF(AND(H21=1,I21=1),Sheet2!W$4,IF(AND(H21=0,I21=0),0,""))))))) -> 1.68 | K21: =B21*J21 -> 168
A22: 433H | B22: 100 | C22: 320257HH4 | G22: 195 | H22: =+COUNTA(C22:D22) -> 1 | I22: =+COUNTA(E22:F22) -> 0 | J22: =IF(AND(H22=2,I22=0),Sheet2!U$4,IF(AND(H22=2,I22=1),Sheet2!T$4,IF(AND(H22=2,I22=2),Sheet2!O$4,IF(AND(H22=1,I22=0),Sheet2!V$4,IF(AND(H22=0,I22=1),0,IF(AND(H22=1,I22=1),Sheet2!W$4,IF(AND(H22=0,I22=0),0,""))))))) -> 1.68 | K22: =B22*J22 -> 168
A23: 433H | B23: 100 | C23: 320257HH4 | G23: 195 | H23: =+COUNTA(C23:D23) -> 1 | I23: =+COUNTA(E23:F23) -> 0 | J23: =IF(AND(H23=2,I23=0),Sheet2!U$4,IF(AND(H23=2,I23=1),Sheet2!T$4,IF(AND(H23=2,I23=2),Sheet2!O$4,IF(AND(H23=1,I23=0),Sheet2!V$4,IF(AND(H23=0,I23=1),0,IF(AND(H23=1,I23=1),Sheet2!W$4,IF(AND(H23=0,I23=0),0,""))))))) -> 1.68 | K23: =B23*J23 -> 168
A24: 433H | B24: 100 | C24: 320257HH4 | G24: 195 | H24: =+COUNTA(C24:D24) -> 1 | I24: =+COUNTA(E24:F24) -> 0 | J24: =IF(AND(H24=2,I24=0),Sheet2!U$4,IF(AND(H24=2,I24=1),Sheet2!T$4,IF(AND(H24=2,I24=2),Sheet2!O$4,IF(AND(H24=1,I24=0),Sheet2!V$4,IF(AND(H24=0,I24=1),0,IF(AND(H24=1,I24=1),Sheet2!W$4,IF(AND(H24=0,I24=0),0,""))))))) -> 1.68 | K24: =B24*J24 -> 168
A25: 433H | B25: 200 | C25: 320257HH4 | G25: 195 | H25: =+COUNTA(C25:D25) -> 1 | I25: =+COUNTA(E25:F25) -> 0 | J25: =IF(AND(H25=2,I25=0),Sheet2!U$4,IF(AND(H25=2,I25=1),Sheet2!T$4,IF(AND(H25=2,I25=2),Sheet2!O$4,IF(AND(H25=1,I25=0),Sheet2!V$4,IF(AND(H25=0,I25=1),0,IF(AND(H25=1,I25=1),Sheet2!W$4,IF(AND(H25=0,I25=0),0,""))))))) -> 1.68 | K25: =B25*J25 -> 336
A26: 433H | B26: 100 | G26: 200 | H26: =+COUNTA(C26:D26) -> 0 | I26: =+COUNTA(E26:F26) -> 0 | J26: =IF(AND(H26=2,I26=0),Sheet2!Q$4,IF(AND(H26=2,I26=1),Sheet2!P$4,IF(AND(H26=2,I26=2),Sheet2!O$4,IF(AND(H26=1,I26=0),Sheet2!S$4,IF(AND(H26=0,I26=1),0,IF(AND(H26=1,I26=1),Sheet2!R$4,IF(AND(H26=0,I26=0),0,""))))))) -> 0 | K26: =B26*J26 -> 0
A27: 433H | B27: 100 | G27: 200 | H27: =+COUNTA(C27:D27) -> 0 | I27: =+COUNTA(E27:F27) -> 0 | J27: =IF(AND(H27=2,I27=0),Sheet2!Q$4,IF(AND(H27=2,I27=1),Sheet2!P$4,IF(AND(H27=2,I27=2),Sheet2!O$4,IF(AND(H27=1,I27=0),Sheet2!S$4,IF(AND(H27=0,I27=1),0,IF(AND(H27=1,I27=1),Sheet2!R$4,IF(AND(H27=0,I27=0),0,""))))))) -> 0 | K27: =B27*J27 -> 0
A28: 433H | B28: 100 | G28: 200 | H28: =+COUNTA(C28:D28) -> 0 | I28: =+COUNTA(E28:F28) -> 0 | J28: =IF(AND(H28=2,I28=0),Sheet2!Q$4,IF(AND(H28=2,I28=1),Sheet2!P$4,IF(AND(H28=2,I28=2),Sheet2!O$4,IF(AND(H28=1,I28=0),Sheet2!S$4,IF(AND(H28=0,I28=1),0,IF(AND(H28=1,I28=1),Sheet2!R$4,IF(AND(H28=0,I28=0),0,""))))))) -> 0 | K28: =B28*J28 -> 0
A29: 433H | B29: 100 | G29: 200 | H29: =+COUNTA(C29:D29) -> 0 | I29: =+COUNTA(E29:F29) -> 0 | J29: =IF(AND(H29=2,I29=0),Sheet2!Q$4,IF(AND(H29=2,I29=1),Sheet2!P$4,IF(AND(H29=2,I29=2),Sheet2!O$4,IF(AND(H29=1,I29=0),Sheet2!S$4,IF(AND(H29=0,I29=1),0,IF(AND(H29=1,I29=1),Sheet2!R$4,IF(AND(H29=0,I29=0),0,""))))))) -> 0 | K29: =B29*J29 -> 0
A30: 433H | B30: 100 | G30: 200 | H30: =+COUNTA(C30:D30) -> 0 | I30: =+COUNTA(E30:F30) -> 0 | J30: =IF(AND(H30=2,I30=0),Sheet2!Q$4,IF(AND(H30=2,I30=1),Sheet2!P$4,IF(AND(H30=2,I30=2),Sheet2!O$4,IF(AND(H30=1,I30=0),Sheet2!S$4,IF(AND(H30=0,I30=1),0,IF(AND(H30=1,I30=1),Sheet2!R$4,IF(AND(H30=0,I30=0),0,""))))))) -> 0 | K30: =B30*J30 -> 0
A31: 433H | B31: 100 | G31: 200 | H31: =+COUNTA(C31:D31) -> 0 | I31: =+COUNTA(E31:F31) -> 0 | J31: =IF(AND(H31=2,I31=0),Sheet2!Q$4,IF(AND(H31=2,I31=1),Sheet2!P$4,IF(AND(H31=2,I31=2),Sheet2!O$4,IF(AND(H31=1,I31=0),Sheet2!S$4,IF(AND(H31=0,I31=1),0,IF(AND(H31=1,I31=1),Sheet2!R$4,IF(AND(H31=0,I31=0),0,""))))))) -> 0 | K31: =B31*J31 -> 0
A32: 433H | B32: 100 | G32: 200 | H32: =+COUNTA(C32:D32) -> 0 | I32: =+COUNTA(E32:F32) -> 0 | J32: =IF(AND(H32=2,I32=0),Sheet2!Q$4,IF(AND(H32=2,I32=1),Sheet2!P$4,IF(AND(H32=2,I32=2),Sheet2!O$4,IF(AND(H32=1,I32=0),Sheet2!S$4,IF(AND(H32=0,I32=1),0,IF(AND(H32=1,I32=1),Sheet2!R$4,IF(AND(H32=0,I32=0),0,""))))))) -> 0 | K32: =B32*J32 -> 0
A33: 433H | B33: 300 | C33: 320151CX2 | G33: 200 | H33: =+COUNTA(C33:D33) -> 1 | I33: =+COUNTA(E33:F33) -> 0 | J33: =IF(AND(H33=2,I33=0),Sheet2!U$4,IF(AND(H33=2,I33=1),Sheet2!T$4,IF(AND(H33=2,I33=2),Sheet2!O$4,IF(AND(H33=1,I33=0),Sheet2!V$4,IF(AND(H33=0,I33=1),0,IF(AND(H33=1,I33=1),Sheet2!W$4,IF(AND(H33=0,I33=0),0,""))))))) -> 1.68 | K33: =B33*J33 -> 504
A34: 433H | B34: 200 | G34: 200 | H34: =+COUNTA(C34:D34) -> 0 | I34: =+COUNTA(E34:F34) -> 0 | J34: =IF(AND(H34=2,I34=0),Sheet2!Q$4,IF(AND(H34=2,I34=1),Sheet2!P$4,IF(AND(H34=2,I34=2),Sheet2!O$4,IF(AND(H34=1,I34=0),Sheet2!S$4,IF(AND(H34=0,I34=1),0,IF(AND(H34=1,I34=1),Sheet2!R$4,IF(AND(H34=0,I34=0),0,""))))))) -> 0 | K34: =B34*J34 -> 0
A35: 433H | B35: 100 | G35: 200 | H35: =+COUNTA(C35:D35) -> 0 | I35: =+COUNTA(E35:F35) -> 0 | J35: =IF(AND(H35=2,I35=0),Sheet2!Q$4,IF(AND(H35=2,I35=1),Sheet2!P$4,IF(AND(H35=2,I35=2),Sheet2!O$4,IF(AND(H35=1,I35=0),Sheet2!S$4,IF(AND(H35=0,I35=1),0,IF(AND(H35=1,I35=1),Sheet2!R$4,IF(AND(H35=0,I35=0),0,""))))))) -> 0 | K35: =B35*J35 -> 0
A36: 433H | B36: 400 | C36: 320151CX2 | G36: 200 | H36: =+COUNTA(C36:D36) -> 1 | I36: =+COUNTA(E36:F36) -> 0 | J36: =IF(AND(H36=2,I36=0),Sheet2!U$4,IF(AND(H36=2,I36=1),Sheet2!T$4,IF(AND(H36=2,I36=2),Sheet2!O$4,IF(AND(H36=1,I36=0),Sheet2!V$4,IF(AND(H36=0,I36=1),0,IF(AND(H36=1,I36=1),Sheet2!W$4,IF(AND(H36=0,I36=0),0,""))))))) -> 1.68 | K36: =B36*J36 -> 672
A37: 433H | B37: 200 | C37: 320151CX2 | G37: 200 | H37: =+COUNTA(C37:D37) -> 1 | I37: =+COUNTA(E37:F37) -> 0 | J37: =IF(AND(H37=2,I37=0),Sheet2!U$4,IF(AND(H37=2,I37=1),Sheet2!T$4,IF(AND(H37=2,I37=2),Sheet2!O$4,IF(AND(H37=1,I37=0),Sheet2!V$4,IF(AND(H37=0,I37=1),0,IF(AND(H37=1,I37=1),Sheet2!W$4,IF(AND(H37=0,I37=0),0,""))))))) -> 1.68 | K37: =B37*J37 -> 336
A38: 433H | B38: 300 | C38: 320151CX2 | G38: 200 | H38: =+COUNTA(C38:D38) -> 1 | I38: =+COUNTA(E38:F38) -> 0 | J38: =IF(AND(H38=2,I38=0),Sheet2!U$4,IF(AND(H38=2,I38=1),Sheet2!T$4,IF(AND(H38=2,I38=2),Sheet2!O$4,IF(AND(H38=1,I38=0),Sheet2!V$4,IF(AND(H38=0,I38=1),0,IF(AND(H38=1,I38=1),Sheet2!W$4,IF(AND(H38=0,I38=0),0,""))))))) -> 1.68 | K38: =B38*J38 -> 504
A39: 433H | B39: 100 | C39: 320257HH4 | G39: 200 | H39: =+COUNTA(C39:D39) -> 1 | I39: =+COUNTA(E39:F39) -> 0 | J39: =IF(AND(H39=2,I39=0),Sheet2!U$4,IF(AND(H39=2,I39=1),Sheet2!T$4,IF(AND(H39=2,I39=2),Sheet2!O$4,IF(AND(H39=1,I39=0),Sheet2!V$4,IF(AND(H39=0,I39=1),0,IF(AND(H39=1,I39=1),Sheet2!W$4,IF(AND(H39=0,I39=0),0,""))))))) -> 1.68 | K39: =B39*J39 -> 168
A40: 433H | B40: 200 | G40: 200 | H40: =+COUNTA(C40:D40) -> 0 | I40: =+COUNTA(E40:F40) -> 0 | J40: =IF(AND(H40=2,I40=0),Sheet2!Q$4,IF(AND(H40=2,I40=1),Sheet2!P$4,IF(AND(H40=2,I40=2),Sheet2!O$4,IF(AND(H40=1,I40=0),Sheet2!S$4,IF(AND(H40=0,I40=1),0,IF(AND(H40=1,I40=1),Sheet2!R$4,IF(AND(H40=0,I40=0),0,""))))))) -> 0 | K40: =B40*J40 -> 0
A41: 433H | B41: 800 | G41: 200 | H41: =+COUNTA(C41:D41) -> 0 | I41: =+COUNTA(E41:F41) -> 0 | J41: =IF(AND(H41=2,I41=0),Sheet2!Q$4,IF(AND(H41=2,I41=1),Sheet2!P$4,IF(AND(H41=2,I41=2),Sheet2!O$4,IF(AND(H41=1,I41=0),Sheet2!S$4,IF(AND(H41=0,I41=1),0,IF(AND(H41=1,I41=1),Sheet2!R$4,IF(AND(H41=0,I41=0),0,""))))))) -> 0 | K41: =B41*J41 -> 0
A42: 433H | B42: 100 | G42: 200 | H42: =+COUNTA(C42:D42) -> 0 | I42: =+COUNTA(E42:F42) -> 0 | J42: =IF(AND(H42=2,I42=0),Sheet2!Q$4,IF(AND(H42=2,I42=1),Sheet2!P$4,IF(AND(H42=2,I42=2),Sheet2!O$4,IF(AND(H42=1,I42=0),Sheet2!S$4,IF(AND(H42=0,I42=1),0,IF(AND(H42=1,I42=1),Sheet2!R$4,IF(AND(H42=0,I42=0),0,""))))))) -> 0 | K42: =B42*J42 -> 0
A43: 433H | B43: 100 | G43: 200 | H43: =+COUNTA(C43:D43) -> 0 | I43: =+COUNTA(E43:F43) -> 0 | J43: =IF(AND(H43=2,I43=0),Sheet2!Q$4,IF(AND(H43=2,I43=1),Sheet2!P$4,IF(AND(H43=2,I43=2),Sheet2!O$4,IF(AND(H43=1,I43=0),Sheet2!S$4,IF(AND(H43=0,I43=1),0,IF(AND(H43=1,I43=1),Sheet2!R$4,IF(AND(H43=0,I43=0),0,""))))))) -> 0 | K43: =B43*J43 -> 0
A44: 433H | B44: 400 | G44: 200 | H44: =+COUNTA(C44:D44) -> 0 | I44: =+COUNTA(E44:F44) -> 0 | J44: =IF(AND(H44=2,I44=0),Sheet2!Q$4,IF(AND(H44=2,I44=1),Sheet2!P$4,IF(AND(H44=2,I44=2),Sheet2!O$4,IF(AND(H44=1,I44=0),Sheet2!S$4,IF(AND(H44=0,I44=1),0,IF(AND(H44=1,I44=1),Sheet2!R$4,IF(AND(H44=0,I44=0),0,""))))))) -> 0 | K44: =B44*J44 -> 0
A45: 433H | B45: 300 | G45: 200 | H45: =+COUNTA(C45:D45) -> 0 | I45: =+COUNTA(E45:F45) -> 0 | J45: =IF(AND(H45=2,I45=0),Sheet2!Q$4,IF(AND(H45=2,I45=1),Sheet2!P$4,IF(AND(H45=2,I45=2),Sheet2!O$4,IF(AND(H45=1,I45=0),Sheet2!S$4,IF(AND(H45=0,I45=1),0,IF(AND(H45=1,I45=1),Sheet2!R$4,IF(AND(H45=0,I45=0),0,""))))))) -> 0 | K45: =B45*J45 -> 0
A46: 433H | B46: 100 | G46: 200 | H46: =+COUNTA(C46:D46) -> 0 | I46: =+COUNTA(E46:F46) -> 0 | J46: =IF(AND(H46=2,I46=0),Sheet2!Q$4,IF(AND(H46=2,I46=1),Sheet2!P$4,IF(AND(H46=2,I46=2),Sheet2!O$4,IF(AND(H46=1,I46=0),Sheet2!S$4,IF(AND(H46=0,I46=1),0,IF(AND(H46=1,I46=1),Sheet2!R$4,IF(AND(H46=0,I46=0),0,""))))))) -> 0 | K46: =B46*J46 -> 0
...

Sheet Sheet2
B1: Komax 411S | F1: Komax 411 | J1: Komax 422 | O1: Komax 433 | T1: 433 H | X1: CC63
A2: Up to length mm | B2: 2 terminal 1 seal | C2: 1 terminal 1 seal | D2: 2 terminal | E2: 1 terminal | F2: 2 terminal | G2: 2 terminal 2 seal | H2: 2 terminal 1 seal | I2: 1 terminal | J2: 1 terminal 1 seal | K2: 2 terminal | L2: 1 terminal | M2: 2 terminal 1 seal | N2: 2 terminal 2 seal | O2: 2 terminal 2 seal | P2: 2 terminal 1 seal | Q2: 2 terminal | R2: 1 terminal 1 seal | S2: 1 terminal | T2: 2 terminal 1 seal | U2: 2 terminal | V2: 1 terminal | W2: 1 terminal 1 seal | X2: 2 terminal 1 seal | Y2: 1 terminal 1 seal | Z2: 2 terminal | AA2: 1 terminal
A4: 500 | B4: 1.4285714 | C4: 1.3935902 | D4: 1 | E4: 1 | F4: 1 | G4: 1.226158 | H4: 1.125 | I4: 1 | J4: 1.1991358 | K4: 0.95744681 | L4: 0.95744681 | M4: 1.2639539 | N4: 1.5789474 | O4: 1.226158 | P4: 1.125 | Q4: 1 | R4: 1.2639539 | S4: 1 | T4: 1.8365142 | U4: 1.68 | V4: 1.68 | W4: 1.68 | X4: 1.15 | Y4: 1.19 | Z4: 1 | AA4: 1.02
A5: 1000 | B5: 1.5254237 | C5: 1.4692114 | D5: 1.0588235 | E5: 1.0588235 | F5: 1.0588235 | G5: 1.3846154 | H5: 1.1538462 | I5: 1.0588235 | J5: 1.1991358 | K5: 1.0465116 | L5: 1.0465116 | M5: 1.2639539 | N5: 1.6666667 | O5: 1.3846154 | P5: 1.1538462 | Q5: 1.0714286 | R5: 1.3359741 | S5: 1.0714286 | T5: 2.0849838 | U5: 1.85 | V5: 1.85 | W5: 1.85 | X5: 1.16 | Y5: 1.2 | Z5: 1.01 | AA5: 1.02
A6: 1500 | B6: 1.5789474 | C6: 1.5304285 | D6: 1.125 | E6: 1.125 | F6: 1.125 | G6: 1.4950166 | H6: 1.2162162 | I6: 1.125 | J6: 1.1991358 | K6: 1.1111111 | L6: 1.1111111 | M6: 1.310767 | N6: 1.7647059 | O6: 1.4950166 | P6: 1.2162162 | Q6: 1.1688312 | R6: 1.4115952 | S6: 1.1688312 | T6: 2.3586604 | U6: 2.1 | V6: 2.1 | W6: 2.1 | X6: 1.16 | Y6: 1.2 | Z6: 1.01 | AA6: 1.02
A7: 2000 | B7: 1.6363636 | C7: 1.6312568 | D7: 1.1904762 | E7: 1.1904762 | F7: 1.1904762 | G7: 1.5652174 | H7: 1.3043478 | I7: 1.1904762 | J7: 1.1991358 | K7: 1.1842105 | L7: 1.1842105 | M7: 1.4223983 | N7: 1.9565217 | O7: 1.5652174 | P7: 1.3043478 | Q7: 1.2676056 | R7: 1.4800144 | S7: 1.2676056 | T7: 2.599928 | U7: 2.26 | V7: 2.26 | W7: 2.26 | X7: 1.18 | Y7: 1.22 | Z7: 1.02 | AA7: 1.02
A8: 2500 | B8: 1.6981132 | C8: 1.8005041 | D8: 1.2676056 | E8: 1.2676056 | F8: 1.2676056 | G8: 1.6363636 | H8: 1.3846154 | I8: 1.2676056 | J8: 1.296363 | K8: 1.25 | L8: 1.25 | M8: 1.5016205 | N8: 2.0454545 | O8: 1.6363636 | P8: 1.3846154 | Q8: 1.3432836 | R8: 1.5556356 | S8: 1.3432836 | T8: 2.7655744 | U8: 2.42 | V8: 2.42 | W8: 2.42 | X8: 1.21 | Y8: 1.24 | Z8: 1.05 | AA8: 1.08
A9: 3000 | B9: 1.7647059 | C9: 1.8905293 | D9: 1.3432836 | E9: 1.3432836 | F9: 1.3432836 | G9: 1.7142857 | H9: 1.4516129 | I9: 1.3432836 | J9: 1.296363 | K9: 1.3457789 | L9: 1.3457789 | M9: 1.5772416 | N9: 2.1987545 | O9: 1.7142857 | P9: 1.4516129 | Q9: 1.4150943 | R9: 1.5880447 | S9: 1.4150943 | T9: 2.8628016 | U9: 2.58 | V9: 2.58 | W9: 2.58 | X9: 1.23 | Y9: 1.27 | Z9: 1.07 | AA9: 1.1
A10: 3500 | B10: 1.8367347 | C10: 1.9661505 | D10: 1.40625 | E10: 1.40625 | F10: 1.40625 | G10: 1.7647059 | H10: 1.5463918 | I10: 1.40625 | J10: 1.296363 | K10: 1.4371472 | L10: 1.4371472 | M10: 1.6456608 | N10: 2.3530154 | O10: 1.7647059 | P10: 1.5463918 | Q10: 1.4950166 | R10: 1.6636658 | S10: 1.4950166 | T10: 2.9636298 | U10: 2.74 | V10: 2.74 | W10: 2.74 | X10: 1.3 | Y10: 1.33 | Z10: 1.19 | AA10: 1.21
A11: 4000 | B11: 1.9148936 | C11: 2.0705798 | D11: 1.4754098 | E11: 1.4754098 | F11: 1.4754098 | G11: 1.8108652 | H11: 1.6129032 | I11: 1.4754098 | J11: 1.296363 | K11: 1.5347188 | L11: 1.5347188 | M11: 1.732085 | N11: 2.518099 | O11: 1.8108652 | P11: 1.6129032 | Q11: 1.5517241 | R11: 1.735686 | S11: 1.5517241 | T11: 3.1364782 | U11: 2.9 | V11: 2.9 | W11: 2.9 | X11: 1.4 | Y11: 1.44 | Z11: 1.3 | AA11: 1.33
A12: 4500 | B12: 2 | C12: 2.153403 | D12: 1.5517241 | E12: 1.5517241 | F12: 1.5517241 | G12: 1.8556701 | H12: 1.6981132 | I12: 1.5517241 | J12: 1.296363 | K12: 1.6389148 | L12: 1.6389148 | M12: 1.7933021 | N12: 2.6947645 | O12: 1.8556701 | P12: 1.6981132 | Q12: 1.6363636 | R12: 1.8401152 | S12: 1.6363636 | T12: 3.2373064 | U12: 3.06 | V12: 3.06 | W12: 3.06 | X12: 1.53 | Y12: 1.56 | Z12: 1.49 | AA12: 1.49
A13: 5000 | B13: 2.0454545 | C13: 2.2002161 | D13: 1.6363636 | E13: 1.6363636 | F13: 1.6363636 | G13: 1.8947368 | H13: 1.7647059 | I13: 1.6363636 | J13: 1.3359741 | K13: 1.7501849 | L13: 1.7501849 | M13: 1.8545193 | N13: 2.8838247 | O13: 1.8947368 | P13: 1.7647059 | Q13: 1.6981132 | R13: 1.8761253 | S13: 1.6981132 | T13: 3.3741448 | U13: 3.14 | V13: 3.14 | W13: 3.14 | X13: 1.6 | Y13: 1.62 | Z13: 1.55 | AA13: 1.58
A14: 5500 | B14: 2.1428571 | C14: 2.2974433 | D14: 1.7307692 | E14: 1.7307692 | F14: 1.7307692 | G14: 1.9354839 | H14: 1.8404908 | I14: 1.7307692 | J14: 1.4043932 | K14: 1.8690094 | L14: 1.8690094 | M14: 1.9517465 | N14: 3.0861489 | O14: 1.9354839 | P14: 1.8404908 | Q14: 1.7612524 | R14: 1.9481455 | S14: 1.7612524 | T14: 3.5073821 | U14: 3.22 | V14: 3.22 | W14: 3.22 | X14: 1.72 | Y14: 1.74 | Z14: 1.67 | AA14: 1.7
A15: 6000 | B15: 2.195122 | C15: 2.4126755 | D15: 1.8 | E15: 1.8 | F15: 1.8 | G15: 1.978022 | H15: 1.875 | I15: 1.8 | J15: 1.5196255 | K15: 1.9959012 | L15: 1.9959012 | M15: 2.0561757 | N15: 3.3026679 | O15: 1.978022 | P15: 1.875 | Q15: 1.8 | R15: 2.0201656 | S15: 1.8 | T15: 3.6406194 | U15: 3.3 | V15: 3.3 | W15: 3.3 | X15: 1.86 | Y15: 1.9 | Z15: 1.8 | AA15: 1.83
... A21: 9000 | B21: 2.6470588 | C21: 3.04 | D21: 2.173913 | E21: 2.173913 | F21: 2.173913 | G21: 2.3076923 | H21: 2.1428571 | I21: 2.173913 | J21: 2.06 | K21: 2.9600864 | L21: 2.9600864 | M21: 2.69 | N21: 4.9608155 | O21: 2.3076923 | P21: 2.1428571 | Q21: 2.0454545 | R21: 2.44 | S21: 2.0454545 | T21: 4.0403313 | U21: 3.78 | V21: 3.78 | W21: 3.78 | X21: 2.64 | Y21: 2.74 | Z21: 2.55 | AA21: 2.58
A22: 10000 | C22: 3.25 | J22: 2.24 | M22: 2.9 | R22: 2.58 | T22: 4.1735686 | U22: 3.94 | V22: 3.94 | W22: 3.94 | X22: 2.9 | Y22: 3.02 | Z22: 2.8 | AA22: 2.83
