Workbook

Sheet AS B2
A8: Nom prénom | B8: Lun 01/12 | C8: Mar 02/12 | D8: Mer 03/12 | E8: Jeu 04/12 | F8: Ven 05/12 | G8: Sam 06/12 | H8: Dim 07/12 | I8: Lun 08/12 | J8: Mar 09/12 | K8: Mer 10/12 | L8: Jeu 11/12 | M8: Ven 12/12 | N8: Sam 13/12 | O8: Dim 14/12 | P8: Lun 15/12 | Q8: Mar 16/12 | R8: Mer 17/12 | S8: Jeu 18/12 | T8: Ven 19/12 | U8: Sam 20/12 | V8: Dim 21/12 | W8: Lun 22/12 | X8: Mar 23/12 | Y8: Mer 24/12 | Z8: Jeu 25/12 | AA8: Ven 26/12 | AB8: Sam 27/12 | AC8: Dim 28/12 | AD8: Lun 29/12 | AE8: Mar 30/12 | AF8: Mer 31/12 | AG8: Jeu 01/01 | AH8: Ven 02/01 | AI8: Sam 03/01 | AJ8: Dim 04/01 | AK8: Lun 05/01 | AL8: Mar 06/01 | AM8: Mer 07/01 | AN8: Jeu 08/01 | AO8: Ven 09/01 | AP8: Sam 10/01 | AQ8: Dim 11/01 | AR8: Lun 12/01 | AS8: Mar 13/01 | AT8: Mer 14/01 | AU8: Jeu 15/01 | AV8: Ven 16/01 | AW8: Sam 17/01 | AX8: Dim 18/01 | AY8: Lun 19/01 | AZ8: Mar 20/01 | BA8: Mer 21/01 | BB8: Jeu 22/01 | BC8: Ven 23/01 | BD8: Sam 24/01 | BE8: Dim 25/01 | BF8: Lun 26/01 | BG8: Mar 27/01 | BH8: Mer 28/01 | BI8: Jeu 29/01 | BJ8: Ven 30/01 | BK8: Sam 31/01 | BL8: Dim 01/02
A9: Nom prénom | B9: 1 | C9: 2 | D9: 3 | E9: 4 | F9: 5 | G9: 6 | H9: 7 | I9: 8 | J9: 9 | K9: 10 | L9: 11 | M9: 12 | N9: 13 | O9: 14 | P9: 15 | Q9: 16
A10: aj | B10: RH | C10: CA | D10: CA | E10: CA | F10: M | G10: M | H10: M | I10: RH | J10: M | K10: M | L10: M | M10: M | N10: RH | O10: RH | P10: RH | Q10: CA | R10: CA | S10: CA | T10: M | U10: M | V10: M | W10: RH | X10: M | Y10: M | Z10: M | AA10: M | AB10: RH | AC10: RH | AD10: RH | AE10: JS | AF10: JS | AG10: M | AH10: M | AI10: M | AJ10: M | AK10: RH | AL10: M | AP10: RH | AQ10: RH | AR10: RH | AY10: RH | BD10: RH | BE10: RH | BF10: RH
A11: bc | B11: M | C11: M | D11: M | E11: RH | F11: M | G11: M | H11: M | I11: RH | J11: M | K11: M | L11: M | M11: M | N11: RH | O11: RH | P11: M | Q11: M | R11: M | S11: RH | T11: M | U11: M | V11: M | W11: RH | X11: CA | Y11: CA | Z11: JS | AA11: CA | AB11: RH | AC11: RH | AD11: RH | AE11: M | AF11: M | AG11: M | AH11: M | AI11: M | AJ11: M | AK11: RH | AL11: M | AP11: RH | AQ11: RH | AU11: RH | AY11: RH | BD11: RH | BE11: RH | BI11: RH
A12: bb | B12: JS | C12: M | D12: M | E12: RH | F12: M | G12: M | H12: M | I12: RH | J12: JS | K12: JS | L12: CA | M12: CA | N12: RH | O12: RH | P12: M | Q12: M | R12: M | S12: RH | T12: M | U12: M | V12: M | W12: RH | X12: JS | Y12: M | Z12: M | AA12: M | AB12: RH | AC12: RH | AD12: M | AE12: CA | AF12: CA | AG12: RH | AH12: CA | AI12: CA | AJ12: CA | AK12: CA | AL12: M | AP12: RH | AQ12: RH | AU12: RH | AY12: RH | BD12: RH | BE12: RH | BI12: RH
A13: cm | B13: G | C13: G | D13: G | E13: RT | F13: RH | G13: M | H13: M | I13: M | J13: RH | K13: G | L13: G | M13: CA | N13: RH | O13: RH | P13: CA | Q13: CA | R13: CA | S13: RT | T13: RH | U13: G | V13: G | W13: G | X13: RH | Y13: M | Z13: M | AA13: G | AB13: RH | AC13: RH | AD13: CA | AE13: CA | AF13: CA | AG13: JS | AH13: RH | AI13: CA | AJ13: CA | AK13: CA | AL13: RH | AP13: RH | AQ13: RH | AV13: RH | AZ13: RH | BD13: RH | BE13: RH | BJ13: RH
A14: cl | B14: RH | C14: JS | D14: M | E14: M | F14: RT | G14: RH | H14: RH | I14: JS | J14: JS | K14: JS | L14: RH | M14: TP | N14: M | O14: M | P14: RH | Q14: M | R14: M | S14: M | T14: RT | U14: RH | V14: RH | W14: CA | X14: CA | Y14: JS | Z14: RH | AA14: TP | AB14: M | AC14: M | AD14: RH | AE14: M | AF14: M | AG14: M | AH14: M | AI14: RH | AJ14: RH | AK14: M | AL14: M | AN14: RH | AO14: TP | AR14: RH | AW14: RH | AX14: RH | BB14: RH | BC14: TP | BF14: RH | BK14: RH | BL14: RH
A15: cg | B15: RT | C15: RH | D15: JS | E15: G | F15: G | G15: RH | H15: RH | I15: G | J15: G | K15: G | L15: G | M15: RH | N15: G | O15: G | P15: RT | Q15: RH | R15: G | S15: G | T15: G | U15: RH | V15: RH | W15: G | X15: G | Y15: G | Z15: G | AA15: RH | AB15: G | AC15: G | AD15: RT | AE15: RH | AF15: JS | AG15: JS | AH15: JS | AI15: RH | AJ15: RH | AK15: G | AL15: G | AO15: RH | AS15: RH | AW15: RH | AX15: RH | BC15: RH | BG15: RH | BK15: RH | BL15: RH
A16: dl | B16: RH | C16: RH | D16: G | E16: G | F16: RT | G16: RH | H16: RH | I16: M | J16: M | K16: M | L16: RH | M16: M | N16: M | O16: M | P16: RH | Q16: M | R16: M | S16: M | T16: RT | U16: RH | V16: RH | W16: G | X16: G | Y16: G | Z16: RH | AA16: M | AB16: G | AC16: G | AD16: RH | AE16: HP | AF16: HP | AG16: JS | AH16: RT | AI16: RH | AJ16: RH | AK16: M | AL16: M | AP16: RH | AQ16: RH | AW16: RH | AX16: RH | BD16: RH | BE16: RH | BK16: RH | BL16: RH
A17: ds | B17: M | C17: RH | D17: M | E17: M | F17: M | G17: RH | H17: RH | I17: M | J17: RT | K17: RH | L17: M | M17: M | N17: M | O17: M | P17: M | Q17: RH | R17: RT | S17: M | T17: M | U17: RH | V17: RH | W17: RH | X17: CA | Y17: G | Z17: G | AA17: G | AB17: M | AC17: M | AD17: M | AE17: RH | AF17: RT | AG17: JS | AH17: RT | AI17: RH | AJ17: RH | AK17: M | AL17: M | AM17: RH | AS17: RH | AW17: RH | AX17: RH | BA17: RH | BG17: RH | BK17: RH | BL17: RH
A18: dn | B18: G | C18: G | D18: JS | E18: RH | F18: G | G18: G | H18: G | I18: RT | J18: RH | K18: CA | L18: M | M18: G | N18: RH | O18: RH | P18: M | Q18: M | R18: M | S18: RH | T18: M | U18: G | V18: G | W18: RT | X18: RH | Y18: G | Z18: G | AA18: G | AB18: RH | AC18: RH | AD18: G | AE18: G | AF18: CA | AG18: RH | AH18: m | AI18: M | AJ18: M | AK18: M | AL18: RH | AP18: RH | AQ18: RH | AW18: RH | AX18: RH | BD18: RH | BE18: RH | BK18: RH | BL18: RH
A19: dj | B19: G | C19: G | D19: RT | E19: G | F19: RH | G19: M | H19: M | I19: RH | J19: JS | K19: JS | L19: G | M19: G | N19: RH | O19: RH | P19: G | Q19: G | R19: RT | S19: M | T19: RH | U19: M | V19: M | W19: RH | X19: G | Y19: G | Z19: G | AA19: G | AB19: RH | AC19: RH | AD19: G | AE19: G | AF19: G | AG19: G | AH19: RH | AI19: M | AJ19: M | AK19: RH | AL19: M | AP19: RH | AQ19: RH | AW19: RH | AX19: RH | BD19: RH | BE19: RH | BK19: RH | BL19: RH
A20: dd | B20: M | C20: M | D20: M | E20: RH | F20: M | G20: M | H20: M | I20: RH | J20: M | K20: M | L20: M | M20: M | N20: RH | O20: RH | P20: M | Q20: M | R20: M | S20: RH | T20: M | U20: M | V20: M | W20: RH | X20: M | Y20: M | Z20: M | AA20: M | AB20: RH | AC20: RH | AD20: JS | AE20: RP | AF20: RP | AG20: RH | AH20: CA | AI20: CA | AJ20: CA | AK20: RH | AL20: CA | AM20: CA | AN20: CA | AO20: CA | AP20: RH | AQ20: RH | AR20: CA | AS20: CA | AT20: CA | AU20: RH | AY20: RH | BD20: RH | BE20: RH | BI20: RH
A21: ev | B21: RH | C21: G | D21: G | E21: G | F21: RT | G21: RH | H21: RH | I21: G | J21: G | K21: JS | L21: RH | M21: G | N21: G | O21: G | P21: RH | Q21: G | R21: G | S21: G | T21: RT | U21: RH | V21: RH | W21: G | X21: G | Y21: JS | Z21: RH | AA21: G | AB21: G | AC21: G | AD21: RH | AE21: G | AF21: G | AG21: JS | AH21: RT | AI21: RH | AJ21: RH | AK21: G | AL21: G | AN21: RH | AR21: RH | AW21: RH | AX21: RH | BB21: RH | BF21: RH | BK21: RH | BL21: RH
A22: emc | B22: M | C22: M | D22: M | E22: RH | F22: RT | G22: M | H22: M | I22: CA | J22: RH | K22: CA | L22: CA | M22: CA | N22: RH | O22: RH | P22: CA | Q22: CA | R22: CA | S22: RH | T22: RT | U22: M | V22: M | W22: M | X22: RH | Y22: M | Z22: M | AA22: M | AB22: RH | AC22: RH | AD22: SU | AE22: SU | AF22: HP | AG22: RH | AH22: RT | AI22: M | AJ22: M | AK22: M | AL22: RH | AP22: RH | AQ22: RH | AU22: RH | AZ22: RH | BD22: RH | BE22: RH | BI22: RH
A23: gs | B23: AT | C23: AT | D23: AT | E23: AT | F23: AT | G23: AT | H23: AT | I23: AT | J23: AT | K23: AT | L23: AT | M23: AT | N23: AT | O23: AT | P23: AT | Q23: AT | R23: AT | S23: AT | T23: AT | U23: AT | V23: AT | W23: AT | X23: AT | Y23: AT | Z23: AT | AA23: AT | AB23: AT | AC23: AT | AD23: AT | AE23: AT | AF23: AT | AG23: AT | AH23: AT | AI23: AT | AJ23: AT | AK23: AT | AL23: RH | AP23: RH | AQ23: RH | AU23: RH | AZ23: RH | BD23: RH | BE23: RH | BI23: RH
A24: hi | B24: M | C24: M | D24: HP | E24: M | F24: RH | G24: M | H24: M | I24: M | J24: M | K24: RH | L24: M | M24: JS | N24: RH | O24: RH | P24: M | Q24: M | R24: CA | S24: M | T24: RH | U24: M | V24: M | W24: RH | X24: M | Y24: M | Z24: M | AA24: M | AB24: RH | AC24: RH | AD24: JS | AE24: JS | AF24: JS | AG24: JS | AH24: RH | AI24: M | AJ24: M | AK24: M | AL24: M | AM24: RH | AP24: RH | AQ24: RH | AV24: RH | BA24: RH | BD24: RH | BE24: RH | BJ24: RH
A25: hf | B25: M | C25: M | D25: M | E25: M | F25: RH | G25: M | H25: M | I25: RT | J25: RH | K25: M | L25: M | M25: JS | N25: RH | O25: RH | P25: M | Q25: M | R25: M | S25: M | T25: RH | U25: M | V25: M | W25: RT | X25: RH | Y25: JS | Z25: JS | AA25: JS | AB25: RH | AC25: RH | AD25: M | AE25: M | AF25: M | AG25: M | AH25: RH | AI25: M | AJ25: M | AK25: M | AL25: RH | AP25: RH | AQ25: RH | AV25: RH | AZ25: RH | BD25: RH | BE25: RH | BJ25: RH
A26: kc | B26: G | C26: G | D26: RH | E26: G | F26: G | G26: G | H26: G | I26: RH | J26: G | K26: G | L26: G | M26: RT | N26: RH | O26: RH | P26: G | Q26: G | R26: RH | S26: G | T26: G | U26: G | V26: G | W26: RH | X26: CA | Y26: CA | Z26: CA | AA26: RT | AB26: RH | AC26: RH | AD26: M | AE26: M | AF26: M | AG26: G | AH26: RH | AI26: G | AJ26: G | AK26: RH | AL26: G | AP26: RH | AQ26: RH | AT26: RH | AY26: RH | BD26: RH | BE26: RH | BH26: RH
A27: lm | B27: M | C27: M | D27: RH | E27: M | F27: G | G27: RH | H27: RH | I27: M | J27: M | K27: RH | L27: M | M27: G | N27: M | O27: M | P27: CA | Q27: CA | R27: RH | S27: JS | T27: JS | U27: RH | V27: RH | W27: M | X27: M | Y27: M | Z27: M | AA27: RH | AB27: M | AC27: M | AD27: M | AE27: M | AF27: RH | AG27: JS | AH27: JS | AI27: RH | AJ27: RH | AK27: M | AL27: M | AM27: RH | AT27: RH | AW27: RH | AX27: RH | BA27: RH | BH27: RH | BK27: RH | BL27: RH
A28: mk | B28: G | C28: G | D28: JS | E28: RH | F28: TP | G28: G | H28: G | I28: JS | J28: RH | K28: TP | L28: G | M28: G | N28: RH | O28: RH | P28: M | Q28: M | R28: JS | S28: RH | T28: TP | U28: G | V28: G | W28: G | X28: RH | Y28: TP | Z28: JS | AA28: CA | AB28: RH | AC28: RH | AD28: M | AE28: M | AF28: M | AG28: RH | AH28: TP | AI28: G | AJ28: G | AK28: G | AL28: RH | AM28: TP | AP28: RH | AQ28: RH | AU28: RH | AV28: TP | AZ28: RH | BA28: TP | BD28: RH | BE28: RH | BI28: RH | BJ28: TP
A29: mcl | B29: M | C29: JS | D29: RH | E29: M | F29: M | G29: RH | H29: RH | I29: M | J29: M | K29: JS | L29: RH | M29: M | N29: M | O29: M | P29: JS | Q29: JS | R29: RH | S29: JS | T29: JH | U29: RH | V29: RH | W29: M | X29: M | Y29: M | Z29: RH | AA29: M | AB29: M | AC29: M | AD29: M | AE29: JH | AF29: RH | AG29: JS | AH29: CA | AI29: RH | AJ29: RH | AK29: CA | AL29: CA | AM29: CA | AN29: RH | AT29: RH | AW29: RH | AX29: RH | BB29: RH | BH29: RH | BK29: RH | BL29: RH
A30: md | B30: M | C30: RH | D30: M | E30: M | F30: M | G30: RH | H30: RH | I30: M | J30: M | K30: M | L30: RH | M30: M | N30: M | O30: M | P30: M | Q30: RH | R30: M | S30: M | T30: M | U30: RH | V30: RH | W30: M | X30: M | Y30: M | Z30: M | AA30: RH | AB30: M | AC30: M | AD30: RT | AE30: RH | AF30: RT | AG30: JS | AH30: RT | AI30: RH | AJ30: RH | AK30: M | AL30: M | AN30: RH | AS30: RH | AW30: RH | AX30: RH | BB30: RH | BG30: RH | BK30: RH | BL30: RH
A31: mr | B31: RH | C31: M | D31: M | E31: M | F31: M | G31: RH | H31: RH | I31: JS | J31: G | K31: G | L31: G | M31: RH | N31: G | O31: G | P31: RH | Q31: JS | R31: M | S31: M | T31: M | U31: RH | V31: RH | W31: CA | X31: CA | Y31: CA | Z31: JS | AA31: RH | AB31: CA | AC31: CA | AD31: RH | AE31: M | AF31: M | AG31: M | AH31: G | AI31: RH | AJ31: RH | AK31: G | AL31: G | AO31: RH | AR31: RH | AW31: RH | AX31: RH | BC31: RH | BF31: RH | BK31: RH | BL31: RH
A32: nd | B32: RT | C32: RT | D32: M | E32: M | F32: RH | G32: G | H32: G | I32: G | J32: RT | K32: RH | L32: M | M32: M | N32: RH | O32: RH | P32: G | Q32: M | R32: M | S32: M | T32: RH | U32: M | V32: M | W32: M | X32: M | Y32: RH | Z32: G | AA32: G | AB32: RH | AC32: RH | AD32: RT | AE32: JS | AF32: RH | AG32: M | AH32: G | AI32: G | AJ32: G | AK32: RT | AL32: M | AM32: RH | AP32: RH | AQ32: RH | AT32: RH | BA32: RH | BD32: RH | BE32: RH | BH32: RH
A33: nm | B33: M | C33: M | D33: RH | E33: M | F33: M | G33: RH | H33: RH | I33: M | J33: M | K33: M | L33: RH | M33: M | N33: M | O33: M | P33: M | Q33: M | R33: RH | S33: CA | T33: CA | U33: RH | V33: RH | W33: M | X33: M | Y33: M | Z33: M | AA33: RH | AB33: M | AC33: M | AD33: CA | AE33: HP | AF33: RH | AG33: JS | AH33: RT | AI33: RH | AJ33: RH | AK33: M | AL33: M | AM33: M | AN33: RH | AT33: RH | AW33: RH | AX33: RH | BB33: RH | BH33: RH | BK33: RH | BL33: RH
A34: pm | B34: CA | C34: RH | D34: JS | E34: JS | F34: JS | G34: RH | H34: RH | I34: M | J34: M | K34: M | L34: M | M34: RH | N34: M | O34: M | P34: M | Q34: RH | R34: RT | S34: M | T34: M | U34: RH | V34: RH | W34: RT | X34: G | Y34: M | Z34: RT | AA34: RH | AB34: M | AC34: M | AD34: M | AE34: RH | AF34: M | AG34: M | AH34: JS | AI34: RH | AJ34: RH | AK34: M | AL34: M | AO34: RH | AS34: RH | AW34: RH | AX34: RH | BC34: RH | BG34: RH | BK34: RH | BL34: RH
A35: pj | B35: CA | C35: CA | D35: RH | E35: CA | F35: CA | G35: RH | H35: RH | I35: G | J35: G | K35: G | L35: RH | M35: G | N35: G | O35: G | P35: JS | Q35: JS | R35: RH | S35: G | T35: G | U35: RH | V35: RH | W35: G | X35: G | Y35: G | Z35: RH | AA35: G | AB35: G | AC35: G | AD35: G | AE35: G | AF35: RH | AG35: G | AH35: G | AI35: RH | AJ35: RH | AK35: G | AL35: G | AN35: RH | AT35: RH | AW35: RH | AX35: RH | BB35: RH | BH35: RH | BK35: RH | BL35: RH
A36: pn | B36: RH | C36: RT | D36: G | E36: G | F36: G | G36: RH | H36: RH | I36: G | J36: G | K36: G | L36: RH | M36: G | N36: G | O36: G | P36: RH | Q36: G | R36: G | S36: G | T36: G | U36: RH | V36: RH | W36: CA | X36: CA | Y36: CA | Z36: RH | AA36: CA | AB36: G | AC36: G | AD36: RH | AE36: G | AF36: G | AG36: G | AH36: G | AI36: RH | AJ36: RH | AK36: G | AL36: G | AN36: RH | AR36: RH | AW36: RH | AX36: RH | BB36: RH | BF36: RH | BK36: RH | BL36: RH
A37: pl | B37: M | C37: M | D37: JS | E37: M | F37: RH | G37: G | H37: G | I37: M | J37: M | K37: RH | L37: G | M37: G | N37: RH | O37: RH | P37: M | Q37: G | R37: JS | S37: M | T37: RH | U37: M | V37: M | W37: M | X37: M | Y37: RH | Z37: M | AA37: M | AB37: RH | AC37: RH | AD37: CA | AE37: CA | AF37: JS | AG37: JS | AH37: RH | AI37: M | AJ37: M | AK37: M | AL37: M | AM37: RH | AP37: RH | AQ37: RH | AV37: RH | BA37: RH | BD37: RH | BE37: RH | BJ37: RH
A38: pmr | B38: M | C38: M | D38: M | E38: M | F38: RH | G38: G | H38: G | I38: G | J38: RH | K38: M | L38: M | M38: M | N38: RH | O38: RH | P38: G | Q38: G | R38: G | S38: G | T38: RH | U38: G | V38: G | W38: JS | X38: RH | Y38: CA | Z38: CA | AA38: CA | AB38: RH | AC38: RH | AD38: G | AE38: G | AF38: G | AG38: G | AH38: RH | AI38: G | AJ38: G | AK38: G | AL38: RH | AP38: RH | AQ38: RH | AV38: RH | AZ38: RH | BD38: RH | BE38: RH | BJ38: RH
A39: qc | B39: M | C39: M | D39: TP | E39: RH | F39: M | G39: M | H39: M | I39: RH | J39: HP | K39: TP | L39: M | M39: M | N39: RH | O39: RH | P39: G | Q39: M | R39: TP | S39: RH | T39: M | U39: M | V39: M | W39: RH | X39: FP | Y39: TP | Z39: M | AA39: M | AB39: RH | AC39: RH | AD39: FP | AE39: FP | AF39: TP | AG39: RH | AH39: HP | AI39: CH | AJ39: CH | AK39: RH | AL39: RT | AM39: TP | AP39: RH | AQ39: RH | AT39: TP | AU39: RH | AY39: RH | BA39: TP | BD39: RH | BE39: RH | BH39: TP | BI39: RH
A40: rw | B40: G | C40: RH | D40: G | E40: G | F40: G | G40: RH | H40: RH | I40: G | J40: G | K40: G | L40: RT | M40: RH | N40: M | O40: M | P40: G | Q40: RH | R40: M | S40: G | T40: G | U40: RH | V40: RH | W40: G | X40: G | Y40: G | Z40: G | AA40: RH | AB40: CA | AC40: CA | AD40: JS | AE40: RH | AF40: CA | AG40: JS | AH40: JS | AI40: RH | AJ40: RH | AK40: G | AL40: G | AO40: RH | AS40: RH | AW40: RH | AX40: RH | BC40: RH | BG40: RH | BK40: RH | BL40: RH
A41: rg | B41: RH | C41: CA | D41: CA | E41: CA | F41: M | G41: RH | H41: RH | I41: CA | J41: CA | K41: CA | L41: CA | M41: RH | N41: M | O41: M | P41: RH | Q41: M | R41: M | S41: M | T41: M | U41: RH | V41: RH | W41: M | X41: M | Y41: M | Z41: M | AA41: RH | AB41: CA | AC41: CA | AD41: RH | AE41: CA | AF41: CA | AG41: JS | AH41: RT | AI41: RH | AJ41: RH | AK41: M | AL41: M | AO41: RH | AR41: RH | AW41: RH | AX41: RH | BC41: RH | BF41: RH | BK41: RH | BL41: RH
A42: rs | B42: RH | C42: RT | D42: G | E42: G | F42: G | G42: RH | H42: RH | I42: G | J42: G | K42: G | L42: RH | M42: G | N42: G | O42: G | P42: RH | Q42: RT | R42: G | S42: G | T42: G | U42: RH | V42: RH | W42: CA | X42: CA | Y42: JS | Z42: RH | AA42: JS | AB42: G | AC42: G | AD42: RH | AE42: G | AF42: G | AG42: G | AH42: G | AI42: RH | AJ42: RH | AK42: G | AL42: G | AN42: RH | AR42: RH | AW42: RH | AX42: RH | BB42: RH | BF42: RH | BK42: RH | BL42: RH
A43: sj | B43: HP | C43: RH | D43: M | E43: M | F43: G | G43: RH | H43: RH | I43: M | J43: M | K43: M | L43: RH | M43: M | N43: M | O43: M | P43: JH | Q43: RH | R43: FP | S43: FP | T43: JH | U43: RH | V43: RH | W43: M | X43: G | Y43: JS | Z43: RH | AA43: G | AB43: G | AC43: G | AD43: JS | AE43: RH | AF43: M | AG43: M | AH43: M | AI43: RH | AJ43: RH | AK43: M | AL43: M | AN43: RH | AS43: RH | AW43: RH | AX43: RH | BB43: RH | BG43: RH | BK43: RH | BL43: RH
A44: te | B44: G | C44: G | D44: G | E44: G | F44: RH | G44: G | H44: G | I44: G | J44: RT | K44: RH | L44: G | M44: G | N44: RH | O44: RH | P44: G | Q44: G | R44: G | S44: G | T44: RH | U44: G | V44: G | W44: G | X44: RT | Y44: RH | Z44: JS | AA44: JS | AB44: RH | AC44: RH | AD44: G | AE44: G | AF44: G | AG44: G | AH44: RH | AI44: G | AJ44: G | AK44: G | AL44: G | AM44: RH | AP44: RH | AQ44: RH | AV44: RH | BA44: RH | BD44: RH | BE44: RH | BJ44: RH
A45: tma | B45: G | C45: G | D45: G | E45: RH | F45: RT | G45: M | H45: M | I45: M | J45: RH | K45: M | L45: M | M45: M | N45: RH | O45: RH | P45: G | Q45: G | R45: G | S45: RH | T45: G | U45: G | V45: G | W45: JS | X45: RH | Y45: G | Z45: G | AA45: G | AB45: RH | AC45: RH | AD45: G | AE45: G | AF45: G | AG45: RH | AH45: M | AI45: M | AJ45: M | AK45: G | AL45: RH | AP45: RH | AQ45: RH | AU45: RH | AZ45: RH | BD45: RH | BE45: RH | BI45: RH
A46: td | B46: AR | C46: AR | D46: RH | E46: DI | F46: DI | G46: RH | H46: RH | I46: DI | J46: DI | K46: RH | L46: RT | M46: DI | N46: G | O46: G | P46: DI | Q46: DI | R46: RH | S46: DI | T46: DI | U46: RH | V46: RH | W46: HP | X46: FP | Y46: RH | Z46: JS | AA46: FP | AB46: G | AC46: G | AD46: DI | AE46: DI | AF46: RH | AG46: AR | AH46: AR | AI46: RH | AJ46: RH | AK46: AR | AL46: AR | AM46: RH | AT46: RH | AW46: RH | AX46: RH | BA46: RH | BH46: RH | BK46: RH | BL46: RH
A47: tt | B47: MA | C47: MA | D47: MA | E47: MA | F47: MA | G47: MA | H47: MA | I47: MA | J47: MA | K47: MA | L47: MA | M47: MA | N47: MA | O47: MA | P47: MA | Q47: MA | R47: MA | S47: MA | T47: MA | U47: MA | V47: MA | W47: MA | X47: MA | Y47: MA | Z47: MA | AA47: MA | AB47: MA | AC47: MA | AD47: MA | AE47: MA | AF47: MA | AG47: MA | AH47: MA | AI47: MA | AJ47: MA | AK47: MA | AL47: MA | AM47: MA | AN47: MA | AO47: MA | AP47: MA | AQ47: MA | AR47: MA | AS47: MA | AT47: MA | AU47: MA | AV47: MA | AW47: MA | AX47: MA | AY47: MA | AZ47: MA | BA47: MA | BB47: MA | BC47: MA | BD47: MA | BE47: MA | BF47: MA | BG47: MA | BH47: MA | BI47: MA | BJ47: MA | BK47: MA | BL47: MA
...

Sheet Feuil2
B2: 1 | C2: 2 | D2: 3 | E2: 4 | F2: 5 | G2: 6 | H2: 7 | I2: 8 | J2: 9 | K2: 10 | L2: 11 | M2: 12 | N2: 13 | O2: 14 | P2: 15
A3: 1 | B3: =IF(HLOOKUP(B$2,'AS B2'!$B$9:$AJ$51,$A3+1,FALSE)="m",INDIRECT("'as b2'!a"&$B$9+1+$A3),"") | C3: =IF(HLOOKUP(C$2,'AS B2'!$B$9:$AJ$51,$A3+1,FALSE)="m",INDIRECT("'as b2'!a"&$B$9+1+$A3),"") | D3: =IF(HLOOKUP(D$2,'AS B2'!$B$9:$AJ$51,$A3+1,FALSE)="m",INDIRECT("'as b2'!a"&$B$9+1+$A3),"") | E3: =IF(HLOOKUP(E$2,'AS B2'!$B$9:$AJ$51,$A3+1,FALSE)="m",INDIRECT("'as b2'!a"&$B$9+1+$A3),"") | F3: =IF(HLOOKUP(F$2,'AS B2'!$B$9:$AJ$51,$A3+1,FALSE)="m",INDIRECT("'as b2'!a"&$B$9+1+$A3),"") -> #VALUE! | G3: =IF(HLOOKUP(G$2,'AS B2'!$B$9:$AJ$51,$A3+1,FALSE)="m",INDIRECT("'as b2'!a"&$B$9+1+$A3),"") -> #VALUE! | H3: =IF(HLOOKUP(H$2,'AS B2'!$B$9:$AJ$51,$A3+1,FALSE)="m",INDIRECT("'as b2'!a"&$B$9+1+$A3),"") -> #VALUE! | I3: =IF(HLOOKUP(I$2,'AS B2'!$B$9:$AJ$51,$A3+1,FALSE)="m",INDIRECT("'as b2'!a"&$B$9+1+$A3),"") | ... P3: =IF(HLOOKUP(P$2,'AS B2'!$B$9:$AJ$51,$A3+1,FALSE)="m",INDIRECT("'as b2'!a"&$B$9+1+$A3),"")
A4: 2 | B4: =IF(HLOOKUP(B$2,'AS B2'!$B$9:$AJ$51,$A4+1,FALSE)="m",INDIRECT("'as b2'!a"&$B$9+1+$A4),"") -> #VALUE! | C4: =IF(HLOOKUP(C$2,'AS B2'!$B$9:$AJ$51,$A4+1,FALSE)="m",INDIRECT("'as b2'!a"&$B$9+1+$A4),"") -> #VALUE! | D4: =IF(HLOOKUP(D$2,'AS B2'!$B$9:$AJ$51,$A4+1,FALSE)="m",INDIRECT("'as b2'!a"&$B$9+1+$A4),"") -> #VALUE! | E4: =IF(HLOOKUP(E$2,'AS B2'!$B$9:$AJ$51,$A4+1,FALSE)="m",INDIRECT("'as b2'!a"&$B$9+1+$A4),"") | F4: =IF(HLOOKUP(F$2,'AS B2'!$B$9:$AJ$51,$A4+1,FALSE)="m",INDIRECT("'as b2'!a"&$B$9+1+$A4),"") -> #VALUE! | G4: =IF(HLOOKUP(G$2,'AS B2'!$B$9:$AJ$51,$A4+1,FALSE)="m",INDIRECT("'as b2'!a"&$B$9+1+$A4),"") -> #VALUE! | H4: =IF(HLOOKUP(H$2,'AS B2'!$B$9:$AJ$51,$A4+1,FALSE)="m",INDIRECT("'as b2'!a"&$B$9+1+$A4),"") -> #VALUE! | I4: =IF(HLOOKUP(I$2,'AS B2'!$B$9:$AJ$51,$A4+1,FALSE)="m",INDIRECT("'as b2'!a"&$B$9+1+$A4),"") | ... P4: =IF(HLOOKUP(P$2,'AS B2'!$B$9:$AJ$51,$A4+1,FALSE)="m",INDIRECT("'as b2'!a"&$B$9+1+$A4),"") -> #VALUE!
A5: 3 | B5: =IF(HLOOKUP(B$2,'AS B2'!$B$9:$AJ$51,$A5+1,FALSE)="m",INDIRECT("'as b2'!a"&$B$9+1+$A5),"") | C5: =IF(HLOOKUP(C$2,'AS B2'!$B$9:$AJ$51,$A5+1,FALSE)="m",INDIRECT("'as b2'!a"&$B$9+1+$A5),"") -> #VALUE! | D5: =IF(HLOOKUP(D$2,'AS B2'!$B$9:$AJ$51,$A5+1,FALSE)="m",INDIRECT("'as b2'!a"&$B$9+1+$A5),"") -> #VALUE! | E5: =IF(HLOOKUP(E$2,'AS B2'!$B$9:$AJ$51,$A5+1,FALSE)="m",INDIRECT("'as b2'!a"&$B$9+1+$A5),"") | F5: =IF(HLOOKUP(F$2,'AS B2'!$B$9:$AJ$51,$A5+1,FALSE)="m",INDIRECT("'as b2'!a"&$B$9+1+$A5),"") -> #VALUE! | G5: =IF(HLOOKUP(G$2,'AS B2'!$B$9:$AJ$51,$A5+1,FALSE)="m",INDIRECT("'as b2'!a"&$B$9+1+$A5),"") -> #VALUE! | H5: =IF(HLOOKUP(H$2,'AS B2'!$B$9:$AJ$51,$A5+1,FALSE)="m",INDIRECT("'as b2'!a"&$B$9+1+$A5),"") -> #VALUE! | I5: =IF(HLOOKUP(I$2,'AS B2'!$B$9:$AJ$51,$A5+1,FALSE)="m",INDIRECT("'as b2'!a"&$B$9+1+$A5),"") | ... P5: =IF(HLOOKUP(P$2,'AS B2'!$B$9:$AJ$51,$A5+1,FALSE)="m",INDIRECT("'as b2'!a"&$B$9+1+$A5),"") -> #VALUE!
A6: 4 | B6: =IF(HLOOKUP(B$2,'AS B2'!$B$9:$AJ$51,$A6+1,FALSE)="m",INDIRECT("'as b2'!a"&$B$9+1+$A6),"") | C6: =IF(HLOOKUP(C$2,'AS B2'!$B$9:$AJ$51,$A6+1,FALSE)="m",INDIRECT("'as b2'!a"&$B$9+1+$A6),"") | D6: =IF(HLOOKUP(D$2,'AS B2'!$B$9:$AJ$51,$A6+1,FALSE)="m",INDIRECT("'as b2'!a"&$B$9+1+$A6),"") | E6: =IF(HLOOKUP(E$2,'AS B2'!$B$9:$AJ$51,$A6+1,FALSE)="m",INDIRECT("'as b2'!a"&$B$9+1+$A6),"") | F6: =IF(HLOOKUP(F$2,'AS B2'!$B$9:$AJ$51,$A6+1,FALSE)="m",INDIRECT("'as b2'!a"&$B$9+1+$A6),"") | G6: =IF(HLOOKUP(G$2,'AS B2'!$B$9:$AJ$51,$A6+1,FALSE)="m",INDIRECT("'as b2'!a"&$B$9+1+$A6),"") -> #VALUE! | H6: =IF(HLOOKUP(H$2,'AS B2'!$B$9:$AJ$51,$A6+1,FALSE)="m",INDIRECT("'as b2'!a"&$B$9+1+$A6),"") -> #VALUE! | I6: =IF(HLOOKUP(I$2,'AS B2'!$B$9:$AJ$51,$A6+1,FALSE)="m",INDIRECT("'as b2'!a"&$B$9+1+$A6),"") -> #VALUE! | ... P6: =IF(HLOOKUP(P$2,'AS B2'!$B$9:$AJ$51,$A6+1,FALSE)="m",INDIRECT("'as b2'!a"&$B$9+1+$A6),"")
A7: 5 | B7: =IF(HLOOKUP(B$2,'AS B2'!$B$9:$AJ$51,$A7+1,FALSE)="m",INDIRECT("'as b2'!a"&$B$9+1+$A7),"") | C7: =IF(HLOOKUP(C$2,'AS B2'!$B$9:$AJ$51,$A7+1,FALSE)="m",INDIRECT("'as b2'!a"&$B$9+1+$A7),"") | D7: =IF(HLOOKUP(D$2,'AS B2'!$B$9:$AJ$51,$A7+1,FALSE)="m",INDIRECT("'as b2'!a"&$B$9+1+$A7),"") -> #VALUE! | E7: =IF(HLOOKUP(E$2,'AS B2'!$B$9:$AJ$51,$A7+1,FALSE)="m",INDIRECT("'as b2'!a"&$B$9+1+$A7),"") -> #VALUE! | F7: =IF(HLOOKUP(F$2,'AS B2'!$B$9:$AJ$51,$A7+1,FALSE)="m",INDIRECT("'as b2'!a"&$B$9+1+$A7),"") | G7: =IF(HLOOKUP(G$2,'AS B2'!$B$9:$AJ$51,$A7+1,FALSE)="m",INDIRECT("'as b2'!a"&$B$9+1+$A7),"") | H7: =IF(HLOOKUP(H$2,'AS B2'!$B$9:$AJ$51,$A7+1,FALSE)="m",INDIRECT("'as b2'!a"&$B$9+1+$A7),"") | I7: =IF(HLOOKUP(I$2,'AS B2'!$B$9:$AJ$51,$A7+1,FALSE)="m",INDIRECT("'as b2'!a"&$B$9+1+$A7),"") | ... P7: =IF(HLOOKUP(P$2,'AS B2'!$B$9:$AJ$51,$A7+1,FALSE)="m",INDIRECT("'as b2'!a"&$B$9+1+$A7),"")
A8: 6 | B8: =IF(HLOOKUP(B$2,'AS B2'!$B$9:$AJ$51,$A8+1,FALSE)="m",INDIRECT("'as b2'!a"&$B$9+1+$A8),"") | C8: =IF(HLOOKUP(C$2,'AS B2'!$B$9:$AJ$51,$A8+1,FALSE)="m",INDIRECT("'as b2'!a"&$B$9+1+$A8),"") | D8: =IF(HLOOKUP(D$2,'AS B2'!$B$9:$AJ$51,$A8+1,FALSE)="m",INDIRECT("'as b2'!a"&$B$9+1+$A8),"") | E8: =IF(HLOOKUP(E$2,'AS B2'!$B$9:$AJ$51,$A8+1,FALSE)="m",INDIRECT("'as b2'!a"&$B$9+1+$A8),"") | F8: =IF(HLOOKUP(F$2,'AS B2'!$B$9:$AJ$51,$A8+1,FALSE)="m",INDIRECT("'as b2'!a"&$B$9+1+$A8),"") | G8: =IF(HLOOKUP(G$2,'AS B2'!$B$9:$AJ$51,$A8+1,FALSE)="m",INDIRECT("'as b2'!a"&$B$9+1+$A8),"") | H8: =IF(HLOOKUP(H$2,'AS B2'!$B$9:$AJ$51,$A8+1,FALSE)="m",INDIRECT("'as b2'!a"&$B$9+1+$A8),"") | I8: =IF(HLOOKUP(I$2,'AS B2'!$B$9:$AJ$51,$A8+1,FALSE)="m",INDIRECT("'as b2'!a"&$B$9+1+$A8),"") | ... P8: =IF(HLOOKUP(P$2,'AS B2'!$B$9:$AJ$51,$A8+1,FALSE)="m",INDIRECT("'as b2'!a"&$B$9+1+$A8),"")
A9: 7 | B9: =IF(HLOOKUP(B$2,'AS B2'!$B$9:$AJ$51,$A9+1,FALSE)="m",INDIRECT("'as b2'!a"&$B$9+1+$A9),"") | C9: =IF(HLOOKUP(C$2,'AS B2'!$B$9:$AJ$51,$A9+1,FALSE)="m",INDIRECT("'as b2'!a"&$B$9+1+$A9),"") | D9: =IF(HLOOKUP(D$2,'AS B2'!$B$9:$AJ$51,$A9+1,FALSE)="m",INDIRECT("'as b2'!a"&$B$9+1+$A9),"") | E9: =IF(HLOOKUP(E$2,'AS B2'!$B$9:$AJ$51,$A9+1,FALSE)="m",INDIRECT("'as b2'!a"&$B$9+1+$A9),"") | F9: =IF(HLOOKUP(F$2,'AS B2'!$B$9:$AJ$51,$A9+1,FALSE)="m",INDIRECT("'as b2'!a"&$B$9+1+$A9),"") | G9: =IF(HLOOKUP(G$2,'AS B2'!$B$9:$AJ$51,$A9+1,FALSE)="m",INDIRECT("'as b2'!a"&$B$9+1+$A9),"") | H9: =IF(HLOOKUP(H$2,'AS B2'!$B$9:$AJ$51,$A9+1,FALSE)="m",INDIRECT("'as b2'!a"&$B$9+1+$A9),"") | I9: =IF(HLOOKUP(I$2,'AS B2'!$B$9:$AJ$51,$A9+1,FALSE)="m",INDIRECT("'as b2'!a"&$B$9+1+$A9),"") -> #VALUE! | ... P9: =IF(HLOOKUP(P$2,'AS B2'!$B$9:$AJ$51,$A9+1,FALSE)="m",INDIRECT("'as b2'!a"&$B$9+1+$A9),"")
A10: 8 | B10: =IF(HLOOKUP(B$2,'AS B2'!$B$9:$AJ$51,$A10+1,FALSE)="m",INDIRECT("'as b2'!a"&$B$9+1+$A10),"") -> #VALUE! | C10: =IF(HLOOKUP(C$2,'AS B2'!$B$9:$AJ$51,$A10+1,FALSE)="m",INDIRECT("'as b2'!a"&$B$9+1+$A10),"") | D10: =IF(HLOOKUP(D$2,'AS B2'!$B$9:$AJ$51,$A10+1,FALSE)="m",INDIRECT("'as b2'!a"&$B$9+1+$A10),"") -> #VALUE! | E10: =IF(HLOOKUP(E$2,'AS B2'!$B$9:$AJ$51,$A10+1,FALSE)="m",INDIRECT("'as b2'!a"&$B$9+1+$A10),"") -> #VALUE! | F10: =IF(HLOOKUP(F$2,'AS B2'!$B$9:$AJ$51,$A10+1,FALSE)="m",INDIRECT("'as b2'!a"&$B$9+1+$A10),"") -> #VALUE! | G10: =IF(HLOOKUP(G$2,'AS B2'!$B$9:$AJ$51,$A10+1,FALSE)="m",INDIRECT("'as b2'!a"&$B$9+1+$A10),"") | H10: =IF(HLOOKUP(H$2,'AS B2'!$B$9:$AJ$51,$A10+1,FALSE)="m",INDIRECT("'as b2'!a"&$B$9+1+$A10),"") | I10: =IF(HLOOKUP(I$2,'AS B2'!$B$9:$AJ$51,$A10+1,FALSE)="m",INDIRECT("'as b2'!a"&$B$9+1+$A10),"") -> #VALUE! | ... P10: =IF(HLOOKUP(P$2,'AS B2'!$B$9:$AJ$51,$A10+1,FALSE)="m",INDIRECT("'as b2'!a"&$B$9+1+$A10),"") -> #VALUE!
A11: 9 | B11: =IF(HLOOKUP(B$2,'AS B2'!$B$9:$AJ$51,$A11+1,FALSE)="m",INDIRECT("'as b2'!a"&$B$9+1+$A11),"") | C11: =IF(HLOOKUP(C$2,'AS B2'!$B$9:$AJ$51,$A11+1,FALSE)="m",INDIRECT("'as b2'!a"&$B$9+1+$A11),"") | D11: =IF(HLOOKUP(D$2,'AS B2'!$B$9:$AJ$51,$A11+1,FALSE)="m",INDIRECT("'as b2'!a"&$B$9+1+$A11),"") | E11: =IF(HLOOKUP(E$2,'AS B2'!$B$9:$AJ$51,$A11+1,FALSE)="m",INDIRECT("'as b2'!a"&$B$9+1+$A11),"") | F11: =IF(HLOOKUP(F$2,'AS B2'!$B$9:$AJ$51,$A11+1,FALSE)="m",INDIRECT("'as b2'!a"&$B$9+1+$A11),"") | G11: =IF(HLOOKUP(G$2,'AS B2'!$B$9:$AJ$51,$A11+1,FALSE)="m",INDIRECT("'as b2'!a"&$B$9+1+$A11),"") | H11: =IF(HLOOKUP(H$2,'AS B2'!$B$9:$AJ$51,$A11+1,FALSE)="m",INDIRECT("'as b2'!a"&$B$9+1+$A11),"") | I11: =IF(HLOOKUP(I$2,'AS B2'!$B$9:$AJ$51,$A11+1,FALSE)="m",INDIRECT("'as b2'!a"&$B$9+1+$A11),"") | ... P11: =IF(HLOOKUP(P$2,'AS B2'!$B$9:$AJ$51,$A11+1,FALSE)="m",INDIRECT("'as b2'!a"&$B$9+1+$A11),"") -> #VALUE!
A12: 10 | B12: =IF(HLOOKUP(B$2,'AS B2'!$B$9:$AJ$51,$A12+1,FALSE)="m",INDIRECT("'as b2'!a"&$B$9+1+$A12),"") | C12: =IF(HLOOKUP(C$2,'AS B2'!$B$9:$AJ$51,$A12+1,FALSE)="m",INDIRECT("'as b2'!a"&$B$9+1+$A12),"") | D12: =IF(HLOOKUP(D$2,'AS B2'!$B$9:$AJ$51,$A12+1,FALSE)="m",INDIRECT("'as b2'!a"&$B$9+1+$A12),"") | E12: =IF(HLOOKUP(E$2,'AS B2'!$B$9:$AJ$51,$A12+1,FALSE)="m",INDIRECT("'as b2'!a"&$B$9+1+$A12),"") | F12: =IF(HLOOKUP(F$2,'AS B2'!$B$9:$AJ$51,$A12+1,FALSE)="m",INDIRECT("'as b2'!a"&$B$9+1+$A12),"") | G12: =IF(HLOOKUP(G$2,'AS B2'!$B$9:$AJ$51,$A12+1,FALSE)="m",INDIRECT("'as b2'!a"&$B$9+1+$A12),"") -> #VALUE! | H12: =IF(HLOOKUP(H$2,'AS B2'!$B$9:$AJ$51,$A12+1,FALSE)="m",INDIRECT("'as b2'!a"&$B$9+1+$A12),"") -> #VALUE! | I12: =IF(HLOOKUP(I$2,'AS B2'!$B$9:$AJ$51,$A12+1,FALSE)="m",INDIRECT("'as b2'!a"&$B$9+1+$A12),"") | ... P12: =IF(HLOOKUP(P$2,'AS B2'!$B$9:$AJ$51,$A12+1,FALSE)="m",INDIRECT("'as b2'!a"&$B$9+1+$A12),"")
A13: 11 | B13: =IF(HLOOKUP(B$2,'AS B2'!$B$9:$AJ$51,$A13+1,FALSE)="m",INDIRECT("'as b2'!a"&$B$9+1+$A13),"") -> #VALUE! | C13: =IF(HLOOKUP(C$2,'AS B2'!$B$9:$AJ$51,$A13+1,FALSE)="m",INDIRECT("'as b2'!a"&$B$9+1+$A13),"") -> #VALUE! | D13: =IF(HLOOKUP(D$2,'AS B2'!$B$9:$AJ$51,$A13+1,FALSE)="m",INDIRECT("'as b2'!a"&$B$9+1+$A13),"") -> #VALUE! | E13: =IF(HLOOKUP(E$2,'AS B2'!$B$9:$AJ$51,$A13+1,FALSE)="m",INDIRECT("'as b2'!a"&$B$9+1+$A13),"") | F13: =IF(HLOOKUP(F$2,'AS B2'!$B$9:$AJ$51,$A13+1,FALSE)="m",INDIRECT("'as b2'!a"&$B$9+1+$A13),"") -> #VALUE! | G13: =IF(HLOOKUP(G$2,'AS B2'!$B$9:$AJ$51,$A13+1,FALSE)="m",INDIRECT("'as b2'!a"&$B$9+1+$A13),"") -> #VALUE! | H13: =IF(HLOOKUP(H$2,'AS B2'!$B$9:$AJ$51,$A13+1,FALSE)="m",INDIRECT("'as b2'!a"&$B$9+1+$A13),"") -> #VALUE! | I13: =IF(HLOOKUP(I$2,'AS B2'!$B$9:$AJ$51,$A13+1,FALSE)="m",INDIRECT("'as b2'!a"&$B$9+1+$A13),"") | ... P13: =IF(HLOOKUP(P$2,'AS B2'!$B$9:$AJ$51,$A13+1,FALSE)="m",INDIRECT("'as b2'!a"&$B$9+1+$A13),"") -> #VALUE!
A14: 12 | B14: =IF(HLOOKUP(B$2,'AS B2'!$B$9:$AJ$51,$A14+1,FALSE)="m",INDIRECT("'as b2'!a"&$B$9+1+$A14),"") | C14: =IF(HLOOKUP(C$2,'AS B2'!$B$9:$AJ$51,$A14+1,FALSE)="m",INDIRECT("'as b2'!a"&$B$9+1+$A14),"") | D14: =IF(HLOOKUP(D$2,'AS B2'!$B$9:$AJ$51,$A14+1,FALSE)="m",INDIRECT("'as b2'!a"&$B$9+1+$A14),"") | E14: =IF(HLOOKUP(E$2,'AS B2'!$B$9:$AJ$51,$A14+1,FALSE)="m",INDIRECT("'as b2'!a"&$B$9+1+$A14),"") | F14: =IF(HLOOKUP(F$2,'AS B2'!$B$9:$AJ$51,$A14+1,FALSE)="m",INDIRECT("'as b2'!a"&$B$9+1+$A14),"") | G14: =IF(HLOOKUP(G$2,'AS B2'!$B$9:$AJ$51,$A14+1,FALSE)="m",INDIRECT("'as b2'!a"&$B$9+1+$A14),"") | H14: =IF(HLOOKUP(H$2,'AS B2'!$B$9:$AJ$51,$A14+1,FALSE)="m",INDIRECT("'as b2'!a"&$B$9+1+$A14),"") | I14: =IF(HLOOKUP(I$2,'AS B2'!$B$9:$AJ$51,$A14+1,FALSE)="m",INDIRECT("'as b2'!a"&$B$9+1+$A14),"") | ... P14: =IF(HLOOKUP(P$2,'AS B2'!$B$9:$AJ$51,$A14+1,FALSE)="m",INDIRECT("'as b2'!a"&$B$9+1+$A14),"")
... A44: 42 | B44: =IF(HLOOKUP(B$2,'AS B2'!$B$9:$AJ$51,$A44+1,FALSE)="m",INDIRECT("'as b2'!a"&$B$9+1+$A44),"") | C44: =IF(HLOOKUP(C$2,'AS B2'!$B$9:$AJ$51,$A44+1,FALSE)="m",INDIRECT("'as b2'!a"&$B$9+1+$A44),"") | D44: =IF(HLOOKUP(D$2,'AS B2'!$B$9:$AJ$51,$A44+1,FALSE)="m",INDIRECT("'as b2'!a"&$B$9+1+$A44),"") | E44: =IF(HLOOKUP(E$2,'AS B2'!$B$9:$AJ$51,$A44+1,FALSE)="m",INDIRECT("'as b2'!a"&$B$9+1+$A44),"") | F44: =IF(HLOOKUP(F$2,'AS B2'!$B$9:$AJ$51,$A44+1,FALSE)="m",INDIRECT("'as b2'!a"&$B$9+1+$A44),"") | G44: =IF(HLOOKUP(G$2,'AS B2'!$B$9:$AJ$51,$A44+1,FALSE)="m",INDIRECT("'as b2'!a"&$B$9+1+$A44),"") | H44: =IF(HLOOKUP(H$2,'AS B2'!$B$9:$AJ$51,$A44+1,FALSE)="m",INDIRECT("'as b2'!a"&$B$9+1+$A44),"") | I44: =IF(HLOOKUP(I$2,'AS B2'!$B$9:$AJ$51,$A44+1,FALSE)="m",INDIRECT("'as b2'!a"&$B$9+1+$A44),"") | ... P44: =IF(HLOOKUP(P$2,'AS B2'!$B$9:$AJ$51,$A44+1,FALSE)="m",INDIRECT("'as b2'!a"&$B$9+1+$A44),"")
A45: 43
A46: 44
A47: 45
A48: 46
A49: 47
A50: 48
A51: 49
A52: 50
