Workbook

Sheet depart
A1: Previsions depart
A3: IDE | C3: Janvier | D3: Février | E3: Mars | F3: Avril | G3: Mai | H3: Juin | I3: Juillet | J3: Août | K3: Septembre | L3: Octobre | M3: Novembre | N3: Décembre
D4: ii | E4: AA | F4: nn | G4: rr | H4: qq | I4: hh
D5: ll
A17: AS | C17: hhh | D17: jjjj | E17: iii | F17: ddd | I17: aaa | J17: vvv
C18: ssss

Sheet Secteur A1
A1: Batiment SENART SECTEUR A1
A3: 2015 | B3: Affectation | C3: EQUIPE | D3: date affectation | E3: Mise en stage | F3: DATE ECHEANCE | G3: janv | H3: fev | I3: mars | J3: avr | K3: mai | L3: juin | M3: juil | N3: aout | O3: sept | P3: oct | Q3: nov | R3: dec | S3: poste aménagé | T3: AT | U3: Maternité | V3: temps syndical | W3: MTT
A8: IDE | G8: janv | H8: fev | I8: mars | J8: avr | K8: mai | L8: juin | M8: juil | N8: aout | O8: sept | P8: oct | Q8: nov | R8: dec
A9: AA | B9: 1ère étage UG 1610 | C9: GE | G9: 1 | H9: 1 | I9: 0 | J9: 0 | K9: 0 | L9: 0 | M9: 0 | N9: 0 | O9: 0 | P9: 0 | Q9: 0 | R9: 0
A10: bb | B10: 1ère étage UG 1610 | C10: GE | G10: 1 | H10: 1 | I10: 1 | J10: 1 | K10: 1 | L10: 1 | M10: 1 | N10: 1 | O10: 1 | P10: 1 | Q10: 1 | R10: 1
A11: cc | B11: 1ère étage UG 1510 | C11: GE | G11: 1 | H11: 1 | I11: 1 | J11: 1 | K11: 1 | L11: 1 | M11: 1 | N11: 1 | O11: 1 | P11: 1 | Q11: 1 | R11: 1
A12: dd | B12: 1ère étage UG 1510 | C12: GE | D12: 39753 | G12: 1 | H12: 1 | I12: 1 | J12: 1 | K12: 1 | L12: 1 | M12: 1 | N12: 1 | O12: 1 | P12: 1 | Q12: 1 | R12: 1
A13: ee | B13: 1ère étage UG 1610 | C13: GE | E13: 0508/2014 | G13: 1 | H13: 1 | I13: 1 | J13: 1 | K13: 1 | L13: 1 | M13: 1 | N13: 1 | O13: 1 | P13: 1 | Q13: 1 | R13: 1
A14: ff | B14: 1ère étage UG 1610 | C14: GE | G14: 1 | H14: 1 | I14: 1 | J14: 1 | K14: 1 | L14: 1 | M14: 1 | N14: 1 | O14: 1 | P14: 1 | Q14: 1 | R14: 1
B23: Total 1ère étage | G23: =SUM(G9:G21) -> 6 | H23: =SUM(H9:H21) -> 6 | I23: =SUM(I9:I21) -> 5 | J23: =SUM(J9:J21) -> 5 | K23: =SUM(K9:K21) -> 5 | L23: =SUM(L9:L21) -> 5 | M23: =SUM(M9:M21) -> 5 | N23: =SUM(N9:N21) -> 5 | ... W23: =SUM(W9:W21) -> 0
A25: gg | B25: 2ème étage UG 1610 | C25: GE | D25: 41609 | G25: 1 | H25: 1 | I25: 1 | J25: 1 | K25: 1 | L25: 1 | M25: 1 | N25: 1 | O25: 1 | P25: 1 | Q25: 1 | R25: 1
A26: hh | B26: 2ème étage UG 1510 | C26: M??? | D26: 2007 | G26: 0.8 | H26: 0.8 | I26: 0.8 | J26: 0.8 | K26: 0.8 | L26: 0.8 | M26: 0 | N26: 0 | O26: 0 | P26: 0 | Q26: 0 | R26: 0
A27: ii | B27: 2ème étage UG 1610 | C27: GE | D27: 01/09:2014 | G27: 1 | H27: 0 | I27: 0 | J27: 0 | K27: 0 | L27: 0 | M27: 0 | N27: 0 | O27: 0 | P27: 0 | Q27: 0 | R27: 0
A28: jj | B28: 2ème étage UG 1510 | C28: GE | D28: 41487 | G28: 1 | H28: 1 | I28: 1 | J28: 1 | K28: 1 | L28: 1 | M28: 1 | N28: 1 | O28: 1 | P28: 1 | Q28: 1 | R28: 1
A29: kk | B29: 2ème étage UG 1510 | C29: GE | D29: 41484 | G29: 0.8 | H29: 0.8 | I29: 0.8 | J29: 0.8 | K29: 0.8 | L29: 0.8 | M29: 0.8 | N29: 0.8 | O29: 0.8 | P29: 0.8 | Q29: 0.8 | R29: 0.8
A30: ll | B30: 2ème étage UG 1510 | C30: GE | G30: 1 | H30: 0 | I30: 0 | J30: 0 | K30: 0 | L30: 0 | M30: 0 | N30: 0 | O30: 0 | P30: 0 | Q30: 0 | R30: 0
A31: mm | B31: 2ème étage UG 1510 | C31: M??? | D31: 2004 | G31: 1 | H31: 1 | I31: 1 | J31: 1 | K31: 1 | L31: 1 | M31: 1 | N31: 1 | O31: 1 | P31: 1 | Q31: 1 | R31: 1
A32: nn | B32: 2ème étage UG 1510 | C32: M | G32: 1 | H32: 1 | I32: 1 | J32: 0 | K32: 0 | L32: 0 | M32: 0 | N32: 0 | O32: 0 | P32: 0 | Q32: 0 | R32: 0
B39: Total 2ème étage | G39: =SUM(G25:G37) -> 7.6 | H39: =SUM(H25:H37) -> 5.6 | I39: =SUM(I25:I37) -> 5.6 | J39: =SUM(J25:J37) -> 4.6 | K39: =SUM(K25:K37) -> 4.6 | L39: =SUM(L25:L37) -> 4.6 | M39: =SUM(M25:M37) -> 3.8 | N39: =SUM(N25:N37) -> 3.8 | ... W39: =SUM(W25:W37) -> 0
A41: oo | B41: 3ème étage UG 1300 | C41: GE | D41: 41583 | G41: 1 | H41: 1 | I41: 1 | J41: 1 | K41: 1 | L41: 1 | M41: 1 | N41: 1 | O41: 1 | P41: 1 | Q41: 1 | R41: 1
A42: pp | B42: 3ème étage UG 1300 | C42: GE | F42: 42248 | G42: 0.8 | H42: 0.8 | I42: 0.8 | J42: 0.8 | K42: 0.8 | L42: 0.8 | M42: 0.8 | N42: 0.8 | O42: 0.8 | P42: 0.8 | Q42: 0.8 | R42: 0.8
A43: qq | B43: 3ème étage UG 1300 | C43: 2/3 G | G43: 1 | H43: 1 | I43: 1 | J43: 1 | K43: 1 | L43: 0 | M43: 0 | N43: 0 | O43: 0 | P43: 0 | Q43: 0 | R43: 0
A44: rr | B44: 3ème étage UG 1300 | C44: GE | G44: 1 | H44: 1 | I44: 1 | J44: 1 | K44: 0 | L44: 0 | M44: 0 | N44: 0 | O44: 0 | P44: 0 | Q44: 0 | R44: 0
A45: ss | B45: 3ème étage UG 1300 | C45: GE | G45: 1 | H45: 1 | I45: 1 | J45: 1 | K45: 1 | L45: 1 | M45: 1 | N45: 1 | O45: 1 | P45: 1 | Q45: 1 | R45: 1
A46: tt
B55: Total 3ème étage | G55: =SUM(G41:G53) -> 4.8 | H55: =SUM(H41:H53) -> 4.8 | I55: =SUM(I41:I53) -> 4.8 | J55: =SUM(J41:J53) -> 4.8 | K55: =SUM(K41:K53) -> 3.8 | L55: =SUM(L41:L53) -> 2.8 | M55: =SUM(M41:M53) -> 2.8 | N55: =SUM(N41:N53) -> 2.8 | ... W55: =SUM(W41:W53) -> 0
A57: Total IDE | G57: =(SUM(G9:G21)+SUM(G41:G53)+SUM(G25:G37)) -> 18.4 | H57: =(SUM(H9:H21)+SUM(H41:H53)+SUM(H25:H37)) -> 16.4 | I57: =(SUM(I9:I21)+SUM(I41:I53)+SUM(I25:I37)) -> 15.4 | J57: =(SUM(J9:J21)+SUM(J41:J53)+SUM(J25:J37)) -> 14.4 | K57: =(SUM(K9:K21)+SUM(K41:K53)+SUM(K25:K37)) -> 13.4 | L57: =(SUM(L9:L21)+SUM(L41:L53)+SUM(L25:L37)) -> 12.4 | M57: =(SUM(M9:M21)+SUM(M41:M53)+SUM(M25:M37)) -> 11.6 | N57: =(SUM(N9:N21)+SUM(N41:N53)+SUM(N25:N37)) -> 11.6 | ... W57: =(SUM(W9:W21)+SUM(W41:W53)+SUM(W25:W37)) -> 0
A58: Effectif budgété | G58: 19 | H58: 19 | I58: 19 | J58: 19 | K58: 19 | L58: 19 | M58: 19 | N58: 19 | O58: 19 | P58: 19 | Q58: 19 | R58: 19
A59: Différence | G59: =+G57-G58 -> -0.6 | H59: =+H57-H58 -> -2.6 | I59: =+I57-I58 -> -3.6 | J59: =+J57-J58 -> -4.6 | K59: =+K57-K58 -> -5.6 | L59: =+L57-L58 -> -6.6 | M59: =+M57-M58 -> -7.4 | N59: =+N57-N58 -> -7.4 | ... R59: =+R57-R58 -> -7.4
A61: Batiment SENART SECTEUR A1
A63: AS A1 | G63: janv | H63: fev | I63: mars | J63: avr | K63: mai | L63: juin | M63: juil | N63: aout | O63: sept | P63: oct | Q63: nov | R63: dec
A64: uu | B64: 1ère étage UG 1510 | C64: M | G64: 1 | H64: 1 | I64: 1 | J64: 1 | K64: 1 | L64: 1 | M64: 1 | N64: 1 | O64: 1 | P64: 1 | Q64: 1 | R64: 1
A65: vv | B65: 1ère étage UG 1610 | C65: G | G65: 1 | H65: 1 | I65: 1 | J65: 1 | K65: 1 | L65: 1 | M65: 1 | N65: 1 | O65: 1 | P65: 1 | Q65: 1 | R65: 1 | W65: 1
A66: ww | B66: 1ère étage UG 1610 | C66: M | G66: 1 | H66: 1 | I66: 1 | J66: 1 | K66: 1 | L66: 1 | M66: 1 | N66: 1 | O66: 1 | P66: 1 | Q66: 1 | R66: 1
A67: xx | B67: 1ère étage UG 1610 | C67: M | D67: 1995 | G67: 1 | H67: 1 | I67: 1 | J67: 1 | K67: 1 | L67: 1 | M67: 1 | N67: 1 | O67: 1 | P67: 1 | Q67: 1 | R67: 1
A68: yy | B68: 1ère étage UG 1610 | C68: GE | G68: 1 | H68: 1 | I68: 1 | J68: 1 | K68: 1 | L68: 1 | M68: 1 | N68: 1 | O68: 1 | P68: 1 | Q68: 1 | R68: 1
A69: zz | B69: 1ère étage UG 1610 | C69: GE | D69: 2006 | G69: 1 | H69: 1 | I69: 1 | J69: 1 | K69: 1 | L69: 1 | M69: 1 | N69: 1 | O69: 1 | P69: 1 | Q69: 1 | R69: 1
A70: aaa | B70: 1ère étage UG 1610 | C70: M | G70: 1 | H70: 1 | I70: 1 | J70: 1 | K70: 1 | L70: 1 | M70: 0 | N70: 0 | O70: 0 | P70: 0 | Q70: 0 | R70: 0
A71: bbb | B71: 1ère étage UG 1510 | C71: M | G71: 0.8 | H71: 0.8 | I71: 0.8 | J71: 0.8 | K71: 0.8 | L71: 0.8 | M71: 0.8 | N71: 0.8 | O71: 0.8 | P71: 0.8 | Q71: 0.8 | R71: 0.8
A72: ccc | B72: 1ère étage UG 1510 | C72: G | D72: 2007 | G72: 1 | H72: 1 | I72: 1 | J72: 1 | K72: 1 | L72: 1 | M72: 1 | N72: 1 | O72: 1 | P72: 1 | Q72: 1 | R72: 1
...

Sheet Feuil1
A1: A1 | B1: IDE | C1: 19 | E1: radio | F1: man | I1: IDE UG | J1: AS UG | K1: OU E | L1: AG E | M1: AG A | N1: SECR | O1: AH | P1: MANIP RX | R1: 1610 | S1: 1510 | T1: 1250 | U1: 1300 | V1: 1710 | W1: 1910 | X1: 1520 | Y1: 1100 | Z1: 1720 | AA1: 1810 | AD1: janvier | AE1: janvier | AF1: février | AG1: mars | AH1: avril | AI1: mai | AJ1: juin | AK1: juillet | AL1: août | AM1: septembre | AN1: octobre | AO1: novembre | AP1: décembre
B2: AS | C2: 48 | F2: as | G2: 1 | H2: 1010 | R2: 1610 | S2: 1510 | T2: 1250 | U2: 1300 | V2: 1710 | W2: 1910 | X2: 1520 | Y2: 1100 | Z2: 1720 | AA2: 1810 | AD2: février
H3: 1100 | R3: 1610 | S3: 1510 | T3: 1250 | U3: 1300 | V3: 1710 | W3: 1910 | X3: 1520 | Y3: 1100 | Z3: 1720 | AA3: 1810 | AD3: mars
H4: 1200 | R4: 1610 | S4: 1510 | T4: 1250 | U4: 1300 | V4: 1710 | W4: 1910 | X4: 1520 | Y4: 1100 | Z4: 1720 | AA4: 1810 | AD4: avril
A5: A2 | B5: IDE | C5: 22 | E5: sec med | H5: 1250 | R5: 1610 | S5: 1510 | T5: 1250 | U5: 1300 | V5: 1710 | W5: 1910 | X5: 1520 | Y5: 1100 | Z5: 1720 | AA5: 1810 | AD5: mai
B6: AS | C6: 48 | D6: =SUMPRODUCT(Feuil1!W2ja) -> #NAME? | H6: 1260 | R6: 1610 | S6: 1510 | T6: 1250 | U6: 1300 | V6: 1710 | W6: 1910 | X6: 1520 | Y6: 1100 | Z6: 1720 | AA6: 1810 | AD6: juin
H7: 1300 | R7: 1610 | S7: 1510 | T7: 1250 | U7: 1300 | V7: 1710 | W7: 1910 | X7: 1520 | Y7: 1100 | Z7: 1720 | AA7: 1810 | AD7: juillet
H8: 1510 | R8: 1610 | S8: 1510 | T8: 1250 | U8: 1300 | V8: 1710 | W8: 1910 | X8: 1520 | Y8: 1100 | Z8: 1720 | AA8: 1810 | AD8: août
A9: B1 | B9: IDE | C9: 18.6 | E9: agent adm | H9: 1610 | R9: 1610 | S9: 1510 | T9: 1250 | U9: 1300 | V9: 1710 | W9: 1910 | X9: 1520 | Y9: 1100 | Z9: 1720 | AA9: 1810 | AD9: septembre
B10: AS | C10: 38 | H10: 1710 | R10: 1610 | S10: 1510 | T10: 1250 | U10: 1300 | V10: 1710 | W10: 1910 | X10: 1520 | Y10: 1100 | Z10: 1720 | AA10: 1810 | AD10: octobre
H11: 1720 | R11: 1610 | S11: 1510 | T11: 1250 | U11: 1300 | V11: 1710 | W11: 1910 | X11: 1520 | Y11: 1100 | Z11: 1720 | AA11: 1810 | AD11: novembre
H12: 1810 | R12: 1610 | S12: 1510 | T12: 1250 | U12: 1300 | V12: 1710 | W12: 1910 | X12: 1520 | Y12: 1100 | Z12: 1720 | AA12: 1810 | AD12: décembre
A13: B2 | B13: IDE | C13: 19.2 | E13: ouv d'etat | H13: 1910
B14: AS | C14: 43 | H14: 2210
E15: agent d'état | H15: 2310
H16: 2610
A17: JOFFRE | B17: IDE | C17: 16 | E17: cadres | F17: a1 | H17: 2810
B18: AS | C18: 62 | F18: a2 | H18: 7810
F19: b1
F20: b2
A21: DUP NUIT | B21: IDE | C21: 17.5 | F21: joffre
B22: AS | C22: 59.25 | F22: nuit
F23: hsecteur
F24: FF CADRE
A25: JOFFRE NUIT | B25: IDE | C25: 5.06 | E25: AS joffre hors secteur | G25: 3.7 | H25: ide joffre hors secteur | J25: 1
B26: AS | C26: 20.24 | E26: ASDupuytren hors secteur | G26: 9 | H26: ide Dupuytren hors secteur | J26: 1
J28: janvier | K28: février | L28: mars | M28: avril | N28: mai | O28: juin | P28: juillet | Q28: août | R28: septembre | S28: octobre | T28: novembre | AC28: décembre
A29: hdj | B29: IDE | C29: 2 | G29: Controles: | H29: IDE et SSRPP
A30: consut | B30: IDE | C30: 0.87 | H30: IDE et SSRPAB
A31: soins pal | B31: IDE | C31: 1 | H31: as et SSRPP
B32: AS | C32: 5 | H32: as et SSRPAB
H33: total SSRPAB | J33: =Feuil2!B115+Feuil2!B104+Feuil2!B99+Feuil2!B95+Feuil2!B81+Feuil2!B51+Feuil2!B12 -> #REF! | K33: =Feuil2!D115+Feuil2!D104+Feuil2!D99+Feuil2!D95+Feuil2!D81+Feuil2!D51+Feuil2!D12 -> #REF! | L33: =Feuil2!F115+Feuil2!F104+Feuil2!F99+Feuil2!F95+Feuil2!F81+Feuil2!F51+Feuil2!F12 -> #REF! | M33: =Feuil2!H115+Feuil2!H104+Feuil2!H99+Feuil2!H95+Feuil2!H81+Feuil2!H51+Feuil2!H12 -> #REF! | N33: =Feuil2!J115+Feuil2!J104+Feuil2!J99+Feuil2!J95+Feuil2!J81+Feuil2!J51+Feuil2!J12 -> #REF! | O33: =Feuil2!L115+Feuil2!L104+Feuil2!L99+Feuil2!L95+Feuil2!L81+Feuil2!L51+Feuil2!L12 -> #REF! | P33: =Feuil2!N115+Feuil2!N104+Feuil2!N99+Feuil2!N95+Feuil2!N81+Feuil2!N51+Feuil2!N12 -> #REF! | Q33: =Feuil2!P115+Feuil2!P104+Feuil2!P99+Feuil2!P95+Feuil2!P81+Feuil2!P51+Feuil2!P12 -> #REF! | R33: =Feuil2!R115+Feuil2!R104+Feuil2!R99+Feuil2!R95+Feuil2!R81+Feuil2!R51+Feuil2!R12 -> #REF! | S33: =Feuil2!T115+Feuil2!T104+Feuil2!T99+Feuil2!T95+Feuil2!T81+Feuil2!T51+Feuil2!T12 -> #REF! | T33: =Feuil2!V115+Feuil2!V104+Feuil2!V99+Feuil2!V95+Feuil2!V81+Feuil2!V51+Feuil2!V12 -> #REF! | AC33: =Feuil2!X115+Feuil2!X104+Feuil2!X99+Feuil2!X95+Feuil2!X81+Feuil2!X51+Feuil2!X12 -> #REF!
H34: Total SSRPp | J34: =Feuil2!B4+Feuil2!B6+Feuil2!B8+Feuil2!B10+Feuil2!B14+Feuil2!B16+Feuil2!B18+Feuil2!B20+Feuil2!B22+Feuil2!B24+Feuil2!B26+Feuil2!B28+Feuil2!B30+Feuil2!B32+Feuil2!B34+Feuil2!B43+Feuil2!B45+Feuil2!B47+Feuil2!B49+Feuil2!B53+Feuil2!B55+Feuil2!B57+Feuil2!B59+Feuil2!B61+Feuil2!B63+Feuil2!B65+Feuil2!B67+Feuil2!B69+Feuil2!B71+Feuil2!B73+Feuil2!B75+Feuil2!B82+Feuil2!B86+Feuil2!B87+Feuil2!B88+Feuil2!B89+Feuil2!B90+Feuil2!B91+Feuil2!B105+Feuil2!B106+Feuil2!B110+Feuil2!B116+Feuil2!B117+Feuil2!B118 -> #REF! | K34: =Feuil2!D4+Feuil2!D6+Feuil2!D8+Feuil2!D10+Feuil2!D14+Feuil2!D16+Feuil2!D18+Feuil2!D20+Feuil2!D22+Feuil2!D24+Feuil2!D26+Feuil2!D28+Feuil2!D30+Feuil2!D32+Feuil2!D34+Feuil2!D43+Feuil2!D45+Feuil2!D47+Feuil2!D49+Feuil2!D53+Feuil2!D55+Feuil2!D57+Feuil2!D59+Feuil2!D61+Feuil2!D63+Feuil2!D65+Feuil2!D67+Feuil2!D69+Feuil2!D71+Feuil2!D73+Feuil2!D75+Feuil2!D82+Feuil2!D86+Feuil2!D87+Feuil2!D88+Feuil2!D89+Feuil2!D90+Feuil2!D91+Feuil2!D105+Feuil2!D106+Feuil2!D110+Feuil2!D116+Feuil2!D117+Feuil2!D118 -> #REF! | L34: =Feuil2!F4+Feuil2!F6+Feuil2!F8+Feuil2!F10+Feuil2!F14+Feuil2!F16+Feuil2!F18+Feuil2!F20+Feuil2!F22+Feuil2!F24+Feuil2!F26+Feuil2!F28+Feuil2!F30+Feuil2!F32+Feuil2!F34+Feuil2!F43+Feuil2!F45+Feuil2!F47+Feuil2!F49+Feuil2!F53+Feuil2!F55+Feuil2!F57+Feuil2!F59+Feuil2!F61+Feuil2!F63+Feuil2!F65+Feuil2!F67+Feuil2!F69+Feuil2!F71+Feuil2!F73+Feuil2!F75+Feuil2!F82+Feuil2!F86+Feuil2!F87+Feuil2!F88+Feuil2!F89+Feuil2!F90+Feuil2!F91+Feuil2!F105+Feuil2!F106+Feuil2!F110+Feuil2!F116+Feuil2!F117+Feuil2!F118 -> #REF! | M34: =Feuil2!H4+Feuil2!H6+Feuil2!H8+Feuil2!H10+Feuil2!H14+Feuil2!H16+Feuil2!H18+Feuil2!H20+Feuil2!H22+Feuil2!H24+Feuil2!H26+Feuil2!H28+Feuil2!H30+Feuil2!H32+Feuil2!H34+Feuil2!H43+Feuil2!H45+Feuil2!H47+Feuil2!H49+Feuil2!H53+Feuil2!H55+Feuil2!H57+Feuil2!H59+Feuil2!H61+Feuil2!H63+Feuil2!H65+Feuil2!H67+Feuil2!H69+Feuil2!H71+Feuil2!H73+Feuil2!H75+Feuil2!H82+Feuil2!H86+Feuil2!H87+Feuil2!H88+Feuil2!H89+Feuil2!H90+Feuil2!H91+Feuil2!H105+Feuil2!H106+Feuil2!H110+Feuil2!H116+Feuil2!H117+Feuil2!H118 -> #REF! | N34: =Feuil2!J4+Feuil2!J6+Feuil2!J8+Feuil2!J10+Feuil2!J14+Feuil2!J16+Feuil2!J18+Feuil2!J20+Feuil2!J22+Feuil2!J24+Feuil2!J26+Feuil2!J28+Feuil2!J30+Feuil2!J32+Feuil2!J34+Feuil2!J43+Feuil2!J45+Feuil2!J47+Feuil2!J49+Feuil2!J53+Feuil2!J55+Feuil2!J57+Feuil2!J59+Feuil2!J61+Feuil2!J63+Feuil2!J65+Feuil2!J67+Feuil2!J69+Feuil2!J71+Feuil2!J73+Feuil2!J75+Feuil2!J82+Feuil2!J86+Feuil2!J87+Feuil2!J88+Feuil2!J89+Feuil2!J90+Feuil2!J91+Feuil2!J105+Feuil2!J106+Feuil2!J110+Feuil2!J116+Feuil2!J117+Feuil2!J118 -> #REF! | O34: =Feuil2!L4+Feuil2!L6+Feuil2!L8+Feuil2!L10+Feuil2!L14+Feuil2!L16+Feuil2!L18+Feuil2!L20+Feuil2!L22+Feuil2!L24+Feuil2!L26+Feuil2!L28+Feuil2!L30+Feuil2!L32+Feuil2!L34+Feuil2!L43+Feuil2!L45+Feuil2!L47+Feuil2!L49+Feuil2!L53+Feuil2!L55+Feuil2!L57+Feuil2!L59+Feuil2!L61+Feuil2!L63+Feuil2!L65+Feuil2!L67+Feuil2!L69+Feuil2!L71+Feuil2!L73+Feuil2!L75+Feuil2!L82+Feuil2!L86+Feuil2!L87+Feuil2!L88+Feuil2!L89+Feuil2!L90+Feuil2!L91+Feuil2!L105+Feuil2!L106+Feuil2!L110+Feuil2!L116+Feuil2!L117+Feuil2!L118 -> #REF! | P34: =Feuil2!N4+Feuil2!N6+Feuil2!N8+Feuil2!N10+Feuil2!N14+Feuil2!N16+Feuil2!N18+Feuil2!N20+Feuil2!N22+Feuil2!N24+Feuil2!N26+Feuil2!N28+Feuil2!N30+Feuil2!N32+Feuil2!N34+Feuil2!N43+Feuil2!N45+Feuil2!N47+Feuil2!N49+Feuil2!N53+Feuil2!N55+Feuil2!N57+Feuil2!N59+Feuil2!N61+Feuil2!N63+Feuil2!N65+Feuil2!N67+Feuil2!N69+Feuil2!N71+Feuil2!N73+Feuil2!N75+Feuil2!N82+Feuil2!N86+Feuil2!N87+Feuil2!N88+Feuil2!N89+Feuil2!N90+Feuil2!N91+Feuil2!N105+Feuil2!N106+Feuil2!N110+Feuil2!N116+Feuil2!N117+Feuil2!N118 -> #REF! | Q34: =Feuil2!P4+Feuil2!P6+Feuil2!P8+Feuil2!P10+Feuil2!P14+Feuil2!P16+Feuil2!P18+Feuil2!P20+Feuil2!P22+Feuil2!P24+Feuil2!P26+Feuil2!P28+Feuil2!P30+Feuil2!P32+Feuil2!P34+Feuil2!P43+Feuil2!P45+Feuil2!P47+Feuil2!P49+Feuil2!P53+Feuil2!P55+Feuil2!P57+Feuil2!P59+Feuil2!P61+Feuil2!P63+Feuil2!P65+Feuil2!P67+Feuil2!P69+Feuil2!P71+Feuil2!P73+Feuil2!P75+Feuil2!P82+Feuil2!P86+Feuil2!P87+Feuil2!P88+Feuil2!P89+Feuil2!P90+Feuil2!P91+Feuil2!P105+Feuil2!P106+Feuil2!P110+Feuil2!P116+Feuil2!P117+Feuil2!P118 -> #REF! | R34: =Feuil2!R4+Feuil2!R6+Feuil2!R8+Feuil2!R10+Feuil2!R14+Feuil2!R16+Feuil2!R18+Feuil2!R20+Feuil2!R22+Feuil2!R24+Feuil2!R26+Feuil2!R28+Feuil2!R30+Feuil2!R32+Feuil2!R34+Feuil2!R43+Feuil2!R45+Feuil2!R47+Feuil2!R49+Feuil2!R53+Feuil2!R55+Feuil2!R57+Feuil2!R59+Feuil2!R61+Feuil2!R63+Feuil2!R65+Feuil2!R67+Feuil2!R69+Feuil2!R71+Feuil2!R73+Feuil2!R75+Feuil2!R82+Feuil2!R86+Feuil2!R87+Feuil2!R88+Feuil2!R89+Feuil2!R90+Feuil2!R91+Feuil2!R105+Feuil2!R106+Feuil2!R110+Feuil2!R116+Feuil2!R117+Feuil2!R118 -> #REF! | S34: =Feuil2!T4+Feuil2!T6+Feuil2!T8+Feuil2!T10+Feuil2!T14+Feuil2!T16+Feuil2!T18+Feuil2!T20+Feuil2!T22+Feuil2!T24+Feuil2!T26+Feuil2!T28+Feuil2!T30+Feuil2!T32+Feuil2!T34+Feuil2!T43+Feuil2!T45+Feuil2!T47+Feuil2!T49+Feuil2!T53+Feuil2!T55+Feuil2!T57+Feuil2!T59+Feuil2!T61+Feuil2!T63+Feuil2!T65+Feuil2!T67+Feuil2!T69+Feuil2!T71+Feuil2!T73+Feuil2!T75+Feuil2!T82+Feuil2!T86+Feuil2!T87+Feuil2!T88+Feuil2!T89+Feuil2!T90+Feuil2!T91+Feuil2!T105+Feuil2!T106+Feuil2!T110+Feuil2!T116+Feuil2!T117+Feuil2!T118 -> #REF! | T34: =Feuil2!V4+Feuil2!V6+Feuil2!V8+Feuil2!V10+Feuil2!V14+Feuil2!V16+Feuil2!V18+Feuil2!V20+Feuil2!V22+Feuil2!V24+Feuil2!V26+Feuil2!V28+Feuil2!V30+Feuil2!V32+Feuil2!V34+Feuil2!V43+Feuil2!V45+Feuil2!V47+Feuil2!V49+Feuil2!V53+Feuil2!V55+Feuil2!V57+Feuil2!V59+Feuil2!V61+Feuil2!V63+Feuil2!V65+Feuil2!V67+Feuil2!V69+Feuil2!V71+Feuil2!V73+Feuil2!V75+Feuil2!V82+Feuil2!V86+Feuil2!V87+Feuil2!V88+Feuil2!V89+Feuil2!V90+Feuil2!V91+Feuil2!V105+Feuil2!V106+Feuil2!V110+Feuil2!V116+Feuil2!V117+Feuil2!V118 -> #REF! | AC34: =Feuil2!X4+Feuil2!X6+Feuil2!X8+Feuil2!X10+Feuil2!X14+Feuil2!X16+Feuil2!X18+Feuil2!X20+Feuil2!X22+Feuil2!X24+Feuil2!X26+Feuil2!X28+Feuil2!X30+Feuil2!X32+Feuil2!X34+Feuil2!X43+Feuil2!X45+Feuil2!X47+Feuil2!X49+Feuil2!X53+Feuil2!X55+Feuil2!X57+Feuil2!X59+Feuil2!X61+Feuil2!X63+Feuil2!X65+Feuil2!X67+Feuil2!X69+Feuil2!X71+Feuil2!X73+Feuil2!X75+Feuil2!X82+Feuil2!X86+Feuil2!X87+Feuil2!X88+Feuil2!X89+Feuil2!X90+Feuil2!X91+Feuil2!X105+Feuil2!X106+Feuil2!X110+Feuil2!X116+Feuil2!X117+Feuil2!X118 -> #REF!
A35: Total IDE | B35: tper | C35: 124.95 | D35: =C1+C5+C9+C13+C17+C21+C25+C29+C30+J25+J26+C31 -> 123.23 | E35: calculé | J35: Pam | K35: AT | L35: mat | M35: SY | N35: MTT | O35: long
A36: Total AS | C36: 326.8 | D36: =C2+C6+C10+C14+C18+C22+C26+C32+G2+G25+G26 -> 337.19 | E36: calculé | H36: Ide | J36: ='Secteur A1'!S57+#REF!+#REF!+#REF!+#REF!+#REF!+#REF!+#REF!+#REF!+#REF!+#REF!+#REF! -> #REF! | K36: ='Secteur A1'!T57+#REF!+#REF!+#REF!+#REF!+#REF!+#REF!+#REF!+#REF!+#REF!+#REF!+#REF! -> #REF! | L36: ='Secteur A1'!U57+#REF!+#REF!+#REF!+#REF!+#REF!+#REF!+#REF!+#REF!+#REF!+#REF!+#REF! -> #REF! | M36: ='Secteur A1'!V57+#REF!+#REF!+#REF!+#REF!+#REF!+#REF!+#REF!+#REF!+#REF!+#REF!+#REF! -> #REF! | N36: ='Secteur A1'!W57+#REF!+#REF!+#REF!+#REF!+#REF!+#REF!+#REF!+#REF!+#REF!+#REF!+#REF! -> #REF! | O36: ='Secteur A1'!#REF!+#REF!+#REF!+#REF!+#REF!+#REF!+#REF!+#REF!+#REF!+#REF!+#REF!+#REF! -> #REF! | P36: =SUM(J36:O36) -> #REF!
A37: Total ah | H37: AS | J37: ='Secteur A1'!#REF!+#REF!+#REF!+#REF!+#REF!+#REF!+#REF!+#REF!+#REF!+#REF!+#REF!+#REF! -> #REF! | K37: ='Secteur A1'!#REF!+#REF!+#REF!+#REF!+#REF!+#REF!+#REF!+#REF!+#REF!+#REF!+#REF!+#REF! -> #REF! | L37: ='Secteur A1'!#REF!+#REF!+#REF!+#REF!+#REF!+#REF!+#REF!+#REF!+#REF!+#REF!+#REF!+#REF! -> #REF! | M37: ='Secteur A1'!#REF!+#REF!+#REF!+#REF!+#REF!+#REF!+#REF!+#REF!+#REF!+#REF!+#REF!+#REF! -> #REF! | N37: ='Secteur A1'!#REF!+#REF!+#REF!+#REF!+#REF!+#REF!+#REF!+#REF!+#REF!+#REF!+#REF!+#REF! -> #REF! | O37: ='Secteur A1'!#REF!+#REF!+#REF!+#REF!+#REF!+#REF!+#REF!+#REF!+#REF!+#REF!+#REF!+#REF! -> #REF! | P37: =SUM(J37:O37) -> #REF!
A38: Total secre | H38: AH | J38: =#REF!+#REF! -> #REF! | K38: =#REF!+#REF! -> #REF! | L38: =#REF!+#REF! -> #REF! | M38: =#REF!+#REF! -> #REF! | N38: =#REF!+#REF! -> #REF! | O38: =#REF!+#REF! -> #REF! | P38: =SUM(J38:O38) -> #REF!
H39: secretaires | J39: =#REF! -> #REF! | K39: =#REF! -> #REF! | L39: =#REF! -> #REF! | M39: =#REF! -> #REF! | N39: =#REF! -> #REF! | O39: =#REF! -> #REF! | P39: =SUM(J39:O39) -> #REF!
A40: etp nuit bat a | B40: 31.59 | H40: agent adm | J40: =#REF! -> #REF! | K40: =#REF! -> #REF! | L40: =#REF! -> #REF! | M40: =#REF! -> #REF! | N40: =#REF! -> #REF! | O40: =#REF! -> #REF! | P40: =SUM(J40:O40) -> #REF!
A41: etp nuit bat b | B41: 27.66 | H41: agent état | J41: =#REF! -> #REF! | K41: =#REF! -> #REF! | L41: =#REF! -> #REF! | M41: =#REF! -> #REF! | N41: =#REF! -> #REF! | O41: =#REF! -> #REF! | P41: =SUM(J41:O41) -> #REF!
...

Sheet Feuil2
A1: PAR UG
B2: JANVIER | D2: FEVRIER | F2: MARS | H2: AVRIL | J2: MAI | L2: JUIN | N2: JUILLET | P2: AOÛT | R2: SEPTEMBRE | T2: OCTOBRE | V2: NOVEMBRE | X2: DÉCEMBRE
B3: IDE | D3: IDE | F3: IDE | H3: IDE | J3: IDE | L3: IDE | N3: IDE | P3: IDE | R3: IDE | T3: IDE | V3: IDE | X3: IDE
A4: 1010 | B4: ='Secteur A1'!#REF!+#REF!+#REF!+#REF!+#REF!+#REF!+#REF!+#REF! -> #REF! | D4: ='Secteur A1'!#REF!+#REF!+#REF!+#REF!+#REF!+#REF!+#REF!+#REF! -> #REF! | F4: ='Secteur A1'!#REF!+#REF!+#REF!+#REF!+#REF!+#REF!+#REF!+#REF! -> #REF! | H4: ='Secteur A1'!#REF!+#REF!+#REF!+#REF!+#REF!+#REF!+#REF!+#REF! -> #REF! | J4: ='Secteur A1'!#REF!+#REF!+#REF!+#REF!+#REF!+#REF!+#REF!+#REF! -> #REF! | L4: ='Secteur A1'!#REF!+#REF!+#REF!+#REF!+#REF!+#REF!+#REF!+#REF! -> #REF! | N4: ='Secteur A1'!#REF!+#REF!+#REF!+#REF!+#REF!+#REF!+#REF!+#REF! -> #REF! | P4: ='Secteur A1'!#REF!+#REF!+#REF!+#REF!+#REF!+#REF!+#REF!+#REF! -> #REF! | R4: ='Secteur A1'!#REF!+#REF!+#REF!+#REF!+#REF!+#REF!+#REF!+#REF! -> #REF! | T4: ='Secteur A1'!#REF!+#REF!+#REF!+#REF!+#REF!+#REF!+#REF!+#REF! -> #REF! | V4: ='Secteur A1'!#REF!+#REF!+#REF!+#REF!+#REF!+#REF!+#REF!+#REF! -> #REF! | X4: ='Secteur A1'!#REF!+#REF!+#REF!+#REF!+#REF!+#REF!+#REF!+#REF! -> #REF!
A6: 1100 | B6: ='Secteur A1'!#REF!+#REF!+#REF!+#REF!+#REF!+#REF!+#REF!+#REF! -> #REF! | D6: ='Secteur A1'!#REF!+#REF!+#REF!+#REF!+#REF!+#REF!+#REF!+#REF! -> #REF! | F6: ='Secteur A1'!#REF!+#REF!+#REF!+#REF!+#REF!+#REF!+#REF!+#REF! -> #REF! | H6: ='Secteur A1'!#REF!+#REF!+#REF!+#REF!+#REF!+#REF!+#REF!+#REF! -> #REF! | J6: ='Secteur A1'!#REF!+#REF!+#REF!+#REF!+#REF!+#REF!+#REF!+#REF! -> #REF! | L6: ='Secteur A1'!#REF!+#REF!+#REF!+#REF!+#REF!+#REF!+#REF!+#REF! -> #REF! | N6: ='Secteur A1'!#REF!+#REF!+#REF!+#REF!+#REF!+#REF!+#REF!+#REF! -> #REF! | P6: ='Secteur A1'!#REF!+#REF!+#REF!+#REF!+#REF!+#REF!+#REF!+#REF! -> #REF! | R6: ='Secteur A1'!#REF!+#REF!+#REF!+#REF!+#REF!+#REF!+#REF!+#REF! -> #REF! | T6: ='Secteur A1'!#REF!+#REF!+#REF!+#REF!+#REF!+#REF!+#REF!+#REF! -> #REF! | V6: ='Secteur A1'!#REF!+#REF!+#REF!+#REF!+#REF!+#REF!+#REF!+#REF! -> #REF! | X6: ='Secteur A1'!#REF!+#REF!+#REF!+#REF!+#REF!+#REF!+#REF!+#REF! -> #REF!
A8: 1200 | B8: ='Secteur A1'!#REF!+#REF!+#REF!+#REF!+#REF!+#REF!+#REF!+#REF! -> #REF! | D8: ='Secteur A1'!#REF!+#REF!+#REF!+#REF!+#REF!+#REF!+#REF!+#REF! -> #REF! | F8: ='Secteur A1'!#REF!+#REF!+#REF!+#REF!+#REF!+#REF!+#REF!+#REF! -> #REF! | H8: ='Secteur A1'!#REF!+#REF!+#REF!+#REF!+#REF!+#REF!+#REF!+#REF! -> #REF! | J8: ='Secteur A1'!#REF!+#REF!+#REF!+#REF!+#REF!+#REF!+#REF!+#REF! -> #REF! | L8: ='Secteur A1'!#REF!+#REF!+#REF!+#REF!+#REF!+#REF!+#REF!+#REF! -> #REF! | N8: ='Secteur A1'!#REF!+#REF!+#REF!+#REF!+#REF!+#REF!+#REF!+#REF! -> #REF! | P8: ='Secteur A1'!#REF!+#REF!+#REF!+#REF!+#REF!+#REF!+#REF!+#REF! -> #REF! | R8: ='Secteur A1'!#REF!+#REF!+#REF!+#REF!+#REF!+#REF!+#REF!+#REF! -> #REF! | T8: ='Secteur A1'!#REF!+#REF!+#REF!+#REF!+#REF!+#REF!+#REF!+#REF! -> #REF! | V8: ='Secteur A1'!#REF!+#REF!+#REF!+#REF!+#REF!+#REF!+#REF!+#REF! -> #REF! | X8: ='Secteur A1'!#REF!+#REF!+#REF!+#REF!+#REF!+#REF!+#REF!+#REF! -> #REF!
A10: 1250 | B10: ='Secteur A1'!#REF!+#REF!+#REF!+#REF!+#REF!+#REF!+#REF!+#REF! -> #REF! | D10: ='Secteur A1'!#REF!+#REF!+#REF!+#REF!+#REF!+#REF!+#REF!+#REF! -> #REF! | F10: ='Secteur A1'!#REF!+#REF!+#REF!+#REF!+#REF!+#REF!+#REF!+#REF! -> #REF! | H10: ='Secteur A1'!#REF!+#REF!+#REF!+#REF!+#REF!+#REF!+#REF!+#REF! -> #REF! | J10: ='Secteur A1'!#REF!+#REF!+#REF!+#REF!+#REF!+#REF!+#REF!+#REF! -> #REF! | L10: ='Secteur A1'!#REF!+#REF!+#REF!+#REF!+#REF!+#REF!+#REF!+#REF! -> #REF! | N10: ='Secteur A1'!#REF!+#REF!+#REF!+#REF!+#REF!+#REF!+#REF!+#REF! -> #REF! | P10: ='Secteur A1'!#REF!+#REF!+#REF!+#REF!+#REF!+#REF!+#REF!+#REF! -> #REF! | R10: ='Secteur A1'!#REF!+#REF!+#REF!+#REF!+#REF!+#REF!+#REF!+#REF! -> #REF! | T10: ='Secteur A1'!#REF!+#REF!+#REF!+#REF!+#REF!+#REF!+#REF!+#REF! -> #REF! | V10: ='Secteur A1'!#REF!+#REF!+#REF!+#REF!+#REF!+#REF!+#REF!+#REF! -> #REF! | X10: ='Secteur A1'!#REF!+#REF!+#REF!+#REF!+#REF!+#REF!+#REF!+#REF! -> #REF!
A12: 1300 | B12: ='Secteur A1'!#REF!+#REF!+#REF!+#REF!+#REF!+#REF!+#REF!+#REF! -> #REF! | D12: ='Secteur A1'!#REF!+#REF!+#REF!+#REF!+#REF!+#REF!+#REF!+#REF! -> #REF! | F12: ='Secteur A1'!#REF!+#REF!+#REF!+#REF!+#REF!+#REF!+#REF!+#REF! -> #REF! | H12: ='Secteur A1'!#REF!+#REF!+#REF!+#REF!+#REF!+#REF!+#REF!+#REF! -> #REF! | J12: ='Secteur A1'!#REF!+#REF!+#REF!+#REF!+#REF!+#REF!+#REF!+#REF! -> #REF! | L12: ='Secteur A1'!#REF!+#REF!+#REF!+#REF!+#REF!+#REF!+#REF!+#REF! -> #REF! | N12: ='Secteur A1'!#REF!+#REF!+#REF!+#REF!+#REF!+#REF!+#REF!+#REF! -> #REF! | P12: ='Secteur A1'!#REF!+#REF!+#REF!+#REF!+#REF!+#REF!+#REF!+#REF! -> #REF! | R12: ='Secteur A1'!#REF!+#REF!+#REF!+#REF!+#REF!+#REF!+#REF!+#REF! -> #REF! | T12: ='Secteur A1'!#REF!+#REF!+#REF!+#REF!+#REF!+#REF!+#REF!+#REF! -> #REF! | V12: ='Secteur A1'!#REF!+#REF!+#REF!+#REF!+#REF!+#REF!+#REF!+#REF! -> #REF! | X12: ='Secteur A1'!#REF!+#REF!+#REF!+#REF!+#REF!+#REF!+#REF!+#REF! -> #REF!
A14: 1510 | B14: ='Secteur A1'!#REF!+#REF!+#REF!+#REF!+#REF!+#REF!+#REF!+#REF! -> #REF! | D14: ='Secteur A1'!#REF!+#REF!+#REF!+#REF!+#REF!+#REF!+#REF!+#REF! -> #REF! | F14: ='Secteur A1'!#REF!+#REF!+#REF!+#REF!+#REF!+#REF!+#REF!+#REF! -> #REF! | H14: ='Secteur A1'!#REF!+#REF!+#REF!+#REF!+#REF!+#REF!+#REF!+#REF! -> #REF! | J14: ='Secteur A1'!#REF!+#REF!+#REF!+#REF!+#REF!+#REF!+#REF!+#REF! -> #REF! | L14: ='Secteur A1'!#REF!+#REF!+#REF!+#REF!+#REF!+#REF!+#REF!+#REF! -> #REF! | N14: ='Secteur A1'!#REF!+#REF!+#REF!+#REF!+#REF!+#REF!+#REF!+#REF! -> #REF! | P14: ='Secteur A1'!#REF!+#REF!+#REF!+#REF!+#REF!+#REF!+#REF!+#REF! -> #REF! | R14: ='Secteur A1'!#REF!+#REF!+#REF!+#REF!+#REF!+#REF!+#REF!+#REF! -> #REF! | T14: ='Secteur A1'!#REF!+#REF!+#REF!+#REF!+#REF!+#REF!+#REF!+#REF! -> #REF! | V14: ='Secteur A1'!#REF!+#REF!+#REF!+#REF!+#REF!+#REF!+#REF!+#REF! -> #REF! | X14: ='Secteur A1'!#REF!+#REF!+#REF!+#REF!+#REF!+#REF!+#REF!+#REF! -> #REF!
A16: 1610 | B16: ='Secteur A1'!#REF!+#REF!+#REF!+#REF!+#REF!+#REF!+#REF!+#REF! -> #REF! | D16: ='Secteur A1'!#REF!+#REF!+#REF!+#REF!+#REF!+#REF!+#REF!+#REF! -> #REF! | F16: ='Secteur A1'!#REF!+#REF!+#REF!+#REF!+#REF!+#REF!+#REF!+#REF! -> #REF! | H16: ='Secteur A1'!#REF!+#REF!+#REF!+#REF!+#REF!+#REF!+#REF!+#REF! -> #REF! | J16: ='Secteur A1'!#REF!+#REF!+#REF!+#REF!+#REF!+#REF!+#REF!+#REF! -> #REF! | L16: ='Secteur A1'!#REF!+#REF!+#REF!+#REF!+#REF!+#REF!+#REF!+#REF! -> #REF! | N16: ='Secteur A1'!#REF!+#REF!+#REF!+#REF!+#REF!+#REF!+#REF!+#REF! -> #REF! | P16: ='Secteur A1'!#REF!+#REF!+#REF!+#REF!+#REF!+#REF!+#REF!+#REF! -> #REF! | R16: ='Secteur A1'!#REF!+#REF!+#REF!+#REF!+#REF!+#REF!+#REF!+#REF! -> #REF! | T16: ='Secteur A1'!#REF!+#REF!+#REF!+#REF!+#REF!+#REF!+#REF!+#REF! -> #REF! | V16: ='Secteur A1'!#REF!+#REF!+#REF!+#REF!+#REF!+#REF!+#REF!+#REF! -> #REF! | X16: ='Secteur A1'!#REF!+#REF!+#REF!+#REF!+#REF!+#REF!+#REF!+#REF! -> #REF!
A18: 1710 | B18: ='Secteur A1'!#REF!+#REF!+#REF!+#REF!+#REF!+#REF!+#REF!+#REF! -> #REF! | D18: ='Secteur A1'!#REF!+#REF!+#REF!+#REF!+#REF!+#REF!+#REF!+#REF! -> #REF! | F18: ='Secteur A1'!#REF!+#REF!+#REF!+#REF!+#REF!+#REF!+#REF!+#REF! -> #REF! | H18: ='Secteur A1'!#REF!+#REF!+#REF!+#REF!+#REF!+#REF!+#REF!+#REF! -> #REF! | J18: ='Secteur A1'!#REF!+#REF!+#REF!+#REF!+#REF!+#REF!+#REF!+#REF! -> #REF! | L18: ='Secteur A1'!#REF!+#REF!+#REF!+#REF!+#REF!+#REF!+#REF!+#REF! -> #REF! | N18: ='Secteur A1'!#REF!+#REF!+#REF!+#REF!+#REF!+#REF!+#REF!+#REF! -> #REF! | P18: ='Secteur A1'!#REF!+#REF!+#REF!+#REF!+#REF!+#REF!+#REF!+#REF! -> #REF! | R18: ='Secteur A1'!#REF!+#REF!+#REF!+#REF!+#REF!+#REF!+#REF!+#REF! -> #REF! | T18: ='Secteur A1'!#REF!+#REF!+#REF!+#REF!+#REF!+#REF!+#REF!+#REF! -> #REF! | V18: ='Secteur A1'!#REF!+#REF!+#REF!+#REF!+#REF!+#REF!+#REF!+#REF! -> #REF! | X18: ='Secteur A1'!#REF!+#REF!+#REF!+#REF!+#REF!+#REF!+#REF!+#REF! -> #REF!
A20: 1720 | B20: ='Secteur A1'!#REF!+#REF!+#REF!+#REF!+#REF!+#REF!+#REF!+#REF! -> #REF! | D20: ='Secteur A1'!#REF!+#REF!+#REF!+#REF!+#REF!+#REF!+#REF!+#REF! -> #REF! | F20: ='Secteur A1'!#REF!+#REF!+#REF!+#REF!+#REF!+#REF!+#REF!+#REF! -> #REF! | H20: ='Secteur A1'!#REF!+#REF!+#REF!+#REF!+#REF!+#REF!+#REF!+#REF! -> #REF! | J20: ='Secteur A1'!#REF!+#REF!+#REF!+#REF!+#REF!+#REF!+#REF!+#REF! -> #REF! | L20: ='Secteur A1'!#REF!+#REF!+#REF!+#REF!+#REF!+#REF!+#REF!+#REF! -> #REF! | N20: ='Secteur A1'!#REF!+#REF!+#REF!+#REF!+#REF!+#REF!+#REF!+#REF! -> #REF! | P20: ='Secteur A1'!#REF!+#REF!+#REF!+#REF!+#REF!+#REF!+#REF!+#REF! -> #REF! | R20: ='Secteur A1'!#REF!+#REF!+#REF!+#REF!+#REF!+#REF!+#REF!+#REF! -> #REF! | T20: ='Secteur A1'!#REF!+#REF!+#REF!+#REF!+#REF!+#REF!+#REF!+#REF! -> #REF! | V20: ='Secteur A1'!#REF!+#REF!+#REF!+#REF!+#REF!+#REF!+#REF!+#REF! -> #REF! | X20: ='Secteur A1'!#REF!+#REF!+#REF!+#REF!+#REF!+#REF!+#REF!+#REF! -> #REF!
A22: 1810 | B22: ='Secteur A1'!#REF!+#REF!+#REF!+#REF!+#REF!+#REF!+#REF!+#REF! -> #REF! | D22: ='Secteur A1'!#REF!+#REF!+#REF!+#REF!+#REF!+#REF!+#REF!+#REF! -> #REF! | F22: ='Secteur A1'!#REF!+#REF!+#REF!+#REF!+#REF!+#REF!+#REF!+#REF! -> #REF! | H22: ='Secteur A1'!#REF!+#REF!+#REF!+#REF!+#REF!+#REF!+#REF!+#REF! -> #REF! | J22: ='Secteur A1'!#REF!+#REF!+#REF!+#REF!+#REF!+#REF!+#REF!+#REF! -> #REF! | L22: ='Secteur A1'!#REF!+#REF!+#REF!+#REF!+#REF!+#REF!+#REF!+#REF! -> #REF! | N22: ='Secteur A1'!#REF!+#REF!+#REF!+#REF!+#REF!+#REF!+#REF!+#REF! -> #REF! | P22: ='Secteur A1'!#REF!+#REF!+#REF!+#REF!+#REF!+#REF!+#REF!+#REF! -> #REF! | R22: ='Secteur A1'!#REF!+#REF!+#REF!+#REF!+#REF!+#REF!+#REF!+#REF! -> #REF! | T22: ='Secteur A1'!#REF!+#REF!+#REF!+#REF!+#REF!+#REF!+#REF!+#REF! -> #REF! | V22: ='Secteur A1'!#REF!+#REF!+#REF!+#REF!+#REF!+#REF!+#REF!+#REF! -> #REF! | X22: ='Secteur A1'!#REF!+#REF!+#REF!+#REF!+#REF!+#REF!+#REF!+#REF! -> #REF!
A24: 1910 | B24: ='Secteur A1'!#REF!+#REF!+#REF!+#REF!+#REF!+#REF!+#REF!+#REF! -> #REF! | D24: ='Secteur A1'!#REF!+#REF!+#REF!+#REF!+#REF!+#REF!+#REF!+#REF! -> #REF! | F24: ='Secteur A1'!#REF!+#REF!+#REF!+#REF!+#REF!+#REF!+#REF!+#REF! -> #REF! | H24: ='Secteur A1'!#REF!+#REF!+#REF!+#REF!+#REF!+#REF!+#REF!+#REF! -> #REF! | J24: ='Secteur A1'!#REF!+#REF!+#REF!+#REF!+#REF!+#REF!+#REF!+#REF! -> #REF! | L24: ='Secteur A1'!#REF!+#REF!+#REF!+#REF!+#REF!+#REF!+#REF!+#REF! -> #REF! | N24: ='Secteur A1'!#REF!+#REF!+#REF!+#REF!+#REF!+#REF!+#REF!+#REF! -> #REF! | P24: ='Secteur A1'!#REF!+#REF!+#REF!+#REF!+#REF!+#REF!+#REF!+#REF! -> #REF! | R24: ='Secteur A1'!#REF!+#REF!+#REF!+#REF!+#REF!+#REF!+#REF!+#REF! -> #REF! | T24: ='Secteur A1'!#REF!+#REF!+#REF!+#REF!+#REF!+#REF!+#REF!+#REF! -> #REF! | V24: ='Secteur A1'!#REF!+#REF!+#REF!+#REF!+#REF!+#REF!+#REF!+#REF! -> #REF! | X24: ='Secteur A1'!#REF!+#REF!+#REF!+#REF!+#REF!+#REF!+#REF!+#REF! -> #REF!
A26: 7810 | B26: ='Secteur A1'!#REF!+#REF!+#REF!+#REF!+#REF!+#REF!+#REF!+#REF! -> #REF! | C26: ='Secteur A1'!#REF!+#REF!+#REF!+#REF!+#REF!+#REF!+#REF!+#REF! -> #REF! | D26: ='Secteur A1'!#REF!+#REF!+#REF!+#REF!+#REF!+#REF!+#REF!+#REF! -> #REF! | E26: ='Secteur A1'!#REF!+#REF!+#REF!+#REF!+#REF!+#REF!+#REF!+#REF! -> #REF! | F26: ='Secteur A1'!#REF!+#REF!+#REF!+#REF!+#REF!+#REF!+#REF!+#REF! -> #REF! | G26: ='Secteur A1'!#REF!+#REF!+#REF!+#REF!+#REF!+#REF!+#REF!+#REF! -> #REF! | H26: ='Secteur A1'!#REF!+#REF!+#REF!+#REF!+#REF!+#REF!+#REF!+#REF! -> #REF! | I26: ='Secteur A1'!#REF!+#REF!+#REF!+#REF!+#REF!+#REF!+#REF!+#REF! -> #REF! | ... X26: ='Secteur A1'!#REF!+#REF!+#REF!+#REF!+#REF!+#REF!+#REF!+#REF! -> #REF!
A28: 1260 | B28: =#REF! -> #REF! | D28: =#REF! -> #REF! | F28: =#REF! -> #REF! | H28: =#REF! -> #REF! | J28: =#REF! -> #REF! | L28: =#REF! -> #REF! | N28: =#REF! -> #REF! | P28: =#REF! -> #REF! | R28: =#REF! -> #REF! | T28: =#REF! -> #REF! | V28: =#REF! -> #REF! | X28: =#REF! -> #REF!
A30: 2210 | B30: =#REF! -> #REF! | D30: =#REF! -> #REF! | F30: =#REF! -> #REF! | H30: =#REF! -> #REF! | J30: =#REF! -> #REF! | L30: =#REF! -> #REF! | N30: =#REF! -> #REF! | P30: =#REF! -> #REF! | R30: =#REF! -> #REF! | T30: =#REF! -> #REF! | V30: =#REF! -> #REF! | X30: =#REF! -> #REF!
A32: 2310 | B32: =#REF! -> #REF! | D32: =#REF! -> #REF! | F32: =#REF! -> #REF! | H32: =#REF! -> #REF! | J32: =#REF! -> #REF! | L32: =#REF! -> #REF! | N32: =#REF! -> #REF! | P32: =#REF! -> #REF! | R32: =#REF! -> #REF! | T32: =#REF! -> #REF! | V32: =#REF! -> #REF! | X32: =#REF! -> #REF!
A34: 2610 | B34: =#REF! -> #REF! | C34: =#REF! -> #REF! | D34: =#REF! -> #REF! | E34: =#REF! -> #REF! | F34: =#REF! -> #REF! | G34: =#REF! -> #REF! | H34: =#REF! -> #REF! | I34: =#REF! -> #REF! | ... X34: =#REF! -> #REF!
A36: 2810
A40: PAR UG
B41: JANVIER | D41: FEVRIER | F41: MARS | H41: AVRIL | J41: MAI | L41: JUIN | N41: JUILLET | P41: AOÛT | R41: SEPTEMBRE | T41: OCTOBRE | V41: NOVEMBRE | X41: DÉCEMBRE
B42: as | D42: as | F42: as | H42: as | J42: as | L42: as | N42: as | P42: as | R42: as | T42: as | V42: as | X42: as
A43: 1010 | B43: ='Secteur A1'!#REF!+#REF!+#REF!+#REF!+#REF!+#REF!+#REF!+#REF! -> #REF! | D43: ='Secteur A1'!#REF!+#REF!+#REF!+#REF!+#REF!+#REF!+#REF!+#REF! -> #REF! | F43: ='Secteur A1'!#REF!+#REF!+#REF!+#REF!+#REF!+#REF!+#REF!+#REF! -> #REF! | H43: ='Secteur A1'!#REF!+#REF!+#REF!+#REF!+#REF!+#REF!+#REF!+#REF! -> #REF! | J43: ='Secteur A1'!#REF!+#REF!+#REF!+#REF!+#REF!+#REF!+#REF!+#REF! -> #REF! | L43: ='Secteur A1'!#REF!+#REF!+#REF!+#REF!+#REF!+#REF!+#REF!+#REF! -> #REF! | N43: ='Secteur A1'!#REF!+#REF!+#REF!+#REF!+#REF!+#REF!+#REF!+#REF! -> #REF! | P43: ='Secteur A1'!#REF!+#REF!+#REF!+#REF!+#REF!+#REF!+#REF!+#REF! -> #REF! | R43: ='Secteur A1'!#REF!+#REF!+#REF!+#REF!+#REF!+#REF!+#REF!+#REF! -> #REF! | T43: ='Secteur A1'!#REF!+#REF!+#REF!+#REF!+#REF!+#REF!+#REF!+#REF! -> #REF! | V43: ='Secteur A1'!#REF!+#REF!+#REF!+#REF!+#REF!+#REF!+#REF!+#REF! -> #REF! | X43: ='Secteur A1'!#REF!+#REF!+#REF!+#REF!+#REF!+#REF!+#REF!+#REF! -> #REF!
A45: 1100 | B45: ='Secteur A1'!#REF!+#REF!+#REF!+#REF!+#REF!+#REF!+#REF!+#REF! -> #REF! | D45: ='Secteur A1'!#REF!+#REF!+#REF!+#REF!+#REF!+#REF!+#REF!+#REF! -> #REF! | F45: ='Secteur A1'!#REF!+#REF!+#REF!+#REF!+#REF!+#REF!+#REF!+#REF! -> #REF! | H45: ='Secteur A1'!#REF!+#REF!+#REF!+#REF!+#REF!+#REF!+#REF!+#REF! -> #REF! | J45: ='Secteur A1'!#REF!+#REF!+#REF!+#REF!+#REF!+#REF!+#REF!+#REF! -> #REF! | L45: ='Secteur A1'!#REF!+#REF!+#REF!+#REF!+#REF!+#REF!+#REF!+#REF! -> #REF! | N45: ='Secteur A1'!#REF!+#REF!+#REF!+#REF!+#REF!+#REF!+#REF!+#REF! -> #REF! | P45: ='Secteur A1'!#REF!+#REF!+#REF!+#REF!+#REF!+#REF!+#REF!+#REF! -> #REF! | R45: ='Secteur A1'!#REF!+#REF!+#REF!+#REF!+#REF!+#REF!+#REF!+#REF! -> #REF! | T45: ='Secteur A1'!#REF!+#REF!+#REF!+#REF!+#REF!+#REF!+#REF!+#REF! -> #REF! | V45: ='Secteur A1'!#REF!+#REF!+#REF!+#REF!+#REF!+#REF!+#REF!+#REF! -> #REF! | X45: ='Secteur A1'!#REF!+#REF!+#REF!+#REF!+#REF!+#REF!+#REF!+#REF! -> #REF!
A47: 1200 | B47: ='Secteur A1'!#REF!+#REF!+#REF!+#REF!+#REF!+#REF!+#REF!+#REF! -> #REF! | D47: ='Secteur A1'!#REF!+#REF!+#REF!+#REF!+#REF!+#REF!+#REF!+#REF! -> #REF! | F47: ='Secteur A1'!#REF!+#REF!+#REF!+#REF!+#REF!+#REF!+#REF!+#REF! -> #REF! | H47: ='Secteur A1'!#REF!+#REF!+#REF!+#REF!+#REF!+#REF!+#REF!+#REF! -> #REF! | J47: ='Secteur A1'!#REF!+#REF!+#REF!+#REF!+#REF!+#REF!+#REF!+#REF! -> #REF! | L47: ='Secteur A1'!#REF!+#REF!+#REF!+#REF!+#REF!+#REF!+#REF!+#REF! -> #REF! | N47: ='Secteur A1'!#REF!+#REF!+#REF!+#REF!+#REF!+#REF!+#REF!+#REF! -> #REF! | P47: ='Secteur A1'!#REF!+#REF!+#REF!+#REF!+#REF!+#REF!+#REF!+#REF! -> #REF! | R47: ='Secteur A1'!#REF!+#REF!+#REF!+#REF!+#REF!+#REF!+#REF!+#REF! -> #REF! | T47: ='Secteur A1'!#REF!+#REF!+#REF!+#REF!+#REF!+#REF!+#REF!+#REF! -> #REF! | V47: ='Secteur A1'!#REF!+#REF!+#REF!+#REF!+#REF!+#REF!+#REF!+#REF! -> #REF! | X47: ='Secteur A1'!#REF!+#REF!+#REF!+#REF!+#REF!+#REF!+#REF!+#REF! -> #REF!
A49: 1250 | B49: ='Secteur A1'!#REF!+#REF!+#REF!+#REF!+#REF!+#REF!+#REF!+#REF! -> #REF! | D49: ='Secteur A1'!#REF!+#REF!+#REF!+#REF!+#REF!+#REF!+#REF!+#REF! -> #REF! | F49: ='Secteur A1'!#REF!+#REF!+#REF!+#REF!+#REF!+#REF!+#REF!+#REF! -> #REF! | H49: ='Secteur A1'!#REF!+#REF!+#REF!+#REF!+#REF!+#REF!+#REF!+#REF! -> #REF! | J49: ='Secteur A1'!#REF!+#REF!+#REF!+#REF!+#REF!+#REF!+#REF!+#REF! -> #REF! | L49: ='Secteur A1'!#REF!+#REF!+#REF!+#REF!+#REF!+#REF!+#REF!+#REF! -> #REF! | N49: ='Secteur A1'!#REF!+#REF!+#REF!+#REF!+#REF!+#REF!+#REF!+#REF! -> #REF! | P49: ='Secteur A1'!#REF!+#REF!+#REF!+#REF!+#REF!+#REF!+#REF!+#REF! -> #REF! | R49: ='Secteur A1'!#REF!+#REF!+#REF!+#REF!+#REF!+#REF!+#REF!+#REF! -> #REF! | T49: ='Secteur A1'!#REF!+#REF!+#REF!+#REF!+#REF!+#REF!+#REF!+#REF! -> #REF! | V49: ='Secteur A1'!#REF!+#REF!+#REF!+#REF!+#REF!+#REF!+#REF!+#REF! -> #REF! | X49: ='Secteur A1'!#REF!+#REF!+#REF!+#REF!+#REF!+#REF!+#REF!+#REF! -> #REF!
A51: 1300 | B51: ='Secteur A1'!#REF!+#REF!+#REF!+#REF!+#REF!+#REF!+#REF!+#REF! -> #REF! | D51: ='Secteur A1'!#REF!+#REF!+#REF!+#REF!+#REF!+#REF!+#REF!+#REF! -> #REF! | F51: ='Secteur A1'!#REF!+#REF!+#REF!+#REF!+#REF!+#REF!+#REF!+#REF! -> #REF! | H51: ='Secteur A1'!#REF!+#REF!+#REF!+#REF!+#REF!+#REF!+#REF!+#REF! -> #REF! | J51: ='Secteur A1'!#REF!+#REF!+#REF!+#REF!+#REF!+#REF!+#REF!+#REF! -> #REF! | L51: ='Secteur A1'!#REF!+#REF!+#REF!+#REF!+#REF!+#REF!+#REF!+#REF! -> #REF! | N51: ='Secteur A1'!#REF!+#REF!+#REF!+#REF!+#REF!+#REF!+#REF!+#REF! -> #REF! | P51: ='Secteur A1'!#REF!+#REF!+#REF!+#REF!+#REF!+#REF!+#REF!+#REF! -> #REF! | R51: ='Secteur A1'!#REF!+#REF!+#REF!+#REF!+#REF!+#REF!+#REF!+#REF! -> #REF! | T51: ='Secteur A1'!#REF!+#REF!+#REF!+#REF!+#REF!+#REF!+#REF!+#REF! -> #REF! | V51: ='Secteur A1'!#REF!+#REF!+#REF!+#REF!+#REF!+#REF!+#REF!+#REF! -> #REF! | X51: ='Secteur A1'!#REF!+#REF!+#REF!+#REF!+#REF!+#REF!+#REF!+#REF! -> #REF!
A53: 1510 | B53: ='Secteur A1'!#REF!+#REF!+#REF!+#REF!+#REF!+#REF!+#REF!+#REF! -> #REF! | D53: ='Secteur A1'!#REF!+#REF!+#REF!+#REF!+#REF!+#REF!+#REF!+#REF! -> #REF! | F53: ='Secteur A1'!#REF!+#REF!+#REF!+#REF!+#REF!+#REF!+#REF!+#REF! -> #REF! | H53: ='Secteur A1'!#REF!+#REF!+#REF!+#REF!+#REF!+#REF!+#REF!+#REF! -> #REF! | J53: ='Secteur A1'!#REF!+#REF!+#REF!+#REF!+#REF!+#REF!+#REF!+#REF! -> #REF! | L53: ='Secteur A1'!#REF!+#REF!+#REF!+#REF!+#REF!+#REF!+#REF!+#REF! -> #REF! | N53: ='Secteur A1'!#REF!+#REF!+#REF!+#REF!+#REF!+#REF!+#REF!+#REF! -> #REF! | P53: ='Secteur A1'!#REF!+#REF!+#REF!+#REF!+#REF!+#REF!+#REF!+#REF! -> #REF! | R53: ='Secteur A1'!#REF!+#REF!+#REF!+#REF!+#REF!+#REF!+#REF!+#REF! -> #REF! | T53: ='Secteur A1'!#REF!+#REF!+#REF!+#REF!+#REF!+#REF!+#REF!+#REF! -> #REF! | V53: ='Secteur A1'!#REF!+#REF!+#REF!+#REF!+#REF!+#REF!+#REF!+#REF! -> #REF! | X53: ='Secteur A1'!#REF!+#REF!+#REF!+#REF!+#REF!+#REF!+#REF!+#REF! -> #REF!
A55: 1610 | B55: ='Secteur A1'!#REF!+#REF!+#REF!+#REF!+#REF!+#REF!+#REF!+#REF! -> #REF! | D55: ='Secteur A1'!#REF!+#REF!+#REF!+#REF!+#REF!+#REF!+#REF!+#REF! -> #REF! | F55: ='Secteur A1'!#REF!+#REF!+#REF!+#REF!+#REF!+#REF!+#REF!+#REF! -> #REF! | H55: ='Secteur A1'!#REF!+#REF!+#REF!+#REF!+#REF!+#REF!+#REF!+#REF! -> #REF! | J55: ='Secteur A1'!#REF!+#REF!+#REF!+#REF!+#REF!+#REF!+#REF!+#REF! -> #REF! | L55: ='Secteur A1'!#REF!+#REF!+#REF!+#REF!+#REF!+#REF!+#REF!+#REF! -> #REF! | N55: ='Secteur A1'!#REF!+#REF!+#REF!+#REF!+#REF!+#REF!+#REF!+#REF! -> #REF! | P55: ='Secteur A1'!#REF!+#REF!+#REF!+#REF!+#REF!+#REF!+#REF!+#REF! -> #REF! | R55: ='Secteur A1'!#REF!+#REF!+#REF!+#REF!+#REF!+#REF!+#REF!+#REF! -> #REF! | T55: ='Secteur A1'!#REF!+#REF!+#REF!+#REF!+#REF!+#REF!+#REF!+#REF! -> #REF! | V55: ='Secteur A1'!#REF!+#REF!+#REF!+#REF!+#REF!+#REF!+#REF!+#REF! -> #REF! | X55: ='Secteur A1'!#REF!+#REF!+#REF!+#REF!+#REF!+#REF!+#REF!+#REF! -> #REF!
A57: 1710 | B57: ='Secteur A1'!#REF!+#REF!+#REF!+#REF!+#REF!+#REF!+#REF!+#REF! -> #REF! | D57: ='Secteur A1'!#REF!+#REF!+#REF!+#REF!+#REF!+#REF!+#REF!+#REF! -> #REF! | F57: ='Secteur A1'!#REF!+#REF!+#REF!+#REF!+#REF!+#REF!+#REF!+#REF! -> #REF! | H57: ='Secteur A1'!#REF!+#REF!+#REF!+#REF!+#REF!+#REF!+#REF!+#REF! -> #REF! | J57: ='Secteur A1'!#REF!+#REF!+#REF!+#REF!+#REF!+#REF!+#REF!+#REF! -> #REF! | L57: ='Secteur A1'!#REF!+#REF!+#REF!+#REF!+#REF!+#REF!+#REF!+#REF! -> #REF! | N57: ='Secteur A1'!#REF!+#REF!+#REF!+#REF!+#REF!+#REF!+#REF!+#REF! -> #REF! | P57: ='Secteur A1'!#REF!+#REF!+#REF!+#REF!+#REF!+#REF!+#REF!+#REF! -> #REF! | R57: ='Secteur A1'!#REF!+#REF!+#REF!+#REF!+#REF!+#REF!+#REF!+#REF! -> #REF! | T57: ='Secteur A1'!#REF!+#REF!+#REF!+#REF!+#REF!+#REF!+#REF!+#REF! -> #REF! | V57: ='Secteur A1'!#REF!+#REF!+#REF!+#REF!+#REF!+#REF!+#REF!+#REF! -> #REF! | X57: ='Secteur A1'!#REF!+#REF!+#REF!+#REF!+#REF!+#REF!+#REF!+#REF! -> #REF!
A59: 1720 | B59: ='Secteur A1'!#REF!+#REF!+#REF!+#REF!+#REF!+#REF!+#REF!+#REF! -> #REF! | D59: ='Secteur A1'!#REF!+#REF!+#REF!+#REF!+#REF!+#REF!+#REF!+#REF! -> #REF! | F59: ='Secteur A1'!#REF!+#REF!+#REF!+#REF!+#REF!+#REF!+#REF!+#REF! -> #REF! | H59: ='Secteur A1'!#REF!+#REF!+#REF!+#REF!+#REF!+#REF!+#REF!+#REF! -> #REF! | J59: ='Secteur A1'!#REF!+#REF!+#REF!+#REF!+#REF!+#REF!+#REF!+#REF! -> #REF! | L59: ='Secteur A1'!#REF!+#REF!+#REF!+#REF!+#REF!+#REF!+#REF!+#REF! -> #REF! | N59: ='Secteur A1'!#REF!+#REF!+#REF!+#REF!+#REF!+#REF!+#REF!+#REF! -> #REF! | P59: ='Secteur A1'!#REF!+#REF!+#REF!+#REF!+#REF!+#REF!+#REF!+#REF! -> #REF! | R59: ='Secteur A1'!#REF!+#REF!+#REF!+#REF!+#REF!+#REF!+#REF!+#REF! -> #REF! | T59: ='Secteur A1'!#REF!+#REF!+#REF!+#REF!+#REF!+#REF!+#REF!+#REF! -> #REF! | V59: ='Secteur A1'!#REF!+#REF!+#REF!+#REF!+#REF!+#REF!+#REF!+#REF! -> #REF! | X59: ='Secteur A1'!#REF!+#REF!+#REF!+#REF!+#REF!+#REF!+#REF!+#REF! -> #REF!
A61: 1810 | B61: ='Secteur A1'!#REF!+#REF!+#REF!+#REF!+#REF!+#REF!+#REF!+#REF! -> #REF! | D61: ='Secteur A1'!#REF!+#REF!+#REF!+#REF!+#REF!+#REF!+#REF!+#REF! -> #REF! | F61: ='Secteur A1'!#REF!+#REF!+#REF!+#REF!+#REF!+#REF!+#REF!+#REF! -> #REF! | H61: ='Secteur A1'!#REF!+#REF!+#REF!+#REF!+#REF!+#REF!+#REF!+#REF! -> #REF! | J61: ='Secteur A1'!#REF!+#REF!+#REF!+#REF!+#REF!+#REF!+#REF!+#REF! -> #REF! | L61: ='Secteur A1'!#REF!+#REF!+#REF!+#REF!+#REF!+#REF!+#REF!+#REF! -> #REF! | N61: ='Secteur A1'!#REF!+#REF!+#REF!+#REF!+#REF!+#REF!+#REF!+#REF! -> #REF! | P61: ='Secteur A1'!#REF!+#REF!+#REF!+#REF!+#REF!+#REF!+#REF!+#REF! -> #REF! | R61: ='Secteur A1'!#REF!+#REF!+#REF!+#REF!+#REF!+#REF!+#REF!+#REF! -> #REF! | T61: ='Secteur A1'!#REF!+#REF!+#REF!+#REF!+#REF!+#REF!+#REF!+#REF! -> #REF! | V61: ='Secteur A1'!#REF!+#REF!+#REF!+#REF!+#REF!+#REF!+#REF!+#REF! -> #REF! | X61: ='Secteur A1'!#REF!+#REF!+#REF!+#REF!+#REF!+#REF!+#REF!+#REF! -> #REF!
A63: 1910 | B63: ='Secteur A1'!#REF!+#REF!+#REF!+#REF!+#REF!+#REF!+#REF!+#REF! -> #REF! | D63: ='Secteur A1'!#REF!+#REF!+#REF!+#REF!+#REF!+#REF!+#REF!+#REF! -> #REF! | F63: ='Secteur A1'!#REF!+#REF!+#REF!+#REF!+#REF!+#REF!+#REF!+#REF! -> #REF! | H63: ='Secteur A1'!#REF!+#REF!+#REF!+#REF!+#REF!+#REF!+#REF!+#REF! -> #REF! | J63: ='Secteur A1'!#REF!+#REF!+#REF!+#REF!+#REF!+#REF!+#REF!+#REF! -> #REF! | L63: ='Secteur A1'!#REF!+#REF!+#REF!+#REF!+#REF!+#REF!+#REF!+#REF! -> #REF! | N63: ='Secteur A1'!#REF!+#REF!+#REF!+#REF!+#REF!+#REF!+#REF!+#REF! -> #REF! | P63: ='Secteur A1'!#REF!+#REF!+#REF!+#REF!+#REF!+#REF!+#REF!+#REF! -> #REF! | R63: ='Secteur A1'!#REF!+#REF!+#REF!+#REF!+#REF!+#REF!+#REF!+#REF! -> #REF! | T63: ='Secteur A1'!#REF!+#REF!+#REF!+#REF!+#REF!+#REF!+#REF!+#REF! -> #REF! | V63: ='Secteur A1'!#REF!+#REF!+#REF!+#REF!+#REF!+#REF!+#REF!+#REF! -> #REF! | X63: ='Secteur A1'!#REF!+#REF!+#REF!+#REF!+#REF!+#REF!+#REF!+#REF! -> #REF!
A65: 7810 | B65: ='Secteur A1'!#REF!+#REF!+#REF!+#REF!+#REF!+#REF!+#REF!+#REF! -> #REF! | D65: ='Secteur A1'!#REF!+#REF!+#REF!+#REF!+#REF!+#REF!+#REF!+#REF! -> #REF! | F65: ='Secteur A1'!#REF!+#REF!+#REF!+#REF!+#REF!+#REF!+#REF!+#REF! -> #REF! | H65: ='Secteur A1'!#REF!+#REF!+#REF!+#REF!+#REF!+#REF!+#REF!+#REF! -> #REF! | J65: ='Secteur A1'!#REF!+#REF!+#REF!+#REF!+#REF!+#REF!+#REF!+#REF! -> #REF! | L65: ='Secteur A1'!#REF!+#REF!+#REF!+#REF!+#REF!+#REF!+#REF!+#REF! -> #REF! | N65: ='Secteur A1'!#REF!+#REF!+#REF!+#REF!+#REF!+#REF!+#REF!+#REF! -> #REF! | P65: ='Secteur A1'!#REF!+#REF!+#REF!+#REF!+#REF!+#REF!+#REF!+#REF! -> #REF! | R65: ='Secteur A1'!#REF!+#REF!+#REF!+#REF!+#REF!+#REF!+#REF!+#REF! -> #REF! | T65: ='Secteur A1'!#REF!+#REF!+#REF!+#REF!+#REF!+#REF!+#REF!+#REF! -> #REF! | V65: ='Secteur A1'!#REF!+#REF!+#REF!+#REF!+#REF!+#REF!+#REF!+#REF! -> #REF! | X65: ='Secteur A1'!#REF!+#REF!+#REF!+#REF!+#REF!+#REF!+#REF!+#REF! -> #REF!
A67: 1260 | B67: =#REF! -> #REF! | D67: =#REF! -> #REF! | F67: =#REF! -> #REF! | H67: =#REF! -> #REF! | J67: =#REF! -> #REF! | L67: =#REF! -> #REF! | N67: =#REF! -> #REF! | P67: =#REF! -> #REF! | R67: =#REF! -> #REF! | T67: =#REF! -> #REF! | V67: =#REF! -> #REF! | X67: =#REF! -> #REF!
A69: 2210 | B69: =#REF! -> #REF! | D69: =#REF! -> #REF! | F69: =#REF! -> #REF! | H69: =#REF! -> #REF! | J69: =#REF! -> #REF! | L69: =#REF! -> #REF! | N69: =#REF! -> #REF! | P69: =#REF! -> #REF! | R69: =#REF! -> #REF! | T69: =#REF! -> #REF! | V69: =#REF! -> #REF! | X69: =#REF! -> #REF!
A71: 2310 | B71: =#REF! -> #REF! | D71: =#REF! -> #REF! | F71: =#REF! -> #REF! | H71: =#REF! -> #REF! | J71: =#REF! -> #REF! | L71: =#REF! -> #REF! | N71: =#REF! -> #REF! | P71: =#REF! -> #REF! | R71: =#REF! -> #REF! | T71: =#REF! -> #REF! | V71: =#REF! -> #REF! | X71: =#REF! -> #REF!
A73: 2610 | B73: =#REF! -> #REF! | C73: =#REF! -> #REF! | D73: =#REF! -> #REF! | E73: =#REF! -> #REF! | F73: =#REF! -> #REF! | G73: =#REF! -> #REF! | H73: =#REF! -> #REF! | I73: =#REF! -> #REF! | ... X73: =#REF! -> #REF!
A75: 2810 | B75: =#REF! -> #REF! | D75: =#REF! -> #REF! | F75: =#REF! -> #REF! | H75: =#REF! -> #REF! | J75: =#REF! -> #REF! | L75: =#REF! -> #REF! | N75: =#REF! -> #REF! | P75: =#REF! -> #REF! | R75: =#REF! -> #REF! | T75: =#REF! -> #REF! | V75: =#REF! -> #REF! | X75: =#REF! -> #REF!
...
