Workbook

Sheet Feuil1
A8: Code Produit en Remplacement de | B8: Code Produit | C8: Libellé du Produit | D8: Conditionnement d'Achat du Produit | E8: Conditionnement de Distribution | F8: Code Unité Distribution du Produit | G8: Prix Unitaire du Marché | H8: Libellé de la Catégorie de Navigation | I8: Référence Externe du Produit | J8: Numéro de lot | K8: Libellé Dernier Fournisse | L8: Gluten | M8: Crustacés | N8: Œuf | O8: Poisson | P8: Arachide | Q8: Soja | R8: Lait | S8: Celeri | T8: Moutarde | U8: Fruits à coque | V8: Sesame | W8: Sulfites | X8: Mollusque | Y8: Lupin
B9: 4137153 | C9: POMMES DE TERRE LAMELLE BLANCHIE IVGAMME
B10: 4130252 | C10: OIGNON CUBE 10X10 2,5KGX4/10KG
B11: 4137408 | C11: LARDONS FUMES - 1 KG | L11: traces | N11: traces | Q11: traces | R11: traces | S11: traces | T11: traces | U11: traces
B12: 4130426 | C12: CREME LIQUIDE 30% MG 1L | R12: OUI
B13: 4130907 | C13: FROMAGE TARTIFLETTE 27% 450G | R13: OUI
B14: 4120686 | C14: VIN VCE BLANC 11° CUBI 5L VAL FLOREY | W14: OUI
B15: 4130546 | C15: PERSIL HACHE 250G | Q15: traces | S15: traces

Sheet Feuil2
C3: TARTIFLETTE
B7: Code produit | C7: Désignation | H7: Gluten | I7: Crustacés | J7: Œufs | K7: Poissons | L7: Arachides | M7: Soja | N7: Lait | O7: Fruits à coque | P7: Céleri | Q7: Moutarde | R7: Sésame | S7: Sulfites | T7: Lupin | U7: Mollusques
B8: 4137153 | C8: =IFERROR(INDEX(Feuil1!$C$1:$C$50,MATCH(B8,Feuil1!$B$1:$B$50,0)),"") -> POMMES DE TERRE LAMELLE BLANCHIE IVGAMME | H8: =IFERROR(VLOOKUP(Feuil1!L9,{"Oui",3;"Traces",2;"Non",1},2,0),"") | I8: =IFERROR(VLOOKUP(Feuil1!M9,{"Oui",3;"Traces",2;"Non",1},2,0),"") | J8: =IFERROR(VLOOKUP(Feuil1!N9,{"Oui",3;"Traces",2;"Non",1},2,0),"") | K8: =IFERROR(VLOOKUP(Feuil1!O9,{"Oui",3;"Traces",2;"Non",1},2,0),"") | L8: =IFERROR(VLOOKUP(Feuil1!P9,{"Oui",3;"Traces",2;"Non",1},2,0),"") | M8: =IFERROR(VLOOKUP(Feuil1!Q9,{"Oui",3;"Traces",2;"Non",1},2,0),"") | N8: =IFERROR(VLOOKUP(Feuil1!R9,{"Oui",3;"Traces",2;"Non",1},2,0),"") | O8: =IFERROR(VLOOKUP(Feuil1!S9,{"Oui",3;"Traces",2;"Non",1},2,0),"") | ... U8: =IFERROR(VLOOKUP(Feuil1!Y9,{"Oui",3;"Traces",2;"Non",1},2,0),"")
B9: 4130252 | C9: =IFERROR(INDEX(Feuil1!$C$1:$C$50,MATCH(B9,Feuil1!$B$1:$B$50,0)),"") -> OIGNON CUBE 10X10 2,5KGX4/10KG | H9: =IFERROR(VLOOKUP(Feuil1!L10,{"Oui",3;"Traces",2;"Non",1},2,0),"") | I9: =IFERROR(VLOOKUP(Feuil1!M10,{"Oui",3;"Traces",2;"Non",1},2,0),"") | J9: =IFERROR(VLOOKUP(Feuil1!N10,{"Oui",3;"Traces",2;"Non",1},2,0),"") | K9: =IFERROR(VLOOKUP(Feuil1!O10,{"Oui",3;"Traces",2;"Non",1},2,0),"") | L9: =IFERROR(VLOOKUP(Feuil1!P10,{"Oui",3;"Traces",2;"Non",1},2,0),"") | M9: =IFERROR(VLOOKUP(Feuil1!Q10,{"Oui",3;"Traces",2;"Non",1},2,0),"") | N9: =IFERROR(VLOOKUP(Feuil1!R10,{"Oui",3;"Traces",2;"Non",1},2,0),"") | O9: =IFERROR(VLOOKUP(Feuil1!S10,{"Oui",3;"Traces",2;"Non",1},2,0),"") | ... U9: =IFERROR(VLOOKUP(Feuil1!Y10,{"Oui",3;"Traces",2;"Non",1},2,0),"")
B10: 4137408 | C10: =IFERROR(INDEX(Feuil1!$C$1:$C$50,MATCH(B10,Feuil1!$B$1:$B$50,0)),"") -> LARDONS FUMES - 1 KG | H10: =IFERROR(VLOOKUP(Feuil1!L11,{"Oui",3;"Traces",2;"Non",1},2,0),"") -> 2 | I10: =IFERROR(VLOOKUP(Feuil1!M11,{"Oui",3;"Traces",2;"Non",1},2,0),"") | J10: =IFERROR(VLOOKUP(Feuil1!N11,{"Oui",3;"Traces",2;"Non",1},2,0),"") -> 2 | K10: =IFERROR(VLOOKUP(Feuil1!O11,{"Oui",3;"Traces",2;"Non",1},2,0),"") | L10: =IFERROR(VLOOKUP(Feuil1!P11,{"Oui",3;"Traces",2;"Non",1},2,0),"") | M10: =IFERROR(VLOOKUP(Feuil1!Q11,{"Oui",3;"Traces",2;"Non",1},2,0),"") -> 2 | N10: =IFERROR(VLOOKUP(Feuil1!R11,{"Oui",3;"Traces",2;"Non",1},2,0),"") -> 2 | O10: =IFERROR(VLOOKUP(Feuil1!S11,{"Oui",3;"Traces",2;"Non",1},2,0),"") -> 2 | ... U10: =IFERROR(VLOOKUP(Feuil1!Y11,{"Oui",3;"Traces",2;"Non",1},2,0),"")
B11: 4130426 | C11: =IFERROR(INDEX(Feuil1!$C$1:$C$50,MATCH(B11,Feuil1!$B$1:$B$50,0)),"") -> CREME LIQUIDE 30% MG 1L | H11: =IFERROR(VLOOKUP(Feuil1!L12,{"Oui",3;"Traces",2;"Non",1},2,0),"") | I11: =IFERROR(VLOOKUP(Feuil1!M12,{"Oui",3;"Traces",2;"Non",1},2,0),"") | J11: =IFERROR(VLOOKUP(Feuil1!N12,{"Oui",3;"Traces",2;"Non",1},2,0),"") | K11: =IFERROR(VLOOKUP(Feuil1!O12,{"Oui",3;"Traces",2;"Non",1},2,0),"") | L11: =IFERROR(VLOOKUP(Feuil1!P12,{"Oui",3;"Traces",2;"Non",1},2,0),"") | M11: =IFERROR(VLOOKUP(Feuil1!Q12,{"Oui",3;"Traces",2;"Non",1},2,0),"") | N11: =IFERROR(VLOOKUP(Feuil1!R12,{"Oui",3;"Traces",2;"Non",1},2,0),"") -> 3 | O11: =IFERROR(VLOOKUP(Feuil1!S12,{"Oui",3;"Traces",2;"Non",1},2,0),"") | ... U11: =IFERROR(VLOOKUP(Feuil1!Y12,{"Oui",3;"Traces",2;"Non",1},2,0),"")
B12: 4130907 | C12: =IFERROR(INDEX(Feuil1!$C$1:$C$50,MATCH(B12,Feuil1!$B$1:$B$50,0)),"") -> FROMAGE TARTIFLETTE 27% 450G | H12: =IFERROR(VLOOKUP(Feuil1!L13,{"Oui",3;"Traces",2;"Non",1},2,0),"") | I12: =IFERROR(VLOOKUP(Feuil1!M13,{"Oui",3;"Traces",2;"Non",1},2,0),"") | J12: =IFERROR(VLOOKUP(Feuil1!N13,{"Oui",3;"Traces",2;"Non",1},2,0),"") | K12: =IFERROR(VLOOKUP(Feuil1!O13,{"Oui",3;"Traces",2;"Non",1},2,0),"") | L12: =IFERROR(VLOOKUP(Feuil1!P13,{"Oui",3;"Traces",2;"Non",1},2,0),"") | M12: =IFERROR(VLOOKUP(Feuil1!Q13,{"Oui",3;"Traces",2;"Non",1},2,0),"") | N12: =IFERROR(VLOOKUP(Feuil1!R13,{"Oui",3;"Traces",2;"Non",1},2,0),"") -> 3 | O12: =IFERROR(VLOOKUP(Feuil1!S13,{"Oui",3;"Traces",2;"Non",1},2,0),"") | ... U12: =IFERROR(VLOOKUP(Feuil1!Y13,{"Oui",3;"Traces",2;"Non",1},2,0),"")
B13: 4120686 | C13: =IFERROR(INDEX(Feuil1!$C$1:$C$50,MATCH(B13,Feuil1!$B$1:$B$50,0)),"") -> VIN VCE BLANC 11° CUBI 5L VAL FLOREY | H13: =IFERROR(VLOOKUP(Feuil1!L14,{"Oui",3;"Traces",2;"Non",1},2,0),"") | I13: =IFERROR(VLOOKUP(Feuil1!M14,{"Oui",3;"Traces",2;"Non",1},2,0),"") | J13: =IFERROR(VLOOKUP(Feuil1!N14,{"Oui",3;"Traces",2;"Non",1},2,0),"") | K13: =IFERROR(VLOOKUP(Feuil1!O14,{"Oui",3;"Traces",2;"Non",1},2,0),"") | L13: =IFERROR(VLOOKUP(Feuil1!P14,{"Oui",3;"Traces",2;"Non",1},2,0),"") | M13: =IFERROR(VLOOKUP(Feuil1!Q14,{"Oui",3;"Traces",2;"Non",1},2,0),"") | N13: =IFERROR(VLOOKUP(Feuil1!R14,{"Oui",3;"Traces",2;"Non",1},2,0),"") | O13: =IFERROR(VLOOKUP(Feuil1!S14,{"Oui",3;"Traces",2;"Non",1},2,0),"") | ... U13: =IFERROR(VLOOKUP(Feuil1!Y14,{"Oui",3;"Traces",2;"Non",1},2,0),"")
B14: 4130546 | C14: =IFERROR(INDEX(Feuil1!$C$1:$C$50,MATCH(B14,Feuil1!$B$1:$B$50,0)),"") -> PERSIL HACHE 250G | H14: =IFERROR(VLOOKUP(Feuil1!L15,{"Oui",3;"Traces",2;"Non",1},2,0),"") | I14: =IFERROR(VLOOKUP(Feuil1!M15,{"Oui",3;"Traces",2;"Non",1},2,0),"") | J14: =IFERROR(VLOOKUP(Feuil1!N15,{"Oui",3;"Traces",2;"Non",1},2,0),"") | K14: =IFERROR(VLOOKUP(Feuil1!O15,{"Oui",3;"Traces",2;"Non",1},2,0),"") | L14: =IFERROR(VLOOKUP(Feuil1!P15,{"Oui",3;"Traces",2;"Non",1},2,0),"") | M14: =IFERROR(VLOOKUP(Feuil1!Q15,{"Oui",3;"Traces",2;"Non",1},2,0),"") -> 2 | N14: =IFERROR(VLOOKUP(Feuil1!R15,{"Oui",3;"Traces",2;"Non",1},2,0),"") | O14: =IFERROR(VLOOKUP(Feuil1!S15,{"Oui",3;"Traces",2;"Non",1},2,0),"") -> 2 | ... U14: =IFERROR(VLOOKUP(Feuil1!Y15,{"Oui",3;"Traces",2;"Non",1},2,0),"")
C15: =IFERROR(INDEX(Feuil1!$C$1:$C$50,MATCH(B15,Feuil1!$B$1:$B$50,0)),"")
B19: Allergène | C19: Gluten | D19: Crustacés | E19: Œufs | F19: Poissons | G19: Arachides | H19: Soja | I19: Lait | J19: Fruits à coque | K19: Céleri | L19: Moutarde | M19: Sésame | N19: Sulfites | O19: Lupin | P19: Mollusques
B20: Présence | C20: =IFERROR(VLOOKUP(MAX(H8:H14),{3,"Oui";2,"Traces";1,"Non"},2,0),"") -> Traces | D20: =IFERROR(VLOOKUP(MAX(I8:I14),{3,"Oui";2,"Traces";1,"Non"},2,0),"") | E20: =IFERROR(VLOOKUP(MAX(J8:J14),{3,"Oui";2,"Traces";1,"Non"},2,0),"") -> Traces | F20: =IFERROR(VLOOKUP(MAX(K8:K14),{3,"Oui";2,"Traces";1,"Non"},2,0),"") | G20: =IFERROR(VLOOKUP(MAX(L8:L14),{3,"Oui";2,"Traces";1,"Non"},2,0),"") | H20: =IFERROR(VLOOKUP(MAX(M8:M14),{3,"Oui";2,"Traces";1,"Non"},2,0),"") -> Traces | I20: =IFERROR(VLOOKUP(MAX(N8:N14),{3,"Oui";2,"Traces";1,"Non"},2,0),"") -> Oui | J20: =IFERROR(VLOOKUP(MAX(O8:O14),{3,"Oui";2,"Traces";1,"Non"},2,0),"") -> Traces | ... P20: =IFERROR(VLOOKUP(MAX(U8:U14),{3,"Oui";2,"Traces";1,"Non"},2,0),"")
O22: =IFERROR(VLOOKUP(MAX(T8:T14),{3,"Oui";2,"Traces";1,"Non"},2,0),"") | P22: =IFERROR(VLOOKUP(MAX(U8:U14),{3,"Oui";2,"Traces";1,"Non"},2,0),"")
B24: Je souhaiterai avoir un bilan des allergènes présents dans le plat (tableau 3) : si l’allergène est présent = "oui", si il y a uniquement des traces = "traces", ou pas d’allergène = "non" (2e image). Toujours à partir du code produit.
B25: La problématique est que le plat est composé de plusieurs ingrédients qui ne comportent pas forcément les mêmes allergènes ni la même quantité.
B27: Exemple :
B28: les lardons ont des traces de lait, la crème et le fromage présentent l’allergène lait.
B29: Bilan = "Oui" car "oui" l’emporte sur "traces"
B31: IMPORTANT :
B32: Oui emporte sur traces et non | J32: =IFERROR(VLOOKUP(Feuil1!L9,{"Oui",3;"Traces",2;"Non",1},2,0),"") | K32: =IFERROR(VLOOKUP(Feuil1!M9,{"Oui",3;"Traces",2;"Non",1},2,0),"") | L32: =IFERROR(VLOOKUP(Feuil1!N9,{"Oui",3;"Traces",2;"Non",1},2,0),"") | M32: =IFERROR(VLOOKUP(Feuil1!O9,{"Oui",3;"Traces",2;"Non",1},2,0),"") | N32: =IFERROR(VLOOKUP(Feuil1!P9,{"Oui",3;"Traces",2;"Non",1},2,0),"") | O32: =IFERROR(VLOOKUP(Feuil1!Q9,{"Oui",3;"Traces",2;"Non",1},2,0),"") | P32: =IFERROR(VLOOKUP(Feuil1!R9,{"Oui",3;"Traces",2;"Non",1},2,0),"") | Q32: =IFERROR(VLOOKUP(Feuil1!S9,{"Oui",3;"Traces",2;"Non",1},2,0),"") | ... X32: =IFERROR(VLOOKUP(Feuil1!Z9,{"Oui",3;"Traces",2;"Non",1},2,0),"")
B33: Traces emporte sur non | J33: =IFERROR(VLOOKUP(Feuil1!L10,{"Oui",3;"Traces",2;"Non",1},2,0),"") | K33: =IFERROR(VLOOKUP(Feuil1!M10,{"Oui",3;"Traces",2;"Non",1},2,0),"") | L33: =IFERROR(VLOOKUP(Feuil1!N10,{"Oui",3;"Traces",2;"Non",1},2,0),"") | M33: =IFERROR(VLOOKUP(Feuil1!O10,{"Oui",3;"Traces",2;"Non",1},2,0),"") | N33: =IFERROR(VLOOKUP(Feuil1!P10,{"Oui",3;"Traces",2;"Non",1},2,0),"") | O33: =IFERROR(VLOOKUP(Feuil1!Q10,{"Oui",3;"Traces",2;"Non",1},2,0),"") | P33: =IFERROR(VLOOKUP(Feuil1!R10,{"Oui",3;"Traces",2;"Non",1},2,0),"") | Q33: =IFERROR(VLOOKUP(Feuil1!S10,{"Oui",3;"Traces",2;"Non",1},2,0),"") | ... X33: =IFERROR(VLOOKUP(Feuil1!Z10,{"Oui",3;"Traces",2;"Non",1},2,0),"")
B34: Oui>traces>non
