Workbook

Sheet Diagramme de Pareto Secteur
A1: Pignonnerie | AA1: Total
A2: Atelier | B2: 4270 | C2: 4244 | D2: 4243 | E2: 4251 | F2: 4546 | G2: 4240 | H2: 4254 | I2: 4245 | J2: 4256 | K2: 4274 | L2: 4573 | M2: 4271 | N2: 4260 | O2: 4262 | P2: 4272 | Q2: 4548 | R2: 4576 | S2: 4547 | T2: 4246 | U2: 4247 | V2: 4572 | W2: 4543 | X2: 4259 | Y2: 4273 | Z2: 4255
A3: KWh | B3: 58459.793 | C3: 35800.156 | D3: 34098.253 | E3: 23891.25 | F3: 23571.143 | G3: 18136.07 | H3: 16248.57 | I3: 16077.9 | J3: 12309.999 | K3: 10699.6 | L3: 9392.5 | M3: 9283.189 | N3: 7517.247 | O3: 6938.4 | P3: 5718.178 | Q3: 5059.215 | R3: 4884.1 | S3: 4583.972 | T3: 4221 | U3: 3856.745 | V3: 2160.275 | W3: 2088.133 | X3: 638.4 | Y3: 0 | Z3: 0 | AA3: =SUM(B3:Z3) -> 315634.09
A4: Pourcentage | B4: =(B$3/$AA$3) -> 0.18521381 | C4: =(C$3/$AA$3) -> 0.11342297 | D4: =(D$3/$AA$3) -> 0.10803096 | E4: =(E$3/$AA$3) -> 0.07569287 | F4: =(F$3/$AA$3) -> 0.074678699 | G4: =(G$3/$AA$3) -> 0.057459161 | H4: =(H$3/$AA$3) -> 0.051479136 | I4: =(I$3/$AA$3) -> 0.050938414 | ... AA4: =(AA$3/$AA$3) -> 1
A5: Pour' cumulé | B5: =B4 -> 0.18521381 | C5: =B5+C4 -> 0.29863678 | D5: =C5+D4 -> 0.40666774 | E5: =D5+E4 -> 0.48236061 | F5: =E5+F4 -> 0.55703931 | G5: =F5+G4 -> 0.61449847 | H5: =G5+H4 -> 0.66597761 | I5: =H5+I4 -> 0.71691602 | J5: =I5+J4 -> 0.75591688 | ... Z5: =Y5+Z4 -> 1
A33: Usinage | V33: Total
A34: Atelier | B34: 4157 | C34: 4158 | D34: 4156 | E34: 4177 | F34: 4153 | G34: 4172 | H34: Usi" R9M | I34: 4140 | J34: 4154 | K34: 4142 | L34: 4556 | M34: 4149 | N34: 4147 | O34: 4550 | P34: 4148 | Q34: 4150 | R34: 4145 | S34: 4174 | T34: 4152 | U34: 4178
A35: KWh | B35: 80170.28 | C35: 73489.695 | D35: 59898 | E35: 55333.6 | F35: 44883.18 | G35: 42247.5 | H35: 40709.3 | I35: 28773.18 | J35: 28567.942 | K35: 18440.79 | L35: 14199 | M35: 9644.209 | N35: 9379.787 | O35: 8768.6 | P35: 8587.96 | Q35: 7854 | R35: 4125 | S35: 3036.6 | T35: 0 | U35: 0 | V35: =SUM(B35:U35) -> 538108.62
A36: Pourcentage | B36: =B$35/$V$35 -> 0.14898531 | C36: =C$35/$V$35 -> 0.13657037 | D36: =D$35/$V$35 -> 0.1113121 | E36: =E$35/$V$35 -> 0.1028298 | F36: =F$35/$V$35 -> 0.083409145 | G36: =G$35/$V$35 -> 0.0785111 | H36: =H$35/$V$35 -> 0.075652569 | I36: =I$35/$V$35 -> 0.053470951 | ... V36: =V$35/$V$35 -> 1
A37: Pour' cumulé | B37: =B36 -> 0.14898531 | C37: =B37+C36 -> 0.28555568 | D37: =C37+D36 -> 0.39686778 | E37: =D37+E36 -> 0.49969758 | F37: =E37+F36 -> 0.58310672 | G37: =F37+G36 -> 0.66161782 | H37: =G37+H36 -> 0.73727039 | I37: =H37+I36 -> 0.79074134 | J37: =I37+J36 -> 0.84383089 | ... U37: =T37+U36 -> 1
A63: Assemblage | S63: Total
A64: Atelier | B64: 4189 | C64: 4190 | D64: 4187 | E64: 4192 | F64: 4186 | G64: Ass" R9M | H64: 4583 | I64: 4193 | J64: 4181 | K64: 4587 | L64: 4592 | M64: 4590 | N64: 4586 | O64: 4593 | P64: 4185 | Q64: 4591 | R64: 4582
A65: KWh | B65: 23523.3 | C65: 15500.98 | D65: 8781.752 | E65: 6140.255 | F65: 5081 | G65: 4486 | H65: 4209.8 | I65: 3710.2 | J65: 3385 | K65: 3123.4 | L65: 1678.5 | M65: 1572.9 | N65: 1449 | O65: 898.8 | P65: 0 | Q65: 0 | R65: 0 | S65: =SUM(B65:R65) -> 83540.887
A66: Pourcentage | B66: =B$65/$S$65 -> 0.28157829 | C66: =C$65/$S$65 -> 0.18554962 | D66: =D$65/$S$65 -> 0.10511921 | E66: =E$65/$S$65 -> 0.073499998 | F66: =F$65/$S$65 -> 0.060820518 | G66: =G$65/$S$65 -> 0.053698257 | H66: =H$65/$S$65 -> 0.050392091 | I66: =I$65/$S$65 -> 0.044411786 | ... S66: =S$65/$S$65 -> 1
A67: Pour' cumulé | B67: =B66 -> 0.28157829 | C67: =B67+C66 -> 0.46712791 | D67: =C67+D66 -> 0.57224712 | E67: =D67+E66 -> 0.64574712 | F67: =E67+F66 -> 0.70656764 | G67: =F67+G66 -> 0.76026589 | H67: =G67+H66 -> 0.81065798 | I67: =H67+I66 -> 0.85506977 | J67: =I67+J66 -> 0.89558885 | ... R67: =Q67+R66 -> 1

Sheet Extraits
A1: Pignonnerie | AA1: Total
A2: Atelier | B2: =IF('Diagramme de Pareto Secteur'!B$5<=0.65,'Diagramme de Pareto Secteur'!B2,"") -> 4270 | C2: =IF('Diagramme de Pareto Secteur'!C$5<=0.65,'Diagramme de Pareto Secteur'!C2,"") -> 4244 | D2: =IF('Diagramme de Pareto Secteur'!D$5<=0.65,'Diagramme de Pareto Secteur'!D2,"") -> 4243 | E2: =IF('Diagramme de Pareto Secteur'!E$5<=0.65,'Diagramme de Pareto Secteur'!E2,"") -> 4251 | F2: =IF('Diagramme de Pareto Secteur'!F$5<=0.65,'Diagramme de Pareto Secteur'!F2,"") -> 4546 | G2: =IF('Diagramme de Pareto Secteur'!G$5<=0.65,'Diagramme de Pareto Secteur'!G2,"") -> 4240 | H2: =IF('Diagramme de Pareto Secteur'!H$5<=0.65,'Diagramme de Pareto Secteur'!H2,"") | I2: =IF('Diagramme de Pareto Secteur'!I$5<=0.65,'Diagramme de Pareto Secteur'!I2,"") | ... Z2: =IF('Diagramme de Pareto Secteur'!Z$5<=0.65,'Diagramme de Pareto Secteur'!Z2,"")
A3: KWh | B3: =IF('Diagramme de Pareto Secteur'!B$5<=0.65,'Diagramme de Pareto Secteur'!B3,"") -> 58459.793 | C3: =IF('Diagramme de Pareto Secteur'!C$5<=0.65,'Diagramme de Pareto Secteur'!C3,"") -> 35800.156 | D3: =IF('Diagramme de Pareto Secteur'!D$5<=0.65,'Diagramme de Pareto Secteur'!D3,"") -> 34098.253 | E3: =IF('Diagramme de Pareto Secteur'!E$5<=0.65,'Diagramme de Pareto Secteur'!E3,"") -> 23891.25 | F3: =IF('Diagramme de Pareto Secteur'!F$5<=0.65,'Diagramme de Pareto Secteur'!F3,"") -> 23571.143 | G3: =IF('Diagramme de Pareto Secteur'!G$5<=0.65,'Diagramme de Pareto Secteur'!G3,"") -> 18136.07 | H3: =IF('Diagramme de Pareto Secteur'!H$5<=0.65,'Diagramme de Pareto Secteur'!H3,"") | I3: =IF('Diagramme de Pareto Secteur'!I$5<=0.65,'Diagramme de Pareto Secteur'!I3,"") | ... Z3: =IF('Diagramme de Pareto Secteur'!Z$5<=0.65,'Diagramme de Pareto Secteur'!Z3,"") | AA3: =SUM(B3:Z3) -> 193956.66
A4: Pourcentage | B4: =IF(B$3="","",B$3/$AA$3) -> 0.30140647 | C4: =IF(C$3="","",C$3/$AA$3) -> 0.18457812 | D4: =IF(D$3="","",D$3/$AA$3) -> 0.17580346 | E4: =IF(E$3="","",E$3/$AA$3) -> 0.12317829 | F4: =IF(F$3="","",F$3/$AA$3) -> 0.12152788 | G4: =IF(G$3="","",G$3/$AA$3) -> 0.093505784 | H4: =IF(H$3="","",H$3/$AA$3) | I4: =IF(I$3="","",I$3/$AA$3) | ... Z4: =IF(Z$3="","",Z$3/$AA$3) | AA4: =(AA$3/$AA$3) -> 1
A5: Pour' cumulé | B5: =B4 -> 0.30140647 | C5: =B5+C4 -> 0.48598458 | D5: =C5+D4 -> 0.66178804 | E5: =D5+E4 -> 0.78496633 | F5: =E5+F4 -> 0.90649422 | G5: =IF(G4="","",F5+G4) -> 1 | H5: =IF(H4="","",G5+H4) | I5: =IF(I4="","",H5+I4) | J5: =IF(J4="","",I5+J4) | K5: =IF(K4="","",J5+K4) | L5: =IF(L4="","",K5+L4) | M5: =IF(M4="","",L5+M4) | N5: =IF(N4="","",M5+N4) | ... Z5: =IF(Z4="","",Y5+Z4)
A33: Usinage | V33: Total
A34: Atelier | B34: =IF('Diagramme de Pareto Secteur'!B$5<=0.65,'Diagramme de Pareto Secteur'!B34,"") -> 4157 | C34: =IF('Diagramme de Pareto Secteur'!C$5<=0.65,'Diagramme de Pareto Secteur'!C34,"") -> 4158 | D34: =IF('Diagramme de Pareto Secteur'!D$5<=0.65,'Diagramme de Pareto Secteur'!D34,"") -> 4156 | E34: =IF('Diagramme de Pareto Secteur'!E$5<=0.65,'Diagramme de Pareto Secteur'!E34,"") -> 4177 | F34: =IF('Diagramme de Pareto Secteur'!F$5<=0.65,'Diagramme de Pareto Secteur'!F34,"") -> 4153 | G34: =IF('Diagramme de Pareto Secteur'!G$5<=0.65,'Diagramme de Pareto Secteur'!G34,"") -> 4172 | H34: =IF('Diagramme de Pareto Secteur'!H$5<=0.65,'Diagramme de Pareto Secteur'!H34,"") | I34: =IF('Diagramme de Pareto Secteur'!I$5<=0.65,'Diagramme de Pareto Secteur'!I34,"") | ... U34: =IF('Diagramme de Pareto Secteur'!U$5<=0.65,'Diagramme de Pareto Secteur'!U34,"")
A35: KWh | B35: =IF('Diagramme de Pareto Secteur'!B$5<=0.65,'Diagramme de Pareto Secteur'!B35,"") -> 80170.28 | C35: =IF('Diagramme de Pareto Secteur'!C$5<=0.65,'Diagramme de Pareto Secteur'!C35,"") -> 73489.695 | D35: =IF('Diagramme de Pareto Secteur'!D$5<=0.65,'Diagramme de Pareto Secteur'!D35,"") -> 59898 | E35: =IF('Diagramme de Pareto Secteur'!E$5<=0.65,'Diagramme de Pareto Secteur'!E35,"") -> 55333.6 | F35: =IF('Diagramme de Pareto Secteur'!F$5<=0.65,'Diagramme de Pareto Secteur'!F35,"") -> 44883.18 | G35: =IF('Diagramme de Pareto Secteur'!G$5<=0.65,'Diagramme de Pareto Secteur'!G35,"") -> 42247.5 | H35: =IF('Diagramme de Pareto Secteur'!H$5<=0.65,'Diagramme de Pareto Secteur'!H35,"") | I35: =IF('Diagramme de Pareto Secteur'!I$5<=0.65,'Diagramme de Pareto Secteur'!I35,"") | ... U35: =IF('Diagramme de Pareto Secteur'!U$5<=0.65,'Diagramme de Pareto Secteur'!U35,"") | V35: =SUM(B35:U35) -> 356022.25
A36: Pourcentage | B36: =IF(B$3="","",B$3/$AA$3) -> 0.30140647 | C36: =IF(C$3="","",C$3/$AA$3) -> 0.18457812 | D36: =IF(D$3="","",D$3/$AA$3) -> 0.17580346 | E36: =IF(E$3="","",E$3/$AA$3) -> 0.12317829 | F36: =IF(F$3="","",F$3/$AA$3) -> 0.12152788 | G36: =IF(G$3="","",G$3/$AA$3) -> 0.093505784 | H36: =IF(H$3="","",H$3/$AA$3) | I36: =IF(I$3="","",I$3/$AA$3) | ... U36: =IF(U$3="","",U$3/$AA$3) | V36: =V$35/$V$35 -> 1
A37: Pour' cumulé | B37: =B36 -> 0.30140647 | C37: =B37+C36 -> 0.48598458 | D37: =C37+D36 -> 0.66178804 | E37: =D37+E36 -> 0.78496633 | F37: =E37+F36 -> 0.90649422 | G37: =IF(G36="","",F37+G36) -> 1 | H37: =IF(H36="","",G37+H36) | I37: =IF(I36="","",H37+I36) | J37: =IF(J36="","",I37+J36) | K37: =IF(K36="","",J37+K36) | L37: =IF(L36="","",K37+L36) | M37: =IF(M36="","",L37+M36) | N37: =IF(N36="","",M37+N36) | ... U37: =IF(U36="","",T37+U36)
A63: Assemblage | S63: Total
A64: Atelier | B64: =IF('Diagramme de Pareto Secteur'!B$5<=0.65,'Diagramme de Pareto Secteur'!B64,"") -> 4189 | C64: =IF('Diagramme de Pareto Secteur'!C$5<=0.65,'Diagramme de Pareto Secteur'!C64,"") -> 4190 | D64: =IF('Diagramme de Pareto Secteur'!D$5<=0.65,'Diagramme de Pareto Secteur'!D64,"") -> 4187 | E64: =IF('Diagramme de Pareto Secteur'!E$5<=0.65,'Diagramme de Pareto Secteur'!E64,"") -> 4192 | F64: =IF('Diagramme de Pareto Secteur'!F$5<=0.65,'Diagramme de Pareto Secteur'!F64,"") -> 4186 | G64: =IF('Diagramme de Pareto Secteur'!G$5<=0.65,'Diagramme de Pareto Secteur'!G64,"") -> Ass" R9M | H64: =IF('Diagramme de Pareto Secteur'!H$5<=0.65,'Diagramme de Pareto Secteur'!H64,"") | I64: =IF('Diagramme de Pareto Secteur'!I$5<=0.65,'Diagramme de Pareto Secteur'!I64,"") | ... R64: =IF('Diagramme de Pareto Secteur'!R$5<=0.65,'Diagramme de Pareto Secteur'!R64,"")
A65: KWh | B65: =IF('Diagramme de Pareto Secteur'!B$5<=0.65,'Diagramme de Pareto Secteur'!B65,"") -> 23523.3 | C65: =IF('Diagramme de Pareto Secteur'!C$5<=0.65,'Diagramme de Pareto Secteur'!C65,"") -> 15500.98 | D65: =IF('Diagramme de Pareto Secteur'!D$5<=0.65,'Diagramme de Pareto Secteur'!D65,"") -> 8781.752 | E65: =IF('Diagramme de Pareto Secteur'!E$5<=0.65,'Diagramme de Pareto Secteur'!E65,"") -> 6140.255 | F65: =IF('Diagramme de Pareto Secteur'!F$5<=0.65,'Diagramme de Pareto Secteur'!F65,"") -> 5081 | G65: =IF('Diagramme de Pareto Secteur'!G$5<=0.65,'Diagramme de Pareto Secteur'!G65,"") -> 4486 | H65: =IF('Diagramme de Pareto Secteur'!H$5<=0.65,'Diagramme de Pareto Secteur'!H65,"") | I65: =IF('Diagramme de Pareto Secteur'!I$5<=0.65,'Diagramme de Pareto Secteur'!I65,"") | ... R65: =IF('Diagramme de Pareto Secteur'!R$5<=0.65,'Diagramme de Pareto Secteur'!R65,"") | S65: =SUM(B65:R65) -> 63513.287
A66: Pourcentage | B66: =IF(B$3="","",B$3/$AA$3) -> 0.30140647 | C66: =IF(C$3="","",C$3/$AA$3) -> 0.18457812 | D66: =IF(D$3="","",D$3/$AA$3) -> 0.17580346 | E66: =IF(E$3="","",E$3/$AA$3) -> 0.12317829 | F66: =IF(F$3="","",F$3/$AA$3) -> 0.12152788 | G66: =IF(G$3="","",G$3/$AA$3) -> 0.093505784 | H66: =IF(H$3="","",H$3/$AA$3) | I66: =IF(I$3="","",I$3/$AA$3) | ... R66: =IF(R$3="","",R$3/$AA$3) | S66: =S$65/$S$65 -> 1
A67: Pour' cumulé | B67: =B66 -> 0.30140647 | C67: =B67+C66 -> 0.48598458 | D67: =C67+D66 -> 0.66178804 | E67: =D67+E66 -> 0.78496633 | F67: =E67+F66 -> 0.90649422 | G67: =IF(G66="","",F67+G66) -> 1 | H67: =IF(H66="","",G67+H66) | I67: =IF(I66="","",H67+I66) | J67: =IF(J66="","",I67+J66) | K67: =IF(K66="","",J67+K66) | L67: =IF(L66="","",K67+L66) | M67: =IF(M66="","",L67+M66) | N67: =IF(N66="","",M67+N66) | ... R67: =IF(R66="","",Q67+R66)
