Workbook
Name ASDjour: TRAME!$B$22:$AF$33
Name ASDnuit: TRAME!#REF!
Name dates: TRAME!$B$6:$AF$7
Name IDEjour: TRAME!$B$9:$AF$20
Name IDEnuit: TRAME!#REF!

Sheet TRAME
A1: date = | B1: 42186 | D1: 2015
A2: service = | B2: SSR
B4: ="semaine"&INDEX(corresp!$D:$D,MATCH(B6,corresp!$A:$A,0)) -> semaineF | C4: ="semaine"&INDEX(corresp!$D:$D,MATCH(C6,corresp!$A:$A,0)) -> semaineF | D4: ="semaine"&INDEX(corresp!$D:$D,MATCH(D6,corresp!$A:$A,0)) -> semaineF | E4: ="semaine"&INDEX(corresp!$D:$D,MATCH(E6,corresp!$A:$A,0)) -> semaineF | F4: ="semaine"&INDEX(corresp!$D:$D,MATCH(F6,corresp!$A:$A,0)) -> semaineG | G4: ="semaine"&INDEX(corresp!$D:$D,MATCH(G6,corresp!$A:$A,0)) -> semaineG | H4: ="semaine"&INDEX(corresp!$D:$D,MATCH(H6,corresp!$A:$A,0)) -> semaineG | I4: ="semaine"&INDEX(corresp!$D:$D,MATCH(I6,corresp!$A:$A,0)) -> semaineG | ... AF4: ="semaine"&INDEX(corresp!$D:$D,MATCH(AF6,corresp!$A:$A,0)) -> semaineC
A5: =CONCATENATE("Service"," ",B2," ",TEXT(B1,"mmmm"), " ",$D$1) -> Service SSR juillet 2015
A6: Date | B6: =$B$1 -> 42186 | C6: =B6+1 -> 42187 | D6: =C6+1 -> 42188 | E6: =D6+1 -> 42189 | F6: =E6+1 -> 42190 | G6: =F6+1 -> 42191 | H6: =G6+1 -> 42192 | I6: =H6+1 -> 42193 | J6: =I6+1 -> 42194 | ... AC6: =AB6+1 -> 42213 | AD6: =IF(AC6<>"",IF(MONTH(AC6)=MONTH(AC6+1),AC6+1,""),"") -> 42214 | AE6: =IF(AD6<>"",IF(MONTH(AD6)=MONTH(AD6+1),AD6+1,""),"") -> 42215 | AF6: =IF(AE6<>"",IF(MONTH(AE6)=MONTH(AE6+1),AE6+1,""),"") -> 42216
B7: =B6 -> 42186 | C7: =B7+1 -> 42187 | D7: =C7+1 -> 42188 | E7: =D7+1 -> 42189 | F7: =E7+1 -> 42190 | G7: =F7+1 -> 42191 | H7: =G7+1 -> 42192 | I7: =H7+1 -> 42193 | J7: =I7+1 -> 42194 | ... AF7: =AE7+1 -> 42216
A8: IDE JOUR
A9: Julie | B9: =IF(INDIRECT("CYCLES!"&ADDRESS(MATCH($A9,CYCLES!$B:$B,0),MATCH(B$4,CYCLES!$2:$2,0)+WEEKDAY(B$6)-1))=0,"",INDIRECT("CYCLES!"&ADDRESS(MATCH($A9,CYCLES!$B:$B,0),MATCH(B$4,CYCLES!$2:$2,0)+WEEKDAY(B$6)-1))) -> sem1 | C9: =IF(INDIRECT("CYCLES!"&ADDRESS(MATCH($A9,CYCLES!$B:$B,0),MATCH(C$4,CYCLES!$2:$2,0)+WEEKDAY(C$6)-1))=0,"",INDIRECT("CYCLES!"&ADDRESS(MATCH($A9,CYCLES!$B:$B,0),MATCH(C$4,CYCLES!$2:$2,0)+WEEKDAY(C$6)-1))) | D9: =IF(INDIRECT("CYCLES!"&ADDRESS(MATCH($A9,CYCLES!$B:$B,0),MATCH(D$4,CYCLES!$2:$2,0)+WEEKDAY(D$6)-1))=0,"",INDIRECT("CYCLES!"&ADDRESS(MATCH($A9,CYCLES!$B:$B,0),MATCH(D$4,CYCLES!$2:$2,0)+WEEKDAY(D$6)-1))) -> 19H-7H15 | E9: =VLOOKUP(E$6,corresp!$A$1:$E$366,5,FALSE) -> samediF | F9: =VLOOKUP(F$6,corresp!$A$1:$E$366,5,FALSE) -> dimancheG | G9: =VLOOKUP(G$6,corresp!$A$1:$E$366,5,FALSE) -> lundiG | H9: =VLOOKUP(H$6,corresp!$A$1:$E$366,5,FALSE) -> mardiG | I9: =VLOOKUP(I$6,corresp!$A$1:$E$366,5,FALSE) -> mercrediG | J9: =VLOOKUP(J$6,corresp!$A$1:$E$366,5,FALSE) -> jeudiG | K9: =VLOOKUP(K$6,corresp!$A$1:$E$366,5,FALSE) -> vendrediG | L9: =VLOOKUP(L$6,corresp!$A$1:$E$366,5,FALSE) -> samediG | ... AF9: =VLOOKUP(AF$6,corresp!$A$1:$E$366,5,FALSE) -> vendrediC
A12: Jean | B12: =IF(INDIRECT("CYCLES!"&ADDRESS(MATCH($A12,CYCLES!$B:$B,0),MATCH(B$4,CYCLES!$2:$2,0)+WEEKDAY(B$6)-1))=0,"",INDIRECT("CYCLES!"&ADDRESS(MATCH($A12,CYCLES!$B:$B,0),MATCH(B$4,CYCLES!$2:$2,0)+WEEKDAY(B$6)-1))) -> sem7 | C12: =IF(INDIRECT("CYCLES!"&ADDRESS(MATCH($A12,CYCLES!$B:$B,0),MATCH(C$4,CYCLES!$2:$2,0)+WEEKDAY(C$6)-1))=0,"",INDIRECT("CYCLES!"&ADDRESS(MATCH($A12,CYCLES!$B:$B,0),MATCH(C$4,CYCLES!$2:$2,0)+WEEKDAY(C$6)-1))) | D12: =IF(INDIRECT("CYCLES!"&ADDRESS(MATCH($A12,CYCLES!$B:$B,0),MATCH(D$4,CYCLES!$2:$2,0)+WEEKDAY(D$6)-1))=0,"",INDIRECT("CYCLES!"&ADDRESS(MATCH($A12,CYCLES!$B:$B,0),MATCH(D$4,CYCLES!$2:$2,0)+WEEKDAY(D$6)-1)))
A15: Christine | B15: =IF(INDIRECT("CYCLES!"&ADDRESS(MATCH($A15,CYCLES!$B:$B,0),MATCH(B$4,CYCLES!$2:$2,0)+WEEKDAY(B$6)-1))=0,"",INDIRECT("CYCLES!"&ADDRESS(MATCH($A15,CYCLES!$B:$B,0),MATCH(B$4,CYCLES!$2:$2,0)+WEEKDAY(B$6)-1)))
A16: =IF(A15=0,"0","")
A17: =IF(A15=0,"0","")
A18: sébastien | B18: =IF(INDIRECT("CYCLES!"&ADDRESS(MATCH($A18,CYCLES!$B:$B,0),MATCH(B$4,CYCLES!$2:$2,0)+WEEKDAY(B$6)-1))=0,"",INDIRECT("CYCLES!"&ADDRESS(MATCH($A18,CYCLES!$B:$B,0),MATCH(B$4,CYCLES!$2:$2,0)+WEEKDAY(B$6)-1))) -> sem7
A19: =IF(A18="0","0","")
A20: =IF(A18="0","0","")
A21: =IF(TRAME!$B$2=[1]liste_Noms!$H$1,"0","ASD JOUR") -> ASD JOUR
A22: brigitte | B22: =IF(INDIRECT("CYCLES!"&ADDRESS(MATCH($A22,CYCLES!$B:$B,0),MATCH(B$4,CYCLES!$2:$2,0)+WEEKDAY(B$6)-1))=0,"",INDIRECT("CYCLES!"&ADDRESS(MATCH($A22,CYCLES!$B:$B,0),MATCH(B$4,CYCLES!$2:$2,0)+WEEKDAY(B$6)-1))) -> 19H-7H15
A23: =IF(A22=0,"0","")
A24: =IF(A22=0,"0","")
A25: marie-francois | B25: =IF(INDIRECT("CYCLES!"&ADDRESS(MATCH($A25,CYCLES!$B:$B,0),MATCH(B$4,CYCLES!$2:$2,0)+WEEKDAY(B$6)-1))=0,"",INDIRECT("CYCLES!"&ADDRESS(MATCH($A25,CYCLES!$B:$B,0),MATCH(B$4,CYCLES!$2:$2,0)+WEEKDAY(B$6)-1)))
A26: =IF(A25=0,"0","")
A27: =IF(A25=0,"0","")
A28: cécile | B28: =IF(INDIRECT("CYCLES!"&ADDRESS(MATCH($A28,CYCLES!$B:$B,0),MATCH(B$4,CYCLES!$2:$2,0)+WEEKDAY(B$6)-1))=0,"",INDIRECT("CYCLES!"&ADDRESS(MATCH($A28,CYCLES!$B:$B,0),MATCH(B$4,CYCLES!$2:$2,0)+WEEKDAY(B$6)-1)))
A29: =IF(A28=0,"0","")
A30: =IF(A28=0,"0","")
A31: samia | B31: =IF(INDIRECT("CYCLES!"&ADDRESS(MATCH($A31,CYCLES!$B:$B,0),MATCH(B$4,CYCLES!$2:$2,0)+WEEKDAY(B$6)-1))=0,"",INDIRECT("CYCLES!"&ADDRESS(MATCH($A31,CYCLES!$B:$B,0),MATCH(B$4,CYCLES!$2:$2,0)+WEEKDAY(B$6)-1)))
A32: =IF(A31=0,"0","")
A33: =IF(A31=0,"0","")
A34: =IF(OR($B$2=[1]liste_Noms!$B$1,$B$2=[1]liste_Noms!$E$1),"","0") -> 0 | B34: =IF($B$2=[1]liste_Noms!$B$1,"CHIMIO", IF($B$2=[1]liste_Noms!$E$1,"S.A.S", "0")) -> 0
A35: =IF($B$2=[1]liste_Noms!$B$1,[1]liste_Noms!$I$2,IF($B$2=[1]liste_Noms!$E$1,[1]liste_Noms!$J$2,"0")) -> 0
A36: =IF(B34 = "0","0","") -> 0
A37: =IF(B34="0","0","") -> 0
A38: =IF($B$2=[1]liste_Noms!$B$1,[1]liste_Noms!$I$3,IF($B$2=[1]liste_Noms!$E$1,[1]liste_Noms!$J$3,"0")) -> 0
A39: =IF(B34="0","0","") -> 0
A40: =IF(B34="0","0","") -> 0
B41: =IF(OR($B$2=[1]liste_Noms!$E$1, $B$2=[1]liste_Noms!$H$1),"0","IDE NUIT") -> IDE NUIT
A42: brigitte
A45: samia

Sheet CYCLES
C2: semaineA | J2: semaineB | Q2: semaineC | X2: semaineD | AE2: semaineE | AL2: semaineF | AS2: semaineG
C3: Dimanche | D3: Lundi | E3: Mardi | F3: Mercredi | G3: Jeudi | H3: Vendredi | I3: Samedi | J3: Dimanche | K3: Lundi | L3: Mardi | M3: Mercredi | N3: Jeudi | O3: Vendredi | P3: Samedi | Q3: Dimanche | R3: Lundi | S3: Mardi | T3: Mercredi | U3: Jeudi | V3: Vendredi | W3: Samedi | X3: Dimanche | Y3: Lundi | Z3: Mardi | AA3: Mercredi | AB3: Jeudi | AC3: Vendredi | AD3: Samedi | AE3: Dimanche | AF3: Lundi | AG3: Mardi | AH3: Mercredi | AI3: Jeudi | AJ3: Vendredi | AK3: Samedi | AL3: Dimanche | AM3: Lundi | AN3: Mardi | AO3: Mercredi | AP3: Jeudi | AQ3: Vendredi | AR3: Samedi | AS3: Dimanche | AT3: Lundi | AU3: Mardi | AV3: Mercredi | AW3: Jeudi | AX3: Vendredi | AY3: Samedi
B4: Julie | D4: 19H-7H15 | E4: 19H-7H15 | F4: sem3 | H4: 19H-7H15 | I4: 19H-7H15 | J4: 19H-7H15 | L4: sem4 | M4: 19H-7H15 | N4: 19H-7H15 | R4: 19H-7H15 | S4: 19H-7H15 | T4: sem5 | V4: 19H-7H15 | W4: 19H-7H15 | X4: 19H-7H15 | Z4: sem6 | AA4: 19H-7H15 | AB4: 19H-7H15 | AH4: sem7 | AM4: 19H-7H15 | AN4: 19H-7H15 | AO4: sem1 | AQ4: 19H-7H15 | AR4: 19H-7H15 | AS4: 19H-7H15 | AU4: sem2 | AV4: 19H-7H15 | AW4: 19H-7H15
B5: Jean | C5: 19H-7H15 | E5: sem2 | F5: 19H-7H15 | G5: 19H-7H15 | K5: 19H-7H15 | L5: 19H-7H15 | M5: sem3 | O5: 19H-7H15 | P5: 19H-7H15 | Q5: 19H-7H15 | S5: sem4 | T5: 19H-7H15 | U5: 19H-7H15 | Y5: 19H-7H15 | Z5: 19H-7H15 | AA5: sem5 | AC5: 19H-7H15 | AD5: 19H-7H15 | AE5: 19H-7H15 | AG5: sem6 | AH5: 19H-7H15 | AI5: 19H-7H15 | AO5: sem7 | AT5: 19H-7H15 | AU5: 19H-7H15 | AV5: sem1 | AX5: 19H-7H15 | AY5: 19H-7H15
B6: Christine
B7: sébastien | C7: 19H-7H15 | E7: sem2 | F7: 19H-7H15 | G7: 19H-7H15 | K7: 19H-7H15 | L7: 19H-7H15 | M7: sem3 | O7: 19H-7H15 | P7: 19H-7H15 | Q7: 19H-7H15 | S7: sem4 | T7: 19H-7H15 | U7: 19H-7H15 | Y7: 19H-7H15 | Z7: 19H-7H15 | AA7: sem5 | AC7: 19H-7H15 | AD7: 19H-7H15 | AE7: 19H-7H15 | AG7: sem6 | AH7: 19H-7H15 | AI7: 19H-7H15 | AO7: sem7 | AT7: 19H-7H15 | AU7: 19H-7H15 | AV7: sem1 | AX7: 19H-7H15 | AY7: 19H-7H15
A8: référence | B8: brigitte | D8: 19H-7H15 | E8: 19H-7H15 | F8: sem1 | H8: 19H-7H15 | I8: 19H-7H15 | J8: 19H-7H15 | L8: sem2 | M8: 19H-7H15 | N8: 19H-7H15 | R8: 19H-7H15 | S8: 19H-7H15 | T8: sem3 | V8: 19H-7H15 | W8: 19H-7H15 | X8: 19H-7H15 | Z8: sem4 | AA8: 19H-7H15 | AB8: 19H-7H15 | AF8: 19H-7H15 | AG8: 19H-7H15 | AH8: sem5 | AJ8: 19H-7H15 | AK8: 19H-7H15 | AL8: 19H-7H15 | AN8: sem6 | AO8: 19H-7H15 | AP8: 19H-7H15 | AV8: sem7
B9: marie louise | F9: sem7 | K9: 19H-7H15 | L9: 19H-7H15 | M9: sem1 | O9: 19H-7H15 | P9: 19H-7H15 | Q9: 19H-7H15 | S9: sem2 | T9: 19H-7H15 | U9: 19H-7H15 | Y9: 19H-7H15 | Z9: 19H-7H15 | AA9: sem3 | AC9: 19H-7H15 | AD9: 19H-7H15 | AE9: 19H-7H15 | AG9: sem4 | AH9: 19H-7H15 | AI9: 19H-7H15 | AM9: 19H-7H15 | AN9: 19H-7H15 | AO9: sem5 | AQ9: 19H-7H15 | AR9: 19H-7H15 | AS9: 19H-7H15 | AU9: sem6 | AV9: 19H-7H15 | AW9: 19H-7H15
B11: brigitte | D11: 7H-19H15 | F11: sem1 | H11: 7H-19H15 | I11: 7H-19H15 | J11: 7H-19H15 | L11: sem2 | M11: 7H-19H15 | N11: 7H-19H15
B12: marie-francois | C12: 7H-19H15 | E12: sem2 | F12: 7H-19H15 | G12: 7H-19H15 | K12: 7H-19H15 | M12: sem1 | O12: 7H-19H15 | P12: 7H-19H15
B14: cécile | E14: sem3 | H14: 7H-19H15 | I14: 7H-19H15 | J14: 7H-19H15 | L14: sem4 | M14: 7H-19H15 | N14: 7H-19H15 | R14: sem1 | S14: 7H-19H15 | T14: 7H-19H15 | W14: 7H-19H15 | X14: 7H-19H15 | Y14: 7H-19H15 | Z14: sem2 | AB14: 7H-19H15 | AC14: 7H-19H15
B15: samia | C15: 7H-19H15 | E15: sem4 | F15: 7H-19H15 | G15: 7H-19H15 | K15: sem1 | L15: 7H-19H15 | M15: 7H-19H15 | P15: 7H-19H15 | Q15: 7H-19H15 | S15: sem4 | T15: 7H-19H15 | U15: 7H-19H15 | Y15: sem1 | Z15: 7H-19H15 | AA15: 7H-19H15 | AD15: 7H-19H15

Sheet corresp
A1: dates | B1: jour | C1: jour de semaine | D1: Cycles à 7 | E1: concaténé
A2: 42005 | B2: =WEEKDAY(A2,2) -> 4 | C2: =IF(B2=1,"lundi",IF(B2=2,"mardi",IF(B2=3,"mercredi",IF(B2=4,"jeudi",IF(B2=5,"vendredi",IF(B2=6,"samedi",IF(B2=7,"dimanche",""))))))) -> jeudi | D2: A | E2: =CONCATENATE(C2,D2) -> jeudiA
A3: 42006 | B3: =WEEKDAY(A3,2) -> 5 | C3: =IF(B3=1,"lundi",IF(B3=2,"mardi",IF(B3=3,"mercredi",IF(B3=4,"jeudi",IF(B3=5,"vendredi",IF(B3=6,"samedi",IF(B3=7,"dimanche",""))))))) -> vendredi | D3: A | E3: =CONCATENATE(C3,D3) -> vendrediA
A4: 42007 | B4: =WEEKDAY(A4,2) -> 6 | C4: =IF(B4=1,"lundi",IF(B4=2,"mardi",IF(B4=3,"mercredi",IF(B4=4,"jeudi",IF(B4=5,"vendredi",IF(B4=6,"samedi",IF(B4=7,"dimanche",""))))))) -> samedi | D4: A | E4: =CONCATENATE(C4,D4) -> samediA
A5: 42008 | B5: =WEEKDAY(A5,2) -> 7 | C5: =IF(B5=1,"lundi",IF(B5=2,"mardi",IF(B5=3,"mercredi",IF(B5=4,"jeudi",IF(B5=5,"vendredi",IF(B5=6,"samedi",IF(B5=7,"dimanche",""))))))) -> dimanche | D5: B | E5: =CONCATENATE(C5,D5) -> dimancheB
A6: 42009 | B6: =WEEKDAY(A6,2) -> 1 | C6: =IF(B6=1,"lundi",IF(B6=2,"mardi",IF(B6=3,"mercredi",IF(B6=4,"jeudi",IF(B6=5,"vendredi",IF(B6=6,"samedi",IF(B6=7,"dimanche",""))))))) -> lundi | D6: B | E6: =CONCATENATE(C6,D6) -> lundiB
A7: 42010 | B7: =WEEKDAY(A7,2) -> 2 | C7: =IF(B7=1,"lundi",IF(B7=2,"mardi",IF(B7=3,"mercredi",IF(B7=4,"jeudi",IF(B7=5,"vendredi",IF(B7=6,"samedi",IF(B7=7,"dimanche",""))))))) -> mardi | D7: B | E7: =CONCATENATE(C7,D7) -> mardiB
A8: 42011 | B8: =WEEKDAY(A8,2) -> 3 | C8: =IF(B8=1,"lundi",IF(B8=2,"mardi",IF(B8=3,"mercredi",IF(B8=4,"jeudi",IF(B8=5,"vendredi",IF(B8=6,"samedi",IF(B8=7,"dimanche",""))))))) -> mercredi | D8: B | E8: =CONCATENATE(C8,D8) -> mercrediB
A9: 42012 | B9: =WEEKDAY(A9,2) -> 4 | C9: =IF(B9=1,"lundi",IF(B9=2,"mardi",IF(B9=3,"mercredi",IF(B9=4,"jeudi",IF(B9=5,"vendredi",IF(B9=6,"samedi",IF(B9=7,"dimanche",""))))))) -> jeudi | D9: B | E9: =CONCATENATE(C9,D9) -> jeudiB
A10: 42013 | B10: =WEEKDAY(A10,2) -> 5 | C10: =IF(B10=1,"lundi",IF(B10=2,"mardi",IF(B10=3,"mercredi",IF(B10=4,"jeudi",IF(B10=5,"vendredi",IF(B10=6,"samedi",IF(B10=7,"dimanche",""))))))) -> vendredi | D10: B | E10: =CONCATENATE(C10,D10) -> vendrediB
A11: 42014 | B11: =WEEKDAY(A11,2) -> 6 | C11: =IF(B11=1,"lundi",IF(B11=2,"mardi",IF(B11=3,"mercredi",IF(B11=4,"jeudi",IF(B11=5,"vendredi",IF(B11=6,"samedi",IF(B11=7,"dimanche",""))))))) -> samedi | D11: B | E11: =CONCATENATE(C11,D11) -> samediB
A12: 42015 | B12: =WEEKDAY(A12,2) -> 7 | C12: =IF(B12=1,"lundi",IF(B12=2,"mardi",IF(B12=3,"mercredi",IF(B12=4,"jeudi",IF(B12=5,"vendredi",IF(B12=6,"samedi",IF(B12=7,"dimanche",""))))))) -> dimanche | D12: C | E12: =CONCATENATE(C12,D12) -> dimancheC
A13: 42016 | B13: =WEEKDAY(A13,2) -> 1 | C13: =IF(B13=1,"lundi",IF(B13=2,"mardi",IF(B13=3,"mercredi",IF(B13=4,"jeudi",IF(B13=5,"vendredi",IF(B13=6,"samedi",IF(B13=7,"dimanche",""))))))) -> lundi | D13: C | E13: =CONCATENATE(C13,D13) -> lundiC
... A366: 42369 | B366: =WEEKDAY(A366,2) -> 4 | C366: =IF(B366=1,"lundi",IF(B366=2,"mardi",IF(B366=3,"mercredi",IF(B366=4,"jeudi",IF(B366=5,"vendredi",IF(B366=6,"samedi",IF(B366=7,"dimanche",""))))))) -> jeudi | D366: D | E366: =CONCATENATE(C366,D366) -> jeudiD
