Workbook

Sheet Stock
A2: Index | B2: Date Achat | C2: References | D2: Quantité | E2: Stock Départ | F2: Désignation | G2: Fournisseur | H2: Alerte
A3: 1 | B3: 42005 | D3: =E3-SUM(INDIRECT("Feuil2!"&ADDRESS(2,MATCH(F3,Feuil2!$1:$1,0),4)&":"&ADDRESS(100,MATCH(F3,Feuil2!$1:$1,0),4))) -> 13 | E3: 20 | F3: Fond 50 | G3: Euro case | H3: =IF(D3<=7,"A commander","")
A4: 2 | B4: 42005 | D4: =E4-SUM(INDIRECT("Feuil2!"&ADDRESS(2,MATCH(F4,Feuil2!$1:$1,0),4)&":"&ADDRESS(100,MATCH(F4,Feuil2!$1:$1,0),4))) -> 14 | E4: 20 | F4: Couronne 50 | G4: Euro case | H4: =IF(D4<=7,"A commander","")
A5: 3 | B5: 42005 | D5: =E5-SUM(INDIRECT("Feuil2!"&ADDRESS(2,MATCH(F5,Feuil2!$1:$1,0),4)&":"&ADDRESS(100,MATCH(F5,Feuil2!$1:$1,0),4))) -> 19 | E5: 20 | F5: Sanitaire 27 | G5: Euro case | H5: =IF(D5<=7,"A commander","")
A6: 4 | B6: 42005 | D6: =E6-SUM(INDIRECT("Feuil2!"&ADDRESS(2,MATCH(F6,Feuil2!$1:$1,0),4)&":"&ADDRESS(100,MATCH(F6,Feuil2!$1:$1,0),4))) -> 17 | E6: 20 | F6: Sanitaire 15 | G6: Euro case | H6: =IF(D6<=7,"A commander","")
A7: 5 | B7: 42005 | D7: =E7-SUM(INDIRECT("Feuil2!"&ADDRESS(2,MATCH(F7,Feuil2!$1:$1,0),4)&":"&ADDRESS(100,MATCH(F7,Feuil2!$1:$1,0),4))) -> 19 | E7: 20 | F7: Couronne 196 | G7: Euro case | H7: =IF(D7<=7,"A commander","")
A8: 6 | B8: 42005 | D8: =E8-SUM(INDIRECT("Feuil2!"&ADDRESS(2,MATCH(F8,Feuil2!$1:$1,0),4)&":"&ADDRESS(100,MATCH(F8,Feuil2!$1:$1,0),4))) -> 19 | E8: 20 | F8: Sanitaire 196 | G8: Euro case | H8: =IF(D8<=7,"A commander","")
A9: 7 | B9: 42005 | D9: =E9-SUM(INDIRECT("Feuil2!"&ADDRESS(2,MATCH(F9,Feuil2!$1:$1,0),4)&":"&ADDRESS(100,MATCH(F9,Feuil2!$1:$1,0),4))) -> 19 | E9: 20 | F9: Fond 176 | G9: Euro case | H9: =IF(D9<=7,"A commander","")
A10: 8 | B10: 42005 | D10: =E10-SUM(INDIRECT("Feuil2!"&ADDRESS(2,MATCH(F10,Feuil2!$1:$1,0),4)&":"&ADDRESS(100,MATCH(F10,Feuil2!$1:$1,0),4))) -> 19 | E10: 20 | F10: Couronne 176 | G10: Euro case | H10: =IF(D10<=7,"A commander","")
A11: 9 | B11: 42005 | D11: =E11-SUM(INDIRECT("Feuil2!"&ADDRESS(2,MATCH(F11,Feuil2!$1:$1,0),4)&":"&ADDRESS(100,MATCH(F11,Feuil2!$1:$1,0),4))) -> 19 | E11: 20 | F11: Sanitaire 176 | G11: Euro case | H11: =IF(D11<=7,"A commander","")
A12: 10 | B12: 42005 | D12: =E12-SUM(INDIRECT("Feuil2!"&ADDRESS(2,MATCH(F12,Feuil2!$1:$1,0),4)&":"&ADDRESS(100,MATCH(F12,Feuil2!$1:$1,0),4))) -> 19 | E12: 20 | F12: Sanitaire 27 pente | G12: Euro case | H12: =IF(D12<=7,"A commander","")
A13: 11 | B13: 42005 | D13: =E13-SUM(INDIRECT("Feuil2!"&ADDRESS(2,MATCH(F13,Feuil2!$1:$1,0),4)&":"&ADDRESS(100,MATCH(F13,Feuil2!$1:$1,0),4))) -> 20 | E13: 20 | F13: Fond 156 | G13: Euro case | H13: =IF(D13<=7,"A commander","")
A14: 12 | B14: 42005 | D14: =E14-SUM(INDIRECT("Feuil2!"&ADDRESS(2,MATCH(F14,Feuil2!$1:$1,0),4)&":"&ADDRESS(100,MATCH(F14,Feuil2!$1:$1,0),4))) -> 20 | E14: 20 | F14: Couronne 156 | G14: Euro case | H14: =IF(D14<=7,"A commander","")
... A18: 16 | B18: 42005 | D18: =E18-SUM(INDIRECT("Feuil2!"&ADDRESS(2,MATCH(F18,Feuil2!$1:$1,0),4)&":"&ADDRESS(100,MATCH(F18,Feuil2!$1:$1,0),4))) -> 19 | E18: 20 | F18: Monobloc | G18: Euro case | H18: =IF(D18<=7,"A commander","")
A19: 17 | B19: 42005 | F19: Dalle 78 | G19: Euro case | H19: =IF(D19<=12,"A commander","") -> A commander
A20: 18 | B20: 42005 | F20: Dalle 81 | G20: Euro case | H20: =IF(D20<=12,"A commander","") -> A commander
A21: 19 | B21: 42005 | F21: Dalle 83 | G21: Euro case | H21: =IF(D21<=20,"A commander","") -> A commander
A22: 20 | B22: 42005 | G22: Euro case | H22: =IF(D22<=4,"A commander","") -> A commander
A23: 21 | B23: 42005 | G23: Euro case | H23: =IF(D23<=2,"A commander","") -> A commander
A24: 22 | B24: 42005 | H24: =IF(D24<=2,"A commander","") -> A commander
A25: 23 | H25: =IF(D25<=2,"A commander","") -> A commander
A26: 24 | H26: =IF(D26<=2,"A commander","") -> A commander
A27: 25 | H27: =IF(D27<=2,"A commander","") -> A commander
A28: 26 | H28: =IF(D28<=2,"A commander","") -> A commander
A29: 27 | H29: =IF(D29<=2,"A commander","") -> A commander
A30: 28 | H30: =IF(D30<=2,"A commander","") -> A commander
A31: 29 | H31: =IF(D31<=2,"A commander","") -> A commander
A32: 30 | H32: =IF(D32<=2,"A commander","") -> A commander
A33: 31 | H33: =IF(D33<=2,"A commander","") -> A commander
A34: 32 | H34: =IF(D34<=2,"A commander","") -> A commander
A35: 33 | H35: =IF(D35<=2,"A commander","") -> A commander
A36: 34 | H36: =IF(D36<=2,"A commander","") -> A commander
... A52: 50 | H52: =IF(D52<=2,"A commander","") -> A commander

Sheet Feuil2
A1: Index | B1: Date | C1: Cimetière | D1: Nom | E1: Fond 50 | F1: Couronne 50 | G1: Sanitaire 27 | H1: Sanitaire 15 | I1: Monobloc | J1: Couronne 196 | K1: Sanitaire 196 | L1: Fond 176 | M1: Couronne 176 | N1: Sanitaire 176 | O1: Sanitaire 27 pente | P1: Fond 156 | Q1: Couronne 156 | R1: Sanitaire 156 | S1: Couvercle 237 | T1: Couvercle 200 | U1: Dalle 78 | V1: Dalle 81 | W1: Dalle 83
A2: 1 | E2: 1 | F2: 1 | G2: 1 | S2: 1
A3: 2 | E3: 1 | F3: 2 | H3: 1 | S3: 1
A4: 3 | E4: 1 | F4: 1 | H4: 1 | S4: 1
A5: 4 | E5: 1 | F5: 1 | H5: 1 | S5: 1
A6: 5 | I6: 1 | S6: 1
A7: 6 | E7: 2 | J7: 1 | K7: 1 | T7: 1
A8: 7 | L8: 1 | M8: 1 | N8: 1 | T8: 3
A9: 8 | E9: 1 | F9: 1 | O9: 1 | T9: 1
A10: 9
A11: 10
A12: 11
A13: 12
A14: 13
A15: 14
A16: 15
A17: 16
A18: 17
A19: 18
A20: 19
A21: 20
... A101: 100
