Workbook
Name chtSem: INDIRECT("Data_TAD1!"&"A"&MATCH(WEEKNUM(Data_TAD1!$H$34,1),Data_TAD1!$A$3:$A$54,0)+2&":"&"A"&MATCH(WEEKNUM(Data_TAD1!$H$34,1),Data_TAD1!$A$3:$A$54,0)+13)
Name chtTxAppel: OFFSET(chtSem,0,3)

Sheet TAD1
A1: Choisir semaine : | E1: 2 | K1: Choisir Mois : | O1: Janvier | V1: https://forum.excel-pratique.com/viewtopic.php?f=2&t=102081
A2: ="Semaine N° "&E1&" "&A3 -> Semaine N° 2 du 08/01 au 14/01 | K2: ="Mois "&O1&" "&K3 -> Mois Janvier de 01/01 au 31/01
A3: ="du "&VLOOKUP(E1,Data_TAD1!A3:F54,5,FALSE) -> du 08/01 au 14/01 | K3: ="de "&VLOOKUP(O1,Data_TAD1!G3:L14,5,FALSE) -> de 01/01 au 31/01
A4: =Data_TAD1!A1&" par semaine" -> Taux d’appel décroché par semaine | K4: =Data_TAD1!A1&" par mois" -> Taux d’appel décroché par mois
A6: Référence | E6: ="CANuM_"&MID(CELL("nomfichier"),FIND("]",CELL("nomfichier"))+1,LEN(CELL("nomfichier"))-FIND("]",CELL("nomfichier"))) -> #VALUE! | K6: Référence | O6: ="CANuM_"&MID(CELL("nomfichier"),FIND("]",CELL("nomfichier"))+1,LEN(CELL("nomfichier"))-FIND("]",CELL("nomfichier"))) -> #VALUE!
A7: =Data_TAD1!B2 -> Nombre d’appels décrochés | E7: =SUMIF(Data_TAD1!A3:A54,E1,Data_TAD1!B3:B54) -> 101 | F7: =SUMIF(Data_TAD1!#REF!,#REF!,Data_TAD1!#REF!) -> #REF! | J7: =SUMIF(Data_TAD1!#REF!,#REF!,Data_TAD1!#REF!) -> #REF! | K7: =Data_TAD1!H2 -> Nombre d’appels décrochés | O7: =SUMIF(Data_TAD1!G3:G14,O1,Data_TAD1!H3:H14) -> 80
A8: =Data_TAD1!C2 -> Nombre total d’appels enregistrés | E8: =SUMIF(Data_TAD1!A3:A54,E1,Data_TAD1!C3:C54) -> 105 | F8: =SUMIF(Data_TAD1!#REF!,#REF!,Data_TAD1!#REF!) -> #REF! | J8: =SUMIF(Data_TAD1!#REF!,#REF!,Data_TAD1!#REF!) -> #REF! | K8: =Data_TAD1!I2 -> Nombre total d’appels enregistrés | O8: =SUMIF(Data_TAD1!G3:G14,O1,Data_TAD1!I3:I54) -> 106
A9: =Data_TAD1!D2 -> Taux d’appel décroché en % | E9: =SUMIF(Data_TAD1!A3:A54,E1,Data_TAD1!D3:D54) -> 96.190476 | F9: =SUMIF(Data_TAD1!#REF!,#REF!,Data_TAD1!#REF!) -> #REF! | J9: =SUMIF(Data_TAD1!#REF!,#REF!,Data_TAD1!#REF!) -> #REF! | K9: =Data_TAD1!J2 -> Taux d’appel décroché en % | O9: =SUMIF(Data_TAD1!G3:G14,O1,Data_TAD1!J3:J43) -> 75.471698

Sheet Data_TAD1
A1: Taux d’appel décroché
A2: Semaine | B2: Nombre d’appels décrochés | C2: Nombre total d’appels enregistrés | D2: Taux d’appel décroché en % | E2: Du XX au XX | G2: Mois | H2: Nombre d’appels décrochés | I2: Nombre total d’appels enregistrés | J2: Taux d’appel décroché en % | K2: Du XX au XX | M2: Semaine Actuelle
A3: =ROW()-2 -> 1 | B3: 100 | C3: 106 | D3: =IF(OR(INDIRECT(ADDRESS((ROW()),(COLUMN()-2)))="",INDIRECT(ADDRESS((ROW()),(COLUMN()-1)))=""),"Donnée(s) manquante(s) veuillez remplir les casse(s)",SUM((INDIRECT(ADDRESS((ROW()),(COLUMN()-2)))/INDIRECT(ADDRESS((ROW()),(COLUMN()-1))))*100)) -> 94.339623 | E3: 01/01 au 07/01 | G3: Janvier | H3: 80 | I3: 106 | J3: =IF(OR(INDIRECT(ADDRESS((ROW()),(COLUMN()-2)))="",INDIRECT(ADDRESS((ROW()),(COLUMN()-1)))=""),"Donnée(s) manquante(s) veuillez remplir les casse(s)",SUM((INDIRECT(ADDRESS((ROW()),(COLUMN()-2)))/INDIRECT(ADDRESS((ROW()),(COLUMN()-1))))*100)) -> 75.471698 | K3: 01/01 au 31/01 | M3: =WEEKNUM(TODAY(),1) -> 49
A4: =ROW()-2 -> 2 | B4: 101 | C4: 105 | D4: =IF(OR(INDIRECT(ADDRESS((ROW()),(COLUMN()-2)))="",INDIRECT(ADDRESS((ROW()),(COLUMN()-1)))=""),"Donnée(s) manquante(s) veuillez remplir les casse(s)",SUM((INDIRECT(ADDRESS((ROW()),(COLUMN()-2)))/INDIRECT(ADDRESS((ROW()),(COLUMN()-1))))*100)) -> 96.190476 | E4: 08/01 au 14/01 | G4: Février | H4: 85 | I4: 105 | J4: =IF(OR(INDIRECT(ADDRESS((ROW()),(COLUMN()-2)))="",INDIRECT(ADDRESS((ROW()),(COLUMN()-1)))=""),"Donnée(s) manquante(s) veuillez remplir les casse(s)",SUM((INDIRECT(ADDRESS((ROW()),(COLUMN()-2)))/INDIRECT(ADDRESS((ROW()),(COLUMN()-1))))*100)) -> 80.952381 | K4: 01/02 au 28/02
A5: =ROW()-2 -> 3 | B5: 102 | C5: 104 | D5: =IF(OR(INDIRECT(ADDRESS((ROW()),(COLUMN()-2)))="",INDIRECT(ADDRESS((ROW()),(COLUMN()-1)))=""),"Donnée(s) manquante(s) veuillez remplir les casse(s)",SUM((INDIRECT(ADDRESS((ROW()),(COLUMN()-2)))/INDIRECT(ADDRESS((ROW()),(COLUMN()-1))))*100)) -> 98.076923 | E5: 15/01 au 21/01 | G5: Mars | H5: 90 | I5: 104 | J5: =IF(OR(INDIRECT(ADDRESS((ROW()),(COLUMN()-2)))="",INDIRECT(ADDRESS((ROW()),(COLUMN()-1)))=""),"Donnée(s) manquante(s) veuillez remplir les casse(s)",SUM((INDIRECT(ADDRESS((ROW()),(COLUMN()-2)))/INDIRECT(ADDRESS((ROW()),(COLUMN()-1))))*100)) -> 86.538462 | K5: 01/03 au 31/03
A6: =ROW()-2 -> 4 | B6: 103 | C6: 110 | D6: =IF(OR(INDIRECT(ADDRESS((ROW()),(COLUMN()-2)))="",INDIRECT(ADDRESS((ROW()),(COLUMN()-1)))=""),"Donnée(s) manquante(s) veuillez remplir les casse(s)",SUM((INDIRECT(ADDRESS((ROW()),(COLUMN()-2)))/INDIRECT(ADDRESS((ROW()),(COLUMN()-1))))*100)) -> 93.636364 | E6: 22/01 au 28/01 | G6: Avril | H6: 95 | I6: 110 | J6: =IF(OR(INDIRECT(ADDRESS((ROW()),(COLUMN()-2)))="",INDIRECT(ADDRESS((ROW()),(COLUMN()-1)))=""),"Donnée(s) manquante(s) veuillez remplir les casse(s)",SUM((INDIRECT(ADDRESS((ROW()),(COLUMN()-2)))/INDIRECT(ADDRESS((ROW()),(COLUMN()-1))))*100)) -> 86.363636 | K6: 01/04 au 30/04
A7: =ROW()-2 -> 5 | B7: 104 | C7: 109 | D7: =IF(OR(INDIRECT(ADDRESS((ROW()),(COLUMN()-2)))="",INDIRECT(ADDRESS((ROW()),(COLUMN()-1)))=""),"Donnée(s) manquante(s) veuillez remplir les casse(s)",SUM((INDIRECT(ADDRESS((ROW()),(COLUMN()-2)))/INDIRECT(ADDRESS((ROW()),(COLUMN()-1))))*100)) -> 95.412844 | E7: 29/01 au 04/02 | G7: Mai | H7: 100 | I7: 109 | J7: =IF(OR(INDIRECT(ADDRESS((ROW()),(COLUMN()-2)))="",INDIRECT(ADDRESS((ROW()),(COLUMN()-1)))=""),"Donnée(s) manquante(s) veuillez remplir les casse(s)",SUM((INDIRECT(ADDRESS((ROW()),(COLUMN()-2)))/INDIRECT(ADDRESS((ROW()),(COLUMN()-1))))*100)) -> 91.743119 | K7: 01/05 au 31/05
A8: =ROW()-2 -> 6 | B8: 105 | C8: 117 | D8: =IF(OR(INDIRECT(ADDRESS((ROW()),(COLUMN()-2)))="",INDIRECT(ADDRESS((ROW()),(COLUMN()-1)))=""),"Donnée(s) manquante(s) veuillez remplir les casse(s)",SUM((INDIRECT(ADDRESS((ROW()),(COLUMN()-2)))/INDIRECT(ADDRESS((ROW()),(COLUMN()-1))))*100)) -> 89.74359 | E8: 05/02 au 11/02 | G8: Juin | H8: 105 | I8: 117 | J8: =IF(OR(INDIRECT(ADDRESS((ROW()),(COLUMN()-2)))="",INDIRECT(ADDRESS((ROW()),(COLUMN()-1)))=""),"Donnée(s) manquante(s) veuillez remplir les casse(s)",SUM((INDIRECT(ADDRESS((ROW()),(COLUMN()-2)))/INDIRECT(ADDRESS((ROW()),(COLUMN()-1))))*100)) -> 89.74359 | K8: 01/06 au 30/06
A9: =ROW()-2 -> 7 | B9: 106 | C9: 111 | D9: =IF(OR(INDIRECT(ADDRESS((ROW()),(COLUMN()-2)))="",INDIRECT(ADDRESS((ROW()),(COLUMN()-1)))=""),"Donnée(s) manquante(s) veuillez remplir les casse(s)",SUM((INDIRECT(ADDRESS((ROW()),(COLUMN()-2)))/INDIRECT(ADDRESS((ROW()),(COLUMN()-1))))*100)) -> 95.495495 | E9: 12/02 au 18/02 | G9: Juillet | H9: 106 | I9: 111 | J9: =IF(OR(INDIRECT(ADDRESS((ROW()),(COLUMN()-2)))="",INDIRECT(ADDRESS((ROW()),(COLUMN()-1)))=""),"Donnée(s) manquante(s) veuillez remplir les casse(s)",SUM((INDIRECT(ADDRESS((ROW()),(COLUMN()-2)))/INDIRECT(ADDRESS((ROW()),(COLUMN()-1))))*100)) -> 95.495495 | K9: 01/07 au 31/07
A10: =ROW()-2 -> 8 | B10: 107 | C10: 110 | D10: =IF(OR(INDIRECT(ADDRESS((ROW()),(COLUMN()-2)))="",INDIRECT(ADDRESS((ROW()),(COLUMN()-1)))=""),"Donnée(s) manquante(s) veuillez remplir les casse(s)",SUM((INDIRECT(ADDRESS((ROW()),(COLUMN()-2)))/INDIRECT(ADDRESS((ROW()),(COLUMN()-1))))*100)) -> 97.272727 | E10: 19/02 au 25/02 | G10: Aout | H10: 107 | I10: 110 | J10: =IF(OR(INDIRECT(ADDRESS((ROW()),(COLUMN()-2)))="",INDIRECT(ADDRESS((ROW()),(COLUMN()-1)))=""),"Donnée(s) manquante(s) veuillez remplir les casse(s)",SUM((INDIRECT(ADDRESS((ROW()),(COLUMN()-2)))/INDIRECT(ADDRESS((ROW()),(COLUMN()-1))))*100)) -> 97.272727 | K10: 01/08 au 31/08
A11: =ROW()-2 -> 9 | B11: 108 | C11: 118 | D11: =IF(OR(INDIRECT(ADDRESS((ROW()),(COLUMN()-2)))="",INDIRECT(ADDRESS((ROW()),(COLUMN()-1)))=""),"Donnée(s) manquante(s) veuillez remplir les casse(s)",SUM((INDIRECT(ADDRESS((ROW()),(COLUMN()-2)))/INDIRECT(ADDRESS((ROW()),(COLUMN()-1))))*100)) -> 91.525424 | E11: 26/02 au 04/03 | G11: Septembre | H11: 108 | I11: 118 | J11: =IF(OR(INDIRECT(ADDRESS((ROW()),(COLUMN()-2)))="",INDIRECT(ADDRESS((ROW()),(COLUMN()-1)))=""),"Donnée(s) manquante(s) veuillez remplir les casse(s)",SUM((INDIRECT(ADDRESS((ROW()),(COLUMN()-2)))/INDIRECT(ADDRESS((ROW()),(COLUMN()-1))))*100)) -> 91.525424 | K11: 01/09 au 30/09
A12: =ROW()-2 -> 10 | B12: 109 | C12: 113 | D12: =IF(OR(INDIRECT(ADDRESS((ROW()),(COLUMN()-2)))="",INDIRECT(ADDRESS((ROW()),(COLUMN()-1)))=""),"Donnée(s) manquante(s) veuillez remplir les casse(s)",SUM((INDIRECT(ADDRESS((ROW()),(COLUMN()-2)))/INDIRECT(ADDRESS((ROW()),(COLUMN()-1))))*100)) -> 96.460177 | E12: 05/03 au 11/03 | G12: Octobre | H12: 109 | I12: 113 | J12: =IF(OR(INDIRECT(ADDRESS((ROW()),(COLUMN()-2)))="",INDIRECT(ADDRESS((ROW()),(COLUMN()-1)))=""),"Donnée(s) manquante(s) veuillez remplir les casse(s)",SUM((INDIRECT(ADDRESS((ROW()),(COLUMN()-2)))/INDIRECT(ADDRESS((ROW()),(COLUMN()-1))))*100)) -> 96.460177 | K12: 01/10 au 31/10
A13: =ROW()-2 -> 11 | B13: 110 | C13: 115 | D13: =IF(OR(INDIRECT(ADDRESS((ROW()),(COLUMN()-2)))="",INDIRECT(ADDRESS((ROW()),(COLUMN()-1)))=""),"Donnée(s) manquante(s) veuillez remplir les casse(s)",SUM((INDIRECT(ADDRESS((ROW()),(COLUMN()-2)))/INDIRECT(ADDRESS((ROW()),(COLUMN()-1))))*100)) -> 95.652174 | E13: 12/03 au 18/03 | G13: Novembre | H13: 110 | I13: 115 | J13: =IF(OR(INDIRECT(ADDRESS((ROW()),(COLUMN()-2)))="",INDIRECT(ADDRESS((ROW()),(COLUMN()-1)))=""),"Donnée(s) manquante(s) veuillez remplir les casse(s)",SUM((INDIRECT(ADDRESS((ROW()),(COLUMN()-2)))/INDIRECT(ADDRESS((ROW()),(COLUMN()-1))))*100)) -> 95.652174 | K13: 01/11 au 30/11
A14: =ROW()-2 -> 12 | B14: 111 | C14: 120 | D14: =IF(OR(INDIRECT(ADDRESS((ROW()),(COLUMN()-2)))="",INDIRECT(ADDRESS((ROW()),(COLUMN()-1)))=""),"Donnée(s) manquante(s) veuillez remplir les casse(s)",SUM((INDIRECT(ADDRESS((ROW()),(COLUMN()-2)))/INDIRECT(ADDRESS((ROW()),(COLUMN()-1))))*100)) -> 92.5 | E14: 19/03 au 25/03 | G14: Décembre | H14: 111 | I14: 120 | J14: =IF(OR(INDIRECT(ADDRESS((ROW()),(COLUMN()-2)))="",INDIRECT(ADDRESS((ROW()),(COLUMN()-1)))=""),"Donnée(s) manquante(s) veuillez remplir les casse(s)",SUM((INDIRECT(ADDRESS((ROW()),(COLUMN()-2)))/INDIRECT(ADDRESS((ROW()),(COLUMN()-1))))*100)) -> 92.5 | K14: 01/12 au 31/12
A15: =ROW()-2 -> 13 | B15: 100 | C15: 106 | D15: =IF(OR(INDIRECT(ADDRESS((ROW()),(COLUMN()-2)))="",INDIRECT(ADDRESS((ROW()),(COLUMN()-1)))=""),"Donnée(s) manquante(s) veuillez remplir les casse(s)",SUM((INDIRECT(ADDRESS((ROW()),(COLUMN()-2)))/INDIRECT(ADDRESS((ROW()),(COLUMN()-1))))*100)) -> 94.339623 | E15: 26/03 au 01/04
A16: =ROW()-2 -> 14 | B16: 101 | C16: 105 | D16: =IF(OR(INDIRECT(ADDRESS((ROW()),(COLUMN()-2)))="",INDIRECT(ADDRESS((ROW()),(COLUMN()-1)))=""),"Donnée(s) manquante(s) veuillez remplir les casse(s)",SUM((INDIRECT(ADDRESS((ROW()),(COLUMN()-2)))/INDIRECT(ADDRESS((ROW()),(COLUMN()-1))))*100)) -> 96.190476 | E16: 02/04 au 08/04
A17: =ROW()-2 -> 15 | B17: 102 | C17: 104 | D17: =IF(OR(INDIRECT(ADDRESS((ROW()),(COLUMN()-2)))="",INDIRECT(ADDRESS((ROW()),(COLUMN()-1)))=""),"Donnée(s) manquante(s) veuillez remplir les casse(s)",SUM((INDIRECT(ADDRESS((ROW()),(COLUMN()-2)))/INDIRECT(ADDRESS((ROW()),(COLUMN()-1))))*100)) -> 98.076923 | E17: 09/04 au 15/04
A18: =ROW()-2 -> 16 | B18: 103 | C18: 110 | D18: =IF(OR(INDIRECT(ADDRESS((ROW()),(COLUMN()-2)))="",INDIRECT(ADDRESS((ROW()),(COLUMN()-1)))=""),"Donnée(s) manquante(s) veuillez remplir les casse(s)",SUM((INDIRECT(ADDRESS((ROW()),(COLUMN()-2)))/INDIRECT(ADDRESS((ROW()),(COLUMN()-1))))*100)) -> 93.636364 | E18: 16/04 au 22/04
A19: =ROW()-2 -> 17 | B19: 104 | C19: 109 | D19: =IF(OR(INDIRECT(ADDRESS((ROW()),(COLUMN()-2)))="",INDIRECT(ADDRESS((ROW()),(COLUMN()-1)))=""),"Donnée(s) manquante(s) veuillez remplir les casse(s)",SUM((INDIRECT(ADDRESS((ROW()),(COLUMN()-2)))/INDIRECT(ADDRESS((ROW()),(COLUMN()-1))))*100)) -> 95.412844 | E19: 23/04 au 29/04
A20: =ROW()-2 -> 18 | B20: 105 | C20: 117 | D20: =IF(OR(INDIRECT(ADDRESS((ROW()),(COLUMN()-2)))="",INDIRECT(ADDRESS((ROW()),(COLUMN()-1)))=""),"Donnée(s) manquante(s) veuillez remplir les casse(s)",SUM((INDIRECT(ADDRESS((ROW()),(COLUMN()-2)))/INDIRECT(ADDRESS((ROW()),(COLUMN()-1))))*100)) -> 89.74359 | E20: 30/04 au 06/05
A21: =ROW()-2 -> 19 | B21: 106 | C21: 111 | D21: =IF(OR(INDIRECT(ADDRESS((ROW()),(COLUMN()-2)))="",INDIRECT(ADDRESS((ROW()),(COLUMN()-1)))=""),"Donnée(s) manquante(s) veuillez remplir les casse(s)",SUM((INDIRECT(ADDRESS((ROW()),(COLUMN()-2)))/INDIRECT(ADDRESS((ROW()),(COLUMN()-1))))*100)) -> 95.495495 | E21: 07/05 au 13/05
A22: =ROW()-2 -> 20 | B22: 107 | C22: 110 | D22: =IF(OR(INDIRECT(ADDRESS((ROW()),(COLUMN()-2)))="",INDIRECT(ADDRESS((ROW()),(COLUMN()-1)))=""),"Donnée(s) manquante(s) veuillez remplir les casse(s)",SUM((INDIRECT(ADDRESS((ROW()),(COLUMN()-2)))/INDIRECT(ADDRESS((ROW()),(COLUMN()-1))))*100)) -> 97.272727 | E22: 14/05 au 20/05
A23: =ROW()-2 -> 21 | B23: 108 | C23: 118 | D23: =IF(OR(INDIRECT(ADDRESS((ROW()),(COLUMN()-2)))="",INDIRECT(ADDRESS((ROW()),(COLUMN()-1)))=""),"Donnée(s) manquante(s) veuillez remplir les casse(s)",SUM((INDIRECT(ADDRESS((ROW()),(COLUMN()-2)))/INDIRECT(ADDRESS((ROW()),(COLUMN()-1))))*100)) -> 91.525424 | E23: 21/05 au 27/05
A24: =ROW()-2 -> 22 | B24: 109 | C24: 113 | D24: =IF(OR(INDIRECT(ADDRESS((ROW()),(COLUMN()-2)))="",INDIRECT(ADDRESS((ROW()),(COLUMN()-1)))=""),"Donnée(s) manquante(s) veuillez remplir les casse(s)",SUM((INDIRECT(ADDRESS((ROW()),(COLUMN()-2)))/INDIRECT(ADDRESS((ROW()),(COLUMN()-1))))*100)) -> 96.460177 | E24: 28/05 au 03/06
A25: =ROW()-2 -> 23 | B25: 110 | C25: 115 | D25: =IF(OR(INDIRECT(ADDRESS((ROW()),(COLUMN()-2)))="",INDIRECT(ADDRESS((ROW()),(COLUMN()-1)))=""),"Donnée(s) manquante(s) veuillez remplir les casse(s)",SUM((INDIRECT(ADDRESS((ROW()),(COLUMN()-2)))/INDIRECT(ADDRESS((ROW()),(COLUMN()-1))))*100)) -> 95.652174 | E25: 04/06 au 10/06
A26: =ROW()-2 -> 24 | B26: 111 | C26: 120 | D26: =IF(OR(INDIRECT(ADDRESS((ROW()),(COLUMN()-2)))="",INDIRECT(ADDRESS((ROW()),(COLUMN()-1)))=""),"Donnée(s) manquante(s) veuillez remplir les casse(s)",SUM((INDIRECT(ADDRESS((ROW()),(COLUMN()-2)))/INDIRECT(ADDRESS((ROW()),(COLUMN()-1))))*100)) -> 92.5 | E26: 11/06 au 17/06
... A33: =ROW()-2 -> 31 | B33: 106 | C33: 111 | D33: =IF(OR(INDIRECT(ADDRESS((ROW()),(COLUMN()-2)))="",INDIRECT(ADDRESS((ROW()),(COLUMN()-1)))=""),"Donnée(s) manquante(s) veuillez remplir les casse(s)",SUM((INDIRECT(ADDRESS((ROW()),(COLUMN()-2)))/INDIRECT(ADDRESS((ROW()),(COLUMN()-1))))*100)) -> 95.495495 | E33: 30/07 au 05/08
A34: =ROW()-2 -> 32 | B34: 107 | C34: 110 | D34: =IF(OR(INDIRECT(ADDRESS((ROW()),(COLUMN()-2)))="",INDIRECT(ADDRESS((ROW()),(COLUMN()-1)))=""),"Donnée(s) manquante(s) veuillez remplir les casse(s)",SUM((INDIRECT(ADDRESS((ROW()),(COLUMN()-2)))/INDIRECT(ADDRESS((ROW()),(COLUMN()-1))))*100)) -> 97.272727 | E34: 06/08 au 12/08 | H34: =DATE(2018,1,1)+I34 -> 43101 | I34: 0 | J34: ="Année "&YEAR(H34)&" - "&"Semaine "&WEEKNUM(Data_TAD1!$H$34,1)&" à "&WEEKNUM(Data_TAD1!$H$34,1)+11 -> Année 2018 - Semaine 1 à 12
A35: =ROW()-2 -> 33 | B35: 108 | C35: 118 | D35: =IF(OR(INDIRECT(ADDRESS((ROW()),(COLUMN()-2)))="",INDIRECT(ADDRESS((ROW()),(COLUMN()-1)))=""),"Donnée(s) manquante(s) veuillez remplir les casse(s)",SUM((INDIRECT(ADDRESS((ROW()),(COLUMN()-2)))/INDIRECT(ADDRESS((ROW()),(COLUMN()-1))))*100)) -> 91.525424 | E35: 13/08 au 19/08
A36: =ROW()-2 -> 34 | B36: 109 | C36: 113 | D36: =IF(OR(INDIRECT(ADDRESS((ROW()),(COLUMN()-2)))="",INDIRECT(ADDRESS((ROW()),(COLUMN()-1)))=""),"Donnée(s) manquante(s) veuillez remplir les casse(s)",SUM((INDIRECT(ADDRESS((ROW()),(COLUMN()-2)))/INDIRECT(ADDRESS((ROW()),(COLUMN()-1))))*100)) -> 96.460177 | E36: 20/08 au 26/08
A37: =ROW()-2 -> 35 | B37: 110 | C37: 115 | D37: =IF(OR(INDIRECT(ADDRESS((ROW()),(COLUMN()-2)))="",INDIRECT(ADDRESS((ROW()),(COLUMN()-1)))=""),"Donnée(s) manquante(s) veuillez remplir les casse(s)",SUM((INDIRECT(ADDRESS((ROW()),(COLUMN()-2)))/INDIRECT(ADDRESS((ROW()),(COLUMN()-1))))*100)) -> 95.652174 | E37: 27/08 au 02/09 | I37: Il suffit de faire un clic sur les flèches de la barre de défilement ….
A38: =ROW()-2 -> 36 | B38: 111 | C38: 120 | D38: =IF(OR(INDIRECT(ADDRESS((ROW()),(COLUMN()-2)))="",INDIRECT(ADDRESS((ROW()),(COLUMN()-1)))=""),"Donnée(s) manquante(s) veuillez remplir les casse(s)",SUM((INDIRECT(ADDRESS((ROW()),(COLUMN()-2)))/INDIRECT(ADDRESS((ROW()),(COLUMN()-1))))*100)) -> 92.5 | E38: 03/09 au 09/09
A39: =ROW()-2 -> 37 | B39: 100 | C39: 106 | D39: =IF(OR(INDIRECT(ADDRESS((ROW()),(COLUMN()-2)))="",INDIRECT(ADDRESS((ROW()),(COLUMN()-1)))=""),"Donnée(s) manquante(s) veuillez remplir les casse(s)",SUM((INDIRECT(ADDRESS((ROW()),(COLUMN()-2)))/INDIRECT(ADDRESS((ROW()),(COLUMN()-1))))*100)) -> 94.339623 | E39: 10/09 au 16/09
A40: =ROW()-2 -> 38 | B40: 101 | C40: 105 | D40: =IF(OR(INDIRECT(ADDRESS((ROW()),(COLUMN()-2)))="",INDIRECT(ADDRESS((ROW()),(COLUMN()-1)))=""),"Donnée(s) manquante(s) veuillez remplir les casse(s)",SUM((INDIRECT(ADDRESS((ROW()),(COLUMN()-2)))/INDIRECT(ADDRESS((ROW()),(COLUMN()-1))))*100)) -> 96.190476 | E40: 17/09 au 23/09
A41: =ROW()-2 -> 39 | B41: 102 | C41: 104 | D41: =IF(OR(INDIRECT(ADDRESS((ROW()),(COLUMN()-2)))="",INDIRECT(ADDRESS((ROW()),(COLUMN()-1)))=""),"Donnée(s) manquante(s) veuillez remplir les casse(s)",SUM((INDIRECT(ADDRESS((ROW()),(COLUMN()-2)))/INDIRECT(ADDRESS((ROW()),(COLUMN()-1))))*100)) -> 98.076923 | E41: 24/09 au 30/09
A42: =ROW()-2 -> 40 | B42: 103 | C42: 110 | D42: =IF(OR(INDIRECT(ADDRESS((ROW()),(COLUMN()-2)))="",INDIRECT(ADDRESS((ROW()),(COLUMN()-1)))=""),"Donnée(s) manquante(s) veuillez remplir les casse(s)",SUM((INDIRECT(ADDRESS((ROW()),(COLUMN()-2)))/INDIRECT(ADDRESS((ROW()),(COLUMN()-1))))*100)) -> 93.636364 | E42: 01/10 au 07/10
A43: =ROW()-2 -> 41 | B43: 104 | C43: 109 | D43: =IF(OR(INDIRECT(ADDRESS((ROW()),(COLUMN()-2)))="",INDIRECT(ADDRESS((ROW()),(COLUMN()-1)))=""),"Donnée(s) manquante(s) veuillez remplir les casse(s)",SUM((INDIRECT(ADDRESS((ROW()),(COLUMN()-2)))/INDIRECT(ADDRESS((ROW()),(COLUMN()-1))))*100)) -> 95.412844 | E43: 08/10 au 14/10
A44: =ROW()-2 -> 42 | B44: 105 | C44: 117 | D44: =IF(OR(INDIRECT(ADDRESS((ROW()),(COLUMN()-2)))="",INDIRECT(ADDRESS((ROW()),(COLUMN()-1)))=""),"Donnée(s) manquante(s) veuillez remplir les casse(s)",SUM((INDIRECT(ADDRESS((ROW()),(COLUMN()-2)))/INDIRECT(ADDRESS((ROW()),(COLUMN()-1))))*100)) -> 89.74359 | E44: 15/10 au 21/10
A45: =ROW()-2 -> 43 | B45: 106 | C45: 111 | D45: =IF(OR(INDIRECT(ADDRESS((ROW()),(COLUMN()-2)))="",INDIRECT(ADDRESS((ROW()),(COLUMN()-1)))=""),"Donnée(s) manquante(s) veuillez remplir les casse(s)",SUM((INDIRECT(ADDRESS((ROW()),(COLUMN()-2)))/INDIRECT(ADDRESS((ROW()),(COLUMN()-1))))*100)) -> 95.495495 | E45: 22/10 au 28/10
A46: =ROW()-2 -> 44 | B46: 107 | C46: 110 | D46: =IF(OR(INDIRECT(ADDRESS((ROW()),(COLUMN()-2)))="",INDIRECT(ADDRESS((ROW()),(COLUMN()-1)))=""),"Donnée(s) manquante(s) veuillez remplir les casse(s)",SUM((INDIRECT(ADDRESS((ROW()),(COLUMN()-2)))/INDIRECT(ADDRESS((ROW()),(COLUMN()-1))))*100)) -> 97.272727 | E46: 29/10 au 04/11
...
