Workbook

Sheet Score 
A1: Score | B1: 1 | C1: 2 | D1: 3 | E1: 4 | F1: 5 | G1: 6 | H1: 7 | I1: 8 | J1: 9 | K1: 10 | L1: 11 | M1: 12 | N1: 13 | O1: 14 | P1: 15 | Q1: 16 | R1: 17 | S1: 18 | T1: 19 | U1: 20 | V1: 21 | W1: 22 | X1: 23 | Y1: 24 | Z1: 25 | AA1: 26 | AB1: 27 | AC1: 28 | AD1: 29 | AE1: 30 | AF1: 31 | AG1: 32 | AH1: 33 | AI1: 34 | AJ1: 35 | AK1: 36 | AL1: 37 | AM1: 38 | AN1: 39 | AO1: 40 | AP1: 41 | AQ1: 42 | AR1: 43 | AS1: 44 | AT1: 45 | AU1: 46 | AV1: 47 | AW1: 48 | AX1: 49 | AY1: 50 | AZ1: 51 | BA1: 52 | BB1: 53 | BC1: 54 | BD1: 55 | BE1: 56 | BF1: 57 | BG1: 58 | BH1: 59 | BI1: 60 | BJ1: 61 | BK1: 62 | BL1: 63 | BM1: 64 | BN1: 65 | BO1: 66 | BP1: 67 | BQ1: 68 | BR1: 69 | BS1: 70 | BT1: 71 | BU1: 72 | BV1: 73 | BW1: 74 | BX1: 75 | BY1: 76 | BZ1: 77 | CA1: 78 | CB1: 79 | CC1: 80 | CD1: 81 | CE1: 82 | CF1: 83 | CG1: 84 | CH1: 85 | CI1: 86 | CJ1: 87 | CK1: 88 | CL1: 89 | CM1: 90 | CN1: Inversion
A2: 1 | B2: 3
A3: 2 | B3: 7
A4: 3 | B4: 5
A5: 4 | B5: 1 | CN5: X
A6: 5 | B6: 5
A7: 6 | B7: 2 | CN7: X
A8: 7 | B8: 6
A9: 8 | B9: 3 | CN9: X
A10: 9 | B10: 6
A11: 10 | B11: 6
A12: 11 | B12: 6
A13: 12 | B13: 6
A14: 13 | B14: 4
A15: 14 | B15: 2 | CN15: X
A16: 15 | B16: 2 | CN16: X
A17: 16 | B17: 1 | CN17: X
A18: 17 | B18: 6
A19: 18 | B19: 5
A20: 19 | B20: 4
A21: 20 | B21: 5
A22: 21 | B22: 5
A23: 22 | B23: 4
A24: 23 | B24: 4
A25: 24 | B25: 2 | CN25: X
A26: 25 | B26: 2
A27: 26 | B27: 5
A28: 27 | B28: 3 | CN28: X
A29: 28 | B29: 7
A30: 29 | B30: 5
A31: 30 | B31: 5
A32: 31 | B32: 3 | CN32: X
A33: 32 | B33: 2 | CN33: X
A34: 33 | B34: 5
A35: 34 | B35: 2 | CN35: X
A36: 35 | B36: 5
A37: 36 | B37: 3 | CN37: X
A38: 37 | B38: 5
A39: 38 | B39: 1 | CN39: X
A40: 39 | B40: 5
A41: 40 | B41: 4
A42: 41 | B42: 7
A43: 42 | B43: 5
A44: 43 | B44: 1 | CN44: X
A45: 44 | B45: 2 | CN45: X
A46: 45 | B46: 5
A47: 46 | B47: 5
A48: 47 | B48: 6
A49: 48 | B49: 5

Sheet  Score inversé
A1: Score | B1: 1 | C1: 2 | D1: 3 | E1: 4 | F1: 5 | G1: 6 | H1: 7 | I1: 8 | J1: 9 | K1: 10 | L1: 11 | M1: 12 | N1: 13 | O1: 14 | P1: 15 | Q1: 16 | R1: 17 | S1: 18 | T1: 19 | U1: 20 | V1: 21 | W1: 22 | X1: 23 | Y1: 24 | Z1: 25 | AA1: 26 | AB1: 27 | AC1: 28 | AD1: 29 | AE1: 30 | AF1: 31 | AG1: 32 | AH1: 33 | AI1: 34 | AJ1: 35 | AK1: 36 | AL1: 37 | AM1: 38 | AN1: 39 | AO1: 40 | AP1: 41 | AQ1: 42 | AR1: 43 | AS1: 44 | AT1: 45 | AU1: 46 | AV1: 47 | AW1: 48 | AX1: 49 | AY1: 50 | AZ1: 51 | BA1: 52 | BB1: 53 | BC1: 54 | BD1: 55 | BE1: 56 | BF1: 57 | BG1: 58 | BH1: 59 | BI1: 60 | BJ1: 61 | BK1: 62 | BL1: 63 | BM1: 64 | BN1: 65 | BO1: 66 | BP1: 67 | BQ1: 68 | BR1: 69 | BS1: 70 | BT1: 71 | BU1: 72 | BV1: 73 | BW1: 74 | BX1: 75 | BY1: 76 | BZ1: 77 | CA1: 78 | CB1: 79 | CC1: 80 | CD1: 81 | CE1: 82 | CF1: 83 | CG1: 84 | CH1: 85 | CI1: 86 | CJ1: 87 | CK1: 88 | CL1: 89 | CM1: 90
A2: 1 | B2: =IF('Score '!$CN2="",'Score '!B2,IFERROR(INDEX(Inversion!$B$1:$B$7,MATCH('Score '!B2,Inversion!$A$1:$A$7,0)),0)) -> 3 | C2: =IF('Score '!$CN2="",'Score '!C2,IFERROR(INDEX(Inversion!$B$1:$B$7,MATCH('Score '!C2,Inversion!$A$1:$A$7,0)),0)) -> 0 | D2: =IF('Score '!$CN2="",'Score '!D2,IFERROR(INDEX(Inversion!$B$1:$B$7,MATCH('Score '!D2,Inversion!$A$1:$A$7,0)),0)) -> 0 | E2: =IF('Score '!$CN2="",'Score '!E2,IFERROR(INDEX(Inversion!$B$1:$B$7,MATCH('Score '!E2,Inversion!$A$1:$A$7,0)),0)) -> 0 | F2: =IF('Score '!$CN2="",'Score '!F2,IFERROR(INDEX(Inversion!$B$1:$B$7,MATCH('Score '!F2,Inversion!$A$1:$A$7,0)),0)) -> 0 | G2: =IF('Score '!$CN2="",'Score '!G2,IFERROR(INDEX(Inversion!$B$1:$B$7,MATCH('Score '!G2,Inversion!$A$1:$A$7,0)),0)) -> 0 | H2: =IF('Score '!$CN2="",'Score '!H2,IFERROR(INDEX(Inversion!$B$1:$B$7,MATCH('Score '!H2,Inversion!$A$1:$A$7,0)),0)) -> 0 | I2: =IF('Score '!$CN2="",'Score '!I2,IFERROR(INDEX(Inversion!$B$1:$B$7,MATCH('Score '!I2,Inversion!$A$1:$A$7,0)),0)) -> 0 | ... CM2: =IF('Score '!$CN2="",'Score '!CM2,IFERROR(INDEX(Inversion!$B$1:$B$7,MATCH('Score '!CM2,Inversion!$A$1:$A$7,0)),0)) -> 0
A3: 2 | B3: =IF('Score '!$CN3="",'Score '!B3,IFERROR(INDEX(Inversion!$B$1:$B$7,MATCH('Score '!B3,Inversion!$A$1:$A$7,0)),0)) -> 7 | C3: =IF('Score '!$CN3="",'Score '!C3,IFERROR(INDEX(Inversion!$B$1:$B$7,MATCH('Score '!C3,Inversion!$A$1:$A$7,0)),0)) -> 0 | D3: =IF('Score '!$CN3="",'Score '!D3,IFERROR(INDEX(Inversion!$B$1:$B$7,MATCH('Score '!D3,Inversion!$A$1:$A$7,0)),0)) -> 0 | E3: =IF('Score '!$CN3="",'Score '!E3,IFERROR(INDEX(Inversion!$B$1:$B$7,MATCH('Score '!E3,Inversion!$A$1:$A$7,0)),0)) -> 0 | F3: =IF('Score '!$CN3="",'Score '!F3,IFERROR(INDEX(Inversion!$B$1:$B$7,MATCH('Score '!F3,Inversion!$A$1:$A$7,0)),0)) -> 0 | G3: =IF('Score '!$CN3="",'Score '!G3,IFERROR(INDEX(Inversion!$B$1:$B$7,MATCH('Score '!G3,Inversion!$A$1:$A$7,0)),0)) -> 0 | H3: =IF('Score '!$CN3="",'Score '!H3,IFERROR(INDEX(Inversion!$B$1:$B$7,MATCH('Score '!H3,Inversion!$A$1:$A$7,0)),0)) -> 0 | I3: =IF('Score '!$CN3="",'Score '!I3,IFERROR(INDEX(Inversion!$B$1:$B$7,MATCH('Score '!I3,Inversion!$A$1:$A$7,0)),0)) -> 0 | ... CM3: =IF('Score '!$CN3="",'Score '!CM3,IFERROR(INDEX(Inversion!$B$1:$B$7,MATCH('Score '!CM3,Inversion!$A$1:$A$7,0)),0)) -> 0
A4: 3 | B4: =IF('Score '!$CN4="",'Score '!B4,IFERROR(INDEX(Inversion!$B$1:$B$7,MATCH('Score '!B4,Inversion!$A$1:$A$7,0)),0)) -> 5 | C4: =IF('Score '!$CN4="",'Score '!C4,IFERROR(INDEX(Inversion!$B$1:$B$7,MATCH('Score '!C4,Inversion!$A$1:$A$7,0)),0)) -> 0 | D4: =IF('Score '!$CN4="",'Score '!D4,IFERROR(INDEX(Inversion!$B$1:$B$7,MATCH('Score '!D4,Inversion!$A$1:$A$7,0)),0)) -> 0 | E4: =IF('Score '!$CN4="",'Score '!E4,IFERROR(INDEX(Inversion!$B$1:$B$7,MATCH('Score '!E4,Inversion!$A$1:$A$7,0)),0)) -> 0 | F4: =IF('Score '!$CN4="",'Score '!F4,IFERROR(INDEX(Inversion!$B$1:$B$7,MATCH('Score '!F4,Inversion!$A$1:$A$7,0)),0)) -> 0 | G4: =IF('Score '!$CN4="",'Score '!G4,IFERROR(INDEX(Inversion!$B$1:$B$7,MATCH('Score '!G4,Inversion!$A$1:$A$7,0)),0)) -> 0 | H4: =IF('Score '!$CN4="",'Score '!H4,IFERROR(INDEX(Inversion!$B$1:$B$7,MATCH('Score '!H4,Inversion!$A$1:$A$7,0)),0)) -> 0 | I4: =IF('Score '!$CN4="",'Score '!I4,IFERROR(INDEX(Inversion!$B$1:$B$7,MATCH('Score '!I4,Inversion!$A$1:$A$7,0)),0)) -> 0 | ... CM4: =IF('Score '!$CN4="",'Score '!CM4,IFERROR(INDEX(Inversion!$B$1:$B$7,MATCH('Score '!CM4,Inversion!$A$1:$A$7,0)),0)) -> 0
A5: 4 | B5: =IF('Score '!$CN5="",'Score '!B5,IFERROR(INDEX(Inversion!$B$1:$B$7,MATCH('Score '!B5,Inversion!$A$1:$A$7,0)),0)) -> 7 | C5: =IF('Score '!$CN5="",'Score '!C5,IFERROR(INDEX(Inversion!$B$1:$B$7,MATCH('Score '!C5,Inversion!$A$1:$A$7,0)),0)) -> 0 | D5: =IF('Score '!$CN5="",'Score '!D5,IFERROR(INDEX(Inversion!$B$1:$B$7,MATCH('Score '!D5,Inversion!$A$1:$A$7,0)),0)) -> 0 | E5: =IF('Score '!$CN5="",'Score '!E5,IFERROR(INDEX(Inversion!$B$1:$B$7,MATCH('Score '!E5,Inversion!$A$1:$A$7,0)),0)) -> 0 | F5: =IF('Score '!$CN5="",'Score '!F5,IFERROR(INDEX(Inversion!$B$1:$B$7,MATCH('Score '!F5,Inversion!$A$1:$A$7,0)),0)) -> 0 | G5: =IF('Score '!$CN5="",'Score '!G5,IFERROR(INDEX(Inversion!$B$1:$B$7,MATCH('Score '!G5,Inversion!$A$1:$A$7,0)),0)) -> 0 | H5: =IF('Score '!$CN5="",'Score '!H5,IFERROR(INDEX(Inversion!$B$1:$B$7,MATCH('Score '!H5,Inversion!$A$1:$A$7,0)),0)) -> 0 | I5: =IF('Score '!$CN5="",'Score '!I5,IFERROR(INDEX(Inversion!$B$1:$B$7,MATCH('Score '!I5,Inversion!$A$1:$A$7,0)),0)) -> 0 | ... CM5: =IF('Score '!$CN5="",'Score '!CM5,IFERROR(INDEX(Inversion!$B$1:$B$7,MATCH('Score '!CM5,Inversion!$A$1:$A$7,0)),0)) -> 0
A6: 5 | B6: =IF('Score '!$CN6="",'Score '!B6,IFERROR(INDEX(Inversion!$B$1:$B$7,MATCH('Score '!B6,Inversion!$A$1:$A$7,0)),0)) -> 5 | C6: =IF('Score '!$CN6="",'Score '!C6,IFERROR(INDEX(Inversion!$B$1:$B$7,MATCH('Score '!C6,Inversion!$A$1:$A$7,0)),0)) -> 0 | D6: =IF('Score '!$CN6="",'Score '!D6,IFERROR(INDEX(Inversion!$B$1:$B$7,MATCH('Score '!D6,Inversion!$A$1:$A$7,0)),0)) -> 0 | E6: =IF('Score '!$CN6="",'Score '!E6,IFERROR(INDEX(Inversion!$B$1:$B$7,MATCH('Score '!E6,Inversion!$A$1:$A$7,0)),0)) -> 0 | F6: =IF('Score '!$CN6="",'Score '!F6,IFERROR(INDEX(Inversion!$B$1:$B$7,MATCH('Score '!F6,Inversion!$A$1:$A$7,0)),0)) -> 0 | G6: =IF('Score '!$CN6="",'Score '!G6,IFERROR(INDEX(Inversion!$B$1:$B$7,MATCH('Score '!G6,Inversion!$A$1:$A$7,0)),0)) -> 0 | H6: =IF('Score '!$CN6="",'Score '!H6,IFERROR(INDEX(Inversion!$B$1:$B$7,MATCH('Score '!H6,Inversion!$A$1:$A$7,0)),0)) -> 0 | I6: =IF('Score '!$CN6="",'Score '!I6,IFERROR(INDEX(Inversion!$B$1:$B$7,MATCH('Score '!I6,Inversion!$A$1:$A$7,0)),0)) -> 0 | ... CM6: =IF('Score '!$CN6="",'Score '!CM6,IFERROR(INDEX(Inversion!$B$1:$B$7,MATCH('Score '!CM6,Inversion!$A$1:$A$7,0)),0)) -> 0
A7: 6 | B7: =IF('Score '!$CN7="",'Score '!B7,IFERROR(INDEX(Inversion!$B$1:$B$7,MATCH('Score '!B7,Inversion!$A$1:$A$7,0)),0)) -> 6 | C7: =IF('Score '!$CN7="",'Score '!C7,IFERROR(INDEX(Inversion!$B$1:$B$7,MATCH('Score '!C7,Inversion!$A$1:$A$7,0)),0)) -> 0 | D7: =IF('Score '!$CN7="",'Score '!D7,IFERROR(INDEX(Inversion!$B$1:$B$7,MATCH('Score '!D7,Inversion!$A$1:$A$7,0)),0)) -> 0 | E7: =IF('Score '!$CN7="",'Score '!E7,IFERROR(INDEX(Inversion!$B$1:$B$7,MATCH('Score '!E7,Inversion!$A$1:$A$7,0)),0)) -> 0 | F7: =IF('Score '!$CN7="",'Score '!F7,IFERROR(INDEX(Inversion!$B$1:$B$7,MATCH('Score '!F7,Inversion!$A$1:$A$7,0)),0)) -> 0 | G7: =IF('Score '!$CN7="",'Score '!G7,IFERROR(INDEX(Inversion!$B$1:$B$7,MATCH('Score '!G7,Inversion!$A$1:$A$7,0)),0)) -> 0 | H7: =IF('Score '!$CN7="",'Score '!H7,IFERROR(INDEX(Inversion!$B$1:$B$7,MATCH('Score '!H7,Inversion!$A$1:$A$7,0)),0)) -> 0 | I7: =IF('Score '!$CN7="",'Score '!I7,IFERROR(INDEX(Inversion!$B$1:$B$7,MATCH('Score '!I7,Inversion!$A$1:$A$7,0)),0)) -> 0 | ... CM7: =IF('Score '!$CN7="",'Score '!CM7,IFERROR(INDEX(Inversion!$B$1:$B$7,MATCH('Score '!CM7,Inversion!$A$1:$A$7,0)),0)) -> 0
A8: 7 | B8: =IF('Score '!$CN8="",'Score '!B8,IFERROR(INDEX(Inversion!$B$1:$B$7,MATCH('Score '!B8,Inversion!$A$1:$A$7,0)),0)) -> 6 | C8: =IF('Score '!$CN8="",'Score '!C8,IFERROR(INDEX(Inversion!$B$1:$B$7,MATCH('Score '!C8,Inversion!$A$1:$A$7,0)),0)) -> 0 | D8: =IF('Score '!$CN8="",'Score '!D8,IFERROR(INDEX(Inversion!$B$1:$B$7,MATCH('Score '!D8,Inversion!$A$1:$A$7,0)),0)) -> 0 | E8: =IF('Score '!$CN8="",'Score '!E8,IFERROR(INDEX(Inversion!$B$1:$B$7,MATCH('Score '!E8,Inversion!$A$1:$A$7,0)),0)) -> 0 | F8: =IF('Score '!$CN8="",'Score '!F8,IFERROR(INDEX(Inversion!$B$1:$B$7,MATCH('Score '!F8,Inversion!$A$1:$A$7,0)),0)) -> 0 | G8: =IF('Score '!$CN8="",'Score '!G8,IFERROR(INDEX(Inversion!$B$1:$B$7,MATCH('Score '!G8,Inversion!$A$1:$A$7,0)),0)) -> 0 | H8: =IF('Score '!$CN8="",'Score '!H8,IFERROR(INDEX(Inversion!$B$1:$B$7,MATCH('Score '!H8,Inversion!$A$1:$A$7,0)),0)) -> 0 | I8: =IF('Score '!$CN8="",'Score '!I8,IFERROR(INDEX(Inversion!$B$1:$B$7,MATCH('Score '!I8,Inversion!$A$1:$A$7,0)),0)) -> 0 | ... CM8: =IF('Score '!$CN8="",'Score '!CM8,IFERROR(INDEX(Inversion!$B$1:$B$7,MATCH('Score '!CM8,Inversion!$A$1:$A$7,0)),0)) -> 0
A9: 8 | B9: =IF('Score '!$CN9="",'Score '!B9,IFERROR(INDEX(Inversion!$B$1:$B$7,MATCH('Score '!B9,Inversion!$A$1:$A$7,0)),0)) -> 5 | C9: =IF('Score '!$CN9="",'Score '!C9,IFERROR(INDEX(Inversion!$B$1:$B$7,MATCH('Score '!C9,Inversion!$A$1:$A$7,0)),0)) -> 0 | D9: =IF('Score '!$CN9="",'Score '!D9,IFERROR(INDEX(Inversion!$B$1:$B$7,MATCH('Score '!D9,Inversion!$A$1:$A$7,0)),0)) -> 0 | E9: =IF('Score '!$CN9="",'Score '!E9,IFERROR(INDEX(Inversion!$B$1:$B$7,MATCH('Score '!E9,Inversion!$A$1:$A$7,0)),0)) -> 0 | F9: =IF('Score '!$CN9="",'Score '!F9,IFERROR(INDEX(Inversion!$B$1:$B$7,MATCH('Score '!F9,Inversion!$A$1:$A$7,0)),0)) -> 0 | G9: =IF('Score '!$CN9="",'Score '!G9,IFERROR(INDEX(Inversion!$B$1:$B$7,MATCH('Score '!G9,Inversion!$A$1:$A$7,0)),0)) -> 0 | H9: =IF('Score '!$CN9="",'Score '!H9,IFERROR(INDEX(Inversion!$B$1:$B$7,MATCH('Score '!H9,Inversion!$A$1:$A$7,0)),0)) -> 0 | I9: =IF('Score '!$CN9="",'Score '!I9,IFERROR(INDEX(Inversion!$B$1:$B$7,MATCH('Score '!I9,Inversion!$A$1:$A$7,0)),0)) -> 0 | ... CM9: =IF('Score '!$CN9="",'Score '!CM9,IFERROR(INDEX(Inversion!$B$1:$B$7,MATCH('Score '!CM9,Inversion!$A$1:$A$7,0)),0)) -> 0
A10: 9 | B10: =IF('Score '!$CN10="",'Score '!B10,IFERROR(INDEX(Inversion!$B$1:$B$7,MATCH('Score '!B10,Inversion!$A$1:$A$7,0)),0)) -> 6 | C10: =IF('Score '!$CN10="",'Score '!C10,IFERROR(INDEX(Inversion!$B$1:$B$7,MATCH('Score '!C10,Inversion!$A$1:$A$7,0)),0)) -> 0 | D10: =IF('Score '!$CN10="",'Score '!D10,IFERROR(INDEX(Inversion!$B$1:$B$7,MATCH('Score '!D10,Inversion!$A$1:$A$7,0)),0)) -> 0 | E10: =IF('Score '!$CN10="",'Score '!E10,IFERROR(INDEX(Inversion!$B$1:$B$7,MATCH('Score '!E10,Inversion!$A$1:$A$7,0)),0)) -> 0 | F10: =IF('Score '!$CN10="",'Score '!F10,IFERROR(INDEX(Inversion!$B$1:$B$7,MATCH('Score '!F10,Inversion!$A$1:$A$7,0)),0)) -> 0 | G10: =IF('Score '!$CN10="",'Score '!G10,IFERROR(INDEX(Inversion!$B$1:$B$7,MATCH('Score '!G10,Inversion!$A$1:$A$7,0)),0)) -> 0 | H10: =IF('Score '!$CN10="",'Score '!H10,IFERROR(INDEX(Inversion!$B$1:$B$7,MATCH('Score '!H10,Inversion!$A$1:$A$7,0)),0)) -> 0 | I10: =IF('Score '!$CN10="",'Score '!I10,IFERROR(INDEX(Inversion!$B$1:$B$7,MATCH('Score '!I10,Inversion!$A$1:$A$7,0)),0)) -> 0 | ... CM10: =IF('Score '!$CN10="",'Score '!CM10,IFERROR(INDEX(Inversion!$B$1:$B$7,MATCH('Score '!CM10,Inversion!$A$1:$A$7,0)),0)) -> 0
A11: 10 | B11: =IF('Score '!$CN11="",'Score '!B11,IFERROR(INDEX(Inversion!$B$1:$B$7,MATCH('Score '!B11,Inversion!$A$1:$A$7,0)),0)) -> 6 | C11: =IF('Score '!$CN11="",'Score '!C11,IFERROR(INDEX(Inversion!$B$1:$B$7,MATCH('Score '!C11,Inversion!$A$1:$A$7,0)),0)) -> 0 | D11: =IF('Score '!$CN11="",'Score '!D11,IFERROR(INDEX(Inversion!$B$1:$B$7,MATCH('Score '!D11,Inversion!$A$1:$A$7,0)),0)) -> 0 | E11: =IF('Score '!$CN11="",'Score '!E11,IFERROR(INDEX(Inversion!$B$1:$B$7,MATCH('Score '!E11,Inversion!$A$1:$A$7,0)),0)) -> 0 | F11: =IF('Score '!$CN11="",'Score '!F11,IFERROR(INDEX(Inversion!$B$1:$B$7,MATCH('Score '!F11,Inversion!$A$1:$A$7,0)),0)) -> 0 | G11: =IF('Score '!$CN11="",'Score '!G11,IFERROR(INDEX(Inversion!$B$1:$B$7,MATCH('Score '!G11,Inversion!$A$1:$A$7,0)),0)) -> 0 | H11: =IF('Score '!$CN11="",'Score '!H11,IFERROR(INDEX(Inversion!$B$1:$B$7,MATCH('Score '!H11,Inversion!$A$1:$A$7,0)),0)) -> 0 | I11: =IF('Score '!$CN11="",'Score '!I11,IFERROR(INDEX(Inversion!$B$1:$B$7,MATCH('Score '!I11,Inversion!$A$1:$A$7,0)),0)) -> 0 | ... CM11: =IF('Score '!$CN11="",'Score '!CM11,IFERROR(INDEX(Inversion!$B$1:$B$7,MATCH('Score '!CM11,Inversion!$A$1:$A$7,0)),0)) -> 0
A12: 11 | B12: =IF('Score '!$CN12="",'Score '!B12,IFERROR(INDEX(Inversion!$B$1:$B$7,MATCH('Score '!B12,Inversion!$A$1:$A$7,0)),0)) -> 6 | C12: =IF('Score '!$CN12="",'Score '!C12,IFERROR(INDEX(Inversion!$B$1:$B$7,MATCH('Score '!C12,Inversion!$A$1:$A$7,0)),0)) -> 0 | D12: =IF('Score '!$CN12="",'Score '!D12,IFERROR(INDEX(Inversion!$B$1:$B$7,MATCH('Score '!D12,Inversion!$A$1:$A$7,0)),0)) -> 0 | E12: =IF('Score '!$CN12="",'Score '!E12,IFERROR(INDEX(Inversion!$B$1:$B$7,MATCH('Score '!E12,Inversion!$A$1:$A$7,0)),0)) -> 0 | F12: =IF('Score '!$CN12="",'Score '!F12,IFERROR(INDEX(Inversion!$B$1:$B$7,MATCH('Score '!F12,Inversion!$A$1:$A$7,0)),0)) -> 0 | G12: =IF('Score '!$CN12="",'Score '!G12,IFERROR(INDEX(Inversion!$B$1:$B$7,MATCH('Score '!G12,Inversion!$A$1:$A$7,0)),0)) -> 0 | H12: =IF('Score '!$CN12="",'Score '!H12,IFERROR(INDEX(Inversion!$B$1:$B$7,MATCH('Score '!H12,Inversion!$A$1:$A$7,0)),0)) -> 0 | I12: =IF('Score '!$CN12="",'Score '!I12,IFERROR(INDEX(Inversion!$B$1:$B$7,MATCH('Score '!I12,Inversion!$A$1:$A$7,0)),0)) -> 0 | ... CM12: =IF('Score '!$CN12="",'Score '!CM12,IFERROR(INDEX(Inversion!$B$1:$B$7,MATCH('Score '!CM12,Inversion!$A$1:$A$7,0)),0)) -> 0
A13: 12 | B13: =IF('Score '!$CN13="",'Score '!B13,IFERROR(INDEX(Inversion!$B$1:$B$7,MATCH('Score '!B13,Inversion!$A$1:$A$7,0)),0)) -> 6 | C13: =IF('Score '!$CN13="",'Score '!C13,IFERROR(INDEX(Inversion!$B$1:$B$7,MATCH('Score '!C13,Inversion!$A$1:$A$7,0)),0)) -> 0 | D13: =IF('Score '!$CN13="",'Score '!D13,IFERROR(INDEX(Inversion!$B$1:$B$7,MATCH('Score '!D13,Inversion!$A$1:$A$7,0)),0)) -> 0 | E13: =IF('Score '!$CN13="",'Score '!E13,IFERROR(INDEX(Inversion!$B$1:$B$7,MATCH('Score '!E13,Inversion!$A$1:$A$7,0)),0)) -> 0 | F13: =IF('Score '!$CN13="",'Score '!F13,IFERROR(INDEX(Inversion!$B$1:$B$7,MATCH('Score '!F13,Inversion!$A$1:$A$7,0)),0)) -> 0 | G13: =IF('Score '!$CN13="",'Score '!G13,IFERROR(INDEX(Inversion!$B$1:$B$7,MATCH('Score '!G13,Inversion!$A$1:$A$7,0)),0)) -> 0 | H13: =IF('Score '!$CN13="",'Score '!H13,IFERROR(INDEX(Inversion!$B$1:$B$7,MATCH('Score '!H13,Inversion!$A$1:$A$7,0)),0)) -> 0 | I13: =IF('Score '!$CN13="",'Score '!I13,IFERROR(INDEX(Inversion!$B$1:$B$7,MATCH('Score '!I13,Inversion!$A$1:$A$7,0)),0)) -> 0 | ... CM13: =IF('Score '!$CN13="",'Score '!CM13,IFERROR(INDEX(Inversion!$B$1:$B$7,MATCH('Score '!CM13,Inversion!$A$1:$A$7,0)),0)) -> 0
... A49: 48 | B49: =IF('Score '!$CN49="",'Score '!B49,IFERROR(INDEX(Inversion!$B$1:$B$7,MATCH('Score '!B49,Inversion!$A$1:$A$7,0)),0)) -> 5 | C49: =IF('Score '!$CN49="",'Score '!C49,IFERROR(INDEX(Inversion!$B$1:$B$7,MATCH('Score '!C49,Inversion!$A$1:$A$7,0)),0)) -> 0 | D49: =IF('Score '!$CN49="",'Score '!D49,IFERROR(INDEX(Inversion!$B$1:$B$7,MATCH('Score '!D49,Inversion!$A$1:$A$7,0)),0)) -> 0 | E49: =IF('Score '!$CN49="",'Score '!E49,IFERROR(INDEX(Inversion!$B$1:$B$7,MATCH('Score '!E49,Inversion!$A$1:$A$7,0)),0)) -> 0 | F49: =IF('Score '!$CN49="",'Score '!F49,IFERROR(INDEX(Inversion!$B$1:$B$7,MATCH('Score '!F49,Inversion!$A$1:$A$7,0)),0)) -> 0 | G49: =IF('Score '!$CN49="",'Score '!G49,IFERROR(INDEX(Inversion!$B$1:$B$7,MATCH('Score '!G49,Inversion!$A$1:$A$7,0)),0)) -> 0 | H49: =IF('Score '!$CN49="",'Score '!H49,IFERROR(INDEX(Inversion!$B$1:$B$7,MATCH('Score '!H49,Inversion!$A$1:$A$7,0)),0)) -> 0 | I49: =IF('Score '!$CN49="",'Score '!I49,IFERROR(INDEX(Inversion!$B$1:$B$7,MATCH('Score '!I49,Inversion!$A$1:$A$7,0)),0)) -> 0 | ... CM49: =IF('Score '!$CN49="",'Score '!CM49,IFERROR(INDEX(Inversion!$B$1:$B$7,MATCH('Score '!CM49,Inversion!$A$1:$A$7,0)),0)) -> 0

Sheet Résultats
A3: Colonne1 | B3: 1 | C3: 2 | D3: 3 | E3: 4 | F3: 5 | G3: 6 | H3: 7 | I3: 8 | J3: 9 | K3: 10 | L3: 11 | M3: 12 | N3: 13 | O3: 14 | P3: 15 | Q3: 16 | R3: 17 | S3: 18 | T3: 19 | U3: 20 | V3: 21 | W3: 22 | X3: 23 | Y3: 24 | Z3: 25 | AA3: 26 | AB3: 27 | AC3: 28 | AD3: 29 | AE3: 30 | AF3: 31 | AG3: 32 | AH3: 33 | AI3: 34 | AJ3: 35 | AK3: 36 | AL3: 37 | AM3: 38 | AN3: 39 | AO3: 40 | AP3: 41 | AQ3: 42 | AR3: 43 | AS3: 44 | AT3: 45 | AU3: 46 | AV3: 47 | AW3: 48 | AX3: 49 | AY3: 50 | AZ3: 51 | BA3: 52 | BB3: 53 | BC3: 54 | BD3: 55 | BE3: 56 | BF3: 57 | BG3: 58 | BH3: 59 | BI3: 60 | BJ3: 61 | BK3: 62 | BL3: 63 | BM3: 64 | BN3: 65 | BO3: 66 | BP3: 67 | BQ3: 68 | BR3: 69 | BS3: 70 | BT3: 71 | BU3: 72 | BV3: 73 | BW3: 74 | BX3: 75 | BY3: 76 | BZ3: 77 | CA3: 78 | CB3: 79 | CC3: 80 | CD3: 81 | CE3: 82 | CF3: 83 | CG3: 84 | CH3: 85 | CI3: 86 | CJ3: 87 | CK3: 88 | CL3: 89 | CM3: 90
A4: Établissement de buts | B4: =(' Score inversé'!B2+' Score inversé'!B11+' Score inversé'!B24+' Score inversé'!B42)/4 -> 5 | C4: =(' Score inversé'!C2+' Score inversé'!C11+' Score inversé'!C24+' Score inversé'!C42)/4 -> 0 | D4: =(' Score inversé'!D2+' Score inversé'!D11+' Score inversé'!D24+' Score inversé'!D42)/4 -> 0 | E4: =(' Score inversé'!E2+' Score inversé'!E11+' Score inversé'!E24+' Score inversé'!E42)/4 -> 0 | F4: =(' Score inversé'!F2+' Score inversé'!F11+' Score inversé'!F24+' Score inversé'!F42)/4 -> 0 | G4: =(' Score inversé'!G2+' Score inversé'!G11+' Score inversé'!G24+' Score inversé'!G42)/4 -> 0 | H4: =(' Score inversé'!H2+' Score inversé'!H11+' Score inversé'!H24+' Score inversé'!H42)/4 -> 0 | I4: =(' Score inversé'!I2+' Score inversé'!I11+' Score inversé'!I24+' Score inversé'!I42)/4 -> 0 | ... CM4: =(' Score inversé'!CM2+' Score inversé'!CM11+' Score inversé'!CM24+' Score inversé'!CM42)/4 -> 0
A5: Engagement | B5: =(' Score inversé'!B8+' Score inversé'!B18+' Score inversé'!B31+' Score inversé'!B40)/4 -> 5.5 | C5: =(' Score inversé'!C8+' Score inversé'!C18+' Score inversé'!C31+' Score inversé'!C40)/4 -> 0 | D5: =(' Score inversé'!D8+' Score inversé'!D18+' Score inversé'!D31+' Score inversé'!D40)/4 -> 0 | E5: =(' Score inversé'!E8+' Score inversé'!E18+' Score inversé'!E31+' Score inversé'!E40)/4 -> 0 | F5: =(' Score inversé'!F8+' Score inversé'!F18+' Score inversé'!F31+' Score inversé'!F40)/4 -> 0 | G5: =(' Score inversé'!G8+' Score inversé'!G18+' Score inversé'!G31+' Score inversé'!G40)/4 -> 0 | H5: =(' Score inversé'!H8+' Score inversé'!H18+' Score inversé'!H31+' Score inversé'!H40)/4 -> 0 | I5: =(' Score inversé'!I8+' Score inversé'!I18+' Score inversé'!I31+' Score inversé'!I40)/4 -> 0 | ... CM5: =(' Score inversé'!CM8+' Score inversé'!CM18+' Score inversé'!CM31+' Score inversé'!CM40)/4 -> 0
A6: Confiance | B6: =(' Score inversé'!B3+' Score inversé'!B13+' Score inversé'!B29+' Score inversé'!B49)/4 -> 6.25 | C6: =(' Score inversé'!C3+' Score inversé'!C13+' Score inversé'!C29+' Score inversé'!C49)/4 -> 0 | D6: =(' Score inversé'!D3+' Score inversé'!D13+' Score inversé'!D29+' Score inversé'!D49)/4 -> 0 | E6: =(' Score inversé'!E3+' Score inversé'!E13+' Score inversé'!E29+' Score inversé'!E49)/4 -> 0 | F6: =(' Score inversé'!F3+' Score inversé'!F13+' Score inversé'!F29+' Score inversé'!F49)/4 -> 0 | G6: =(' Score inversé'!G3+' Score inversé'!G13+' Score inversé'!G29+' Score inversé'!G49)/4 -> 0 | H6: =(' Score inversé'!H3+' Score inversé'!H13+' Score inversé'!H29+' Score inversé'!H49)/4 -> 0 | I6: =(' Score inversé'!I3+' Score inversé'!I13+' Score inversé'!I29+' Score inversé'!I49)/4 -> 0 | ... CM6: =(' Score inversé'!CM3+' Score inversé'!CM13+' Score inversé'!CM29+' Score inversé'!CM49)/4 -> 0
A7: Stress | B7: =(' Score inversé'!B7+' Score inversé'!B15+' Score inversé'!B33+' Score inversé'!B37)/4 -> 5.75 | C7: =(' Score inversé'!C7+' Score inversé'!C15+' Score inversé'!C33+' Score inversé'!C37)/4 -> 0 | D7: =(' Score inversé'!D7+' Score inversé'!D15+' Score inversé'!D33+' Score inversé'!D37)/4 -> 0 | E7: =(' Score inversé'!E7+' Score inversé'!E15+' Score inversé'!E33+' Score inversé'!E37)/4 -> 0 | F7: =(' Score inversé'!F7+' Score inversé'!F15+' Score inversé'!F33+' Score inversé'!F37)/4 -> 0 | G7: =(' Score inversé'!G7+' Score inversé'!G15+' Score inversé'!G33+' Score inversé'!G37)/4 -> 0 | H7: =(' Score inversé'!H7+' Score inversé'!H15+' Score inversé'!H33+' Score inversé'!H37)/4 -> 0 | I7: =(' Score inversé'!I7+' Score inversé'!I15+' Score inversé'!I33+' Score inversé'!I37)/4 -> 0 | ... CM7: =(' Score inversé'!CM7+' Score inversé'!CM15+' Score inversé'!CM33+' Score inversé'!CM37)/4 -> 0
A8: Peur | B8: =(' Score inversé'!B5+' Score inversé'!B17+' Score inversé'!B25+' Score inversé'!B44)/4 -> 6.75 | C8: =(' Score inversé'!C5+' Score inversé'!C17+' Score inversé'!C25+' Score inversé'!C44)/4 -> 0 | D8: =(' Score inversé'!D5+' Score inversé'!D17+' Score inversé'!D25+' Score inversé'!D44)/4 -> 0 | E8: =(' Score inversé'!E5+' Score inversé'!E17+' Score inversé'!E25+' Score inversé'!E44)/4 -> 0 | F8: =(' Score inversé'!F5+' Score inversé'!F17+' Score inversé'!F25+' Score inversé'!F44)/4 -> 0 | G8: =(' Score inversé'!G5+' Score inversé'!G17+' Score inversé'!G25+' Score inversé'!G44)/4 -> 0 | H8: =(' Score inversé'!H5+' Score inversé'!H17+' Score inversé'!H25+' Score inversé'!H44)/4 -> 0 | I8: =(' Score inversé'!I5+' Score inversé'!I17+' Score inversé'!I25+' Score inversé'!I44)/4 -> 0 | ... CM8: =(' Score inversé'!CM5+' Score inversé'!CM17+' Score inversé'!CM25+' Score inversé'!CM44)/4 -> 0
A9: Relaxation | B9: =(' Score inversé'!B4+' Score inversé'!B20+' Score inversé'!B30+' Score inversé'!B43)/4 -> 4.75 | C9: =(' Score inversé'!C4+' Score inversé'!C20+' Score inversé'!C30+' Score inversé'!C43)/4 -> 0 | D9: =(' Score inversé'!D4+' Score inversé'!D20+' Score inversé'!D30+' Score inversé'!D43)/4 -> 0 | E9: =(' Score inversé'!E4+' Score inversé'!E20+' Score inversé'!E30+' Score inversé'!E43)/4 -> 0 | F9: =(' Score inversé'!F4+' Score inversé'!F20+' Score inversé'!F30+' Score inversé'!F43)/4 -> 0 | G9: =(' Score inversé'!G4+' Score inversé'!G20+' Score inversé'!G30+' Score inversé'!G43)/4 -> 0 | H9: =(' Score inversé'!H4+' Score inversé'!H20+' Score inversé'!H30+' Score inversé'!H43)/4 -> 0 | I9: =(' Score inversé'!I4+' Score inversé'!I20+' Score inversé'!I30+' Score inversé'!I43)/4 -> 0 | ... CM9: =(' Score inversé'!CM4+' Score inversé'!CM20+' Score inversé'!CM30+' Score inversé'!CM43)/4 -> 0
A10: Activation | B10: =(' Score inversé'!B6+' Score inversé'!B21+' Score inversé'!B38+' Score inversé'!B47)/4 -> 5 | C10: =(' Score inversé'!C6+' Score inversé'!C21+' Score inversé'!C38+' Score inversé'!C47)/4 -> 0 | D10: =(' Score inversé'!D6+' Score inversé'!D21+' Score inversé'!D38+' Score inversé'!D47)/4 -> 0 | E10: =(' Score inversé'!E6+' Score inversé'!E21+' Score inversé'!E38+' Score inversé'!E47)/4 -> 0 | F10: =(' Score inversé'!F6+' Score inversé'!F21+' Score inversé'!F38+' Score inversé'!F47)/4 -> 0 | G10: =(' Score inversé'!G6+' Score inversé'!G21+' Score inversé'!G38+' Score inversé'!G47)/4 -> 0 | H10: =(' Score inversé'!H6+' Score inversé'!H21+' Score inversé'!H38+' Score inversé'!H47)/4 -> 0 | I10: =(' Score inversé'!I6+' Score inversé'!I21+' Score inversé'!I38+' Score inversé'!I47)/4 -> 0 | ... CM10: =(' Score inversé'!CM6+' Score inversé'!CM21+' Score inversé'!CM38+' Score inversé'!CM47)/4 -> 0
A11: Concentration | B11: =(' Score inversé'!B9+' Score inversé'!B16+' Score inversé'!B32+' Score inversé'!B39)/4 -> 5.75 | C11: =(' Score inversé'!C9+' Score inversé'!C16+' Score inversé'!C32+' Score inversé'!C39)/4 -> 0 | D11: =(' Score inversé'!D9+' Score inversé'!D16+' Score inversé'!D32+' Score inversé'!D39)/4 -> 0 | E11: =(' Score inversé'!E9+' Score inversé'!E16+' Score inversé'!E32+' Score inversé'!E39)/4 -> 0 | F11: =(' Score inversé'!F9+' Score inversé'!F16+' Score inversé'!F32+' Score inversé'!F39)/4 -> 0 | G11: =(' Score inversé'!G9+' Score inversé'!G16+' Score inversé'!G32+' Score inversé'!G39)/4 -> 0 | H11: =(' Score inversé'!H9+' Score inversé'!H16+' Score inversé'!H32+' Score inversé'!H39)/4 -> 0 | I11: =(' Score inversé'!I9+' Score inversé'!I16+' Score inversé'!I32+' Score inversé'!I39)/4 -> 0 | ... CM11: =(' Score inversé'!CM9+' Score inversé'!CM16+' Score inversé'!CM32+' Score inversé'!CM39)/4 -> 0
A12: Distractions | B12: =(' Score inversé'!B23+' Score inversé'!B28+' Score inversé'!B35+' Score inversé'!B45)/4 -> 5.25 | C12: =(' Score inversé'!C23+' Score inversé'!C28+' Score inversé'!C35+' Score inversé'!C45)/4 -> 0 | D12: =(' Score inversé'!D23+' Score inversé'!D28+' Score inversé'!D35+' Score inversé'!D45)/4 -> 0 | E12: =(' Score inversé'!E23+' Score inversé'!E28+' Score inversé'!E35+' Score inversé'!E45)/4 -> 0 | F12: =(' Score inversé'!F23+' Score inversé'!F28+' Score inversé'!F35+' Score inversé'!F45)/4 -> 0 | G12: =(' Score inversé'!G23+' Score inversé'!G28+' Score inversé'!G35+' Score inversé'!G45)/4 -> 0 | H12: =(' Score inversé'!H23+' Score inversé'!H28+' Score inversé'!H35+' Score inversé'!H45)/4 -> 0 | I12: =(' Score inversé'!I23+' Score inversé'!I28+' Score inversé'!I35+' Score inversé'!I45)/4 -> 0 | ... CM12: =(' Score inversé'!CM23+' Score inversé'!CM28+' Score inversé'!CM35+' Score inversé'!CM45)/4 -> 0
A13: Imagerie | B13: =(' Score inversé'!B10+' Score inversé'!B19+' Score inversé'!B27+' Score inversé'!B34)/4 -> 5.25 | C13: =(' Score inversé'!C10+' Score inversé'!C19+' Score inversé'!C27+' Score inversé'!C34)/4 -> 0 | D13: =(' Score inversé'!D10+' Score inversé'!D19+' Score inversé'!D27+' Score inversé'!D34)/4 -> 0 | E13: =(' Score inversé'!E10+' Score inversé'!E19+' Score inversé'!E27+' Score inversé'!E34)/4 -> 0 | F13: =(' Score inversé'!F10+' Score inversé'!F19+' Score inversé'!F27+' Score inversé'!F34)/4 -> 0 | G13: =(' Score inversé'!G10+' Score inversé'!G19+' Score inversé'!G27+' Score inversé'!G34)/4 -> 0 | H13: =(' Score inversé'!H10+' Score inversé'!H19+' Score inversé'!H27+' Score inversé'!H34)/4 -> 0 | I13: =(' Score inversé'!I10+' Score inversé'!I19+' Score inversé'!I27+' Score inversé'!I34)/4 -> 0 | ... CM13: =(' Score inversé'!CM10+' Score inversé'!CM19+' Score inversé'!CM27+' Score inversé'!CM34)/4 -> 0
A14: Pratique mentale | B14: =(' Score inversé'!B14+' Score inversé'!B22+' Score inversé'!B36+' Score inversé'!B46)/4 -> 4.75 | C14: =(' Score inversé'!C14+' Score inversé'!C22+' Score inversé'!C36+' Score inversé'!C46)/4 -> 0 | D14: =(' Score inversé'!D14+' Score inversé'!D22+' Score inversé'!D36+' Score inversé'!D46)/4 -> 0 | E14: =(' Score inversé'!E14+' Score inversé'!E22+' Score inversé'!E36+' Score inversé'!E46)/4 -> 0 | F14: =(' Score inversé'!F14+' Score inversé'!F22+' Score inversé'!F36+' Score inversé'!F46)/4 -> 0 | G14: =(' Score inversé'!G14+' Score inversé'!G22+' Score inversé'!G36+' Score inversé'!G46)/4 -> 0 | H14: =(' Score inversé'!H14+' Score inversé'!H22+' Score inversé'!H36+' Score inversé'!H46)/4 -> 0 | I14: =(' Score inversé'!I14+' Score inversé'!I22+' Score inversé'!I36+' Score inversé'!I46)/4 -> 0 | ... CM14: =(' Score inversé'!CM14+' Score inversé'!CM22+' Score inversé'!CM36+' Score inversé'!CM46)/4 -> 0
A15: Planification | B15: =(' Score inversé'!B12+' Score inversé'!B26+' Score inversé'!B41+' Score inversé'!B48)/4 -> 4.5 | C15: =(' Score inversé'!C12+' Score inversé'!C26+' Score inversé'!C41+' Score inversé'!C48)/4 -> 0 | D15: =(' Score inversé'!D12+' Score inversé'!D26+' Score inversé'!D41+' Score inversé'!D48)/4 -> 0 | E15: =(' Score inversé'!E12+' Score inversé'!E26+' Score inversé'!E41+' Score inversé'!E48)/4 -> 0 | F15: =(' Score inversé'!F12+' Score inversé'!F26+' Score inversé'!F41+' Score inversé'!F48)/4 -> 0 | G15: =(' Score inversé'!G12+' Score inversé'!G26+' Score inversé'!G41+' Score inversé'!G48)/4 -> 0 | H15: =(' Score inversé'!H12+' Score inversé'!H26+' Score inversé'!H41+' Score inversé'!H48)/4 -> 0 | I15: =(' Score inversé'!I12+' Score inversé'!I26+' Score inversé'!I41+' Score inversé'!I48)/4 -> 0 | ... CM15: =(' Score inversé'!CM12+' Score inversé'!CM26+' Score inversé'!CM41+' Score inversé'!CM48)/4 -> 0
A16: Total | I16: =SUBTOTAL(109,[8]) -> 0

Sheet Inversion
A1: =ROW() -> 1 | B1: =7-(ROW()-1) -> 7
A2: =ROW() -> 2 | B2: =7-(ROW()-1) -> 6
A3: =ROW() -> 3 | B3: =7-(ROW()-1) -> 5
A4: =ROW() -> 4 | B4: =7-(ROW()-1) -> 4
A5: =ROW() -> 5 | B5: =7-(ROW()-1) -> 3
A6: =ROW() -> 6 | B6: =7-(ROW()-1) -> 2
A7: =ROW() -> 7 | B7: =7-(ROW()-1) -> 1
