Workbook
Name Codes: Références!$A$2:$A$23

Sheet Données
A1: Code Magasin | B1: Nom magasin | C1: mois DESC | D1: INUTILE | E1: INUTILE | F1: INUTILE | G1: Mois | H1: Année | I1: Trimestre 1 | J1: famille DESC | K1: produit DESC | L1: produit LIB | M1: PVC moyen | N1: Pv moyen | O1: Qte vendues | P1: CA | Q1: % Evol Qte vendues | R1: % Mge PVKS/Pcess + CAR HS CONF | U1: Code magasin
A2: 002 | B2: =INDEX(Références!B:B,MATCH(A2,Références!A:A,0)) -> RONCQ | C2: Mois 01 2014 | D2: Mois | E2: 01 2014 | F2: 41640 | G2: 01 | H2: 2014 | I2: Trimestre 1 | J2: CHARCUTERIE | K2: 11308 | L2: MINI SSE OR | M2: 3,32 | N2: 4,90 | O2: 120 | P2: 588 | Q2: 3,45% | R2: 46,95% | U2: Nom Magasin | W2: =INDEX(B:B,MATCH(W1,A:A,0)) -> #N/A
A3: 004 | B3: =INDEX(Références!B:B,MATCH(A3,Références!A:A,0)) -> LEERS | C3: Mois 01 2014 | D3: Mois | E3: 01 2014 | F3: 41640 | G3: 01 | H3: 2014 | I3: Trimestre 1 | J3: CHARCUTERIE | K3: 11308 | L3: MINI SSE OR | M3: 3,32 | N3: 4,95 | O3: 116 | P3: 574 | Q3: -9,38% | R3: 47,43%
A4: 005 | B4: =INDEX(Références!B:B,MATCH(A4,Références!A:A,0)) -> BOULOGNE | C4: Mois 01 2014 | D4: Mois | E4: 01 2014 | F4: 41640 | G4: 01 | H4: 2014 | I4: Trimestre 1 | J4: CHARCUTERIE | K4: 11308 | L4: MINI SSE OR | M4: 3,32 | N4: 3,89 | O4: 13 | P4: 51 | Q4: -67,50% | R4: 34,53%
A5: 006 | B5: =INDEX(Références!B:B,MATCH(A5,Références!A:A,0)) -> PETITE FORET | C5: Mois 01 2014 | D5: Mois | E5: 01 2014 | F5: 41640 | G5: 01 | H5: 2014 | I5: Trimestre 1 | J5: CHARCUTERIE | K5: 11308 | L5: MINI SSE OR | M5: 3,32 | N5: 3,90 | O5: 89 | P5: 347 | Q5: -34,07% | R5: 35,02% | U5: 6
A6: 007 | B6: =INDEX(Références!B:B,MATCH(A6,Références!A:A,0)) -> NOYELLES GODAULT | C6: Mois 01 2014 | D6: Mois | E6: 01 2014 | F6: 41640 | G6: 01 | H6: 2014 | I6: Trimestre 1 | J6: CHARCUTERIE | K6: 11308 | L6: MINI SSE OR | M6: 3,32 | N6: 4,00 | O6: 48 | P6: 192 | Q6: -64,96% | R6: 36,18%
A7: 008 | B7: =INDEX(Références!B:B,MATCH(A7,Références!A:A,0)) -> LE HAVRE | C7: Mois 01 2014 | D7: Mois | E7: 01 2014 | F7: 41640 | G7: 01 | H7: 2014 | I7: Trimestre 1 | J7: CHARCUTERIE | K7: 11308 | L7: MINI SSE OR | M7: 3,32 | N7: 3,92 | O7: 159 | P7: 623 | Q7: 16,91% | R7: 34,87%
A8: 009 | B8: =INDEX(Références!B:B,MATCH(A8,Références!A:A,0)) -> FONTENAY | C8: Mois 01 2014 | D8: Mois | E8: 01 2014 | F8: 41640 | G8: 01 | H8: 2014 | I8: Trimestre 1 | J8: CHARCUTERIE | K8: 11308 | L8: MINI SSE OR | M8: 3,32 | N8: 4,00 | O8: 70 | P8: 280 | Q8: -32,04% | R8: 35,99%
A9: 010 | B9: =INDEX(Références!B:B,MATCH(A9,Références!A:A,0)) -> LOUVROIL | C9: Mois 01 2014 | D9: Mois | E9: 01 2014 | F9: 41640 | G9: 01 | H9: 2014 | I9: Trimestre 1 | J9: CHARCUTERIE | K9: 11308 | L9: MINI SSE OR | M9: 3,32 | N9: 3,75 | O9: 152 | P9: 570 | Q9: -2,56% | R9: 32,46%
A10: 011 | B10: =INDEX(Références!B:B,MATCH(A10,Références!A:A,0)) -> DUNKERQUE | C10: Mois 01 2014 | D10: Mois | E10: 01 2014 | F10: 41640 | G10: 01 | H10: 2014 | I10: Trimestre 1 | J10: CHARCUTERIE | K10: 11308 | L10: MINI SSE OR | M10: 3,32 | N10: 3,97 | O10: 115 | P10: 457 | Q10: 25,00% | R10: 35,78%
A11: 012 | B11: =INDEX(Références!B:B,MATCH(A11,Références!A:A,0)) -> ST JEAN DE LA RUELLE | C11: Mois 01 2014 | D11: Mois | E11: 01 2014 | F11: 41640 | G11: 01 | H11: 2014 | I11: Trimestre 1 | J11: CHARCUTERIE | K11: 11308 | L11: MINI SSE OR | M11: 3,32 | N11: 4,26 | O11: 43 | P11: 183 | Q11: -28,33% | R11: 39,73%
A12: 013 | B12: =INDEX(Références!B:B,MATCH(A12,Références!A:A,0)) -> TOULON (La Seyne) | C12: Mois 01 2014 | D12: Mois | E12: 01 2014 | F12: 41640 | G12: 01 | H12: 2014 | I12: Trimestre 1 | J12: CHARCUTERIE | K12: 11308 | L12: MINI SSE OR | M12: 3,32 | N12: 3,49 | O12: 49 | P12: 171 | Q12: -24,62% | R12: 27,65%
A13: 014 | B13: =INDEX(Références!B:B,MATCH(A13,Références!A:A,0)) -> LE PONTET | C13: Mois 01 2014 | D13: Mois | E13: 01 2014 | F13: 41640 | G13: 01 | H13: 2014 | I13: Trimestre 1 | J13: CHARCUTERIE | K13: 11308 | L13: MINI SSE OR | M13: 3,32 | N13: 3,99 | O13: 27 | P13: 108 | Q13: -60,87% | R13: 36,07%
A14: 015 | B14: =INDEX(Références!B:B,MATCH(A14,Références!A:A,0)) -> BEZIERS | C14: Mois 01 2014 | D14: Mois | E14: 01 2014 | F14: 41640 | G14: 01 | H14: 2014 | I14: Trimestre 1 | J14: CHARCUTERIE | K14: 11308 | L14: MINI SSE OR | M14: 3,32 | N14: 3,73 | O14: 82 | P14: 306 | Q14: 9,33% | R14: 31,97%
A15: 016 | B15: =INDEX(Références!B:B,MATCH(A15,Références!A:A,0)) -> PLAISIR | C15: Mois 01 2014 | D15: Mois | E15: 01 2014 | F15: 41640 | G15: 01 | H15: 2014 | I15: Trimestre 1 | J15: CHARCUTERIE | K15: 11308 | L15: MINI SSE OR | M15: 3,32 | N15: 5,43 | O15: 11 | P15: 60 | Q15: -73,81% | R15: 51,50%
A16: 017 | B16: =INDEX(Références!B:B,MATCH(A16,Références!A:A,0)) -> MANTES | C16: Mois 01 2014 | D16: Mois | E16: 01 2014 | F16: 41640 | G16: 01 | H16: 2014 | I16: Trimestre 1 | J16: CHARCUTERIE | K16: 11308 | L16: MINI SSE OR | M16: 3,32 | N16: 4,55 | O16: 88 | P16: 400 | Q16: -59,82% | R16: 43,09%
A17: 018 | B17: =INDEX(Références!B:B,MATCH(A17,Références!A:A,0)) -> SAINT GENIS | C17: Mois 01 2014 | D17: Mois | E17: 01 2014 | F17: 41640 | G17: 01 | H17: 2014 | I17: Trimestre 1 | J17: CHARCUTERIE | K17: 11308 | L17: MINI SSE OR | M17: 3,32 | N17: 3,39 | O17: 154 | P17: 522 | Q17: 10,79% | R17: 25,67%
... A23: 024 | B23: =INDEX(Références!B:B,MATCH(A23,Références!A:A,0)) -> MARTIGUES | C23: Mois 01 2014 | D23: Mois | E23: 01 2014 | F23: 41640 | G23: 01 | H23: 2014 | I23: Trimestre 1 | J23: CHARCUTERIE | K23: 11308 | L23: MINI SSE OR | M23: 3,32 | N23: 3,36 | O23: 83 | P23: 279 | Q23: -5,68% | R23: 25,06%

Sheet Références
A1: Code Magasin | B1: Nom magasin
A2: 002 | B2: RONCQ | D2: La plage qui va de A2 à A23 porte le Nom de Codes
A3: 004 | B3: LEERS
A4: 005 | B4: BOULOGNE | D4: Ce nom est utilisé dans la définition de la Validation
A5: 006 | B5: PETITE FORET | D5: dans la feuille Données …
A6: 007 | B6: NOYELLES GODAULT
A7: 008 | B7: LE HAVRE
A8: 009 | B8: FONTENAY
A9: 010 | B9: LOUVROIL
A10: 011 | B10: DUNKERQUE
A11: 012 | B11: ST JEAN DE LA RUELLE
A12: 013 | B12: TOULON (La Seyne)
A13: 014 | B13: LE PONTET
A14: 015 | B14: BEZIERS
A15: 016 | B15: PLAISIR
A16: 017 | B16: MANTES
A17: 018 | B17: SAINT GENIS
... A23: 024 | B23: MARTIGUES
