Workbook

Sheet I
B1: individu A | D1: individu B | F1: individu C
A2: Quantités importées | B2: SELECTION2 | C2: Quantité totale importée3 | D2: SELECTION9 | E2: Quantité totale importée10
A3: 546 | C3: =IF(Tableau2[[#This Row],[SELECTION2]]="x",A3,"") | D3: x | E3: =IF(Tableau2[[#This Row],[SELECTION9]]="x",A3,"") -> 546
A4: 417 | B4: x | C4: =IF(Tableau2[[#This Row],[SELECTION2]]="x",A4,"") -> 417 | E4: =IF(Tableau2[[#This Row],[SELECTION9]]="x",A4,"")
A5: 7 | C5: =IF(Tableau2[[#This Row],[SELECTION2]]="x",A5,"") | D5: x | E5: =IF(Tableau2[[#This Row],[SELECTION9]]="x",A5,"") -> 7
A6: 183 | B6: x | C6: =IF(Tableau2[[#This Row],[SELECTION2]]="x",A6,"") -> 183 | E6: =IF(Tableau2[[#This Row],[SELECTION9]]="x",A6,"")
A7: 57 | C7: =IF(Tableau2[[#This Row],[SELECTION2]]="x",A7,"") | E7: =IF(Tableau2[[#This Row],[SELECTION9]]="x",A7,"")
B8: =SUBTOTAL(109,[SELECTION2]) -> 0 | C8: =SUBTOTAL(109,[Quantité totale importée3]) -> 600 | D8: =SUBTOTAL(109,[SELECTION9]) -> 0 | E8: =SUBTOTAL(109,[Quantité totale importée10]) -> 553

Sheet II
A1: individu | B1: Total importé
A2: A | B2: =INDEX(I!$A$1:$U$8,8,MATCH(Tableau1[[#Headers],[individu ]]&A2,I!$1:$1,0)+1) -> 600
A3: B | B3: =INDEX(I!$A$1:$U$8,8,MATCH(Tableau1[[#Headers],[individu ]]&A3,I!$1:$1,0)+1) -> 553
A4: C | B4: =INDEX(I!$A$1:$U$8,8,MATCH(Tableau1[[#Headers],[individu ]]&A4,I!$1:$1,0)+1) -> 0
A5: D | B5: =INDEX(I!$A$1:$U$8,8,MATCH(Tableau1[[#Headers],[individu ]]&A5,I!$1:$1,0)+1) -> #N/A
A6: E | B6: =INDEX(I!$A$1:$U$8,8,MATCH(Tableau1[[#Headers],[individu ]]&A6,I!$1:$1,0)+1) -> #N/A
A7: F | B7: =INDEX(I!$A$1:$U$8,8,MATCH(Tableau1[[#Headers],[individu ]]&A7,I!$1:$1,0)+1) -> #N/A
A8: G | B8: =INDEX(I!$A$1:$U$8,8,MATCH(Tableau1[[#Headers],[individu ]]&A8,I!$1:$1,0)+1) -> #N/A
A9: H | B9: =INDEX(I!$A$1:$U$8,8,MATCH(Tableau1[[#Headers],[individu ]]&A9,I!$1:$1,0)+1) -> #N/A
A10: I | B10: =INDEX(I!$A$1:$U$8,8,MATCH(Tableau1[[#Headers],[individu ]]&A10,I!$1:$1,0)+1) -> #N/A
A11: J | B11: =INDEX(I!$A$1:$U$8,8,MATCH(Tableau1[[#Headers],[individu ]]&A11,I!$1:$1,0)+1) -> #N/A
