Workbook
Name ANNEE: #REF!
Name AUTRESDONNEES: #REF!
Name BANQUE: #REF!
Name Banques: Coûts!$B$1:$J$1
Name CALENDRIER: #REF!
Name Coûts: Coûts!$A$1:$J$3
Name DONNEES: #REF!
Name Table_correspondance_frais: #REF!

Sheet Base
L3: Ma formule : =SIERREUR(RECHERCHEV(I2;Coûts;3;FAUX);0)
A5: Compte | B5: Mois | C5: ANNEE | D5: Date Valeur | E5: Banque | F5: Montant | G5: Frais Libellé FRP | H5: Métier | I5: Frais | J5: COUT UNIT
A6: BNP01 | B6: JANVIER | C6: 2013 | D6: 41275 | E6: BNP | F6: 405.47 | G6: INTERETS ET COMMISSIONS | H6: INTERIM | I6: COM DE MOUVEMENT | J6: =INDEX(Coûts,MATCH(I6,Coûts!$A:$A,0),MATCH(E6,Coûts!$1:$1,0)) -> 0.00018 | L6: 0.00018
A7: BNP02 | B7: JANVIER | C7: 2013 | D7: 41275 | E7: BNP | F7: 55.64 | G7: INTERETS ET COMMISSIONS | H7: AUTRES | I7: COM DE MOUVEMENT | J7: =INDEX(Coûts,MATCH(I7,Coûts!$A:$A,0),MATCH(E7,Coûts!$1:$1,0)) -> 0.00018 | L7: 0.00018
A8: BNP09 | B8: JANVIER | C8: 2013 | D8: 41275 | E8: BNP | F8: 297.69 | G8: INTERETS ET COMMISSIONS | H8: INTERIM | I8: COM DE MOUVEMENT | J8: =INDEX(Coûts,MATCH(I8,Coûts!$A:$A,0),MATCH(E8,Coûts!$1:$1,0)) -> 0.00018 | L8: 0.00018
A9: BNP11 | B9: JANVIER | C9: 2013 | D9: 41275 | E9: BNP | F9: 144.13 | G9: INTERETS ET COMMISSIONS | H9: INGENIERIE | I9: COM DE MOUVEMENT | J9: =INDEX(Coûts,MATCH(I9,Coûts!$A:$A,0),MATCH(E9,Coûts!$1:$1,0)) -> 0.00018 | L9: 0.00018
A10: BNP13 | B10: JANVIER | C10: 2013 | D10: 41275 | E10: BNP | F10: 77.33 | G10: INTERETS ET COMMISSIONS | H10: INGENIERIE | I10: COM DE MOUVEMENT | J10: =INDEX(Coûts,MATCH(I10,Coûts!$A:$A,0),MATCH(E10,Coûts!$1:$1,0)) -> 0.00018 | L10: 0.00018 | O10: Je dois obtenir 0,0018 et non 0,00025
A11: BNP14 | B11: JANVIER | C11: 2013 | D11: 41275 | E11: BNP | F11: 886.95 | G11: INTERETS ET COMMISSIONS | H11: INTERIM | I11: COM DE MOUVEMENT | J11: =INDEX(Coûts,MATCH(I11,Coûts!$A:$A,0),MATCH(E11,Coûts!$1:$1,0)) -> 0.00018 | L11: 0.00018
A12: BNP17 | B12: JANVIER | C12: 2013 | D12: 41275 | E12: BNP | F12: 10 | G12: INTERETS ET COMMISSIONS | H12: AUTRES | I12: COM DE MOUVEMENT | J12: =INDEX(Coûts,MATCH(I12,Coûts!$A:$A,0),MATCH(E12,Coûts!$1:$1,0)) -> 0.00018 | L12: 0.00018
A13: BNP19 | B13: JANVIER | C13: 2013 | D13: 41275 | E13: BNP | F13: 245.75 | G13: INTERETS ET COMMISSIONS | H13: INTERIM | I13: COM DE MOUVEMENT | J13: =INDEX(Coûts,MATCH(I13,Coûts!$A:$A,0),MATCH(E13,Coûts!$1:$1,0)) -> 0.00018 | L13: 0.00018
A14: BNP22 | B14: JANVIER | C14: 2013 | D14: 41275 | E14: BNP | F14: 10 | G14: INTERETS ET COMMISSIONS | H14: SIEGE | I14: COM DE MOUVEMENT | J14: =INDEX(Coûts,MATCH(I14,Coûts!$A:$A,0),MATCH(E14,Coûts!$1:$1,0)) -> 0.00018 | L14: 0.00018
A15: BNP80 | B15: JANVIER | C15: 2013 | D15: 41275 | E15: BNP | F15: 34.26 | G15: INTERETS ET COMMISSIONS | H15: SIEGE | I15: COM DE MOUVEMENT | J15: =INDEX(Coûts,MATCH(I15,Coûts!$A:$A,0),MATCH(E15,Coûts!$1:$1,0)) -> 0.00018 | L15: 0.00018
A16: CLY01 | B16: JANVIER | C16: 2013 | D16: 41275 | E16: LCL | F16: 3339.39 | G16: RESULTAT ARRETE COMPTE | H16: INTERIM | I16: COM DE MOUVEMENT | J16: =INDEX(Coûts,MATCH(I16,Coûts!$A:$A,0),MATCH(E16,Coûts!$1:$1,0)) -> 0.00025
A17: CLY03 | B17: JANVIER | C17: 2013 | D17: 41275 | E17: LCL | F17: 24 | G17: RESULTAT ARRETE COMPTE | H17: AUTRES | I17: COM DE MOUVEMENT | J17: =IFERROR(VLOOKUP(I17,Coûts,3,FALSE),0) -> 0.00025
A18: CLY04 | B18: JANVIER | C18: 2013 | D18: 41275 | E18: LCL | F18: 24 | G18: RESULTAT ARRETE COMPTE | H18: SIEGE | I18: COM DE MOUVEMENT | J18: =IFERROR(VLOOKUP(I18,Coûts,3,FALSE),0) -> 0.00025
A19: CLY04 | B19: JANVIER | C19: 2013 | D19: 41275 | E19: LCL | F19: 0.01 | G19: RESULTAT ARRETE COMPTE | H19: SIEGE | I19: COM DE MOUVEMENT | J19: =IFERROR(VLOOKUP(I19,Coûts,3,FALSE),0) -> 0.00025
A20: CLY09 | B20: JANVIER | C20: 2013 | D20: 41275 | E20: LCL | F20: 24 | G20: RESULTAT ARRETE COMPTE | H20: INTERIM | I20: COM DE MOUVEMENT | J20: =IFERROR(VLOOKUP(I20,Coûts,3,FALSE),0) -> 0.00025
A21: CLY090 | B21: JANVIER | C21: 2013 | D21: 41275 | E21: LCL | F21: 27 | G21: RESULTAT ARRETE COMPTE | H21: INTERIM | I21: COM DE MOUVEMENT | J21: =IFERROR(VLOOKUP(I21,Coûts,3,FALSE),0) -> 0.00025
A22: CLY090 | B22: JANVIER | C22: 2013 | D22: 41275 | E22: LCL | F22: 29.61 | G22: RESULTAT ARRETE COMPTE | H22: INTERIM | I22: COM DE MOUVEMENT | J22: =IFERROR(VLOOKUP(I22,Coûts,3,FALSE),0) -> 0.00025
A23: CLY090 | B23: JANVIER | C23: 2013 | D23: 41275 | E23: LCL | F23: 130.95 | G23: RESULTAT ARRETE COMPTE | H23: INTERIM | I23: COM DE MOUVEMENT | J23: =IFERROR(VLOOKUP(I23,Coûts,3,FALSE),0) -> 0.00025
A24: CLY140 | B24: JANVIER | C24: 2013 | D24: 41275 | E24: LCL | F24: 27 | G24: RESULTAT ARRETE COMPTE | H24: INTERIM | I24: COM DE MOUVEMENT | J24: =IFERROR(VLOOKUP(I24,Coûts,3,FALSE),0) -> 0.00025
A25: CLY140 | B25: JANVIER | C25: 2013 | D25: 41275 | E25: LCL | F25: 27 | G25: RESULTAT ARRETE COMPTE | H25: INTERIM | I25: COM DE MOUVEMENT | J25: =IFERROR(VLOOKUP(I25,Coûts,3,FALSE),0) -> 0.00025
A26: CLY140 | B26: JANVIER | C26: 2013 | D26: 41275 | E26: LCL | F26: 40.29 | G26: RESULTAT ARRETE COMPTE | H26: INTERIM | I26: COM DE MOUVEMENT | J26: =IFERROR(VLOOKUP(I26,Coûts,3,FALSE),0) -> 0.00025
A27: CLY140 | B27: JANVIER | C27: 2013 | D27: 41275 | E27: LCL | F27: 397.89 | G27: RESULTAT ARRETE COMPTE | H27: INTERIM | I27: COM DE MOUVEMENT | J27: =IFERROR(VLOOKUP(I27,Coûts,3,FALSE),0) -> 0.00025
A28: CLY19 | B28: JANVIER | C28: 2013 | D28: 41275 | E28: LCL | F28: 24 | G28: RESULTAT ARRETE COMPTE | H28: INTERIM | I28: COM DE MOUVEMENT | J28: =IFERROR(VLOOKUP(I28,Coûts,3,FALSE),0) -> 0.00025
... A100: BNP04 | B100: JANVIER | C100: 2013 | D100: 41275 | E100: BNP | F100: 43.21 | G100: INTERETS ET COMMISSIONS | H100: SIEGE | I100: COM DE MOUVEMENT | J100: =IFERROR(VLOOKUP(I100,Coûts,3,FALSE),0) -> 0.00025

Sheet Coûts
A1: Banque | B1: BNP | C1: LCL | D1: BP | E1: SG | F1: BPA | G1: BPL | H1: BPB | I1: CA | J1: CDN
A2: COM DE MOUVEMENT | B2: 0.00018 | C2: 0.00025 | D2: 0.00025 | E2: 0.00025 | F2: 0.00025 | G2: 0.00025 | H2: 0.00025 | I2: 0.00025 | J2: 0.000225
A3: FRAIS OPPOSITION CHEQUE | B3: 12 | C3: 13.5 | D3: exonéré | E3: 10.4 | F3: 8.57 | G3: 15 | H3: 13.75 | I3: 6 | J3: 13.5

Sheet tcd
A2: ANNEE | B2: (Plusieurs éléments)
A4: Moyenne de COUT UNIT | B4: Étiquettes de colonnes
A5: Étiquettes de lignes | B5: BNP | C5: BP | D5: BPA | E5: BPB | F5: BPL | G5: CA | H5: CDN | I5: LCL | J5: SG | K5: Total général
A6: COM DE MOUVEMENT | B6: 0.00018 | H6: 0.00018 | K6: 0.00018
A7: FRAIS OPPOSITION CHEQUE | H7: 12 | K7: 12
A8: INTERETS DEBITEURS
A9: Total général | B9: 0.00018 | H9: 3.600126 | K9: 1.285875
