Workbook
Name Audience_hebdo: bkml!$A$2:$E$3
Name Audience_hebdo: fwb!$A$2:$E$2
Name Audience_hebdo: gpsandroid!$A$2:$E$2
Name Audience_hebdo: gpsiphone!$A$2:$E$2
Name Audience_hebdo: mapsandroidold!$A$2:$E$2
Name Audience_hebdo: mapsipadold!$A$2:$E$2
Name Audience_hebdo: mapsiphoneold!$A$2:$E$2
Name Audience_hebdo: 'shopping web'!$A$2:$E$3
Name Audience_hebdo: 'ud deport mappy'!$A$2:$E$2
Name Audience_hebdo: 'ud deport pj'!$A$2:$E$3
Name Audience_hebdo: webv3!$A$2:$E$3
Name Audience_hebdo_France: 'web france'!$A$2:$E$3
Name Audience_Hebdo_s2: web_s2!$A$1:$E$6
Name fdf: #REF!
Name fdf: #REF!
Name fdf: #REF!
Name fffffffffff: #REF!
Name fffffffffff: #REF!
Name fffffffffff: #REF!
Name graphique: #REF!
Name graphique: #REF!
Name graphique: #REF!
Name ipad_webmobile: 'ipad webmobile'!$B$1:$G$2
Name M_BKML: #REF!
Name M_BKML: #REF!
Name M_BKML: #REF!
Name M_FWB: #REF!
Name M_FWB: #REF!
Name M_FWB: #REF!
Name M_GPS_Android: #REF!
Name M_GPS_Android: #REF!
Name M_GPS_Android: #REF!
Name M_GPS_Iphone: #REF!
Name M_GPS_Iphone: #REF!
Name M_GPS_Iphone: #REF!
Name M_GPSF_Android: #REF!
Name M_GPSF_Android: #REF!
Name M_GPSF_Android: #REF!
Name M_GPSF_iphone: #REF!
Name M_GPSF_iphone: #REF!
Name M_GPSF_iphone: #REF!
Name M_jeu: #REF!
Name M_jeu: #REF!
Name M_jeu: #REF!
Name M_MR_ANdroid: #REF!
Name M_MR_ANdroid: #REF!
Name M_MR_ANdroid: #REF!
Name M_MR_AndroidOld: #REF!
Name M_MR_AndroidOld: #REF!
Name M_MR_AndroidOld: #REF!
Name M_MR_ipad: #REF!
Name M_MR_ipad: #REF!
Name M_MR_ipad: #REF!
Name M_MR_ipadOld: #REF!
Name M_MR_ipadOld: #REF!
Name M_MR_ipadOld: #REF!
Name M_MR_iphone: #REF!
Name M_MR_iphone: #REF!
Name M_MR_iphone: #REF!
Name M_MR_iphoneOld: #REF!

Sheet transi
A1: Attention ce fichier peut ne pas marcher sur des valeurs entre 2 années
E3: s1 | F3: s2 | G3: extract data | J3: Valeurs à récupérer | K3: check
C4: Visites 2013 | E4: =SUM(E5,E12) -> 3126828 | F4: =SUM(F5,F12) -> 5582763 | J4: =SUM(J5,J12) -> #REF! | K4: =J4-M4 -> #REF! | M4: 6113505
C5: Web Mappy +UD | E5: =E6+E10 -> 3126828 | F5: =F6+F10 -> 4009471 | J5: =J6+J10+J11 -> #REF! | K5: =J5-M5 -> #REF! | M5: 4302860
C6: Web Mappy | E6: 3051787 | F6: 3918272 | G6: =webv3!B3 -> 25 | J6: =SUM(G6:I6) -> 25 | K6: =J6-M6 -> -3850658 | M6: 3850683
C7: site France | E7: 3031182 | F7: 3897565 | G7: ='web france'!B3 -> 22 | J7: =SUM(G7:I7) -> 22 | K7: =J7-M7 -> -3830778 | M7: 3830800
B8: jeux-concours | C8: jeu concours | E8: 5718 | F8: 26162 | G8: =SUMIF(web_s2!A$1:E$15,B8,web_s2!B$1:B$15) -> 2 | J8: =SUM(G8:I8) -> 2 | K8: =J8-M8 -> -778 | M8: 780
B9: SEO | C9: pratique | E9: 20343 | F9: 23243 | G9: =SUMIF(web_s2!A$1:E$15,B9,web_s2!B$1:B$15) -> 0 | J9: =SUM(G9:I9) -> 0 | K9: =J9-M9 -> -23628 | M9: 23628
C10: Web UD.com | E10: 75041 | F10: 91199 | G10: =#REF! -> #REF! | J10: =SUM(G10:I10) -> #REF! | K10: =J10-M10 -> #REF! | M10: 452177
C11: Mappy shopping web | G11: ='shopping web'!B3 -> 4 | J11: =SUM(G11:I11) -> 4
C12: Mobile | F12: =F13+F30 -> 1573292 | J12: =J13+J30 -> #REF! | K12: =J12-M12 -> #REF! | M12: 1810645
C13: Mobile HGPS | E13: =SUM(E14,E25) -> 958449 | F13: =SUM(F14,F25) -> 935011 | J13: =SUM(J14,J25) -> #REF! | K13: =J13-M13 -> #REF! | M13: 1125533
C14: Sites | E14: =SUM(E15,E19) -> 388856 | F14: =SUM(F15,F19) -> 400924 | J14: =SUM(J15,J19,J24) -> #REF! | K14: =J14-M14 -> #REF! | M14: 507363
C15: FWB | E15: 262484 | F15: 255011 | G15: =fwb!B3 -> 0 | J15: =SUM(G15:I15) -> 0 | K15: =J15-M15 -> -292369 | M15: 292369
K16: =J16-M16 -> 0
K17: =J17-M17 -> 0
K18: =J18-M18 -> 0
C19: BKML | E19: 126372 | F19: 145913 | G19: =bkml!B3 -> 16 | J19: =SUM(G19:I19) -> 16 | K19: =J19-M19 -> -214978 | M19: 214994
K20: =J20-M20 -> 0
K21: =J21-M21 -> 0
K22: =J22-M22 -> 0
K23: =J23-M23 -> 0
C24: Mappy shopping mobile | G24: =#REF! -> #REF! | I24: =I29 -> 1 | J24: =G24-I24 -> #REF!
C25: Applications | E25: =E26 -> 569593 | F25: =F26 -> 534087 | J25: =J26 -> #REF! | K25: =J25-M25 -> #REF! | M25: 618170
C26: Maps & Routes | E26: =SUM(E27:E29) -> 569593 | F26: =SUM(F27:F29) -> 534087 | G26: old | H26: anciens | I26: v4 | J26: =SUM(J27:J29) -> #REF! | K26: =J26-M26 -> #REF! | M26: 618170
D27: iphone | E27: =53157+265074 -> 318231 | F27: =43937+245298 -> 289235 | G27: =mapsiphoneold!B3 -> 0 | H27: =#REF! -> #REF! | I27: =#REF! -> #REF! | J27: =SUM(G27:I27) -> #REF! | K27: =J27-M27 -> #REF! | M27: 329772
D28: android | E28: 84350 | F28: 82656 | G28: =mapsandroidold!B3 -> 0 | H28: =#REF! -> #REF! | I28: =#REF! -> #REF! | J28: =SUM(G28:I28) -> #REF! | K28: =J28-M28 -> #REF! | M28: 107452
D29: ipad | E29: 167012 | F29: 162196 | G29: =mapsipadold!B3 -> 0 | H29: =#REF! -> #REF! | I29: ='ipad webmobile'!C2 -> 1 | J29: =SUM(G29:I29) -> #REF! | K29: =J29-M29 -> #REF! | M29: 180946
C30: App GPS | E30: =E31+E34 -> 614464 | F30: =F31+F34 -> 638281 | G30: =G31+G34 -> #REF! | J30: =J31+J34 -> #REF! | K30: =J30-M30 -> #REF! | M30: 685112
C31: App GPS Gratuit | E31: =SUM(E32:E33) -> 590056 | F31: =SUM(F32:F33) -> 613402 | G31: =SUM(G32:G33) -> #REF! | J31: =SUM(J32:J33) -> #REF! | K31: =J31-M31 -> #REF! | M31: 659912
D32: iphone | E32: 499002 | F32: 523392 | G32: =#REF! -> #REF! | J32: =SUM(G32:I32) -> #REF! | K32: =J32-M32 -> #REF! | M32: 560592
D33: android | E33: 91054 | F33: 90010 | G33: =#REF! -> #REF! | J33: =SUM(G33:I33) -> #REF! | K33: =J33-M33 -> #REF! | M33: 99320
C34: App GPS | E34: =SUM(E35:E36) -> 24408 | F34: =SUM(F35:F36) -> 24879 | G34: =SUM(G35:G36) -> 0 | J34: =SUM(J35:J36) -> 0 | K34: =J34-M34 -> -25200 | M34: 25200
D35: iphone | E35: 24391 | F35: 24858 | G35: =gpsiphone!B3 -> 0 | J35: =SUM(G35:I35) -> 0 | K35: =J35-M35 -> -25172 | M35: 25172
D36: android | E36: 17 | F36: 21 | G36: =gpsandroid!B3 -> 0 | J36: =SUM(G36:I36) -> 0 | K36: =J36-M36 -> -28 | M36: 28
C37: Dont Mappy déportalisé | E37: 49761 | F37: 68858 | G37: ='ud deport mappy'!B3 -> 0 | J37: =SUM(G37:I37) -> 0 | K37: =J37-M37 -> -62609 | M37: 62609
C38: Dont PJ.fr déportalisé | E38: 76787 | F38: 104137 | G38: ='ud deport pj'!B3 -> 186349 | J38: =SUM(G38:I38) -> 186349 | K38: =J38-M38 -> 83695 | M38: 102654
K39: =J39-M39 -> 0
E40: s1 | F40: s2 | K40: =J40-M40 -> 0
C41: VU | E41: =SUM(E42,E49) -> 2948040 | F41: =SUM(F42,F49) -> 3486194 | K41: =J41-M41 -> 0
C42: Web Mappy +UD | E42: =E43+E47 -> 2288705 | F42: =F43+F47 -> 2845252 | K42: =J42-M42 -> 0
C43: Web Mappy | E43: 2217154 | F43: 2758354 | K43: =J43-M43 -> 0
C44: site France | E44: 2199265 | F44: 2741136 | K44: =J44-M44 -> 0
B45: jeux-concours | C45: jeu concours | E45: 4669 | F45: 24282 | K45: =J45-M45 -> 0
B46: SEO | C46: pratique | E46: 19769 | F46: 22556 | K46: =J46-M46 -> 0
C47: Web UD.com | E47: 71551 | F47: 86898 | K47: =J47-M47 -> 0
C48: Mappy shopping web
C49: Mobile | E49: =SUM(E50,E61) -> 659335 | F49: =SUM(F50,F61) -> 640942 | K49: =J49-M49 -> 0
C50: Sites | E50: =SUM(E51,E55) -> 293620 | F50: =SUM(F51,F55) -> 305415 | K50: =J50-M50 -> 0
C51: FWB | E51: 187291 | F51: 181861 | K51: =J51-M51 -> 0
K52: =J52-M52 -> 0
K53: =J53-M53 -> 0
K54: =J54-M54 -> 0
C55: BKML | E55: 106329 | F55: 123554 | K55: =J55-M55 -> 0
K56: =J56-M56 -> 0
K57: =J57-M57 -> 0
K58: =J58-M58 -> 0
K59: =J59-M59 -> 0
C60: Mappy shopping mobile
C61: Applications | E61: =E62 -> 365715 | F61: =F62 -> 335527 | K61: =J61-M61 -> 0
C62: Maps & Routes | E62: =SUM(E63:E65) -> 365715 | F62: =SUM(F63:F65) -> 335527 | K62: =J62-M62 -> 0
D63: iphone | E63: 200244 | F63: 175619 | K63: =J63-M63 -> 0
D64: android | E64: 53253 | F64: 52087 | K64: =J64-M64 -> 0
D65: ipad | E65: 112218 | F65: 107821 | K65: =J65-M65 -> 0
C66: App GPS | E66: =E67+E70 -> 251137 | F66: =F67+F70 -> 246095 | K66: =J66-M66 -> 0
C67: App GPS gratuit | E67: =SUM(E68:E69) -> 236687 | F67: =SUM(F68:F69) -> 231733 | K67: =J67-M67 -> 0
D68: iphone | E68: 200606 | F68: 196641 | K68: =J68-M68 -> 0
D69: android | E69: 36081 | F69: 35092 | K69: =J69-M69 -> 0
C70: App GPS | E70: =SUM(E71:E72) -> 14450 | F70: =SUM(F71:F72) -> 14362 | K70: =J70-M70 -> 0
D71: iphone | E71: 14440 | F71: 14353 | K71: =J71-M71 -> 0
D72: android | E72: 10 | F72: 9 | K72: =J72-M72 -> 0
C73: Dont Mappy déportalisé | E73: 45977 | F73: 63055 | K73: =J73-M73 -> 0
C74: Dont PJ.fr déportalisé | E74: 73222 | F74: 98731 | K74: =J74-M74 -> 0
K75: =J75-M75 -> 0
C76: PV | D76: PV | E76: s1 | F76: s2 | K76: =J76-M76 -> 0
C77: Web Mappy + UD | E77: =E78+E82 -> 12383044 | F77: =F78+F82 -> 15635491 | G77: =G78+G82 -> #REF! | J77: =J78+J82+J83 -> #REF! | K77: =J77-M77 -> #REF! | M77: 18238851
C78: Web Mappy | E78: 11979622 | F78: 15158983 | G78: =webv3!C3 -> 48 | J78: =SUM(G78:I78) -> 48 | K78: =J78-M78 -> -14858393 | M78: 14858441
C79: site France | E79: 11916078 | F79: 15118743 | G79: ='web france'!C3 -> 45 | J79: =SUM(G79:I79) -> 45 | K79: =J79-M79 -> -14825157 | M79: 14825202
B80: jeux-concours | C80: jeu concours | E80: 43359 | F80: 48981 | G80: =SUMIF(web_s2!A$1:E$15,transi!B80,web_s2!C$1:C$15) -> 2 | J80: =SUM(G80:I80) -> 2 | K80: =J80-M80 -> -4198 | M80: 4200
B81: SEO | C81: pratique | E81: 31900 | F81: 36490 | G81: =SUMIF(web_s2!A$1:E$15,transi!B81,web_s2!C$1:C$15) -> 0 | J81: =SUM(G81:I81) -> 0 | K81: =J81-M81 -> -38422 | M81: 38422
C82: Web UD.com | E82: 403422 | F82: 476508 | G82: =#REF! -> #REF! | J82: =SUM(G82:I82) -> #REF! | K82: =J82-M82 -> #REF! | M82: 3380410
C83: Mappy shopping web | G83: ='shopping web'!C3 -> 18 | J83: =SUM(G83:I83) -> 18
C84: Mobile | E84: =SUM(E85,E96) -> 5491453 | F84: =SUM(F85,F96) -> 5317625 | G84: =SUM(G85,G96) -> 11401340 | H84: =SUM(H85,H96) -> #REF! | I84: =SUM(I85,I96) -> #REF! | J84: =SUM(G84:I84) -> #REF! | K84: =J84-M84 -> #REF! | M84: 6444126
C85: Sites | E85: =SUM(E86,E90) -> 1467790 | F85: =SUM(F86,F90) -> 1472629 | G85: =SUM(G86,G90,G95) -> 11401340 | H85: =SUM(H86,H90) -> 0 | I85: =SUM(I86,I90) -> 0 | J85: =SUM(G85:I85) -> 11401340 | K85: =J85-M85 -> 9671623 | M85: 1729717
C86: FWB | E86: 1144193 | F86: 1099051 | G86: =fwb!C3 -> 0 | J86: =SUM(G86:I86) -> 0 | K86: =J86-M86 -> -1143703 | M86: 1143703
K87: =J87-M87 -> 0
K88: =J88-M88 -> 0
K89: =J89-M89 -> 0
C90: BKML | E90: 323597 | F90: 373578 | G90: =bkml!C3 -> 16 | J90: =SUM(G90:I90) -> 16 | K90: =J90-M90 -> -585998 | M90: 586014
K91: =J91-M91 -> 0
K92: =J92-M92 -> 0
K93: =J93-M93 -> 0
K94: =J94-M94 -> 0
C95: Mappy shopping mobile | G95: ='Webmobile sans ipad'!D2 -> 11401324 | I95: =#REF! -> #REF! | J95: =G95-I95 -> #REF!
C96: Applications | E96: =E97 -> 4023663 | F96: =F97 -> 3844996 | G96: =G97 -> 0 | H96: =H97 -> #REF! | I96: =I97 -> #REF! | J96: =SUM(G96:I96) -> #REF! | K96: =J96-M96 -> #REF! | M96: 4714409
C97: Maps & Routes | E97: =SUM(E98:E100) -> 4023663 | F97: =SUM(F98:F100) -> 3844996 | G97: =SUM(G98:G100) -> 0 | H97: =SUM(H98:H100) -> #REF! | I97: =SUM(I98:I100) -> #REF! | J97: =SUM(G97:I97) -> #REF! | K97: =J97-M97 -> #REF! | M97: 4714409
D98: iphone | E98: =362506+1827925 -> 2190431 | F98: =316971+1741952 -> 2058923 | G98: =mapsiphoneold!C3 -> 0 | H98: =#REF! -> #REF! | I98: =#REF! -> #REF! | J98: =SUM(G98:I98) -> #REF! | K98: =J98-M98 -> #REF! | M98: 2399506
D99: android | E99: 510250 | F99: 489623 | G99: =mapsandroidold!C3 -> 0 | H99: =#REF! -> #REF! | I99: =#REF! -> #REF! | J99: =SUM(G99:I99) -> #REF! | K99: =J99-M99 -> #REF! | M99: 806862
D100: ipad | E100: 1322982 | F100: 1296450 | G100: =mapsipadold!C3 -> 0 | H100: =#REF! -> #REF! | I100: ='ipad webmobile'!D2 -> 7 | J100: =SUM(G100:I100) -> #REF! | K100: =J100-M100 -> #REF! | M100: 1508041
C101: App GPS | E101: =E102+E105 -> 3691916 | F101: =F102+F105 -> 3708721 | G101: =G102+G105 -> #REF! | J101: =SUM(G101:I101) -> #REF! | K101: =J101-M101 -> #REF! | M101: 4008792
...

Sheet synthese_b
A1: remarque | B1: Nom dans l'interface | D1: Visites | E1: Pages vues | F1: Temps passé / visites | G1: Taux de rebond | H1: Temps passé calculé/ visites | I1: Taux de rebond calculé | J1: VU | K1: VU DQ | N1: s1 | O1: s2 | P1: s3 | Q1: s4 | R1: s5 | S1: s6 | T1: s7 | U1: s8 | V1: s9 | W1: s10 | X1: s11 | Y1: s12 | Z1: s13 | AA1: s14 | AB1: s15 | AC1: s16 | AD1: s17 | AE1: s18 | AF1: s19 | AG1: s20 | AH1: s21 | AI1: s22 | AJ1: s23 | AK1: s24 | AL1: s25 | AM1: s26
A2: ras | B2: MP | Web FR V5 | C2: web V5 | D2: =#REF! -> #REF! | E2: =#REF! -> #REF! | F2: =#REF! -> #REF! | G2: =#REF! -> #REF! | H2: =((VALUE((REPLACE(F2,SEARCH(".",F2),1,","))))/60)/1440 -> #REF! | I2: =VALUE(SUBSTITUTE(G2,".",",")) -> #REF! | J2: =#REF! -> #REF! | K2: =#REF! -> #REF! | L2: 15676380 | M2: 15676380
A3: ras | B3: MP | Web FR V3 | C3: web v3 | D3: =webv3!B3 -> 25 | E3: =webv3!C3 -> 48 | F3: =webv3!D3 -> 428 | G3: =webv3!E3 -> 0.72 | H3: =((VALUE((REPLACE(F3,SEARCH(".",F3),1,","))))/60)/1440 -> #VALUE! | I3: =VALUE(SUBSTITUTE(G3,".",",")) -> 0.72 | J3: 98 | K3: =webv3!B6 -> 10 | L3: 224 | M3: 224
A4: ras | B4: MP | Shopping Web | C4: shopping web | D4: ='shopping web'!B3 -> 4 | E4: ='shopping web'!C3 -> 18 | F4: ='shopping web'!D3 -> 921 | G4: ='shopping web'!E3 -> 0.75 | I4: =VALUE(SUBSTITUTE(G4,".",",")) -> 0.75 | L4: 28 | M4: 28
A5: Partie Mobile | B5: MP | BKML | C5: bkml | D5: =bkml!B3 -> 16 | E5: =bkml!C3 -> 16 | F5: =bkml!D3 -> 0 | G5: =bkml!E3 -> 1 | H5: =((VALUE((REPLACE(F5,SEARCH(".",F5),1,","))))/60)/1440 -> #VALUE! | I5: =VALUE(SUBSTITUTE(G5,".",",")) -> 1 | J5: 6 | K5: =bkml!B6 -> 5 | L5: 36 | M5: 36 | N5: 59932 | O5: 58441 | P5: 32330 | Q5: 23793 | R5: 22953 | S5: 22311 | T5: 22909 | U5: 23807 | V5: 23520 | W5: 24073 | X5: 22892 | Y5: 22400 | Z5: 21976 | AA5: 21968 | AB5: 22128 | AC5: 23406 | AD5: 23629 | AE5: 23925 | AF5: 22735 | AG5: 21590 | AH5: 21425 | AI5: 21876 | AJ5: 22020 | AK5: 21174 | AL5: 20951 | AM5: 21167
A6: Partie Mobile | B6: MP | FWB | C6: fwb | D6: =fwb!B3 -> 0 | E6: =fwb!C3 -> 0 | F6: =fwb!D3 -> 0 | G6: =fwb!E3 -> 0 | H6: =((VALUE((REPLACE(F6,SEARCH(".",F6),1,","))))/60)/1440 -> #VALUE! | I6: =VALUE(SUBSTITUTE(G6,".",",")) -> 0 | J6: 0 | K6: =fwb!B6 -> 0 | L6: 0 | M6: 0 | N6: 357834 | O6: 356288 | P6: 80783 | Q6: 484 | R6: 184 | S6: 64 | T6: 25 | U6: 19 | V6: 23 | W6: 19 | X6: 8
A7: ras | B7: MP | Shopping Mobile - Web Mobile | C7: webmobile total | D7: =#REF! -> #REF! | E7: =#REF! -> #REF! | F7: =#REF! -> #REF! | G7: =#REF! -> #REF! | H7: =((VALUE((REPLACE(F7,SEARCH(".",F7),1,","))))/60)/1440 -> #REF! | I7: =VALUE(SUBSTITUTE(G7,".",",")) -> #REF! | J7: 804099 | K7: =#REF! -> #REF! | L7: 5720094 | M7: 5718401 | N7: 2499 | O7: 2229 | P7: 418113 | Q7: 518767 | R7: 534793 | S7: 546102 | T7: 561227 | U7: 589057 | V7: 618516 | W7: 620130 | X7: 610324 | Y7: 594336 | Z7: 583169 | AA7: 599497 | AB7: 618095 | AC7: 644037 | AD7: 695799 | AE7: 712219 | AF7: 698420 | AG7: 707446 | AH7: 715666 | AI7: 769362 | AJ7: 757225 | AK7: 763533 | AL7: 749385 | AM7: 770186
A8: segment enregistré qui va prendre dans la source perso mappy >> esemble des indicateurs >>mappyipad + mappyipadv5 | B8: MP | Shopping Mobile - Web Mobile | C8: ipad (webmobile encapsulé) | D8: ='ipad webmobile'!C2 -> 1 | E8: ='ipad webmobile'!D2 -> 7 | F8: ='ipad webmobile'!F2 -> 58 | G8: ='ipad webmobile'!G2 -> 0 | H8: =((VALUE((REPLACE(F8,SEARCH(".",F8),1,","))))/60)/1440 -> #VALUE! | I8: =VALUE(SUBSTITUTE(G8,".",",")) -> 0 | J8: 9036 | K8: a faire | M8: 57359 | AG8: 31180 | AH8: 51946 | AI8: 56486 | AJ8: 53651 | AK8: 56065 | AL8: 54565 | AM8: 57294
A9: segment enregistré webmobile tablettes | B9: MP | Shopping Mobile - Web Mobile | C9: webmobile tablettes | D9: =#REF! -> #REF! | E9: =#REF! -> #REF! | F9: =#REF! -> #REF! | H9: =((VALUE((REPLACE(F9,SEARCH(".",F9),1,","))))/60)/1440 -> #REF! | I9: =VALUE(SUBSTITUTE(G9,".",",")) -> #VALUE! | J9: 171288 | K9: a faire | L9: 2102121 | M9: 2101958 | N9: 37 | O9: 162688 | P9: 204215 | Q9: 210471 | R9: 133622 | S9: 216671 | T9: 223744 | U9: 231850 | V9: 241817 | W9: 235165 | X9: 230818 | Y9: 231559 | Z9: 223622 | AA9: 229710 | AB9: 235432 | AC9: 238691 | AD9: 269204 | AE9: 271933 | AF9: 264825 | AG9: 294617 | AH9: 304113 | AI9: 330179 | AJ9: 313598 | AK9: 323535 | AL9: 317025 | AM9: 328718
A10: Partie Mobile | B10: MP | Maps Ipad | C10: maps ipad | D10: =#REF! -> #REF! | E10: =#REF! -> #REF! | F10: =#REF! -> #REF! | G10: =#REF! -> #REF! | H10: =((VALUE((REPLACE(F10,SEARCH(".",F10),1,","))))/60)/1440 -> #REF! | I10: =VALUE(SUBSTITUTE(G10,".",",")) -> #REF! | J10: 6952 | K10: =#REF! -> #REF! | L10: 50575 | M10: 50575 | X10: 83590 | Y10: 83323 | Z10: 80623 | AA10: 81590 | AB10: 82247 | AC10: 82028 | AD10: 89851 | AE10: 89538 | AF10: 86452 | AG10: 47241 | AH10: 32275 | AI10: 29739 | AJ10: 25319 | AK10: 24374 | AL10: 22296 | AM10: 21817
A11: pas besoin de récuperer | C11: maps ipad old | D11: =mapsipadold!B3 -> 0 | E11: =mapsipadold!C3 -> 0 | F11: =mapsipadold!D3 -> 0 | G11: =mapsipadold!E3 -> 0 | H11: =((VALUE((REPLACE(F11,SEARCH(".",F11),1,","))))/60)/1440 -> #VALUE! | I11: =VALUE(SUBSTITUTE(G11,".",",")) -> 0
A12: Partie Mobile | B12: MP | Maps Android | C12: maps android | D12: =#REF! -> #REF! | E12: =#REF! -> #REF! | F12: =#REF! -> #REF! | G12: =#REF! -> #REF! | H12: =((VALUE((REPLACE(F12,SEARCH(".",F12),1,","))))/60)/1440 -> #REF! | I12: =VALUE(SUBSTITUTE(G12,".",",")) -> #REF! | J12: 236 | K12: =#REF! -> #REF! | L12: 1307 | M12: 1307
A13: pas besoin de récuperer | C13: maps android old | D13: =mapsandroidold!B3 -> 0 | E13: =mapsandroidold!C3 -> 0 | F13: =mapsandroidold!D3 -> 0 | G13: =mapsandroidold!E3 -> 0 | H13: =((VALUE((REPLACE(F13,SEARCH(".",F13),1,","))))/60)/1440 -> #VALUE! | I13: =VALUE(SUBSTITUTE(G13,".",",")) -> 0
A14: Partie Mobile | B14: MP | Maps Android v4 | C14: maps android v4 | D14: =#REF! -> #REF! | E14: =#REF! -> #REF! | F14: =#REF! -> #REF! | G14: =#REF! -> #REF! | H14: =((VALUE((REPLACE(F14,SEARCH(".",F14),1,","))))/60)/1440 -> #REF! | I14: =VALUE(SUBSTITUTE(G14,".",",")) -> #REF! | J14: 149822 | K14: =#REF! -> #REF! | L14: 1000636 | M14: 1000636
A15: Partie Mobile | B15: MP | Maps Iphone | C15: maps iphone | D15: =#REF! -> #REF! | E15: =#REF! -> #REF! | F15: =#REF! -> #REF! | G15: =#REF! -> #REF! | H15: =((VALUE((REPLACE(F15,SEARCH(".",F15),1,","))))/60)/1440 -> #REF! | I15: =VALUE(SUBSTITUTE(G15,".",",")) -> #REF! | J15: 502 | K15: =#REF! -> #REF! | L15: 3374 | M15: 3374
A16: pas besoin de récuperer | C16: maps iphone old | D16: =mapsiphoneold!B3 -> 0 | E16: =mapsiphoneold!C3 -> 0 | F16: =mapsiphoneold!D3 -> 0 | G16: =mapsiphoneold!E3 -> 0 | H16: =((VALUE((REPLACE(F16,SEARCH(".",F16),1,","))))/60)/1440 -> #VALUE! | I16: =VALUE(SUBSTITUTE(G16,".",",")) -> 0
A17: Partie Mobile | B17: MP | maps v5 iphone | C17: maps iphone v5 | D17: =#REF! -> #REF! | E17: =#REF! -> #REF! | F17: =#REF! -> #REF! | G17: =#REF! -> #REF! | H17: =((VALUE((REPLACE(F17,SEARCH(".",F17),1,","))))/60)/1440 -> #REF! | I17: =VALUE(SUBSTITUTE(G17,".",",")) -> #REF! | J17: 128445 | L17: 962087 | M17: 962087
A18: Partie Mobile | B18: MP | mappy city iphone | C18: mappycity iphone | D18: =#REF! -> #REF! | E18: =#REF! -> #REF! | F18: =#REF! -> #REF! | G18: =#REF! -> #REF! | H18: =((VALUE((REPLACE(F18,SEARCH(".",F18),1,","))))/60)/1440 -> #REF! | I18: =VALUE(SUBSTITUTE(G18,".",",")) -> #REF! | J18: 424 | K18: =#REF! -> #REF! | L18: 3220 | M18: 3220
A19: Partie Mobile | B19: MP | mappy city android | C19: mappycity android | D19: =#REF! -> #REF! | E19: =#REF! -> #REF! | F19: =#REF! -> #REF! | G19: =#REF! -> #REF! | H19: =((VALUE((REPLACE(F19,SEARCH(".",F19),1,","))))/60)/1440 -> #REF! | I19: =VALUE(SUBSTITUTE(G19,".",",")) -> #REF! | J19: 302 | K19: =#REF! -> #REF! | L19: 2270 | M19: 2270
A20: segment ndrive | B20: MP | GPS Iphone | C20: gps free iphone | D20: =#REF! -> #REF! | E20: =#REF! -> #REF! | H20: =((VALUE((REPLACE(F20,SEARCH(".",F20),1,","))))/60)/1440 -> #VALUE! | I20: =VALUE(SUBSTITUTE(G20,".",",")) -> #VALUE! | J20: 123392 | K20: a faire | L20: 1598676 | M20: 1598671
A21: segment ndrive | B21: MP | GPS Android | C21: gps free android | D21: =#REF! -> #REF! | E21: =#REF! -> #REF! | H21: =((VALUE((REPLACE(F21,SEARCH(".",F21),1,","))))/60)/1440 -> #VALUE! | I21: =VALUE(SUBSTITUTE(G21,".",",")) -> #VALUE! | J21: 82035 | K21: a faire | L21: 1128309 | M21: 1000757
A22: Partie Mobile | B22: MP | GPS windows phone | C22: gps free windows phone | D22: =#REF! -> #REF! | E22: =#REF! -> #REF! | F22: =#REF! -> #REF! | G22: =#REF! -> #REF! | H22: =((VALUE((REPLACE(F22,SEARCH(".",F22),1,","))))/60)/1440 -> #REF! | I22: =VALUE(SUBSTITUTE(G22,".",",")) -> #REF! | J22: 10725 | K22: =#REF! -> #REF! | L22: 101677 | M22: 101661
A23: pas besoin de récuperer | C23: gps iphone | D23: =gpsiphone!B3 -> 0 | E23: =gpsiphone!C3 -> 0 | F23: =gpsiphone!D3 -> 0 | G23: =gpsiphone!E3 -> 0 | H23: =((VALUE((REPLACE(F23,SEARCH(".",F23),1,","))))/60)/1440 -> #VALUE! | I23: =VALUE(SUBSTITUTE(G23,".",",")) -> 0
A24: pas besoin de récuperer | C24: gps android | D24: =gpsandroid!B3 -> 0 | E24: =gpsandroid!C3 -> 0 | F24: =gpsandroid!D3 -> 0 | G24: =gpsandroid!E3 -> 0 | H24: =((VALUE((REPLACE(F24,SEARCH(".",F24),1,","))))/60)/1440 -> #VALUE! | I24: =VALUE(SUBSTITUTE(G24,".",",")) -> 0
A25: segment enregistré qui va prendre dans la source perso mappy >> esemble des indicateurs >>mappyiphone | B25: MP | Shopping Mobile - Web Mobile | C25: webmobile (shopping iphone) | D25: =#REF! -> #REF! | E25: =#REF! -> #REF! | F25: =#REF! -> #REF! | G25: =#REF! -> #REF! | H25: =((VALUE((REPLACE(F25,SEARCH(".",F25),1,","))))/60)/1440 -> #REF! | I25: =VALUE(SUBSTITUTE(G25,".",",")) -> #REF! | K25: 3871 | L25: 16104 | M25: 16098
A26: Partie Mobile | B26: MP | Maps Ipad V5 | C26: mappyipad V5 | D26: =#REF! -> #REF! | E26: =#REF! -> #REF! | F26: =#REF! -> #REF! | G26: =#REF! -> #REF! | H26: =((VALUE((REPLACE(F26,SEARCH(".",F26),1,","))))/60)/1440 -> #REF! | I26: =VALUE(SUBSTITUTE(G26,".",",")) -> #REF! | J26: 45047 | K26: =#REF! -> #REF! | L26: 254991 | M26: 254978
C28: Indicateurs | D28: visites | E28: PV | F28: Temps passé | G28: Taux de rebond | H28: pv/visites | J28: vu | K28: vu | L28: pj | M28: at
C29: Visites 2014 | D29: =D30+D32+D38+D46 -> #REF! | E29: =E30+E32+E38+E46 -> #REF! | H29: =E29/D29 -> #REF! | J29: =J30+J32+J38+J46 -> #REF! | K29: =K30+K32+K38+K46 -> #REF! | L29: =L30+L32+L38+L46 -> 26487780 | M29: =M30+M32+M38+M46 -> 26358507
C30: Web | D30: =D2+D4+D3 -> #REF! | E30: =E2+E4+E3 -> #REF! | F30: =(H2*D2+H4*D4)/SUM(D2:D4) -> #REF! | G30: =I2 -> #REF! | H30: =E30/D30 -> #REF! | J30: =J2+J4+J3 -> #REF! | K30: =K2+K4+K3 -> #REF! | L30: =L2+L4+L3 -> 15676632 | M30: =M2+M4+M3 -> 15676632
C31: Total Mobile | D31: =D32+D38+D46 -> #REF! | E31: =E32+E38+E46 -> #REF! | J31: =J32+J38+J46 -> 1351987 | K31: =K32+K38+K46 -> #REF! | L31: =L32+L38+L46 -> 10811148 | M31: =M32+M38+M46 -> 10681875
C32: Mobile | D32: =SUM(D33:D37) -> #REF! | E32: =SUM(E33:E37) -> #REF! | H32: =E32/D32 -> #REF! | J32: =SUM(J33:J37) -> 912548 | K32: =SUM(K33:K37) -> #REF! | L32: =SUM(L33:L37) -> 5590903 | M32: =SUM(M33:M37) -> 5589373
C33: WebMobile (hors wm ipad et hors tablettes) | D33: =D5+D6+D7-D9 -> #REF! | E33: =E5+E6+E7-E9 -> #REF! | H33: =E33/D33 -> #REF! | J33: =J5+J6+J7-J9 -> 632817 | K33: =K5+K6+K7-K9 -> #REF! | L33: =L5+L6+L7-L9 -> 3618009 | M33: =M5+M6+M7-M9 -> 3616479 | N33: =L5+N6+N7-N9 -> 360332 | O33: =N5+O6+O7-O9 -> 255761 | P33: =O5+P6+P7-P9 -> 353122 | Q33: =P5+Q6+Q7-Q9 -> 341110 | R33: =Q5+R6+R7-R9 -> 425148 | S33: =R5+S6+S7-S9 -> 352448 | T33: =S5+T6+T7-T9 -> 359819 | U33: =T5+U6+U7-U9 -> 380135 | V33: =U5+V6+V7-V9 -> 400529 | ... AL33: =AK5+AL6+AL7-AL9 -> 453534
C34: Maps & Routes iphone | D34: =SUM(D15:D17) -> #REF! | E34: =SUM(E15:E17) -> #REF! | F34: =H17 -> #REF! | G34: =I17 -> #REF! | H34: =E34/D34 -> #REF! | J34: =SUM(J15:J17) -> 128947 | K34: =SUM(K15:K17) -> #REF! | L34: =SUM(L15:L17) -> 965461 | M34: =SUM(M15:M17) -> 965461
C35: Maps & Routes android | D35: =SUM(D12:D14) -> #REF! | E35: =SUM(E12:E14) -> #REF! | F35: =H14 -> #REF! | G35: =I14 -> #REF! | H35: =E35/D35 -> #REF! | J35: =SUM(J12:J14) -> 150058 | K35: =SUM(K12:K14) -> #REF! | L35: =SUM(L12:L14) -> 1001943 | M35: =SUM(M12:M14) -> 1001943
C36: Mappy City iphone | D36: =D18 -> #REF! | E36: =E18 -> #REF! | F36: =H18 -> #REF! | G36: =I18 -> #REF! | H36: =E36/D36 -> #REF! | J36: =J18 -> 424 | K36: =K18 -> #REF! | L36: =L18 -> 3220 | M36: =M18 -> 3220
C37: Mappy City android | D37: =D19 -> #REF! | E37: =E19 -> #REF! | F37: =H17 -> #REF! | G37: =I19 -> #REF! | H37: =E37/D37 -> #REF! | J37: =J19 -> 302 | K37: =K19 -> #REF! | L37: =L19 -> 2270 | M37: =M19 -> 2270
C38: GPS | D38: =D39+D43 -> #REF! | E38: =E39+E43 -> #REF! | H38: =E38/D38 -> #REF! | J38: =J39+J43 -> 216152 | K38: =K39+K43 -> #REF! | L38: =L39+L43 -> 2828662 | M38: =M39+M43 -> 2701089
C39: App GPS Gratuit | D39: =SUM(D40:D42) -> #REF! | E39: =SUM(E40:E42) -> #REF! | H39: =E39/D39 -> #REF! | J39: =SUM(J40:J42) -> 216152 | K39: =SUM(K40:K42) -> #REF! | L39: =SUM(L40:L42) -> 2828662 | M39: =SUM(M40:M42) -> 2701089
C40: GPS Free iphone | D40: =D20 -> #REF! | E40: =E20 -> #REF! | H40: =E40/D40 -> #REF! | J40: =J20 -> 123392 | K40: =K20 -> a faire | L40: =L20 -> 1598676 | M40: =M20 -> 1598671
C41: GPS Free android | D41: =D21 -> #REF! | E41: =E21 -> #REF! | H41: =E41/D41 -> #REF! | J41: =J21 -> 82035 | K41: =K21 -> a faire | L41: =L21 -> 1128309 | M41: =M21 -> 1000757
C42: GPS Free Windows Phone | D42: =D22 -> #REF! | E42: =E22 -> #REF! | G42: =I22 -> #REF! | H42: =E42/D42 -> #REF! | J42: =J22 -> 10725 | K42: =K22 -> #REF! | L42: =L22 -> 101677 | M42: =M22 -> 101661
C43: App GPS | D43: =SUM(D44:D45) -> 0 | E43: =SUM(E44:E45) -> 0 | H43: =E43/D43 -> #DIV/0! | J43: =SUM(J44:J45) -> 0 | K43: =SUM(K44:K45) -> 0 | L43: =SUM(L44:L45) -> 0 | M43: =SUM(M44:M45) -> 0
C44: GPS iphone | D44: =D23 -> 0 | E44: =E23 -> 0 | G44: =I23 -> 0 | H44: =E44/D44 -> #DIV/0! | J44: =J23 -> 0 | K44: =K23 -> 0 | L44: =L23 -> 0 | M44: =M23 -> 0
C45: GPS android | D45: =D24 -> 0 | E45: =E24 -> 0 | G45: =I24 -> 0 | H45: =E45/D45 -> #DIV/0! | J45: =J24 -> 0 | K45: =K24 -> 0 | L45: =L24 -> 0 | M45: =M24 -> 0
C46: Tablettes | D46: =SUM(D47:D48) -> #REF! | E46: =SUM(E47:E48) -> #REF! | H46: =E46/D46 -> #REF! | J46: =SUM(J47:J48) -> 223287 | K46: =SUM(K47:K48) -> #REF! | L46: =SUM(L47:L48) -> 2391583 | M46: =SUM(M47:M48) -> 2391413
C47: Maps ipad | D47: =SUM(D10,D11,D8,D26) -> #REF! | E47: =SUM(E10,E11,E8,E26) -> #REF! | F47: =(H8*D8+H26*D26)/SUM(D8,D26) -> #VALUE! | G47: =(I8*D8+I26*D26)/SUM(D8,D26) -> #REF! | H47: =E47/D47 -> #REF! | J47: =SUM(J10,J11,J8,J26) -> 61035 | K47: =SUM(K10,K11,K8,K26) -> #REF! | L47: =SUM(L10,L11,L8,L26) -> 305566 | M47: =SUM(M10,M11,M8,M26) -> 362912 | N47: =SUM(N10,N11,N8) -> 0 | O47: =SUM(O10,O11,O8) -> 0 | P47: =SUM(P10,P11,P8) -> 0 | Q47: =SUM(Q10,Q11,Q8) -> 0 | R47: =SUM(R10,R11,R8) -> 0 | S47: =SUM(S10,S11,S8) -> 0 | T47: =SUM(T10,T11,T8) -> 0 | U47: =SUM(U10,U11,U8) -> 0 | ... AL47: =SUM(AL10,AL11,AL8) -> 76861
C48: Tablette webmobile (hors ipad) | D48: =D9-D8-D25 -> #REF! | E48: =E9-E8-E25 -> #REF! | H48: =E48/D48 -> #REF! | J48: =J9-J8-J25 -> 162252 | K48: =K9-K8-K25 -> #VALUE! | L48: =L9-L8-L25 -> 2086017 | M48: =M9-M8-M25 -> 2028501
C51: Indicateurs
C52: Visiteurs 2014 | D52: =J29 -> #REF!
C53: Web | D53: =J30 -> #REF!
C54: Total Mobile | D54: =J31 -> 1351987
C55: Mobile | D55: =J32 -> 912548
C56: WebMobile (hors wm ipad et hors tablettes) | D56: =J33 -> 632817
C57: Maps & Routes iphone | D57: =J34 -> 128947
C58: Maps & Routes android | D58: =J35 -> 150058
C59: Mappy City iphone | D59: =J36 -> 424
C60: Mappy City android | D60: =J37 -> 302
C61: GPS | D61: =J38 -> 216152
C62: App GPS Gratuit | D62: =J39 -> 216152
C63: GPS Free iphone | D63: =J40 -> 123392
... C71: Tablette webmobile (hors ipad) | D71: =J48 -> 162252
C73: Indicateurs
C74: PV 2014 | D74: =E29 -> #REF!
C75: Web | D75: =E30 -> #REF!
C76: Total Mobile | D76: =E31 -> #REF!
C77: Mobile | D77: =E32 -> #REF!
C78: WebMobile (hors wm ipad et hors tablettes) | D78: =E33 -> #REF!
C79: Maps & Routes iphone | D79: =E34 -> #REF!
C80: Maps & Routes android | D80: =E35 -> #REF!
C81: Mappy City iphone | D81: =E36 -> #REF!
C82: Mappy City android | D82: =E37 -> #REF!
C83: GPS | D83: =E38 -> #REF!
C84: App GPS Gratuit | D84: =E39 -> #REF!
C85: GPS Free iphone | D85: =E40 -> #REF!
... C93: Tablette webmobile (hors ipad) | D93: =E48 -> #REF!
C95: Indicateurs
C96: Temps passé 2014
C97: Web | D97: =F30 -> #REF!
C98: Total Mobile
C99: Mobile
C100: WebMobile (hors wm ipad et hors tablettes)
C101: Maps & Routes iphone | D101: =F34 -> #REF!
C102: Maps & Routes android | D102: =F35 -> #REF!
C103: Mappy City iphone
C104: Mappy City android
C105: GPS
C106: App GPS Gratuit
C107: GPS Free iphone
C108: GPS Free android
C109: GPS Free Windows Phone
C110: App GPS
C111: GPS iphone
C112: GPS android
C113: Tablettes
C114: Maps ipad | D114: =F47 -> #VALUE!
C115: Tablette webmobile (hors ipad)
C117: Indicateurs
C118: Taux de rebond 2014
C119: Web | D119: =I2 -> #REF!
C120: Total Mobile
...

Sheet Synthèse
A1: Nom dans l'interface | B1: Supports | C1: Nom_Partenaire | D1: Visites | E1: Pages vues
A2: WEB | B2: Tablette | C2: ipad | D2: =SUMIFS(INDIRECT(A2&"!E2:E7"),INDIRECT(A2&"!B2:B7"),B2,INDIRECT(A2&"!D2:D7"),C2) -> 381 | E2: =SUMIFS(INDIRECT(A2&"!F2:F7"),INDIRECT(A2&"!B2:B7"),B2,INDIRECT(A2&"!D2:D7"),C2) -> 981
A3: WEB | B3: Tablette | C3: wm | D3: =SUMIFS(INDIRECT(A3&"!E2:E7"),INDIRECT(A3&"!B2:B7"),B3,INDIRECT(A3&"!D2:D7"),C3) -> 1 | E3: =SUMIFS(INDIRECT(A3&"!F2:F7"),INDIRECT(A3&"!B2:B7"),B3,INDIRECT(A3&"!D2:D7"),C3) -> 9

Sheet synthese
D1: Visites | E1: Pages vues | F1: Temps passé / visites | G1: Taux de rebond | H1: Temps passé calculé/ visites | I1: Taux de rebond calculé
C2: web V4 | D2: =#REF! -> #REF! | E2: =#REF! -> #REF! | F2: =#REF! -> #REF! | G2: =#REF! -> #REF! | H2: =((VALUE((REPLACE(F2,SEARCH(".",F2),1,","))))/60)/1440 -> #REF! | I2: =VALUE(SUBSTITUTE(G2,".",",")) -> #REF! | J2: 9967037
C3: web v3 | D3: =webv3!B3 -> 25 | E3: =webv3!C3 -> 48 | F3: =webv3!D3 -> 428 | G3: =webv3!E3 -> 0.72 | H3: =((VALUE((REPLACE(F3,SEARCH(".",F3),1,","))))/60)/1440 -> #VALUE! | I3: =VALUE(SUBSTITUTE(G3,".",",")) -> 0.72 | J3: 130
C4: shopping web | D4: ='shopping web'!B3 -> 4 | E4: ='shopping web'!C3 -> 18 | F4: ='shopping web'!D3 -> 921 | G4: ='shopping web'!E3 -> 0.75 | H4: =((VALUE((REPLACE(F4,SEARCH(".",F4),1,","))))/60)/1440 -> #VALUE! | I4: =VALUE(SUBSTITUTE(G4,".",",")) -> 0.75 | J4: 52613
C5: bkml | D5: =bkml!B3 -> 16 | E5: =bkml!C3 -> 16 | F5: =bkml!D3 -> 0 | G5: =bkml!E3 -> 1 | H5: =((VALUE((REPLACE(F5,SEARCH(".",F5),1,","))))/60)/1440 -> #VALUE! | I5: =VALUE(SUBSTITUTE(G5,".",",")) -> 1 | J5: 81075
C6: fwb | D6: =fwb!B3 -> 0 | E6: =fwb!C3 -> 0 | F6: =fwb!D3 -> 0 | G6: =fwb!E3 -> 0 | H6: =((VALUE((REPLACE(F6,SEARCH(".",F6),1,","))))/60)/1440 -> #VALUE! | I6: =VALUE(SUBSTITUTE(G6,".",",")) -> 0 | J6: 10
C7: webmobile total | D7: =#REF! -> #REF! | E7: =#REF! -> #REF! | F7: =#REF! -> #REF! | G7: =#REF! -> #REF! | H7: =((VALUE((REPLACE(F7,SEARCH(".",F7),1,","))))/60)/1440 -> #REF! | I7: =VALUE(SUBSTITUTE(G7,".",",")) -> #REF! | J7: 2648499
C8: ipad (webmobile encapsulé) | D8: ='ipad webmobile'!C2 -> 1 | E8: ='ipad webmobile'!D2 -> 7 | F8: ='ipad webmobile'!F2 -> 58 | G8: ='ipad webmobile'!G2 -> 0 | H8: =((VALUE((REPLACE(F8,SEARCH(".",F8),1,","))))/60)/1440 -> #VALUE! | I8: =VALUE(SUBSTITUTE(G8,".",",")) -> 0 | J8: 159792
C9: webmobile tablettes | D9: =#REF! -> #REF! | E9: =#REF! -> #REF! | F9: =#REF! -> #REF! | H9: =((VALUE((REPLACE(F9,SEARCH(".",F9),1,","))))/60)/1440 -> #REF! | I9: =VALUE(SUBSTITUTE(G9,".",",")) -> #VALUE! | J9: 1075998
C10: maps ipad | D10: =#REF! -> #REF! | E10: =#REF! -> #REF! | F10: =#REF! -> #REF! | G10: =#REF! -> #REF! | H10: =((VALUE((REPLACE(F10,SEARCH(".",F10),1,","))))/60)/1440 -> #REF! | I10: =VALUE(SUBSTITUTE(G10,".",",")) -> #REF! | J10: 69958
C11: maps ipad old | D11: =mapsipadold!B3 -> 0 | E11: =mapsipadold!C3 -> 0 | F11: =mapsipadold!D3 -> 0 | G11: =mapsipadold!E3 -> 0 | H11: =((VALUE((REPLACE(F11,SEARCH(".",F11),1,","))))/60)/1440 -> #VALUE! | I11: =VALUE(SUBSTITUTE(G11,".",",")) -> 0 | J11: 417
C12: maps android | D12: =#REF! -> #REF! | E12: =#REF! -> #REF! | F12: =#REF! -> #REF! | G12: =#REF! -> #REF! | H12: =((VALUE((REPLACE(F12,SEARCH(".",F12),1,","))))/60)/1440 -> #REF! | I12: =VALUE(SUBSTITUTE(G12,".",",")) -> #REF! | J12: 1565
C13: maps android old | D13: =mapsandroidold!B3 -> 0 | E13: =mapsandroidold!C3 -> 0 | F13: =mapsandroidold!D3 -> 0 | G13: =mapsandroidold!E3 -> 0 | H13: =((VALUE((REPLACE(F13,SEARCH(".",F13),1,","))))/60)/1440 -> #VALUE! | I13: =VALUE(SUBSTITUTE(G13,".",",")) -> 0 | J13: 182
C14: maps android v4 | D14: =#REF! -> #REF! | E14: =#REF! -> #REF! | F14: =#REF! -> #REF! | G14: =#REF! -> #REF! | H14: =((VALUE((REPLACE(F14,SEARCH(".",F14),1,","))))/60)/1440 -> #REF! | I14: =VALUE(SUBSTITUTE(G14,".",",")) -> #REF! | J14: 401112
C15: maps iphone | D15: =#REF! -> #REF! | E15: =#REF! -> #REF! | F15: =#REF! -> #REF! | G15: =#REF! -> #REF! | H15: =((VALUE((REPLACE(F15,SEARCH(".",F15),1,","))))/60)/1440 -> #REF! | I15: =VALUE(SUBSTITUTE(G15,".",",")) -> #REF! | J15: 4665
C16: maps iphone old | D16: =mapsiphoneold!B3 -> 0 | E16: =mapsiphoneold!C3 -> 0 | F16: =mapsiphoneold!D3 -> 0 | G16: =mapsiphoneold!E3 -> 0 | H16: =((VALUE((REPLACE(F16,SEARCH(".",F16),1,","))))/60)/1440 -> #VALUE! | I16: =VALUE(SUBSTITUTE(G16,".",",")) -> 0 | J16: 1871
C17: maps iphone v4 | D17: =#REF! -> #REF! | E17: =#REF! -> #REF! | F17: =#REF! -> #REF! | G17: =#REF! -> #REF! | H17: =((VALUE((REPLACE(F17,SEARCH(".",F17),1,","))))/60)/1440 -> #REF! | I17: =VALUE(SUBSTITUTE(G17,".",",")) -> #REF! | J17: 458193
C18: mappycity iphone | H18: =((VALUE((REPLACE(F18,SEARCH(".",F18),1,","))))/60)/1440 -> #VALUE! | I18: =VALUE(SUBSTITUTE(G18,".",",")) -> #VALUE!
C19: mappycity android | H19: =((VALUE((REPLACE(F19,SEARCH(".",F19),1,","))))/60)/1440 -> #VALUE! | I19: =VALUE(SUBSTITUTE(G19,".",",")) -> #VALUE!
C20: gps free iphone | D20: =#REF! -> #REF! | E20: =#REF! -> #REF! | H20: =((VALUE((REPLACE(F20,SEARCH(".",F20),1,","))))/60)/1440 -> #VALUE! | I20: =VALUE(SUBSTITUTE(G20,".",",")) -> #VALUE! | J20: 477170
C21: gps free android | D21: =#REF! -> #REF! | E21: =#REF! -> #REF! | H21: =((VALUE((REPLACE(F21,SEARCH(".",F21),1,","))))/60)/1440 -> #VALUE! | I21: =VALUE(SUBSTITUTE(G21,".",",")) -> #VALUE! | J21: 280173
C22: gps free windows phone | D22: =#REF! -> #REF! | E22: =#REF! -> #REF! | F22: =#REF! -> #REF! | G22: =#REF! -> #REF! | H22: =((VALUE((REPLACE(F22,SEARCH(".",F22),1,","))))/60)/1440 -> #REF! | I22: =VALUE(SUBSTITUTE(G22,".",",")) -> #REF! | J22: 4142
C23: gps iphone | D23: =gpsiphone!B3 -> 0 | E23: =gpsiphone!C3 -> 0 | F23: =gpsiphone!D3 -> 0 | G23: =gpsiphone!E3 -> 0 | H23: =((VALUE((REPLACE(F23,SEARCH(".",F23),1,","))))/60)/1440 -> #VALUE! | I23: =VALUE(SUBSTITUTE(G23,".",",")) -> 0 | J23: 14939
C24: gps android | D24: =gpsandroid!B3 -> 0 | E24: =gpsandroid!C3 -> 0 | F24: =gpsandroid!D3 -> 0 | G24: =gpsandroid!E3 -> 0 | H24: =((VALUE((REPLACE(F24,SEARCH(".",F24),1,","))))/60)/1440 -> #VALUE! | I24: =VALUE(SUBSTITUTE(G24,".",",")) -> 0 | J24: 6
C27: Audience | D27: visites | E27: PV | F27: Temps passé | G27: Taux de rebond | H27: pv/visites | J27: vu
C28: Visites | D28: =D29+D30 -> #REF! | E28: =E29+E30 -> #REF! | H28: =E28/D28 -> #REF! | J28: =J29+J30 -> 14457067
C29: Web Mappy +UD | D29: =D2+D4+D3 -> #REF! | E29: =E2+E4+E3 -> #REF! | F29: =(H2*D2+H4*D4)/SUM(D2:D4) -> #REF! | G29: =I2 -> #REF! | H29: =E29/D29 -> #REF! | J29: 10013090
C30: Mobile | D30: =D31+D41 -> #REF! | E30: =E31+E41 -> #REF! | H30: =E30/D30 -> #REF! | J30: =J31+J41 -> 4443977
C31: Mobile HGPS | D31: =D32+D38 -> #REF! | E31: =E32+E38 -> #REF! | H31: =E31/D31 -> #REF! | J31: =J32+J38 -> 3667547
C32: Smartphone | D32: =SUM(D33:D37) -> #REF! | E32: =SUM(E33:E37) -> #REF! | H32: =E32/D32 -> #REF! | J32: =SUM(J33:J37) -> 2521174
C33: WebMobile (hors wm ipad et hors tablettes) | D33: =D5+D6+D7-D9 -> #REF! | E33: =E5+E6+E7-E9 -> #REF! | H33: =E33/D33 -> #REF! | J33: =J5+J6+J7-J9 -> 1653586
C34: Maps & Routes iphone | D34: =SUM(D15:D17) -> #REF! | E34: =SUM(E15:E17) -> #REF! | F34: =H17 -> #REF! | G34: =I17 -> #REF! | H34: =E34/D34 -> #REF! | J34: =SUM(J15:J17) -> 464729
C35: Maps & Routes android | D35: =SUM(D12:D14) -> #REF! | E35: =SUM(E12:E14) -> #REF! | F35: =H14 -> #REF! | G35: =I14 -> #REF! | H35: =E35/D35 -> #REF! | J35: =SUM(J12:J14) -> 402859
C36: Mappy City iphone | H36: =E36/D36 -> #DIV/0!
C37: Mappy City android | H37: =E37/D37 -> #DIV/0!
C38: Tablettes | D38: =SUM(D39:D40) -> #REF! | E38: =SUM(E39:E40) -> #REF! | H38: =E38/D38 -> #REF! | J38: =SUM(J39:J40) -> 1146373
C39: Maps ipad | D39: =SUM(D10,D11,D8) -> #REF! | E39: =SUM(E10,E11,E8) -> #REF! | F39: =H8 -> #VALUE! | G39: =I8 -> 0 | H39: =E39/D39 -> #REF! | J39: =SUM(J10,J11,J8) -> 230167
C40: Tablette webmobile (hors ipad) | D40: =D9-D8 -> #REF! | E40: =E9-E8 -> #REF! | H40: =E40/D40 -> #REF! | J40: =J9-J8 -> 916206
C41: Mobile GPS | D41: =D42+D46 -> #REF! | E41: =E42+E46 -> #REF! | H41: =E41/D41 -> #REF! | J41: =J42+J46 -> 776430
C42: App GPS Gratuit | D42: =SUM(D43:D45) -> #REF! | E42: =SUM(E43:E45) -> #REF! | H42: =E42/D42 -> #REF! | J42: =SUM(J43:J45) -> 761485
C43: GPS Free iphone | D43: =D20 -> #REF! | E43: =E20 -> #REF! | H43: =E43/D43 -> #REF! | J43: =J20 -> 477170
C44: GPS Free android | D44: =D21 -> #REF! | E44: =E21 -> #REF! | H44: =E44/D44 -> #REF! | J44: =J21 -> 280173
C45: GPS Free Windows Phone | D45: =D22 -> #REF! | E45: =E22 -> #REF! | G45: =I22 -> #REF! | H45: =E45/D45 -> #REF! | J45: =J22 -> 4142
C46: App GPS | D46: =SUM(D47:D48) -> 0 | E46: =SUM(E47:E48) -> 0 | H46: =E46/D46 -> #DIV/0! | J46: =SUM(J47:J48) -> 14945
C47: GPS iphone | D47: =D23 -> 0 | E47: =E23 -> 0 | G47: =I23 -> 0 | H47: =E47/D47 -> #DIV/0! | J47: =J23 -> 14939
C48: GPS android | D48: =D24 -> 0 | E48: =E24 -> 0 | G48: =I24 -> 0 | H48: =E48/D48 -> #DIV/0! | J48: =J24 -> 6
C51: Visiteurs
C52: Web Mappy +UD
C53: Mobile
C54: Mobile HGPS
C55: Smartphone
C56: WebMobile (hors wm ipad)
C57: Maps & Routes iphone
C58: Maps & Routes android
C59: Mappy City iphone
C60: Mappy City android
C61: Tablettes
C62: Maps ipad
... C71: GPS android
C74: PV | D74: =E28 -> #REF!
C75: Web Mappy +UD | D75: =E29 -> #REF!
C76: Mobile | D76: =E30 -> #REF!
C77: Mobile HGPS | D77: =E31 -> #REF!
C78: Smartphone | D78: =E32 -> #REF!
C79: WebMobile (hors wm ipad) | D79: =E33 -> #REF!
C80: Maps & Routes iphone | D80: =E34 -> #REF!
C81: Maps & Routes android | D81: =E35 -> #REF!
C82: Mappy City iphone | D82: =E36 -> 0
C83: Mappy City android | D83: =E37 -> 0
C84: Tablettes | D84: =E38 -> #REF!
C85: Maps ipad | D85: =E39 -> #REF!
... C94: GPS android | D94: =E48 -> 0
C97: Temps passé
C98: Web Mappy +UD | D98: =F29 -> #REF!
C99: Mobile
C100: Mobile HGPS
C101: Smartphone
C102: WebMobile (hors wm ipad)
C103: Maps & Routes iphone | D103: =F34 -> #REF!
C104: Maps & Routes android | D104: =F35 -> #REF!
C105: Mappy City iphone
C106: Mappy City android
C107: Tablettes
C108: Maps ipad | D108: =F39 -> #VALUE!
C109: Tablette webmobile (hors ipad)
C110: Mobile GPS
C111: App GPS Gratuit
C112: GPS Free iphone
C113: GPS Free android
C114: GPS Free Windows Phone
C115: App GPS
C116: GPS iphone
C117: GPS android
C120: visites/vu
C121: Web Mappy +UD
C122: Mobile
... C140: GPS android
C143: pv/visites | D143: =H28 -> #REF!
C144: Web Mappy +UD | D144: =H29 -> #REF!
C145: Mobile | D145: =H30 -> #REF!
...

Sheet web_s2
A1: Niveaux 2 | B1: Visites | C1: Chargements | D1: Temps passé / visites | E1: Taux de rebond
A2: - | B2: 0 | C2: 0 | D2: 0 | E2: 0
A3: IE6 | B3: 1 | C3: 1 | D3: 0 | E3: 1
A4: Itinéraire | B4: 12 | C4: 18 | D4: 270.5 | E4: 0.666666666666667
A5: jeux-concours | B5: 2 | C5: 2 | D5: 0 | E5: 1
A6: Plan | B6: 13 | C6: 27 | D6: 473 | E6: 0.538461538461538

Sheet web france
A2: Années | B2: Visites | C2: Chargements | D2: Temps passé / visites | E2: Taux de rebond
A3: 2015 | B3: 22 | C3: 45 | D3: 428 | E3: 0.681818181818182

Sheet WEB
A1: Sites | B1: Supports | C1: Campagnes | D1: Nom_Partenaire | E1: Visites | F1: Pages vues | G1: Temps passé / visites | H1: Taux de rebond
A2: WEB | B2: Tablette | C2: (CS1-1) | D2: ipad | E2: 290 | F2: 353 | G2: 241.5 | H2: 0.88275862
A3: WEB | B3: Smartphone | C3: (CS1-1) | E3: 238 | F3: 299 | G3: 216.32143 | H3: 0.88235294
A4: WEB | B4: Tablette | C4: (CS1-1) | D4: ipad | E4: 91 | F4: 628 | G4: 286.52727 | H4: 0.3956044
A5: WEB | B5: Smartphone | C5: (CS1-1) | D5: iphone | E5: 27 | F5: 29 | G5: 43 | H5: 0.96296296
A6: WEB | B6: Smartphone | C6: (CS1-1) | D6: wm | E6: 5 | F6: 31 | G6: 191 | H6: 0.4
A7: WEB | B7: Tablette | C7: (CS1-1) | D7: wm | E7: 1 | F7: 9 | G7: 183 | H7: 0

Sheet webv3
A2: Années | B2: Visites | C2: Pages vues | D2: Temps passé / visites | E2: Taux de rebond
A3: 2015 | B3: 25 | C3: 48 | D3: 428 | E3: 0.72
A5: Sites | B5: JS - Unique Visitors (NX - Global metric) | C5: Arrondi
A6: MP | Web FR V3 | B6: 10 | C6: =ROUNDDOWN(B6,0) -> 10

Sheet shopping web
A2: Années | B2: Visites | C2: Pages vues | D2: Temps passé / visites | E2: Taux de rebond
A3: 2015 | B3: 4 | C3: 18 | D3: 921 | E3: 0.75

Sheet Webmobile sans ipad
A1: Années | B1: Visites | C1: Pages vues | D1: Chargements | E1: Temps passé / visites | F1: Taux de rebond
A2: 2015 | B2: 3111875 | C2: 11401324 | D2: 11401324 | E2: 153.505855219236 | F2: 0.341518537859008

Sheet bkml
A2: Années | B2: Visites | C2: Pages vues | D2: Temps passé / visites | E2: Taux de rebond
A3: 2015 | B3: 16 | C3: 16 | D3: 0 | E3: 1
A5: Sites | B5: JS - Unique Visitors (NX - Global metric) | C5: arrondi
A6: MP | BKML | B6: 5 | C6: =ROUNDDOWN(B6,0) -> 5

Sheet ipad webmobile
B1: Années | C1: Visites | D1: Pages vues | E1: Chargements | F1: Temps passé / visites | G1: Taux de rebond | M1: Sites | N1: JS - CM UV pour ipad (webmo encapsule)
B2: 2015 | C2: 1 | D2: 7 | E2: 7 | F2: 58 | G2: 0 | M2: MP | Shopping Mobile - Web Mobile | N2: 4383

Sheet mapsipadold
A2: Années | B2: Visites | C2: Pages vues | D2: Temps passé / visites | E2: Taux de rebond

Sheet fwb
A2: Années | B2: Visites | C2: Pages vues | D2: Temps passé / visites | E2: Taux de rebond
A5: Sites | B5: JS - Unique Visitors (NX - Global metric) | C5: Arrondi
C6: =ROUNDDOWN(B6,0) -> 0

Sheet mapsiphoneold
A2: Années | B2: Visites | C2: Pages vues | D2: Temps passé / visites | E2: Taux de rebond

Sheet mapsandroidold
A2: Années | B2: Visites | C2: Pages vues | D2: Temps passé / visites | E2: Taux de rebond

Sheet gpsiphone
A2: Années | B2: Visites | C2: Pages vues | D2: Temps passé / visites | E2: Taux de rebond

Sheet gpsandroid
A2: Années | B2: Visites | C2: Pages vues | D2: Temps passé / visites | E2: Taux de rebond

Sheet ud deport mappy
A2: Années | B2: Visites | C2: Pages vues | D2: Temps passé / visites | E2: Taux de rebond

Sheet ud deport pj
A2: Années | B2: Visites | C2: Pages vues | D2: Temps passé / visites | E2: Taux de rebond
A3: 2015 | B3: 186349 | C3: 237650 | D3: 437.282091690544 | E3: 0.850173598999726
